{"text_format":"1","workbook":"xlsx","n_sheets":17,"sheets":["Ver履歴","使い方","集計","（参考）日本円換算","月別集計","入出金履歴入力","～202211_入出金履歴入力","NFT取引履歴入力","収支補正","入出金履歴結果","～202211_入出金履歴結果","NFT取引履歴結果","NFT状況","入出金NFT結果","推定用途置換ルール","NFT一覧","参考価格"],"not_rendered":{"charts":0,"images":7,"macros":1,"external_links":0,"defined_names":3,"comments":0,"pivot_tables":0},"unopened":[],"bounds":{"document_bytes":16777216,"sheet_cells":100000,"rows_first":2000,"rows_last":500,"rows_between":2000,"halvings":0,"cell_chars":16384,"cell_head_chars":4096},"cells_cut":0,"cells_raw":0,"read":"whole","date_system":"1900"}

{"sheet":"Ver履歴","index":0,"n_rows":19,"n_cols":4,"rows_kept":19,"cut":false,"hidden":false,"merged":[]}
["Ver","日付","概要"]
[1,"2022-11-10","新規作成\nPlayminingNFTの入出金履歴の1行化機能"]
[1.01,"?","NFT取引履歴の１行化機能を追加"]
[1.02,"?","推定用途置換ルールの条件記載ミス修正\n誤字修正"]
[1.03,"2022-11-20","推定用途置換ルールのガチャ購入を追加\n集計をカンマ区切り、小数点以下なしに変更\nNFT一覧を直近化"]
[1.04,"2022-11-27","同日の指定履歴を取りまとめる機能を追加\n（入出金NFT結果）"]
[1.05,"2022-12-13","2022年12月に変更された入出金履歴に対応\nゲームごとの集計を追加\n月別集計シートを追加"]
[1.06,"2022-12-17","推定用途置換ルールの追記\nNFT一覧を直近化"]
[1.07,"2023-01-11","推定用途置換ルールの追記・調整\nNFT一覧を直近化"]
[1.08,"2023-02-10","NFT状況シートを追加\nNFT一覧を直近化"]
[1.0900000000000001,"2023-02-19","推定用途置換ルールにプレミアム求神を追加"]
[1.1000000000000001,"2023-02-20","NFT一覧を直近化"]
[1.1100000000000001,"2023-02-28","NFT一覧を直近化"]
[1.1200000000000001,"2023-06-20","NFT一覧を直近化\nLost Archive＋の分類を追加\n収支補正機能を追加"]
[1.1299999999999999,"2023-09-08","NFT一覧を直近化\nSOULFusers、Rogue Roll Rulersの分類を追加\nタイトル別集計のロジックを修正"]
[1.1399999999999999,"2023-10-23","NFT一覧を直近化\nRogue Roll Rulersの分類を追加\nタイトル別集計のロジックを修正"]
[1.1499999999999999,"2023-12-14","NFT一覧を直近化\n集計の分類を追加\n使い方をちょっと追記"]
[1.1599999999999999,"2024-02-05","NFT一覧を直近化\nバウンシーバニーの分類を追加\nちょっとした内部ロジックを修正"]
[1.17,"2024-05-09","NFT一覧を直近化\nAnswer to Earnの分類を追加\nピクトレの分類を追加","←今これ"]

{"sheet":"使い方","index":1,"n_rows":69,"n_cols":18,"rows_kept":69,"cut":false,"hidden":false,"merged":[]}
["０．マクロを使えるように設定します。"]
["ダウンロードしたファイルで右クリックを行い、右図のブロックを解除をチェックします。"]
[]
["※ダウンロードをしたファイルはWindowsの場合、「C:\\Users\\ユーザ名\\Downloads」に入っていると思います。"]
[]
[]
[]
[]
[]
["※集計結果の表示や集計ボタンがあるのが赤のシートです。"]
["　黄色のシートを入力して、集計ボタンを押してください。"]
["※入力が必要なのは黄色のシートです。"]
["「入出金履歴入力」：Playmining NFTの入出金履歴をコピー"]
["「～202211_入出金履歴入力」：Playmining NFTの入出金履歴が昔、ちょっと表示が違っていたので、そのころ用。"]
["「NFT取引履歴入力」：Playmining NFTのNFT取引履歴をコピー。各ゲームの集計が詳しく見れるようになります。"]
["「収支補正」：ユーザー間の出金、送金のメモ用。各ゲームの集計にまとめられるようになります。"]
["※CSVっぽく再配置した物が緑のシートです。"]
["　何か集計値が？？ってなった場合はこの辺をご確認ください。"]
["　修正要望等あればXとかからじょじょじょにご連絡いただければと思います。"]
["※集計ルールを記載したものが青のシートです。"]
["　この辺を足したりしたら集計もうまくいくかもです。"]
[]
["1．Playmining NFTの入出力履歴をコピーしてきます。",null,"2022年11月まで（アドレスと内容だけ）",null,null,null,null,null,null,null,null,null,null,null,null,null,null,"2022年12月から（アドレスと内容、memo、content）"]
["https://daa.playmining.com/"]
["貼り付け先は「入出金利益入力」シートのA列です。"]
["Playmining NFTの入出力履歴の1ページ内に20履歴表示され、コピーすると120行になります。"]
["「Playmining入力」シートのB列にコピー時の目安があるので、忘れず全ページ（もしくは集計したい期間分）コピーしてください。"]
[]
["※コピー時に最初のページはマウス等で履歴部分を全選択し、"]
["2ページ目以降は数字のボタンを押してページを移動すれば、なんだか途中まで選択された状態となるので、"]
["シフト押しながら最後まで選択すれば、コピーしやすいです。"]
["「＞」で次ページにすると、選択状態が解除されるので、マウス等で履歴部分を全選択が必要です。"]
["私の環境だけかもしれませんが、コピーの参考になれば。"]
["（Windows11 Pro、ブラウザ：Google chrome）"]
[]
["※過去にコピーしたものを継続して使用する場合は「～202211_入出金履歴入力」に入れることで、継続して使用可能です。"]
["　再度、新フォーマットをコピーしなおす必要はありません。"]
["　新フォーマットの方が、一部分類が細かく分けることが可能です。"]
["　過去にコピーした同一期間の記録が新フォーマットにもあった場合、重複して計上されますので、ご注意ください。"]
[]
["2．Playmining NFTのNFT取引履歴をコピーしてきます。"]
["貼り付け先は「NFT取引履歴入力」シートのA列です。"]
[]
["3.「集計」シートの集計ボタンを押してください。"]
[]
["４．「入出金利益結果」シート、「NFT取引履歴結果」シートにまとめられます。"]
["推定用途ってところは「推定用途置換ルール」の記載内容に沿って、記載されます。"]
["ルールに該当するものがなければ空白になります。"]
["自分でわかる範囲での規則性で記載していますが、ご自由に増減させてください。"]
[]
["Jobtribesのガチャはやったことがないので、どう出るかわかりません。"]
[]
["いろいろ気になる部分はあると思いますが、いったん変換してもらい、「入出金利益結果」シートを個別に編集していただくのがいいのかなと思います。"]
[]
["５．たぶんですけど、「入出金利益結果」の推定用途が「集計」で網羅できていると、Playmining NFTの残りDEPと一致するのかなと思います。"]
["　自分は一致したのですが、ちゃんと検証してはいないので、何かあったらツイッターで連絡ください。"]
["twitter：「じょじょじょ＠NFTゲーム垢（@game2sub）」"]
[]
["６．「入出金NFT結果」には「推定用途置換ルール」で指定した記録について同日分を1行にまとめるようにしています。"]
["　また、NFT履歴も同期させていますが、Playmining NFTの入出力履歴とNFT取引履歴で時間のずれが生じている場合があり、その場合は手動で入れてください。（ごめんなさい）"]
[]
["免責事項"]
["・当ツールに関する著作権はじょじょじょにあります。"]
["・当ツールは、Playmining NFTの入出金履歴の表示形態を変換するものであり、その使用等に関し一切責任を負いません。"]
["・当ツールはテストはしているものの、バグが内在している可能性があります。出力結果はご自身にてご確認ください。"]
["・当ツールは予告なしに変更、削除する場合がありますので、ご了承ください。"]
["・当ツールを用いて行う一切の行為について、何ら責任を負うものではありません。"]
[]
["※収支補正に入力しておくことで、その他に分類されていた金額を各ゲームに割り振り出来るようにしました。"]

{"sheet":"集計","index":2,"n_rows":145,"n_cols":7,"rows_kept":145,"cut":false,"hidden":false,"merged":[[45,0,51,0],[46,1,51,1],[46,4,51,4],[70,0,78,0],[71,1,78,1],[71,4,78,4],[52,0,58,0],[53,1,58,1],[53,4,58,4],[59,0,69,0],[60,1,69,1],[60,4,69,4],[45,2,45,6],[52,2,52,6],[59,2,59,6],[70,2,70,6],[37,1,44,1],[37,4,44,4],[36,0,44,0],[3,1,3,6],[4,2,4,6],[5,4,32,4],[5,1,32,1],[3,0,32,0],[36,2,36,6],[79,0,85,0],[80,1,85,1],[80,4,85,4],[86,0,93,0],[87,1,93,1],[87,4,93,4],[79,2,79,6],[86,2,86,6],[136,0,145,0],[137,1,145,1],[137,4,145,4],[129,0,135,0],[130,1,135,1],[130,4,135,4],[129,2,129,6],[136,2,136,6],[94,0,100,0],[95,1,100,1],[95,4,100,4],[123,4,128,4],[94,2,94,6],[122,2,122,6],[101,0,107,0],[101,2,101,6],[102,1,107,1],[102,4,107,4],[108,0,114,0],[108,2,108,6],[109,1,114,1],[109,4,114,4],[115,0,121,0],[115,2,115,6],[116,1,121,1],[116,4,121,4],[122,0,128,0],[123,1,128,1]]}
[]
[]
[]
["全ゲーム","Playmining集計"]
[null,"収支計",{"$f":"D6+G6","v":0}]
[null,"収入","合計（DEP）",{"$f":"SUM(D7:D33)","v":0},"支出","合計（DEP）",{"$f":"SUM(G7:G33)","v":0}]
[null,null,{"$f":"推定用途置換ルール!G2","v":"JobTribes：NFTクエスト報酬、給料日"},{"$f":"SUMIF(入出金NFT結果!$I:$I,C7,入出金NFT結果!$D:$D)","v":0},null,{"$f":"推定用途置換ルール!P2","v":"JobTribes：限界突破アイテム購入"},{"$f":"SUMIF(入出金NFT結果!$I:$I,F7,入出金NFT結果!$D:$D)","v":0}]
[null,null,{"$f":"推定用途置換ルール!G3","v":"メンドラ：ラーメン報酬"},{"$f":"SUMIF(入出金NFT結果!$I:$I,C8,入出金NFT結果!$D:$D)","v":0},null,{"$f":"推定用途置換ルール!P3","v":"JobTribes：育成アイテム購入"},{"$f":"SUMIF(入出金NFT結果!$I:$I,F8,入出金NFT結果!$D:$D)","v":0}]
[null,null,{"$f":"推定用途置換ルール!G4","v":"その他DEAPCHECK"},{"$f":"SUMIF(入出金NFT結果!$I:$I,C9,入出金NFT結果!$D:$D)","v":0},null,{"$f":"推定用途置換ルール!P4","v":"メンドラ：DEAPcoinショップ"},{"$f":"SUMIF(入出金NFT結果!$I:$I,F9,入出金NFT結果!$D:$D)","v":0}]
[null,null,{"$f":"推定用途置換ルール!G5","v":"グラフィティレーサー：レース賞金"},{"$f":"SUMIF(入出金NFT結果!$I:$I,C10,入出金NFT結果!$D:$D)","v":0},null,{"$f":"推定用途置換ルール!P5","v":"JobTribes：ガチャ購入"},{"$f":"SUMIF(入出金NFT結果!$I:$I,F10,入出金NFT結果!$D:$D)","v":0}]
[null,null,{"$f":"推定用途置換ルール!G6","v":"グラフィティレーサー：レース賞金2"},{"$f":"SUMIF(入出金NFT結果!$I:$I,C11,入出金NFT結果!$D:$D)","v":0},null,{"$f":"推定用途置換ルール!P6","v":"JobTribes：プレミアム求神"},{"$f":"SUMIF(入出金NFT結果!$I:$I,F11,入出金NFT結果!$D:$D)","v":0}]
[null,null,{"$f":"推定用途置換ルール!G7","v":"グラフィティレーサー：フィルム販売"},{"$f":"SUMIF(入出金NFT結果!$I:$I,C12,入出金NFT結果!$D:$D)","v":0},null,{"$f":"推定用途置換ルール!P7","v":"グラフィティレーサー：フィルム購入"},{"$f":"SUMIF(入出金NFT結果!$I:$I,F12,入出金NFT結果!$D:$D)","v":0}]
[null,null,{"$f":"推定用途置換ルール!G8","v":"グラフィティレーサー：レース賞金、フィルム販売"},{"$f":"SUMIF(入出金NFT結果!$I:$I,C13,入出金NFT結果!$D:$D)","v":0},null,{"$f":"推定用途置換ルール!P8","v":"グラフィティレーサー：フィルム購入2"},{"$f":"SUMIF(入出金NFT結果!$I:$I,F13,入出金NFT結果!$D:$D)","v":0}]
[null,null,{"$f":"推定用途置換ルール!G9","v":"Rogue Roll Ruler's　報酬1"},{"$f":"SUMIF(入出金NFT結果!$I:$I,C14,入出金NFT結果!$D:$D)","v":0},null,{"$f":"推定用途置換ルール!P9","v":"グラフィティレーサー：シートをゲット"},{"$f":"SUMIF(入出金NFT結果!$I:$I,F14,入出金NFT結果!$D:$D)","v":0}]
[null,null,{"$f":"推定用途置換ルール!G10","v":"Rogue Roll Ruler's　報酬2"},{"$f":"SUMIF(入出金NFT結果!$I:$I,C15,入出金NFT結果!$D:$D)","v":0},null,{"$f":"推定用途置換ルール!P10","v":"グラフィティレーサー：フィルムの色引継ぎ、復元"},{"$f":"SUMIF(入出金NFT結果!$I:$I,F15,入出金NFT結果!$D:$D)","v":0}]
[null,null,{"$f":"推定用途置換ルール!G11","v":"その他入金、取引所からの入金（2022.9以前）"},{"$f":"SUMIF(入出金NFT結果!$I:$I,C16,入出金NFT結果!$D:$D)","v":0},null,{"$f":"推定用途置換ルール!P11","v":"グラフィティレーサー：フィルムコーティング"},{"$f":"SUMIF(入出金NFT結果!$I:$I,F16,入出金NFT結果!$D:$D)","v":0}]
[null,null,{"$f":"推定用途置換ルール!G12","v":"取引所からの入金（2022.10以降）"},{"$f":"SUMIF(入出金NFT結果!$I:$I,C17,入出金NFT結果!$D:$D)","v":0},null,{"$f":"推定用途置換ルール!P12","v":"グラフィティレーサー：フィルム購入、シートをゲット"},{"$f":"SUMIF(入出金NFT結果!$I:$I,F17,入出金NFT結果!$D:$D)","v":0}]
[null,null,{"$f":"推定用途置換ルール!G13","v":"PlaysiaTV：動画視聴くじ報酬"},{"$f":"SUMIF(入出金NFT結果!$I:$I,C18,入出金NFT結果!$D:$D)","v":0},null,{"$f":"推定用途置換ルール!P13","v":"Cookin’ Burger：shop修復"},{"$f":"SUMIF(入出金NFT結果!$I:$I,F18,入出金NFT結果!$D:$D)","v":0}]
[null,null,{"$f":"推定用途置換ルール!G14","v":"Cookin’ Burger：給料報酬"},{"$f":"SUMIF(入出金NFT結果!$I:$I,C19,入出金NFT結果!$D:$D)","v":0},null,{"$f":"推定用途置換ルール!P14","v":"LuckyFarmer：スタミナゲージ回復"},{"$f":"SUMIF(入出金NFT結果!$I:$I,F19,入出金NFT結果!$D:$D)","v":0}]
[null,null,{"$f":"推定用途置換ルール!G15","v":"LuckyFarmer：ランキング賞金"},{"$f":"SUMIF(入出金NFT結果!$I:$I,C20,入出金NFT結果!$D:$D)","v":0},null,{"$f":"推定用途置換ルール!P15","v":"LuckyFarmer：農地耐久値回復"},{"$f":"SUMIF(入出金NFT結果!$I:$I,F20,入出金NFT結果!$D:$D)","v":0}]
[null,null,{"$f":"推定用途置換ルール!G16","v":"カムイバース：リーダー報酬、依頼書報酬"},{"$f":"SUMIF(入出金NFT結果!$I:$I,C21,入出金NFT結果!$D:$D)","v":0},null,{"$f":"推定用途置換ルール!P16","v":"LuckyFarmer：各種ガチャ"},{"$f":"SUMIF(入出金NFT結果!$I:$I,F21,入出金NFT結果!$D:$D)","v":0}]
[null,null,{"$f":"推定用途置換ルール!G17","v":"SOUL_Fusers：返金処理"},{"$f":"SUMIF(入出金NFT結果!$I:$I,C22,入出金NFT結果!$D:$D)","v":0},null,{"$f":"推定用途置換ルール!P17","v":"LuckyFarmer：各種ガチャ2"},{"$f":"SUMIF(入出金NFT結果!$I:$I,F22,入出金NFT結果!$D:$D)","v":0}]
[null,null,{"$f":"推定用途置換ルール!G18","v":"SOUL_Fusers：NFTクエスト報酬"},{"$f":"SUMIF(入出金NFT結果!$I:$I,C23,入出金NFT結果!$D:$D)","v":0},null,{"$f":"推定用途置換ルール!P18","v":"SOUL Fusers：ソウルフューズ（NFT化）、アイテム購入"},{"$f":"SUMIF(入出金NFT結果!$I:$I,F23,入出金NFT結果!$D:$D)","v":0}]
[null,null,{"$f":"推定用途置換ルール!G19","v":"SOUL_Fusers：アリーナ報酬"},{"$f":"SUMIF(入出金NFT結果!$I:$I,C24,入出金NFT結果!$D:$D)","v":0},null,{"$f":"推定用途置換ルール!P19","v":"Rogue Roll Ruler's：装備NFT化・ゲーム内アイテム購入"},{"$f":"SUMIF(入出金NFT結果!$I:$I,F24,入出金NFT結果!$D:$D)","v":0}]
[null,null,{"$f":"推定用途置換ルール!G20","v":"Answer to Earn：報酬"},{"$f":"SUMIF(入出金NFT結果!$I:$I,C25,入出金NFT結果!$D:$D)","v":0},null,{"$f":"推定用途置換ルール!P20","v":"その他出金"},{"$f":"SUMIF(入出金NFT結果!$I:$I,F25,入出金NFT結果!$D:$D)","v":0}]
[null,null,{"$f":"推定用途置換ルール!G21","v":"エアドロップ関連"},{"$f":"SUMIF(入出金NFT結果!$I:$I,C26,入出金NFT結果!$D:$D)","v":0},null,{"$f":"推定用途置換ルール!P21","v":"NFT購入（オフィシャル販売）"},{"$f":"SUMIF(入出金NFT結果!$I:$I,F26,入出金NFT結果!$D:$D)","v":0}]
[null,null,{"$f":"推定用途置換ルール!G22","v":"NFT売却"},{"$f":"SUMIF(入出金NFT結果!$I:$I,C27,入出金NFT結果!$D:$D)","v":0},null,{"$f":"推定用途置換ルール!P23","v":"NFT購入（ユーザー販売）"},{"$f":"SUMIF(入出金NFT結果!$I:$I,F27,入出金NFT結果!$D:$D)","v":0}]
[null,null,{"$f":"推定用途置換ルール!G23","v":"送金による入金"},{"$f":"SUMIF(入出金NFT結果!$I:$I,C28,入出金NFT結果!$D:$D)","v":0},null,{"$f":"推定用途置換ルール!P24","v":"NFT購入手数料"},{"$f":"SUMIF(入出金NFT結果!$I:$I,F28,入出金NFT結果!$D:$D)","v":0}]
[null,null,null,null,null,{"$f":"推定用途置換ルール!P25","v":"NFT販売手数料"},{"$f":"SUMIF(入出金NFT結果!$I:$I,F29,入出金NFT結果!$D:$D)","v":0}]
[null,null,null,null,null,{"$f":"推定用途置換ルール!P26","v":"送金手数料"},{"$f":"SUMIF(入出金NFT結果!$I:$I,F30,入出金NFT結果!$D:$D)","v":0}]
[null,null,null,null,null,{"$f":"推定用途置換ルール!P27","v":"送金による出金"},{"$f":"SUMIF(入出金NFT結果!$I:$I,F31,入出金NFT結果!$D:$D)","v":0}]
[]
[]
[]
[]
["ゲーム別"]
["Jobtribes","収支計",{"$f":"D38+G38","v":0}]
[null,"収入","合計（DEP）",{"$f":"SUM(D39:D45)","v":0},"支出","合計（DEP）",{"$f":"SUM(G39:G45)","v":0}]
[null,null,{"$f":"推定用途置換ルール!G2","v":"JobTribes：NFTクエスト報酬、給料日"},{"$f":"SUMIF(入出金NFT結果!$I:$I,C39,入出金NFT結果!$D:$D)","v":0},null,{"$f":"推定用途置換ルール!P2","v":"JobTribes：限界突破アイテム購入"},{"$f":"SUMIF(入出金NFT結果!$I:$I,F39,入出金NFT結果!$D:$D)","v":0}]
[null,null,{"$f":"推定用途置換ルール!G22","v":"NFT売却"},{"$f":"SUMIFS(NFT取引履歴結果!$G:$G,NFT取引履歴結果!$F:$F,\"JobTribes：COMMON\",NFT取引履歴結果!$G:$G,\">0\")+SUMIFS(NFT取引履歴結果!$G:$G,NFT取引履歴結果!$F:$F,\"JobTribes：RARE\",NFT取引履歴結果!$G:$G,\">0\")+SUMIFS(NFT取引履歴結果!$G:$G,NFT取引履歴結果!$F:$F,\"JobTribes：EPIC\",NFT取引履歴結果!$G:$G,\">0\")+SUMIFS(NFT取引履歴結果!$G:$G,NFT取引履歴結果!$F:$F,\"JobTribes：LEGENDARY\",NFT取引履歴結果!$G:$G,\">0\")","v":0},null,{"$f":"推定用途置換ルール!P3","v":"JobTribes：育成アイテム購入"},{"$f":"SUMIF(入出金NFT結果!$I:$I,F40,入出金NFT結果!$D:$D)","v":0}]
[null,null,"収支補正",{"$f":"SUMIFS(収支補正!$B:$B,収支補正!$D:$D,\"Jobtribes\")","v":0},null,{"$f":"推定用途置換ルール!P5","v":"JobTribes：ガチャ購入"},{"$f":"SUMIF(入出金NFT結果!$I:$I,F41,入出金NFT結果!$D:$D)","v":0}]
[null,null,null,null,null,{"$f":"推定用途置換ルール!P6","v":"JobTribes：プレミアム求神"},{"$f":"SUMIF(入出金NFT結果!$I:$I,F42,入出金NFT結果!$D:$D)","v":0}]
[null,null,null,null,null,"NFT購入",{"$f":"SUMIFS(NFT取引履歴結果!$G:$G,NFT取引履歴結果!$F:$F,\"JobTribes：COMMON\",NFT取引履歴結果!$G:$G,\"<0\")+SUMIFS(NFT取引履歴結果!$G:$G,NFT取引履歴結果!$F:$F,\"JobTribes：RARE\",NFT取引履歴結果!$G:$G,\"<0\")+SUMIFS(NFT取引履歴結果!$G:$G,NFT取引履歴結果!$F:$F,\"JobTribes：EPIC\",NFT取引履歴結果!$G:$G,\"<0\")+SUMIFS(NFT取引履歴結果!$G:$G,NFT取引履歴結果!$F:$F,\"JobTribes：LEGENDARY\",NFT取引履歴結果!$G:$G,\"<0\")","v":0}]
[null,null,null,null,null,"収支補正",{"$f":"-SUMIFS(収支補正!$H:$H,収支補正!$J:$J,\"Jobtribes\")","v":0}]
[]
["麺屋！\nドラゴンラーメン","収支計",{"$f":"D47+G47","v":0}]
[null,"収入","合計（DEP）",{"$f":"SUM(D48:D52)","v":0},"支出","合計（DEP）",{"$f":"SUM(G48:G52)","v":0}]
[null,null,{"$f":"推定用途置換ルール!G3","v":"メンドラ：ラーメン報酬"},{"$f":"SUMIF(入出金NFT結果!$I:$I,C48,入出金NFT結果!$D:$D)","v":0},null,{"$f":"推定用途置換ルール!P4","v":"メンドラ：DEAPcoinショップ"},{"$f":"SUMIF(入出金NFT結果!$I:$I,F48,入出金NFT結果!$D:$D)","v":0}]
[null,null,{"$f":"推定用途置換ルール!G22","v":"NFT売却"},{"$f":"SUMIFS(NFT取引履歴結果!$G:$G,NFT取引履歴結果!$F:$F,\"Menya Dragon Ramen\",NFT取引履歴結果!$G:$G,\">0\")","v":0},null,"NFT購入",{"$f":"SUMIFS(NFT取引履歴結果!$G:$G,NFT取引履歴結果!$F:$F,\"Menya Dragon Ramen\",NFT取引履歴結果!$G:$G,\"<0\")","v":0}]
[null,null,"収支補正",{"$f":"SUMIFS(収支補正!$B:$B,収支補正!$D:$D,\"麺屋！ドラゴンラーメン\")","v":0},null,"収支補正",{"$f":"-SUMIFS(収支補正!$H:$H,収支補正!$J:$J,\"麺屋！ドラゴンラーメン\")","v":0}]
[]
[]
["Cookin’\nBurger","収支計",{"$f":"D54+G54","v":0}]
[null,"収入","合計（DEP）",{"$f":"SUM(D55:D59)","v":0},"支出","合計（DEP）",{"$f":"SUM(G55:G59)","v":0}]
[null,null,{"$f":"推定用途置換ルール!G14","v":"Cookin’ Burger：給料報酬"},{"$f":"SUMIF(入出金NFT結果!$I:$I,C55,入出金NFT結果!$D:$D)","v":0},null,{"$f":"推定用途置換ルール!P13","v":"Cookin’ Burger：shop修復"},{"$f":"SUMIF(入出金NFT結果!$I:$I,F55,入出金NFT結果!$D:$D)","v":0}]
[null,null,{"$f":"推定用途置換ルール!G22","v":"NFT売却"},{"$f":"SUMIFS(NFT取引履歴結果!$G:$G,NFT取引履歴結果!$F:$F,\"Cookin’ Burger\",NFT取引履歴結果!$G:$G,\">0\")","v":0},null,"NFT購入",{"$f":"SUMIFS(NFT取引履歴結果!$G:$G,NFT取引履歴結果!$F:$F,\"Cookin’ Burger\",NFT取引履歴結果!$G:$G,\"<0\")","v":0}]
[null,null,"収支補正",{"$f":"SUMIFS(収支補正!$B:$B,収支補正!$D:$D,\"Cookin’ Burger\")","v":0},null,"収支補正",{"$f":"-SUMIFS(収支補正!$H:$H,収支補正!$J:$J,\"Cookin’ Burger\")","v":0}]
[]
[]
["グラフィティ\nレーサー","収支計",{"$f":"D61+G61","v":0}]
[null,"収入","合計（DEP）",{"$f":"SUM(D62:D70)","v":0},"支出","合計（DEP）",{"$f":"SUM(G62:G70)","v":0}]
[null,null,{"$f":"推定用途置換ルール!G5","v":"グラフィティレーサー：レース賞金"},{"$f":"SUMIF(入出金NFT結果!$I:$I,C62,入出金NFT結果!$D:$D)","v":0},null,{"$f":"推定用途置換ルール!P7","v":"グラフィティレーサー：フィルム購入"},{"$f":"SUMIF(入出金NFT結果!$I:$I,F62,入出金NFT結果!$D:$D)","v":0}]
[null,null,{"$f":"推定用途置換ルール!G6","v":"グラフィティレーサー：レース賞金2"},{"$f":"SUMIF(入出金NFT結果!$I:$I,C63,入出金NFT結果!$D:$D)","v":0},null,{"$f":"推定用途置換ルール!P8","v":"グラフィティレーサー：フィルム購入2"},{"$f":"SUMIF(入出金NFT結果!$I:$I,F63,入出金NFT結果!$D:$D)","v":0}]
[null,null,{"$f":"推定用途置換ルール!G7","v":"グラフィティレーサー：フィルム販売"},{"$f":"SUMIF(入出金NFT結果!$I:$I,C64,入出金NFT結果!$D:$D)","v":0},null,{"$f":"推定用途置換ルール!P9","v":"グラフィティレーサー：シートをゲット"},{"$f":"SUMIF(入出金NFT結果!$I:$I,F64,入出金NFT結果!$D:$D)","v":0}]
[null,null,{"$f":"推定用途置換ルール!G8","v":"グラフィティレーサー：レース賞金、フィルム販売"},{"$f":"SUMIF(入出金NFT結果!$I:$I,C65,入出金NFT結果!$D:$D)","v":0},null,{"$f":"推定用途置換ルール!P10","v":"グラフィティレーサー：フィルムの色引継ぎ、復元"},{"$f":"SUMIF(入出金NFT結果!$I:$I,F65,入出金NFT結果!$D:$D)","v":0}]
[null,null,{"$f":"推定用途置換ルール!G22","v":"NFT売却"},{"$f":"SUMIFS(NFT取引履歴結果!$G:$G,NFT取引履歴結果!$F:$F,\"Graffiti Racer：SSS\",NFT取引履歴結果!$G:$G,\">0\")+SUMIFS(NFT取引履歴結果!$G:$G,NFT取引履歴結果!$F:$F,\"Graffiti Racer：SS\",NFT取引履歴結果!$G:$G,\">0\")+SUMIFS(NFT取引履歴結果!$G:$G,NFT取引履歴結果!$F:$F,\"Graffiti Racer：S\",NFT取引履歴結果!$G:$G,\">0\")+SUMIFS(NFT取引履歴結果!$G:$G,NFT取引履歴結果!$F:$F,\"Graffiti Racer：A\",NFT取引履歴結果!$G:$G,\">0\")+SUMIFS(NFT取引履歴結果!$G:$G,NFT取引履歴結果!$F:$F,\"Graffiti Racer：B\",NFT取引履歴結果!$G:$G,\">0\")+SUMIFS(NFT取引履歴結果!$G:$G,NFT取引履歴結果!$F:$F,\"Graffiti Racer：C\",NFT取引履歴結果!$G:$G,\">0\")","v":0},null,{"$f":"推定用途置換ルール!P11","v":"グラフィティレーサー：フィルムコーティング"},{"$f":"SUMIF(入出金NFT結果!$I:$I,F66,入出金NFT結果!$D:$D)","v":0}]
[null,null,"収支補正",{"$f":"SUMIFS(収支補正!$B:$B,収支補正!$D:$D,\"グラフィティレーサー\")","v":0},null,{"$f":"推定用途置換ルール!P12","v":"グラフィティレーサー：フィルム購入、シートをゲット"},{"$f":"SUMIF(入出金NFT結果!$I:$I,F67,入出金NFT結果!$D:$D)","v":0}]
[null,null,null,null,null,"NFT購入",{"$f":"SUMIFS(NFT取引履歴結果!$G:$G,NFT取引履歴結果!$F:$F,\"Graffiti Racer：SSS\",NFT取引履歴結果!$G:$G,\"<0\")+SUMIFS(NFT取引履歴結果!$G:$G,NFT取引履歴結果!$F:$F,\"Graffiti Racer：SS\",NFT取引履歴結果!$G:$G,\"<0\")+SUMIFS(NFT取引履歴結果!$G:$G,NFT取引履歴結果!$F:$F,\"Graffiti Racer：S\",NFT取引履歴結果!$G:$G,\"<0\")+SUMIFS(NFT取引履歴結果!$G:$G,NFT取引履歴結果!$F:$F,\"Graffiti Racer：A\",NFT取引履歴結果!$G:$G,\"<0\")+SUMIFS(NFT取引履歴結果!$G:$G,NFT取引履歴結果!$F:$F,\"Graffiti Racer：B\",NFT取引履歴結果!$G:$G,\"<0\")+SUMIFS(NFT取引履歴結果!$G:$G,NFT取引履歴結果!$F:$F,\"Graffiti Racer：C\",NFT取引履歴結果!$G:$G,\"<0\")","v":0}]
[null,null,null,null,null,"収支補正",{"$f":"-SUMIFS(収支補正!$H:$H,収支補正!$J:$J,\"グラフィティレーサー\")","v":0}]
[]
["LuckyFarmer","収支計",{"$f":"D72+G72","v":0}]
[null,"収入","合計（DEP）",{"$f":"SUM(D73:D79)","v":0},"支出","合計（DEP）",{"$f":"SUM(G73:G79)","v":0}]
[null,null,{"$f":"推定用途置換ルール!G15","v":"LuckyFarmer：ランキング賞金"},{"$f":"SUMIF(入出金NFT結果!$I:$I,C73,入出金NFT結果!$D:$D)","v":0},null,{"$f":"推定用途置換ルール!P14","v":"LuckyFarmer：スタミナゲージ回復"},{"$f":"SUMIF(入出金NFT結果!$I:$I,F73,入出金NFT結果!$D:$D)","v":0}]
[null,null,{"$f":"推定用途置換ルール!G22","v":"NFT売却"},{"$f":"SUMIFS(NFT取引履歴結果!$G:$G,NFT取引履歴結果!$F:$F,\"Lucky Farmer\",NFT取引履歴結果!$G:$G,\">0\")","v":0},null,{"$f":"推定用途置換ルール!P15","v":"LuckyFarmer：農地耐久値回復"},{"$f":"SUMIF(入出金NFT結果!$I:$I,F74,入出金NFT結果!$D:$D)","v":0}]
[null,null,"収支補正",{"$f":"SUMIFS(収支補正!$B:$B,収支補正!$D:$D,\"LuckyFarmer\")","v":0},null,{"$f":"推定用途置換ルール!P16","v":"LuckyFarmer：各種ガチャ"},{"$f":"SUMIF(入出金NFT結果!$I:$I,F75,入出金NFT結果!$D:$D)","v":0}]
[null,null,null,null,null,{"$f":"推定用途置換ルール!P17","v":"LuckyFarmer：各種ガチャ2"},{"$f":"SUMIF(入出金NFT結果!$I:$I,F76,入出金NFT結果!$D:$D)","v":0}]
[null,null,null,null,null,"NFT購入",{"$f":"SUMIFS(NFT取引履歴結果!$G:$G,NFT取引履歴結果!$F:$F,\"Lucky Farmer\",NFT取引履歴結果!$G:$G,\"<0\")","v":0}]
[null,null,null,null,null,"収支補正",{"$f":"-SUMIFS(収支補正!$H:$H,収支補正!$J:$J,\"LuckyFarmer\")","v":0}]
[]
["Lost Archive+","収支計",{"$f":"D81+G81","v":0}]
[null,"収入","合計（DEP）",{"$f":"SUM(D82:D86)","v":0},"支出","合計（DEP）",{"$f":"SUM(G82:G86)","v":0}]
[null,null,{"$f":"推定用途置換ルール!G22","v":"NFT売却"},{"$f":"SUMIFS(NFT取引履歴結果!$G:$G,NFT取引履歴結果!$F:$F,\"Lost Archive+\",NFT取引履歴結果!$G:$G,\">0\")","v":0},null,"NFT購入",{"$f":"SUMIFS(NFT取引履歴結果!$G:$G,NFT取引履歴結果!$F:$F,\"Lost Archive+\",NFT取引履歴結果!$G:$G,\"<0\")","v":0}]
[null,null,"収支補正",{"$f":"SUMIFS(収支補正!$B:$B,収支補正!$D:$D,\"Lost Archive+\")","v":0},null,"収支補正",{"$f":"-SUMIFS(収支補正!$H:$H,収支補正!$J:$J,\"Lost Archive+\")","v":0}]
[]
[]
[]
["SOULFusers","収支計",{"$f":"D88+G88","v":0}]
[null,"収入","合計（DEP）",{"$f":"SUM(D89:D94)","v":0},"支出","合計（DEP）",{"$f":"SUM(G89:G94)","v":0}]
[null,null,{"$f":"推定用途置換ルール!G22","v":"NFT売却"},{"$f":"SUMIFS(NFT取引履歴結果!$G:$G,NFT取引履歴結果!$F:$F,\"SOUL Fusers\",NFT取引履歴結果!$G:$G,\">0\")","v":0},null,{"$f":"推定用途置換ルール!P18","v":"SOUL Fusers：ソウルフューズ（NFT化）、アイテム購入"},{"$f":"SUMIF(入出金NFT結果!$I:$I,F89,入出金NFT結果!$D:$D)","v":0}]
[null,null,{"$f":"推定用途置換ルール!G17","v":"SOUL_Fusers：返金処理"},{"$f":"SUMIF(入出金NFT結果!$I:$I,C90,入出金NFT結果!$D:$D)","v":0},null,"NFT購入",{"$f":"SUMIFS(NFT取引履歴結果!$G:$G,NFT取引履歴結果!$F:$F,\"SOUL Fusers\",NFT取引履歴結果!$G:$G,\"<0\")","v":0}]
[null,null,{"$f":"推定用途置換ルール!G18","v":"SOUL_Fusers：NFTクエスト報酬"},{"$f":"SUMIF(入出金NFT結果!$I:$I,C91,入出金NFT結果!$D:$D)","v":0},null,"収支補正",{"$f":"-SUMIFS(収支補正!$H:$H,収支補正!$J:$J,\"SOUL Fusers\")","v":0}]
[null,null,{"$f":"推定用途置換ルール!G19","v":"SOUL_Fusers：アリーナ報酬"},{"$f":"SUMIF(入出金NFT結果!$I:$I,C92,入出金NFT結果!$D:$D)","v":0}]
[null,null,"収支補正",{"$f":"SUMIFS(収支補正!$B:$B,収支補正!$D:$D,\"SOUL Fusers\")","v":0}]
[]
["Rogue Roll Rulers","収支計",{"$f":"D96+G96","v":0}]
[null,"収入","合計（DEP）",{"$f":"SUM(D97:D101)","v":0},"支出","合計（DEP）",{"$f":"SUM(G97:G101)","v":0}]
[null,null,{"$f":"推定用途置換ルール!G9","v":"Rogue Roll Ruler's　報酬1"},{"$f":"SUMIF(入出金NFT結果!$I:$I,C97,入出金NFT結果!$D:$D)","v":0},null,{"$f":"推定用途置換ルール!P19","v":"Rogue Roll Ruler's：装備NFT化・ゲーム内アイテム購入"},{"$f":"SUMIF(入出金NFT結果!$I:$I,F97,入出金NFT結果!$D:$D)","v":0}]
[null,null,{"$f":"推定用途置換ルール!G10","v":"Rogue Roll Ruler's　報酬2"},{"$f":"SUMIF(入出金NFT結果!$I:$I,C98,入出金NFT結果!$D:$D)","v":0},null,"NFT購入",{"$f":"SUMIFS(NFT取引履歴結果!$G:$G,NFT取引履歴結果!$F:$F,\"Rogue Roll Rulers\",NFT取引履歴結果!$G:$G,\"<0\")","v":0}]
[null,null,{"$f":"推定用途置換ルール!G22","v":"NFT売却"},{"$f":"SUMIFS(NFT取引履歴結果!$G:$G,NFT取引履歴結果!$F:$F,\"Rogue Roll Rulers\",NFT取引履歴結果!$G:$G,\">0\")","v":0},null,"収支補正",{"$f":"-SUMIFS(収支補正!$H:$H,収支補正!$J:$J,\"SOUL Fusers\")","v":0}]
[null,null,"収支補正",{"$f":"SUMIFS(収支補正!$B:$B,収支補正!$D:$D,\"Rogue Roll Rulers\")","v":0}]
[]
["バウンシーバニー","収支計",{"$f":"D103+G103","v":0}]
[null,"収入","合計（DEP）",{"$f":"SUM(D104:D108)","v":0},"支出","合計（DEP）",{"$f":"SUM(G104:G108)","v":0}]
[null,null,{"$f":"推定用途置換ルール!G22","v":"NFT売却"},{"$f":"SUMIFS(NFT取引履歴結果!$G:$G,NFT取引履歴結果!$F:$F,\"バウンシーバニー\",NFT取引履歴結果!$G:$G,\">0\")","v":0},null,"NFT購入",{"$f":"SUMIFS(NFT取引履歴結果!$G:$G,NFT取引履歴結果!$F:$F,\"バウンシーバニー\",NFT取引履歴結果!$G:$G,\"<0\")","v":0}]
[null,null,"収支補正",{"$f":"SUMIFS(収支補正!$B:$B,収支補正!$D:$D,\"バウンシーバニー\")","v":0},null,"収支補正",{"$f":"-SUMIFS(収支補正!$H:$H,収支補正!$J:$J,\"バウンシーバニー\")","v":0}]
[]
[]
[]
["Answer to Earn","収支計",{"$f":"D110+G110","v":0}]
[null,"収入","合計（DEP）",{"$f":"SUM(D111:D115)","v":0},"支出","合計（DEP）",{"$f":"SUM(G111:G115)","v":0}]
[null,null,{"$f":"推定用途置換ルール!G20","v":"Answer to Earn：報酬"},{"$f":"SUMIF(入出金NFT結果!$I:$I,C111,入出金NFT結果!$D:$D)","v":0},null,"NFT購入",{"$f":"SUMIFS(NFT取引履歴結果!$G:$G,NFT取引履歴結果!$F:$F,\"Answer to Earn\",NFT取引履歴結果!$G:$G,\"<0\")","v":0}]
[null,null,{"$f":"推定用途置換ルール!G22","v":"NFT売却"},{"$f":"SUMIFS(NFT取引履歴結果!$G:$G,NFT取引履歴結果!$F:$F,\"Answer to Earn\",NFT取引履歴結果!$G:$G,\">0\")","v":0},null,"収支補正",{"$f":"-SUMIFS(収支補正!$H:$H,収支補正!$J:$J,\"Answer to Earn\")","v":0}]
[null,null,"収支補正",{"$f":"SUMIFS(収支補正!$B:$B,収支補正!$D:$D,\"Answer to Earn\")","v":0}]
[]
[]
["ピクトレ","収支計",{"$f":"D117+G117","v":0}]
[null,"収入","合計（DEP）",{"$f":"SUM(D118:D122)","v":0},"支出","合計（DEP）",{"$f":"SUM(G118:G122)","v":0}]
[null,null,{"$f":"推定用途置換ルール!G22","v":"NFT売却"},{"$f":"SUMIFS(NFT取引履歴結果!$G:$G,NFT取引履歴結果!$F:$F,\"ピクトレ\",NFT取引履歴結果!$G:$G,\">0\")","v":0},null,"NFT購入",{"$f":"SUMIFS(NFT取引履歴結果!$G:$G,NFT取引履歴結果!$F:$F,\"ピクトレ\",NFT取引履歴結果!$G:$G,\"<0\")","v":0}]
[null,null,"収支補正",{"$f":"SUMIFS(収支補正!$B:$B,収支補正!$D:$D,\"ピクトレ\")","v":0},null,"収支補正",{"$f":"-SUMIFS(収支補正!$H:$H,収支補正!$J:$J,\"ピクトレ\")","v":0}]
[]
[]
[]
["PlaysiaTV","収支計",{"$f":"D124+G124","v":0}]
[null,"収入","合計（DEP）",{"$f":"SUM(D125:D129)","v":0},"支出","合計（DEP）",{"$f":"SUM(G125:G129)","v":0}]
[null,null,{"$f":"推定用途置換ルール!G13","v":"PlaysiaTV：動画視聴くじ報酬"},{"$f":"SUMIF(入出金NFT結果!$I:$I,C125,入出金NFT結果!$D:$D)","v":0},null,"NFT購入",{"$f":"SUMIFS(NFT取引履歴結果!$G:$G,NFT取引履歴結果!$F:$F,\"PlaysiaTV\",NFT取引履歴結果!$G:$G,\"<0\")","v":0}]
[null,null,{"$f":"推定用途置換ルール!G22","v":"NFT売却"},{"$f":"SUMIFS(NFT取引履歴結果!$G:$G,NFT取引履歴結果!$F:$F,\"PlaysiaTV\",NFT取引履歴結果!$G:$G,\">0\")","v":0},null,"収支補正",{"$f":"-SUMIFS(収支補正!$H:$H,収支補正!$J:$J,\"PlaysiaTV\")","v":0}]
[null,null,"収支補正",{"$f":"SUMIFS(収支補正!$B:$B,収支補正!$D:$D,\"PlaysiaTV\")","v":0}]
[]
[]
["カムイバース","収支計",{"$f":"D131+G131","v":0}]
[null,"収入","合計（DEP）",{"$f":"SUM(D132:D136)","v":0},"支出","合計（DEP）",{"$f":"SUM(G132:G136)","v":0}]
[null,null,{"$f":"推定用途置換ルール!G22","v":"NFT売却"},{"$f":"SUMIFS(NFT取引履歴結果!$G:$G,NFT取引履歴結果!$F:$F,\"Fujiwara Kamui Verse\",NFT取引履歴結果!$G:$G,\">0\")","v":0},null,"NFT購入",{"$f":"SUMIFS(NFT取引履歴結果!$G:$G,NFT取引履歴結果!$F:$F,\"Fujiwara Kamui Verse\",NFT取引履歴結果!$G:$G,\"<0\")","v":0}]
[null,null,{"$f":"推定用途置換ルール!G16","v":"カムイバース：リーダー報酬、依頼書報酬"},{"$f":"SUMIF(入出金NFT結果!$I:$I,C133,入出金NFT結果!$D:$D)","v":0},null,"収支補正",{"$f":"-SUMIFS(収支補正!$H:$H,収支補正!$J:$J,\"カムイバース\")","v":0}]
[null,null,"収支補正",{"$f":"SUMIFS(収支補正!$B:$B,収支補正!$D:$D,\"カムイバース\")","v":0}]
[]
[]
["その他","収支計",{"$f":"D138+G138","v":0}]
[null,"収入","合計（DEP）",{"$f":"SUM(D139:D146)","v":0},"支出","合計（DEP）",{"$f":"SUM(G139:G146)","v":0}]
[null,null,{"$f":"推定用途置換ルール!G11","v":"その他入金、取引所からの入金（2022.9以前）"},{"$f":"SUMIF(入出金NFT結果!$I:$I,C139,入出金NFT結果!$D:$D)-SUMIFS(収支補正!$B:$B,収支補正!$C:$C,C139)","v":0},null,{"$f":"推定用途置換ルール!P20","v":"その他出金"},{"$f":"SUMIF(入出金NFT結果!$I:$I,F139,入出金NFT結果!$D:$D)+SUMIFS(収支補正!$H:$H,収支補正!$I:$I,F139)","v":0}]
[null,null,{"$f":"推定用途置換ルール!G12","v":"取引所からの入金（2022.10以降）"},{"$f":"SUMIF(入出金NFT結果!$I:$I,C140,入出金NFT結果!$D:$D)-SUMIFS(収支補正!$B:$B,収支補正!$C:$C,C140)","v":0},null,"NFT購入",{"$f":"SUMIFS(NFT取引履歴結果!$G:$G,NFT取引履歴結果!$F:$F,\"PlayMining NFT\",NFT取引履歴結果!$G:$G,\"<0\")","v":0}]
[null,null,{"$f":"推定用途置換ルール!G21","v":"エアドロップ関連"},{"$f":"SUMIF(入出金NFT結果!$I:$I,C141,入出金NFT結果!$D:$D)-SUMIFS(収支補正!$B:$B,収支補正!$C:$C,C141)","v":0},null,{"$f":"推定用途置換ルール!P24","v":"NFT購入手数料"},{"$f":"SUMIF(入出金NFT結果!$I:$I,F141,入出金NFT結果!$D:$D)","v":0}]
[null,null,{"$f":"推定用途置換ルール!G22","v":"NFT売却"},{"$f":"SUMIFS(NFT取引履歴結果!$G:$G,NFT取引履歴結果!$F:$F,\"PlayMining NFT\",NFT取引履歴結果!$G:$G,\">0\")","v":0},null,{"$f":"推定用途置換ルール!P25","v":"NFT販売手数料"},{"$f":"SUMIF(入出金NFT結果!$I:$I,F142,入出金NFT結果!$D:$D)","v":0}]
[null,null,{"$f":"推定用途置換ルール!G23","v":"送金による入金"},{"$f":"SUMIF(入出金NFT結果!$I:$I,C143,入出金NFT結果!$D:$D)-SUMIFS(収支補正!$B:$B,収支補正!$C:$C,C143)","v":0},null,{"$f":"推定用途置換ルール!P26","v":"送金手数料"},{"$f":"SUMIF(入出金NFT結果!$I:$I,F143,入出金NFT結果!$D:$D)","v":0}]
[null,null,{"$f":"推定用途置換ルール!G4","v":"その他DEAPCHECK"},{"$f":"SUMIF(入出金NFT結果!$I:$I,C144,入出金NFT結果!$D:$D)-SUMIFS(収支補正!$B:$B,収支補正!$C:$C,C144)","v":0},null,{"$f":"推定用途置換ルール!P27","v":"送金による出金"},{"$f":"SUMIF(入出金NFT結果!$I:$I,F144,入出金NFT結果!$D:$D)+SUMIFS(収支補正!$H:$H,収支補正!$I:$I,F144)","v":0}]
[null,null,"収支補正",{"$f":"SUMIFS(収支補正!$B:$B,収支補正!$D:$D,\"その他\")","v":0},null,"収支補正",{"$f":"-SUMIFS(収支補正!$H:$H,収支補正!$J:$J,\"その他\")","v":0}]

{"sheet":"（参考）日本円換算","index":3,"n_rows":12,"n_cols":7,"rows_kept":12,"cut":false,"hidden":true,"merged":[]}
[]
[]
[null,"取引所購入","購入額（円）","取引所売却","売却額（円）","取引所その他報酬\n　・ステーキング報酬\n　・エアドロップ","報酬額（円）"]
[null,"BITPOINT",940953,"BITPOINT",68453,"BITPOINT",0]
[null,"OKCOIN",10000,"OKCOIN",0,"OKCOIN",1357]
[null,"Huobi",0,"Huobi",0,"Huobi",2895]
[null,"その他",0,"その他",0,"その他",0]
[null,"合計",{"$f":"SUM(C4:C7)","v":950953},"合計",{"$f":"SUM(E4:E7)","v":68453},"合計",{"$f":"SUM(G4:G7)","v":4252}]
[]
[null,"入出金結果",{"$f":"SUM(入出金NFT結果!K:L)","v":0}]
[]
[null,"合計",{"$f":"C10-C8+E8+G8","v":-878248}]

{"sheet":"月別集計","index":4,"n_rows":56,"n_cols":16384,"rows_kept":56,"cut":false,"hidden":false,"merged":[[3,0,25,0],[26,0,52,0],[2,0,2,1],[0,0,1,0]]}
["集計期間","開始","2020-01-01",{"$f":"EDATE(C1,1)","v":"2020-02-01"},{"$f":"EDATE(D1,1)","v":"2020-03-01"},"2020-04-01","2020-05-01","2020-06-01","2020-07-01","2020-08-01","2020-09-01","2020-10-01","2020-11-01","2020-12-01","2021-01-01","2021-02-01","2021-03-01","2021-04-01","2021-05-01","2021-06-01","2021-07-01","2021-08-01","2021-09-01","2021-10-01","2021-11-01","2021-12-01","2022-01-01","2022-02-01","2022-03-01","2022-04-01","2022-05-01","2022-06-01","2022-07-01","2022-08-01","2022-09-01","2022-10-01","2022-11-01","2022-12-01","2023-01-01","2023-02-01","2023-03-01","2023-04-01","2023-05-01",{"$f":"EDATE(AQ1,1)","v":"2023-06-01"},"2023-07-01","2023-08-01","2023-09-01","2023-10-01","2023-11-01","2023-12-01","2024-01-01","2024-02-01","2024-03-01",{"$f":"EDATE(BA1,1)","v":"2024-04-01"},{"$f":"EDATE(BB1,1)","v":"2024-05-01"},{"$f":"EDATE(BC1,1)","v":"2024-06-01"},{"$f":"EDATE(BD1,1)","v":"2024-07-01"},{"$f":"EDATE(BE1,1)","v":"2024-08-01"},{"$f":"EDATE(BF1,1)","v":"2024-09-01"},{"$f":"EDATE(BG1,1)","v":"2024-10-01"},{"$f":"EDATE(BH1,1)","v":"2024-11-01"},{"$f":"EDATE(BI1,1)","v":"2024-12-01"},{"$f":"EDATE(BJ1,1)","v":"2025-01-01"},{"$f":"EDATE(BK1,1)","v":"2025-02-01"},{"$f":"EDATE(BL1,1)","v":"2025-03-01"}]
[null,"終了",{"$f":"EDATE(C1,1)-1","v":"2020-01-31"},{"$f":"EDATE(D1,1)-1","v":"2020-02-29"},"2020-03-31","2020-04-30","2020-05-31","2020-06-30","2020-07-31","2020-08-31","2020-09-30","2020-10-31","2020-11-30","2020-12-31","2021-01-31","2021-02-28","2021-03-31","2021-04-30","2021-05-31","2021-06-30","2021-07-31","2021-08-31","2021-09-30","2021-10-31","2021-11-30","2021-12-31","2022-01-31","2022-02-28","2022-03-31","2022-04-30","2022-05-31","2022-06-30","2022-07-31","2022-08-31","2022-09-30","2022-10-31","2022-11-30","2022-12-31","2023-01-31","2023-02-28","2023-03-31","2023-04-30","2023-05-31","2023-06-30","2023-07-31","2023-08-31","2023-09-30","2023-10-31","2023-11-30","2023-12-31","2024-01-31","2024-02-29","2024-03-31",{"$f":"EDATE(BB1,1)-1","v":"2024-04-30"},"2024-05-31","2024-06-30","2024-07-31","2024-08-31","2024-09-30","2024-10-31","2024-11-30","2024-12-31","2025-01-31","2025-02-28","2025-03-31"]
["合計収支",null,{"$f":"C4+C27","v":0},{"$f":"D4+D27","v":0},0,0,0,0,0,0,0,0,0,0,0,0,0,0,0,0,0,0,0,0,0,0,0,0,0,0,0,0,0,0,0,{"$f":"AJ4+AJ27","v":0},0,0,0,0,0,0,0,0,0,0,0,0,0,0,0,0,0,{"$f":"BB4+BB27","v":0},0,0,0,0,0,0,0,0,0,0,0]
["収入","合計（DEP）",{"$f":"SUM(C5:C26)","v":0},{"$f":"SUM(D5:D26)","v":0},0,0,0,0,0,0,0,0,0,0,0,0,0,0,0,0,0,0,0,0,0,0,0,0,0,0,0,0,0,0,0,0,0,0,0,0,0,0,0,0,0,0,0,0,0,0,0,0,0,{"$f":"SUM(BB5:BB26)","v":0},0,0,0,0,0,0,0,0,0,0,0]
[null,{"$f":"推定用途置換ルール!G2","v":"JobTribes：NFTクエスト報酬、給料日"},{"$f":"SUMIFS(入出金NFT結果!$D:$D,入出金NFT結果!$I:$I,\"=\"&月別集計!$B5,入出金NFT結果!$A:$A,\">=\"&月別集計!C$1,入出金NFT結果!$A:$A,\"<=\"&月別集計!C$2)","v":0},{"$f":"SUMIFS(入出金NFT結果!$D:$D,入出金NFT結果!$I:$I,\"=\"&月別集計!$B5,入出金NFT結果!$A:$A,\">=\"&月別集計!D$1,入出金NFT結果!$A:$A,\"<=\"&月別集計!D$2)","v":0},{"$f":"SUMIFS(入出金NFT結果!$D:$D,入出金NFT結果!$I:$I,\"=\"&月別集計!$B5,入出金NFT結果!$A:$A,\">=\"&月別集計!E$1,入出金NFT結果!$A:$A,\"<=\"&月別集計!E$2)","v":0},{"$f":"SUMIFS(入出金NFT結果!$D:$D,入出金NFT結果!$I:$I,\"=\"&月別集計!$B5,入出金NFT結果!$A:$A,\">=\"&月別集計!F$1,入出金NFT結果!$A:$A,\"<=\"&月別集計!F$2)","v":0},{"$f":"SUMIFS(入出金NFT結果!$D:$D,入出金NFT結果!$I:$I,\"=\"&月別集計!$B5,入出金NFT結果!$A:$A,\">=\"&月別集計!G$1,入出金NFT結果!$A:$A,\"<=\"&月別集計!G$2)","v":0},{"$f":"SUMIFS(入出金NFT結果!$D:$D,入出金NFT結果!$I:$I,\"=\"&月別集計!$B5,入出金NFT結果!$A:$A,\">=\"&月別集計!H$1,入出金NFT結果!$A:$A,\"<=\"&月別集計!H$2)","v":0},{"$f":"SUMIFS(入出金NFT結果!$D:$D,入出金NFT結果!$I:$I,\"=\"&月別集計!$B5,入出金NFT結果!$A:$A,\">=\"&月別集計!I$1,入出金NFT結果!$A:$A,\"<=\"&月別集計!I$2)","v":0},{"$f":"SUMIFS(入出金NFT結果!$D:$D,入出金NFT結果!$I:$I,\"=\"&月別集計!$B5,入出金NFT結果!$A:$A,\">=\"&月別集計!J$1,入出金NFT結果!$A:$A,\"<=\"&月別集計!J$2)","v":0},{"$f":"SUMIFS(入出金NFT結果!$D:$D,入出金NFT結果!$I:$I,\"=\"&月別集計!$B5,入出金NFT結果!$A:$A,\">=\"&月別集計!K$1,入出金NFT結果!$A:$A,\"<=\"&月別集計!K$2)","v":0},{"$f":"SUMIFS(入出金NFT結果!$D:$D,入出金NFT結果!$I:$I,\"=\"&月別集計!$B5,入出金NFT結果!$A:$A,\">=\"&月別集計!L$1,入出金NFT結果!$A:$A,\"<=\"&月別集計!L$2)","v":0},{"$f":"SUMIFS(入出金NFT結果!$D:$D,入出金NFT結果!$I:$I,\"=\"&月別集計!$B5,入出金NFT結果!$A:$A,\">=\"&月別集計!M$1,入出金NFT結果!$A:$A,\"<=\"&月別集計!M$2)","v":0},{"$f":"SUMIFS(入出金NFT結果!$D:$D,入出金NFT結果!$I:$I,\"=\"&月別集計!$B5,入出金NFT結果!$A:$A,\">=\"&月別集計!N$1,入出金NFT結果!$A:$A,\"<=\"&月別集計!N$2)","v":0},{"$f":"SUMIFS(入出金NFT結果!$D:$D,入出金NFT結果!$I:$I,\"=\"&月別集計!$B5,入出金NFT結果!$A:$A,\">=\"&月別集計!O$1,入出金NFT結果!$A:$A,\"<=\"&月別集計!O$2)","v":0},{"$f":"SUMIFS(入出金NFT結果!$D:$D,入出金NFT結果!$I:$I,\"=\"&月別集計!$B5,入出金NFT結果!$A:$A,\">=\"&月別集計!P$1,入出金NFT結果!$A:$A,\"<=\"&月別集計!P$2)","v":0},{"$f":"SUMIFS(入出金NFT結果!$D:$D,入出金NFT結果!$I:$I,\"=\"&月別集計!$B5,入出金NFT結果!$A:$A,\">=\"&月別集計!Q$1,入出金NFT結果!$A:$A,\"<=\"&月別集計!Q$2)","v":0},{"$f":"SUMIFS(入出金NFT結果!$D:$D,入出金NFT結果!$I:$I,\"=\"&月別集計!$B5,入出金NFT結果!$A:$A,\">=\"&月別集計!R$1,入出金NFT結果!$A:$A,\"<=\"&月別集計!R$2)","v":0},{"$f":"SUMIFS(入出金NFT結果!$D:$D,入出金NFT結果!$I:$I,\"=\"&月別集計!$B5,入出金NFT結果!$A:$A,\">=\"&月別集計!S$1,入出金NFT結果!$A:$A,\"<=\"&月別集計!S$2)","v":0},{"$f":"SUMIFS(入出金NFT結果!$D:$D,入出金NFT結果!$I:$I,\"=\"&月別集計!$B5,入出金NFT結果!$A:$A,\">=\"&月別集計!T$1,入出金NFT結果!$A:$A,\"<=\"&月別集計!T$2)","v":0},{"$f":"SUMIFS(入出金NFT結果!$D:$D,入出金NFT結果!$I:$I,\"=\"&月別集計!$B5,入出金NFT結果!$A:$A,\">=\"&月別集計!U$1,入出金NFT結果!$A:$A,\"<=\"&月別集計!U$2)","v":0},{"$f":"SUMIFS(入出金NFT結果!$D:$D,入出金NFT結果!$I:$I,\"=\"&月別集計!$B5,入出金NFT結果!$A:$A,\">=\"&月別集計!V$1,入出金NFT結果!$A:$A,\"<=\"&月別集計!V$2)","v":0},{"$f":"SUMIFS(入出金NFT結果!$D:$D,入出金NFT結果!$I:$I,\"=\"&月別集計!$B5,入出金NFT結果!$A:$A,\">=\"&月別集計!W$1,入出金NFT結果!$A:$A,\"<=\"&月別集計!W$2)","v":0},{"$f":"SUMIFS(入出金NFT結果!$D:$D,入出金NFT結果!$I:$I,\"=\"&月別集計!$B5,入出金NFT結果!$A:$A,\">=\"&月別集計!X$1,入出金NFT結果!$A:$A,\"<=\"&月別集計!X$2)","v":0},{"$f":"SUMIFS(入出金NFT結果!$D:$D,入出金NFT結果!$I:$I,\"=\"&月別集計!$B5,入出金NFT結果!$A:$A,\">=\"&月別集計!Y$1,入出金NFT結果!$A:$A,\"<=\"&月別集計!Y$2)","v":0},{"$f":"SUMIFS(入出金NFT結果!$D:$D,入出金NFT結果!$I:$I,\"=\"&月別集計!$B5,入出金NFT結果!$A:$A,\">=\"&月別集計!Z$1,入出金NFT結果!$A:$A,\"<=\"&月別集計!Z$2)","v":0},{"$f":"SUMIFS(入出金NFT結果!$D:$D,入出金NFT結果!$I:$I,\"=\"&月別集計!$B5,入出金NFT結果!$A:$A,\">=\"&月別集計!AA$1,入出金NFT結果!$A:$A,\"<=\"&月別集計!AA$2)","v":0},{"$f":"SUMIFS(入出金NFT結果!$D:$D,入出金NFT結果!$I:$I,\"=\"&月別集計!$B5,入出金NFT結果!$A:$A,\">=\"&月別集計!AB$1,入出金NFT結果!$A:$A,\"<=\"&月別集計!AB$2)","v":0},{"$f":"SUMIFS(入出金NFT結果!$D:$D,入出金NFT結果!$I:$I,\"=\"&月別集計!$B5,入出金NFT結果!$A:$A,\">=\"&月別集計!AC$1,入出金NFT結果!$A:$A,\"<=\"&月別集計!AC$2)","v":0},{"$f":"SUMIFS(入出金NFT結果!$D:$D,入出金NFT結果!$I:$I,\"=\"&月別集計!$B5,入出金NFT結果!$A:$A,\">=\"&月別集計!AD$1,入出金NFT結果!$A:$A,\"<=\"&月別集計!AD$2)","v":0},{"$f":"SUMIFS(入出金NFT結果!$D:$D,入出金NFT結果!$I:$I,\"=\"&月別集計!$B5,入出金NFT結果!$A:$A,\">=\"&月別集計!AE$1,入出金NFT結果!$A:$A,\"<=\"&月別集計!AE$2)","v":0},{"$f":"SUMIFS(入出金NFT結果!$D:$D,入出金NFT結果!$I:$I,\"=\"&月別集計!$B5,入出金NFT結果!$A:$A,\">=\"&月別集計!AF$1,入出金NFT結果!$A:$A,\"<=\"&月別集計!AF$2)","v":0},{"$f":"SUMIFS(入出金NFT結果!$D:$D,入出金NFT結果!$I:$I,\"=\"&月別集計!$B5,入出金NFT結果!$A:$A,\">=\"&月別集計!AG$1,入出金NFT結果!$A:$A,\"<=\"&月別集計!AG$2)","v":0},{"$f":"SUMIFS(入出金NFT結果!$D:$D,入出金NFT結果!$I:$I,\"=\"&月別集計!$B5,入出金NFT結果!$A:$A,\">=\"&月別集計!AH$1,入出金NFT結果!$A:$A,\"<=\"&月別集計!AH$2)","v":0},{"$f":"SUMIFS(入出金NFT結果!$D:$D,入出金NFT結果!$I:$I,\"=\"&月別集計!$B5,入出金NFT結果!$A:$A,\">=\"&月別集計!AI$1,入出金NFT結果!$A:$A,\"<=\"&月別集計!AI$2)","v":0},{"$f":"SUMIFS(入出金NFT結果!$D:$D,入出金NFT結果!$I:$I,\"=\"&月別集計!$B5,入出金NFT結果!$A:$A,\">=\"&月別集計!AJ$1,入出金NFT結果!$A:$A,\"<=\"&月別集計!AJ$2)","v":0},{"$f":"SUMIFS(入出金NFT結果!$D:$D,入出金NFT結果!$I:$I,\"=\"&月別集計!$B5,入出金NFT結果!$A:$A,\">=\"&月別集計!AK$1,入出金NFT結果!$A:$A,\"<=\"&月別集計!AK$2)","v":0},{"$f":"SUMIFS(入出金NFT結果!$D:$D,入出金NFT結果!$I:$I,\"=\"&月別集計!$B5,入出金NFT結果!$A:$A,\">=\"&月別集計!AL$1,入出金NFT結果!$A:$A,\"<=\"&月別集計!AL$2)","v":0},{"$f":"SUMIFS(入出金NFT結果!$D:$D,入出金NFT結果!$I:$I,\"=\"&月別集計!$B5,入出金NFT結果!$A:$A,\">=\"&月別集計!AM$1,入出金NFT結果!$A:$A,\"<=\"&月別集計!AM$2)","v":0},{"$f":"SUMIFS(入出金NFT結果!$D:$D,入出金NFT結果!$I:$I,\"=\"&月別集計!$B5,入出金NFT結果!$A:$A,\">=\"&月別集計!AN$1,入出金NFT結果!$A:$A,\"<=\"&月別集計!AN$2)","v":0},{"$f":"SUMIFS(入出金NFT結果!$D:$D,入出金NFT結果!$I:$I,\"=\"&月別集計!$B5,入出金NFT結果!$A:$A,\">=\"&月別集計!AO$1,入出金NFT結果!$A:$A,\"<=\"&月別集計!AO$2)","v":0},{"$f":"SUMIFS(入出金NFT結果!$D:$D,入出金NFT結果!$I:$I,\"=\"&月別集計!$B5,入出金NFT結果!$A:$A,\">=\"&月別集計!AP$1,入出金NFT結果!$A:$A,\"<=\"&月別集計!AP$2)","v":0},{"$f":"SUMIFS(入出金NFT結果!$D:$D,入出金NFT結果!$I:$I,\"=\"&月別集計!$B5,入出金NFT結果!$A:$A,\">=\"&月別集計!AQ$1,入出金NFT結果!$A:$A,\"<=\"&月別集計!AQ$2)","v":0},{"$f":"SUMIFS(入出金NFT結果!$D:$D,入出金NFT結果!$I:$I,\"=\"&月別集計!$B5,入出金NFT結果!$A:$A,\">=\"&月別集計!AR$1,入出金NFT結果!$A:$A,\"<=\"&月別集計!AR$2)","v":0},{"$f":"SUMIFS(入出金NFT結果!$D:$D,入出金NFT結果!$I:$I,\"=\"&月別集計!$B5,入出金NFT結果!$A:$A,\">=\"&月別集計!AS$1,入出金NFT結果!$A:$A,\"<=\"&月別集計!AS$2)","v":0},{"$f":"SUMIFS(入出金NFT結果!$D:$D,入出金NFT結果!$I:$I,\"=\"&月別集計!$B5,入出金NFT結果!$A:$A,\">=\"&月別集計!AT$1,入出金NFT結果!$A:$A,\"<=\"&月別集計!AT$2)","v":0},{"$f":"SUMIFS(入出金NFT結果!$D:$D,入出金NFT結果!$I:$I,\"=\"&月別集計!$B5,入出金NFT結果!$A:$A,\">=\"&月別集計!AU$1,入出金NFT結果!$A:$A,\"<=\"&月別集計!AU$2)","v":0},{"$f":"SUMIFS(入出金NFT結果!$D:$D,入出金NFT結果!$I:$I,\"=\"&月別集計!$B5,入出金NFT結果!$A:$A,\">=\"&月別集計!AV$1,入出金NFT結果!$A:$A,\"<=\"&月別集計!AV$2)","v":0},{"$f":"SUMIFS(入出金NFT結果!$D:$D,入出金NFT結果!$I:$I,\"=\"&月別集計!$B5,入出金NFT結果!$A:$A,\">=\"&月別集計!AW$1,入出金NFT結果!$A:$A,\"<=\"&月別集計!AW$2)","v":0},{"$f":"SUMIFS(入出金NFT結果!$D:$D,入出金NFT結果!$I:$I,\"=\"&月別集計!$B5,入出金NFT結果!$A:$A,\">=\"&月別集計!AX$1,入出金NFT結果!$A:$A,\"<=\"&月別集計!AX$2)","v":0},{"$f":"SUMIFS(入出金NFT結果!$D:$D,入出金NFT結果!$I:$I,\"=\"&月別集計!$B5,入出金NFT結果!$A:$A,\">=\"&月別集計!AY$1,入出金NFT結果!$A:$A,\"<=\"&月別集計!AY$2)","v":0},{"$f":"SUMIFS(入出金NFT結果!$D:$D,入出金NFT結果!$I:$I,\"=\"&月別集計!$B5,入出金NFT結果!$A:$A,\">=\"&月別集計!AZ$1,入出金NFT結果!$A:$A,\"<=\"&月別集計!AZ$2)","v":0},{"$f":"SUMIFS(入出金NFT結果!$D:$D,入出金NFT結果!$I:$I,\"=\"&月別集計!$B5,入出金NFT結果!$A:$A,\">=\"&月別集計!BA$1,入出金NFT結果!$A:$A,\"<=\"&月別集計!BA$2)","v":0},{"$f":"SUMIFS(入出金NFT結果!$D:$D,入出金NFT結果!$I:$I,\"=\"&月別集計!$B5,入出金NFT結果!$A:$A,\">=\"&月別集計!BB$1,入出金NFT結果!$A:$A,\"<=\"&月別集計!BB$2)","v":0},{"$f":"SUMIFS(入出金NFT結果!$D:$D,入出金NFT結果!$I:$I,\"=\"&月別集計!$B5,入出金NFT結果!$A:$A,\">=\"&月別集計!BC$1,入出金NFT結果!$A:$A,\"<=\"&月別集計!BC$2)","v":0},{"$f":"SUMIFS(入出金NFT結果!$D:$D,入出金NFT結果!$I:$I,\"=\"&月別集計!$B5,入出金NFT結果!$A:$A,\">=\"&月別集計!BD$1,入出金NFT結果!$A:$A,\"<=\"&月別集計!BD$2)","v":0},{"$f":"SUMIFS(入出金NFT結果!$D:$D,入出金NFT結果!$I:$I,\"=\"&月別集計!$B5,入出金NFT結果!$A:$A,\">=\"&月別集計!BE$1,入出金NFT結果!$A:$A,\"<=\"&月別集計!BE$2)","v":0},{"$f":"SUMIFS(入出金NFT結果!$D:$D,入出金NFT結果!$I:$I,\"=\"&月別集計!$B5,入出金NFT結果!$A:$A,\">=\"&月別集計!BF$1,入出金NFT結果!$A:$A,\"<=\"&月別集計!BF$2)","v":0},{"$f":"SUMIFS(入出金NFT結果!$D:$D,入出金NFT結果!$I:$I,\"=\"&月別集計!$B5,入出金NFT結果!$A:$A,\">=\"&月別集計!BG$1,入出金NFT結果!$A:$A,\"<=\"&月別集計!BG$2)","v":0},{"$f":"SUMIFS(入出金NFT結果!$D:$D,入出金NFT結果!$I:$I,\"=\"&月別集計!$B5,入出金NFT結果!$A:$A,\">=\"&月別集計!BH$1,入出金NFT結果!$A:$A,\"<=\"&月別集計!BH$2)","v":0},{"$f":"SUMIFS(入出金NFT結果!$D:$D,入出金NFT結果!$I:$I,\"=\"&月別集計!$B5,入出金NFT結果!$A:$A,\">=\"&月別集計!BI$1,入出金NFT結果!$A:$A,\"<=\"&月別集計!BI$2)","v":0},{"$f":"SUMIFS(入出金NFT結果!$D:$D,入出金NFT結果!$I:$I,\"=\"&月別集計!$B5,入出金NFT結果!$A:$A,\">=\"&月別集計!BJ$1,入出金NFT結果!$A:$A,\"<=\"&月別集計!BJ$2)","v":0},{"$f":"SUMIFS(入出金NFT結果!$D:$D,入出金NFT結果!$I:$I,\"=\"&月別集計!$B5,入出金NFT結果!$A:$A,\">=\"&月別集計!BK$1,入出金NFT結果!$A:$A,\"<=\"&月別集計!BK$2)","v":0},{"$f":"SUMIFS(入出金NFT結果!$D:$D,入出金NFT結果!$I:$I,\"=\"&月別集計!$B5,入出金NFT結果!$A:$A,\">=\"&月別集計!BL$1,入出金NFT結果!$A:$A,\"<=\"&月別集計!BL$2)","v":0},{"$f":"SUMIFS(入出金NFT結果!$D:$D,入出金NFT結果!$I:$I,\"=\"&月別集計!$B5,入出金NFT結果!$A:$A,\">=\"&月別集計!BM$1,入出金NFT結果!$A:$A,\"<=\"&月別集計!BM$2)","v":0}]
[null,{"$f":"推定用途置換ルール!G3","v":"メンドラ：ラーメン報酬"},{"$f":"SUMIFS(入出金NFT結果!$D:$D,入出金NFT結果!$I:$I,\"=\"&月別集計!$B6,入出金NFT結果!$A:$A,\">=\"&月別集計!C$1,入出金NFT結果!$A:$A,\"<=\"&月別集計!C$2)","v":0},{"$f":"SUMIFS(入出金NFT結果!$D:$D,入出金NFT結果!$I:$I,\"=\"&月別集計!$B6,入出金NFT結果!$A:$A,\">=\"&月別集計!D$1,入出金NFT結果!$A:$A,\"<=\"&月別集計!D$2)","v":0},{"$f":"SUMIFS(入出金NFT結果!$D:$D,入出金NFT結果!$I:$I,\"=\"&月別集計!$B6,入出金NFT結果!$A:$A,\">=\"&月別集計!E$1,入出金NFT結果!$A:$A,\"<=\"&月別集計!E$2)","v":0},{"$f":"SUMIFS(入出金NFT結果!$D:$D,入出金NFT結果!$I:$I,\"=\"&月別集計!$B6,入出金NFT結果!$A:$A,\">=\"&月別集計!F$1,入出金NFT結果!$A:$A,\"<=\"&月別集計!F$2)","v":0},{"$f":"SUMIFS(入出金NFT結果!$D:$D,入出金NFT結果!$I:$I,\"=\"&月別集計!$B6,入出金NFT結果!$A:$A,\">=\"&月別集計!G$1,入出金NFT結果!$A:$A,\"<=\"&月別集計!G$2)","v":0},{"$f":"SUMIFS(入出金NFT結果!$D:$D,入出金NFT結果!$I:$I,\"=\"&月別集計!$B6,入出金NFT結果!$A:$A,\">=\"&月別集計!H$1,入出金NFT結果!$A:$A,\"<=\"&月別集計!H$2)","v":0},{"$f":"SUMIFS(入出金NFT結果!$D:$D,入出金NFT結果!$I:$I,\"=\"&月別集計!$B6,入出金NFT結果!$A:$A,\">=\"&月別集計!I$1,入出金NFT結果!$A:$A,\"<=\"&月別集計!I$2)","v":0},{"$f":"SUMIFS(入出金NFT結果!$D:$D,入出金NFT結果!$I:$I,\"=\"&月別集計!$B6,入出金NFT結果!$A:$A,\">=\"&月別集計!J$1,入出金NFT結果!$A:$A,\"<=\"&月別集計!J$2)","v":0},{"$f":"SUMIFS(入出金NFT結果!$D:$D,入出金NFT結果!$I:$I,\"=\"&月別集計!$B6,入出金NFT結果!$A:$A,\">=\"&月別集計!K$1,入出金NFT結果!$A:$A,\"<=\"&月別集計!K$2)","v":0},{"$f":"SUMIFS(入出金NFT結果!$D:$D,入出金NFT結果!$I:$I,\"=\"&月別集計!$B6,入出金NFT結果!$A:$A,\">=\"&月別集計!L$1,入出金NFT結果!$A:$A,\"<=\"&月別集計!L$2)","v":0},{"$f":"SUMIFS(入出金NFT結果!$D:$D,入出金NFT結果!$I:$I,\"=\"&月別集計!$B6,入出金NFT結果!$A:$A,\">=\"&月別集計!M$1,入出金NFT結果!$A:$A,\"<=\"&月別集計!M$2)","v":0},{"$f":"SUMIFS(入出金NFT結果!$D:$D,入出金NFT結果!$I:$I,\"=\"&月別集計!$B6,入出金NFT結果!$A:$A,\">=\"&月別集計!N$1,入出金NFT結果!$A:$A,\"<=\"&月別集計!N$2)","v":0},{"$f":"SUMIFS(入出金NFT結果!$D:$D,入出金NFT結果!$I:$I,\"=\"&月別集計!$B6,入出金NFT結果!$A:$A,\">=\"&月別集計!O$1,入出金NFT結果!$A:$A,\"<=\"&月別集計!O$2)","v":0},{"$f":"SUMIFS(入出金NFT結果!$D:$D,入出金NFT結果!$I:$I,\"=\"&月別集計!$B6,入出金NFT結果!$A:$A,\">=\"&月別集計!P$1,入出金NFT結果!$A:$A,\"<=\"&月別集計!P$2)","v":0},{"$f":"SUMIFS(入出金NFT結果!$D:$D,入出金NFT結果!$I:$I,\"=\"&月別集計!$B6,入出金NFT結果!$A:$A,\">=\"&月別集計!Q$1,入出金NFT結果!$A:$A,\"<=\"&月別集計!Q$2)","v":0},{"$f":"SUMIFS(入出金NFT結果!$D:$D,入出金NFT結果!$I:$I,\"=\"&月別集計!$B6,入出金NFT結果!$A:$A,\">=\"&月別集計!R$1,入出金NFT結果!$A:$A,\"<=\"&月別集計!R$2)","v":0},{"$f":"SUMIFS(入出金NFT結果!$D:$D,入出金NFT結果!$I:$I,\"=\"&月別集計!$B6,入出金NFT結果!$A:$A,\">=\"&月別集計!S$1,入出金NFT結果!$A:$A,\"<=\"&月別集計!S$2)","v":0},{"$f":"SUMIFS(入出金NFT結果!$D:$D,入出金NFT結果!$I:$I,\"=\"&月別集計!$B6,入出金NFT結果!$A:$A,\">=\"&月別集計!T$1,入出金NFT結果!$A:$A,\"<=\"&月別集計!T$2)","v":0},{"$f":"SUMIFS(入出金NFT結果!$D:$D,入出金NFT結果!$I:$I,\"=\"&月別集計!$B6,入出金NFT結果!$A:$A,\">=\"&月別集計!U$1,入出金NFT結果!$A:$A,\"<=\"&月別集計!U$2)","v":0},{"$f":"SUMIFS(入出金NFT結果!$D:$D,入出金NFT結果!$I:$I,\"=\"&月別集計!$B6,入出金NFT結果!$A:$A,\">=\"&月別集計!V$1,入出金NFT結果!$A:$A,\"<=\"&月別集計!V$2)","v":0},{"$f":"SUMIFS(入出金NFT結果!$D:$D,入出金NFT結果!$I:$I,\"=\"&月別集計!$B6,入出金NFT結果!$A:$A,\">=\"&月別集計!W$1,入出金NFT結果!$A:$A,\"<=\"&月別集計!W$2)","v":0},{"$f":"SUMIFS(入出金NFT結果!$D:$D,入出金NFT結果!$I:$I,\"=\"&月別集計!$B6,入出金NFT結果!$A:$A,\">=\"&月別集計!X$1,入出金NFT結果!$A:$A,\"<=\"&月別集計!X$2)","v":0},{"$f":"SUMIFS(入出金NFT結果!$D:$D,入出金NFT結果!$I:$I,\"=\"&月別集計!$B6,入出金NFT結果!$A:$A,\">=\"&月別集計!Y$1,入出金NFT結果!$A:$A,\"<=\"&月別集計!Y$2)","v":0},{"$f":"SUMIFS(入出金NFT結果!$D:$D,入出金NFT結果!$I:$I,\"=\"&月別集計!$B6,入出金NFT結果!$A:$A,\">=\"&月別集計!Z$1,入出金NFT結果!$A:$A,\"<=\"&月別集計!Z$2)","v":0},{"$f":"SUMIFS(入出金NFT結果!$D:$D,入出金NFT結果!$I:$I,\"=\"&月別集計!$B6,入出金NFT結果!$A:$A,\">=\"&月別集計!AA$1,入出金NFT結果!$A:$A,\"<=\"&月別集計!AA$2)","v":0},{"$f":"SUMIFS(入出金NFT結果!$D:$D,入出金NFT結果!$I:$I,\"=\"&月別集計!$B6,入出金NFT結果!$A:$A,\">=\"&月別集計!AB$1,入出金NFT結果!$A:$A,\"<=\"&月別集計!AB$2)","v":0},{"$f":"SUMIFS(入出金NFT結果!$D:$D,入出金NFT結果!$I:$I,\"=\"&月別集計!$B6,入出金NFT結果!$A:$A,\">=\"&月別集計!AC$1,入出金NFT結果!$A:$A,\"<=\"&月別集計!AC$2)","v":0},{"$f":"SUMIFS(入出金NFT結果!$D:$D,入出金NFT結果!$I:$I,\"=\"&月別集計!$B6,入出金NFT結果!$A:$A,\">=\"&月別集計!AD$1,入出金NFT結果!$A:$A,\"<=\"&月別集計!AD$2)","v":0},{"$f":"SUMIFS(入出金NFT結果!$D:$D,入出金NFT結果!$I:$I,\"=\"&月別集計!$B6,入出金NFT結果!$A:$A,\">=\"&月別集計!AE$1,入出金NFT結果!$A:$A,\"<=\"&月別集計!AE$2)","v":0},{"$f":"SUMIFS(入出金NFT結果!$D:$D,入出金NFT結果!$I:$I,\"=\"&月別集計!$B6,入出金NFT結果!$A:$A,\">=\"&月別集計!AF$1,入出金NFT結果!$A:$A,\"<=\"&月別集計!AF$2)","v":0},{"$f":"SUMIFS(入出金NFT結果!$D:$D,入出金NFT結果!$I:$I,\"=\"&月別集計!$B6,入出金NFT結果!$A:$A,\">=\"&月別集計!AG$1,入出金NFT結果!$A:$A,\"<=\"&月別集計!AG$2)","v":0},{"$f":"SUMIFS(入出金NFT結果!$D:$D,入出金NFT結果!$I:$I,\"=\"&月別集計!$B6,入出金NFT結果!$A:$A,\">=\"&月別集計!AH$1,入出金NFT結果!$A:$A,\"<=\"&月別集計!AH$2)","v":0},{"$f":"SUMIFS(入出金NFT結果!$D:$D,入出金NFT結果!$I:$I,\"=\"&月別集計!$B6,入出金NFT結果!$A:$A,\">=\"&月別集計!AI$1,入出金NFT結果!$A:$A,\"<=\"&月別集計!AI$2)","v":0},{"$f":"SUMIFS(入出金NFT結果!$D:$D,入出金NFT結果!$I:$I,\"=\"&月別集計!$B6,入出金NFT結果!$A:$A,\">=\"&月別集計!AJ$1,入出金NFT結果!$A:$A,\"<=\"&月別集計!AJ$2)","v":0},{"$f":"SUMIFS(入出金NFT結果!$D:$D,入出金NFT結果!$I:$I,\"=\"&月別集計!$B6,入出金NFT結果!$A:$A,\">=\"&月別集計!AK$1,入出金NFT結果!$A:$A,\"<=\"&月別集計!AK$2)","v":0},{"$f":"SUMIFS(入出金NFT結果!$D:$D,入出金NFT結果!$I:$I,\"=\"&月別集計!$B6,入出金NFT結果!$A:$A,\">=\"&月別集計!AL$1,入出金NFT結果!$A:$A,\"<=\"&月別集計!AL$2)","v":0},{"$f":"SUMIFS(入出金NFT結果!$D:$D,入出金NFT結果!$I:$I,\"=\"&月別集計!$B6,入出金NFT結果!$A:$A,\">=\"&月別集計!AM$1,入出金NFT結果!$A:$A,\"<=\"&月別集計!AM$2)","v":0},{"$f":"SUMIFS(入出金NFT結果!$D:$D,入出金NFT結果!$I:$I,\"=\"&月別集計!$B6,入出金NFT結果!$A:$A,\">=\"&月別集計!AN$1,入出金NFT結果!$A:$A,\"<=\"&月別集計!AN$2)","v":0},{"$f":"SUMIFS(入出金NFT結果!$D:$D,入出金NFT結果!$I:$I,\"=\"&月別集計!$B6,入出金NFT結果!$A:$A,\">=\"&月別集計!AO$1,入出金NFT結果!$A:$A,\"<=\"&月別集計!AO$2)","v":0},{"$f":"SUMIFS(入出金NFT結果!$D:$D,入出金NFT結果!$I:$I,\"=\"&月別集計!$B6,入出金NFT結果!$A:$A,\">=\"&月別集計!AP$1,入出金NFT結果!$A:$A,\"<=\"&月別集計!AP$2)","v":0},{"$f":"SUMIFS(入出金NFT結果!$D:$D,入出金NFT結果!$I:$I,\"=\"&月別集計!$B6,入出金NFT結果!$A:$A,\">=\"&月別集計!AQ$1,入出金NFT結果!$A:$A,\"<=\"&月別集計!AQ$2)","v":0},{"$f":"SUMIFS(入出金NFT結果!$D:$D,入出金NFT結果!$I:$I,\"=\"&月別集計!$B6,入出金NFT結果!$A:$A,\">=\"&月別集計!AR$1,入出金NFT結果!$A:$A,\"<=\"&月別集計!AR$2)","v":0},{"$f":"SUMIFS(入出金NFT結果!$D:$D,入出金NFT結果!$I:$I,\"=\"&月別集計!$B6,入出金NFT結果!$A:$A,\">=\"&月別集計!AS$1,入出金NFT結果!$A:$A,\"<=\"&月別集計!AS$2)","v":0},{"$f":"SUMIFS(入出金NFT結果!$D:$D,入出金NFT結果!$I:$I,\"=\"&月別集計!$B6,入出金NFT結果!$A:$A,\">=\"&月別集計!AT$1,入出金NFT結果!$A:$A,\"<=\"&月別集計!AT$2)","v":0},{"$f":"SUMIFS(入出金NFT結果!$D:$D,入出金NFT結果!$I:$I,\"=\"&月別集計!$B6,入出金NFT結果!$A:$A,\">=\"&月別集計!AU$1,入出金NFT結果!$A:$A,\"<=\"&月別集計!AU$2)","v":0},{"$f":"SUMIFS(入出金NFT結果!$D:$D,入出金NFT結果!$I:$I,\"=\"&月別集計!$B6,入出金NFT結果!$A:$A,\">=\"&月別集計!AV$1,入出金NFT結果!$A:$A,\"<=\"&月別集計!AV$2)","v":0},{"$f":"SUMIFS(入出金NFT結果!$D:$D,入出金NFT結果!$I:$I,\"=\"&月別集計!$B6,入出金NFT結果!$A:$A,\">=\"&月別集計!AW$1,入出金NFT結果!$A:$A,\"<=\"&月別集計!AW$2)","v":0},{"$f":"SUMIFS(入出金NFT結果!$D:$D,入出金NFT結果!$I:$I,\"=\"&月別集計!$B6,入出金NFT結果!$A:$A,\">=\"&月別集計!AX$1,入出金NFT結果!$A:$A,\"<=\"&月別集計!AX$2)","v":0},{"$f":"SUMIFS(入出金NFT結果!$D:$D,入出金NFT結果!$I:$I,\"=\"&月別集計!$B6,入出金NFT結果!$A:$A,\">=\"&月別集計!AY$1,入出金NFT結果!$A:$A,\"<=\"&月別集計!AY$2)","v":0},{"$f":"SUMIFS(入出金NFT結果!$D:$D,入出金NFT結果!$I:$I,\"=\"&月別集計!$B6,入出金NFT結果!$A:$A,\">=\"&月別集計!AZ$1,入出金NFT結果!$A:$A,\"<=\"&月別集計!AZ$2)","v":0},{"$f":"SUMIFS(入出金NFT結果!$D:$D,入出金NFT結果!$I:$I,\"=\"&月別集計!$B6,入出金NFT結果!$A:$A,\">=\"&月別集計!BA$1,入出金NFT結果!$A:$A,\"<=\"&月別集計!BA$2)","v":0},{"$f":"SUMIFS(入出金NFT結果!$D:$D,入出金NFT結果!$I:$I,\"=\"&月別集計!$B6,入出金NFT結果!$A:$A,\">=\"&月別集計!BB$1,入出金NFT結果!$A:$A,\"<=\"&月別集計!BB$2)","v":0},{"$f":"SUMIFS(入出金NFT結果!$D:$D,入出金NFT結果!$I:$I,\"=\"&月別集計!$B6,入出金NFT結果!$A:$A,\">=\"&月別集計!BC$1,入出金NFT結果!$A:$A,\"<=\"&月別集計!BC$2)","v":0},{"$f":"SUMIFS(入出金NFT結果!$D:$D,入出金NFT結果!$I:$I,\"=\"&月別集計!$B6,入出金NFT結果!$A:$A,\">=\"&月別集計!BD$1,入出金NFT結果!$A:$A,\"<=\"&月別集計!BD$2)","v":0},{"$f":"SUMIFS(入出金NFT結果!$D:$D,入出金NFT結果!$I:$I,\"=\"&月別集計!$B6,入出金NFT結果!$A:$A,\">=\"&月別集計!BE$1,入出金NFT結果!$A:$A,\"<=\"&月別集計!BE$2)","v":0},{"$f":"SUMIFS(入出金NFT結果!$D:$D,入出金NFT結果!$I:$I,\"=\"&月別集計!$B6,入出金NFT結果!$A:$A,\">=\"&月別集計!BF$1,入出金NFT結果!$A:$A,\"<=\"&月別集計!BF$2)","v":0},{"$f":"SUMIFS(入出金NFT結果!$D:$D,入出金NFT結果!$I:$I,\"=\"&月別集計!$B6,入出金NFT結果!$A:$A,\">=\"&月別集計!BG$1,入出金NFT結果!$A:$A,\"<=\"&月別集計!BG$2)","v":0},{"$f":"SUMIFS(入出金NFT結果!$D:$D,入出金NFT結果!$I:$I,\"=\"&月別集計!$B6,入出金NFT結果!$A:$A,\">=\"&月別集計!BH$1,入出金NFT結果!$A:$A,\"<=\"&月別集計!BH$2)","v":0},{"$f":"SUMIFS(入出金NFT結果!$D:$D,入出金NFT結果!$I:$I,\"=\"&月別集計!$B6,入出金NFT結果!$A:$A,\">=\"&月別集計!BI$1,入出金NFT結果!$A:$A,\"<=\"&月別集計!BI$2)","v":0},{"$f":"SUMIFS(入出金NFT結果!$D:$D,入出金NFT結果!$I:$I,\"=\"&月別集計!$B6,入出金NFT結果!$A:$A,\">=\"&月別集計!BJ$1,入出金NFT結果!$A:$A,\"<=\"&月別集計!BJ$2)","v":0},{"$f":"SUMIFS(入出金NFT結果!$D:$D,入出金NFT結果!$I:$I,\"=\"&月別集計!$B6,入出金NFT結果!$A:$A,\">=\"&月別集計!BK$1,入出金NFT結果!$A:$A,\"<=\"&月別集計!BK$2)","v":0},{"$f":"SUMIFS(入出金NFT結果!$D:$D,入出金NFT結果!$I:$I,\"=\"&月別集計!$B6,入出金NFT結果!$A:$A,\">=\"&月別集計!BL$1,入出金NFT結果!$A:$A,\"<=\"&月別集計!BL$2)","v":0},{"$f":"SUMIFS(入出金NFT結果!$D:$D,入出金NFT結果!$I:$I,\"=\"&月別集計!$B6,入出金NFT結果!$A:$A,\">=\"&月別集計!BM$1,入出金NFT結果!$A:$A,\"<=\"&月別集計!BM$2)","v":0},{"$f":"推定用途置換ルール!BS3","v":0},{"$f":"推定用途置換ルール!BT3","v":0},{"$f":"推定用途置換ルール!BU3","v":0},{"$f":"推定用途置換ルール!BV3","v":0},{"$f":"推定用途置換ルール!BW3","v":0},{"$f":"推定用途置換ルール!BX3","v":0},{"$f":"推定用途置換ルール!BY3","v":0},{"$f":"推定用途置換ルール!BZ3","v":0},{"$f":"推定用途置換ルール!CA3","v":0},{"$f":"推定用途置換ルール!CB3","v":0},{"$f":"推定用途置換ルール!CC3","v":0},{"$f":"推定用途置換ルール!CD3","v":0},{"$f":"推定用途置換ルール!CE3","v":0},{"$f":"推定用途置換ルール!CF3","v":0},{"$f":"推定用途置換ルール!CG3","v":0},{"$f":"推定用途置換ルール!CH3","v":0},{"$f":"推定用途置換ルール!CI3","v":0},{"$f":"推定用途置換ルール!CJ3","v":0},{"$f":"推定用途置換ルール!CK3","v":0},{"$f":"推定用途置換ルール!CL3","v":0},{"$f":"推定用途置換ルール!CM3","v":0},{"$f":"推定用途置換ルール!CN3","v":0},{"$f":"推定用途置換ルール!CO3","v":0},{"$f":"推定用途置換ルール!CP3","v":0},{"$f":"推定用途置換ルール!CQ3","v":0},{"$f":"推定用途置換ルール!CR3","v":0},{"$f":"推定用途置換ルール!CS3","v":0},{"$f":"推定用途置換ルール!CT3","v":0},{"$f":"推定用途置換ルール!CU3","v":0},{"$f":"推定用途置換ルール!CV3","v":0},{"$f":"推定用途置換ルール!CW3","v":0},{"$f":"推定用途置換ルール!CX3","v":0},{"$f":"推定用途置換ルール!CY3","v":0},{"$f":"推定用途置換ルール!CZ3","v":0},{"$f":"推定用途置換ルール!DA3","v":0},{"$f":"推定用途置換ルール!DB3","v":0},{"$f":"推定用途置換ルール!DC3","v":0},{"$f":"推定用途置換ルール!DD3","v":0},{"$f":"推定用途置換ルール!DE3","v":0},{"$f":"推定用途置換ルール!DF3","v":0},{"$f":"推定用途置換ルール!DG3","v":0},{"$f":"推定用途置換ルール!DH3","v":0},{"$f":"推定用途置換ルール!DI3","v":0},{"$f":"推定用途置換ルール!DJ3","v":0},{"$f":"推定用途置換ルール!DK3","v":0},{"$f":"推定用途置換ルール!DL3","v":0},{"$f":"推定用途置換ルール!DM3","v":0},{"$f":"推定用途置換ルール!DN3","v":0},{"$f":"推定用途置換ルール!DO3","v":0},{"$f":"推定用途置換ルール!DP3","v":0},{"$f":"推定用途置換ルール!DQ3","v":0},{"$f":"推定用途置換ルール!DR3","v":0},{"$f":"推定用途置換ルール!DS3","v":0},{"$f":"推定用途置換ルール!DT3","v":0},{"$f":"推定用途置換ルール!DU3","v":0},{"$f":"推定用途置換ルール!DV3","v":0},{"$f":"推定用途置換ルール!DW3","v":0},{"$f":"推定用途置換ルール!DX3","v":0},{"$f":"推定用途置換ルール!DY3","v":0},{"$f":"推定用途置換ルール!DZ3","v":0},{"$f":"推定用途置換ルール!EA3","v":0},{"$f":"推定用途置換ルール!EB3","v":0},{"$f":"推定用途置換ルール!EC3","v":0},{"$f":"推定用途置換ルール!ED3","v":0},{"$f":"推定用途置換ルール!EE3","v":0},{"$f":"推定用途置換ルール!EF3","v":0},{"$f":"推定用途置換ルール!EG3","v":0},{"$f":"推定用途置換ルール!EH3","v":0},{"$f":"推定用途置換ルール!EI3","v":0},{"$f":"推定用途置換ルール!EJ3","v":0},{"$f":"推定用途置換ルール!EK3","v":0},{"$f":"推定用途置換ルール!EL3","v":0},{"$f":"推定用途置換ルール!EM3","v":0},{"$f":"推定用途置換ルール!EN3","v":0},{"$f":"推定用途置換ルール!EO3","v":0},{"$f":"推定用途置換ルール!EP3","v":0},{"$f":"推定用途置換ルール!EQ3","v":0},{"$f":"推定用途置換ルール!ER3","v":0},{"$f":"推定用途置換ルール!ES3","v":0},{"$f":"推定用途置換ルール!ET3","v":0},{"$f":"推定用途置換ルール!EU3","v":0},{"$f":"推定用途置換ルール!EV3","v":0},{"$f":"推定用途置換ルール!EW3","v":0},{"$f":"推定用途置換ルール!EX3","v":0},{"$f":"推定用途置換ルール!EY3","v":0},{"$f":"推定用途置換ルール!EZ3","v":0},{"$f":"推定用途置換ルール!FA3","v":0},{"$f":"推定用途置換ルール!FB3","v":0},{"$f":"推定用途置換ルール!FC3","v":0},{"$f":"推定用途置換ルール!FD3","v":0},{"$f":"推定用途置換ルール!FE3","v":0},{"$f":"推定用途置換ルール!FF3","v":0},{"$f":"推定用途置換ルール!FG3","v":0},{"$f":"推定用途置換ルール!FH3","v":0},{"$f":"推定用途置換ルール!FI3","v":0},{"$f":"推定用途置換ルール!FJ3","v":0},{"$f":"推定用途置換ルール!FK3","v":0},{"$f":"推定用途置換ルール!FL3","v":0},{"$f":"推定用途置換ルール!FM3","v":0},{"$f":"推定用途置換ルール!FN3","v":0},{"$f":"推定用途置換ルール!FO3","v":0},{"$f":"推定用途置換ルール!FP3","v":0},{"$f":"推定用途置換ルール!FQ3","v":0},{"$f":"推定用途置換ルール!FR3","v":0},{"$f":"推定用途置換ルール!FS3","v":0},{"$f":"推定用途置換ルール!FT3","v":0},{"$f":"推定用途置換ルール!FU3","v":0},{"$f":"推定用途置換ルール!FV3","v":0},{"$f":"推定用途置換ルール!FW3","v":0},{"$f":"推定用途置換ルール!FX3","v":0},{"$f":"推定用途置換ルール!FY3","v":0},{"$f":"推定用途置換ルール!FZ3","v":0},{"$f":"推定用途置換ルール!GA3","v":0},{"$f":"推定用途置換ルール!GB3","v":0},{"$f":"推定用途置換ルール!GC3","v":0},{"$f":"推定用途置換ルール!GD3","v":0},{"$f":"推定用途置換ルール!GE3","v":0},{"$f":"推定用途置換ルール!GF3","v":0},{"$f":"推定用途置換ルール!GG3","v":0},{"$f":"推定用途置換ルール!GH3","v":0},{"$f":"推定用途置換ルール!GI3","v":0},{"$f":"推定用途置換ルール!GJ3","v":0},{"$f":"推定用途置換ルール!GK3","v":0},{"$f":"推定用途置換ルール!GL3","v":0},{"$f":"推定用途置換ルール!GM3","v":0},{"$f":"推定用途置換ルール!GN3","v":0},{"$f":"推定用途置換ルール!GO3","v":0},{"$f":"推定用途置換ルール!GP3","v":0},{"$f":"推定用途置換ルール!GQ3","v":0},{"$f":"推定用途置換ルール!GR3","v":0},{"$f":"推定用途置換ルール!GS3","v":0},{"$f":"推定用途置換ルール!GT3","v":0},{"$f":"推定用途置換ルール!GU3","v":0},{"$f":"推定用途置換ルール!GV3","v":0},{"$f":"推定用途置換ルール!GW3","v":0},{"$f":"推定用途置換ルール!GX3","v":0},{"$f":"推定用途置換ルール!GY3","v":0},{"$f":"推定用途置換ルール!GZ3","v":0},{"$f":"推定用途置換ルール!HA3","v":0},{"$f":"推定用途置換ルール!HB3","v":0},{"$f":"推定用途置換ルール!HC3","v":0},{"$f":"推定用途置換ルール!HD3","v":0},{"$f":"推定用途置換ルール!HE3","v":0},{"$f":"推定用途置換ルール!HF3","v":0},{"$f":"推定用途置換ルール!HG3","v":0},{"$f":"推定用途置換ルール!HH3","v":0},{"$f":"推定用途置換ルール!HI3","v":0},{"$f":"推定用途置換ルール!HJ3","v":0},{"$f":"推定用途置換ルール!HK3","v":0},{"$f":"推定用途置換ルール!HL3","v":0},{"$f":"推定用途置換ルール!HM3","v":0},{"$f":"推定用途置換ルール!HN3","v":0},{"$f":"推定用途置換ルール!HO3","v":0},{"$f":"推定用途置換ルール!HP3","v":0},{"$f":"推定用途置換ルール!HQ3","v":0},{"$f":"推定用途置換ルール!HR3","v":0},{"$f":"推定用途置換ルール!HS3","v":0},{"$f":"推定用途置換ルール!HT3","v":0},{"$f":"推定用途置換ルール!HU3","v":0},{"$f":"推定用途置換ルール!HV3","v":0},{"$f":"推定用途置換ルール!HW3","v":0},{"$f":"推定用途置換ルール!HX3","v":0},{"$f":"推定用途置換ルール!HY3","v":0},{"$f":"推定用途置換ルール!HZ3","v":0},{"$f":"推定用途置換ルール!IA3","v":0},{"$f":"推定用途置換ルール!IB3","v":0},{"$f":"推定用途置換ルール!IC3","v":0},{"$f":"推定用途置換ルール!ID3","v":0},{"$f":"推定用途置換ルール!IE3","v":0},{"$f":"推定用途置換ルール!IF3","v":0},{"$f":"推定用途置換ルール!IG3","v":0},{"$f":"推定用途置換ルール!IH3","v":0},{"$f":"推定用途置換ルール!II3","v":0},{"$f":"推定用途置換ルール!IJ3","v":0},{"$f":"推定用途置換ルール!IK3","v":0},{"$f":"推定用途置換ルール!IL3","v":0},{"$f":"推定用途置換ルール!IM3","v":0},{"$f":"推定用途置換ルール!IN3","v":0},{"$f":"推定用途置換ルール!IO3","v":0},{"$f":"推定用途置換ルール!IP3","v":0},{"$f":"推定用途置換ルール!IQ3","v":0},{"$f":"推定用途置換ルール!IR3","v":0},{"$f":"推定用途置換ルール!IS3","v":0},{"$f":"推定用途置換ルール!IT3","v":0},{"$f":"推定用途置換ルール!IU3","v":0},{"$f":"推定用途置換ルール!IV3","v":0},{"$f":"推定用途置換ルール!IW3","v":0},{"$f":"推定用途置換ルール!IX3","v":0},{"$f":"推定用途置換ルール!IY3","v":0},{"$f":"推定用途置換ルール!IZ3","v":0},{"$f":"推定用途置換ルール!JA3","v":0},{"$f":"推定用途置換ルール!JB3","v":0},{"$f":"推定用途置換ルール!JC3","v":0},{"$f":"推定用途置換ルール!JD3","v":0},{"$f":"推定用途置換ルール!JE3","v":0},{"$f":"推定用途置換ルール!JF3","v":0},{"$f":"推定用途置換ルール!JG3","v":0},{"$f":"推定用途置換ルール!JH3","v":0},{"$f":"推定用途置換ルール!JI3","v":0},{"$f":"推定用途置換ルール!JJ3","v":0},{"$f":"推定用途置換ルール!JK3","v":0},{"$f":"推定用途置換ルール!JL3","v":0},{"$f":"推定用途置換ルール!JM3","v":0},{"$f":"推定用途置換ルール!JN3","v":0},{"$f":"推定用途置換ルール!JO3","v":0},{"$f":"推定用途置換ルール!JP3","v":0},{"$f":"推定用途置換ルール!JQ3","v":0},{"$f":"推定用途置換ルール!JR3","v":0},{"$f":"推定用途置換ルール!JS3","v":0},{"$f":"推定用途置換ルール!JT3","v":0},{"$f":"推定用途置換ルール!JU3","v":0},{"$f":"推定用途置換ルール!JV3","v":0},{"$f":"推定用途置換ルール!JW3","v":0},{"$f":"推定用途置換ルール!JX3","v":0},{"$f":"推定用途置換ルール!JY3","v":0},{"$f":"推定用途置換ルール!JZ3","v":0},{"$f":"推定用途置換ルール!KA3","v":0},{"$f":"推定用途置換ルール!KB3","v":0},{"$f":"推定用途置換ルール!KC3","v":0},{"$f":"推定用途置換ルール!KD3","v":0},{"$f":"推定用途置換ルール!KE3","v":0},{"$f":"推定用途置換ルール!KF3","v":0},{"$f":"推定用途置換ルール!KG3","v":0},{"$f":"推定用途置換ルール!KH3","v":0},{"$f":"推定用途置換ルール!KI3","v":0},{"$f":"推定用途置換ルール!KJ3","v":0},{"$f":"推定用途置換ルール!KK3","v":0},{"$f":"推定用途置換ルール!KL3","v":0},{"$f":"推定用途置換ルール!KM3","v":0},{"$f":"推定用途置換ルール!KN3","v":0},{"$f":"推定用途置換ルール!KO3","v":0},{"$f":"推定用途置換ルール!KP3","v":0},{"$f":"推定用途置換ルール!KQ3","v":0},{"$f":"推定用途置換ルール!KR3","v":0},{"$f":"推定用途置換ルール!KS3","v":0},{"$f":"推定用途置換ルール!KT3","v":0},{"$f":"推定用途置換ルール!KU3","v":0},{"$f":"推定用途置換ルール!KV3","v":0},{"$f":"推定用途置換ルール!KW3","v":0},{"$f":"推定用途置換ルール!KX3","v":0},{"$f":"推定用途置換ルール!KY3","v":0},{"$f":"推定用途置換ルール!KZ3","v":0},{"$f":"推定用途置換ルール!LA3","v":0},{"$f":"推定用途置換ルール!LB3","v":0},{"$f":"推定用途置換ルール!LC3","v":0},{"$f":"推定用途置換ルール!LD3","v":0},{"$f":"推定用途置換ルール!LE3","v":0},{"$f":"推定用途置換ルール!LF3","v":0},{"$f":"推定用途置換ルール!LG3","v":0},{"$f":"推定用途置換ルール!LH3","v":0},{"$f":"推定用途置換ルール!LI3","v":0},{"$f":"推定用途置換ルール!LJ3","v":0},{"$f":"推定用途置換ルール!LK3","v":0},{"$f":"推定用途置換ルール!LL3","v":0},{"$f":"推定用途置換ルール!LM3","v":0},{"$f":"推定用途置換ルール!LN3","v":0},{"$f":"推定用途置換ルール!LO3","v":0},{"$f":"推定用途置換ルール!LP3","v":0},{"$f":"推定用途置換ルール!LQ3","v":0},{"$f":"推定用途置換ルール!LR3","v":0},{"$f":"推定用途置換ルール!LS3","v":0},{"$f":"推定用途置換ルール!LT3","v":0},{"$f":"推定用途置換ルール!LU3","v":0},{"$f":"推定用途置換ルール!LV3","v":0},{"$f":"推定用途置換ルール!LW3","v":0},{"$f":"推定用途置換ルール!LX3","v":0},{"$f":"推定用途置換ルール!LY3","v":0},{"$f":"推定用途置換ルール!LZ3","v":0},{"$f":"推定用途置換ルール!MA3","v":0},{"$f":"推定用途置換ルール!MB3","v":0},{"$f":"推定用途置換ルール!MC3","v":0},{"$f":"推定用途置換ルール!MD3","v":0},{"$f":"推定用途置換ルール!ME3","v":0},{"$f":"推定用途置換ルール!MF3","v":0},{"$f":"推定用途置換ルール!MG3","v":0},{"$f":"推定用途置換ルール!MH3","v":0},{"$f":"推定用途置換ルール!MI3","v":0},{"$f":"推定用途置換ルール!MJ3","v":0},{"$f":"推定用途置換ルール!MK3","v":0},{"$f":"推定用途置換ルール!ML3","v":0},{"$f":"推定用途置換ルール!MM3","v":0},{"$f":"推定用途置換ルール!MN3","v":0},{"$f":"推定用途置換ルール!MO3","v":0},{"$f":"推定用途置換ルール!MP3","v":0},{"$f":"推定用途置換ルール!MQ3","v":0},{"$f":"推定用途置換ルール!MR3","v":0},{"$f":"推定用途置換ルール!MS3","v":0},{"$f":"推定用途置換ルール!MT3","v":0},{"$f":"推定用途置換ルール!MU3","v":0},{"$f":"推定用途置換ルール!MV3","v":0},{"$f":"推定用途置換ルール!MW3","v":0},{"$f":"推定用途置換ルール!MX3","v":0},{"$f":"推定用途置換ルール!MY3","v":0},{"$f":"推定用途置換ルール!MZ3","v":0},{"$f":"推定用途置換ルール!NA3","v":0},{"$f":"推定用途置換ルール!NB3","v":0},{"$f":"推定用途置換ルール!NC3","v":0},{"$f":"推定用途置換ルール!ND3","v":0},{"$f":"推定用途置換ルール!NE3","v":0},{"$f":"推定用途置換ルール!NF3","v":0},{"$f":"推定用途置換ルール!NG3","v":0},{"$f":"推定用途置換ルール!NH3","v":0},{"$f":"推定用途置換ルール!NI3","v":0},{"$f":"推定用途置換ルール!NJ3","v":0},{"$f":"推定用途置換ルール!NK3","v":0},{"$f":"推定用途置換ルール!NL3","v":0},{"$f":"推定用途置換ルール!NM3","v":0},{"$f":"推定用途置換ルール!NN3","v":0},{"$f":"推定用途置換ルール!NO3","v":0},{"$f":"推定用途置換ルール!NP3","v":0},{"$f":"推定用途置換ルール!NQ3","v":0},{"$f":"推定用途置換ルール!NR3","v":0},{"$f":"推定用途置換ルール!NS3","v":0},{"$f":"推定用途置換ルール!NT3","v":0},{"$f":"推定用途置換ルール!NU3","v":0},{"$f":"推定用途置換ルール!NV3","v":0},{"$f":"推定用途置換ルール!NW3","v":0},{"$f":"推定用途置換ルール!NX3","v":0},{"$f":"推定用途置換ルール!NY3","v":0},{"$f":"推定用途置換ルール!NZ3","v":0},{"$f":"推定用途置換ルール!OA3","v":0},{"$f":"推定用途置換ルール!OB3","v":0},{"$f":"推定用途置換ルール!OC3","v":0},{"$f":"推定用途置換ルール!OD3","v":0},{"$f":"推定用途置換ルール!OE3","v":0},{"$f":"推定用途置換ルール!OF3","v":0},{"$f":"推定用途置換ルール!OG3","v":0},{"$f":"推定用途置換ルール!OH3","v":0},{"$f":"推定用途置換ルール!OI3","v":0},{"$f":"推定用途置換ルール!OJ3","v":0},{"$f":"推定用途置換ルール!OK3","v":0},{"$f":"推定用途置換ルール!OL3","v":0},{"$f":"推定用途置換ルール!OM3","v":0},{"$f":"推定用途置換ルール!ON3","v":0},{"$f":"推定用途置換ルール!OO3","v":0},{"$f":"推定用途置換ルール!OP3","v":0},{"$f":"推定用途置換ルール!OQ3","v":0},{"$f":"推定用途置換ルール!OR3","v":0},{"$f":"推定用途置換ルール!OS3","v":0},{"$f":"推定用途置換ルール!OT3","v":0},{"$f":"推定用途置換ルール!OU3","v":0},{"$f":"推定用途置換ルール!OV3","v":0},{"$f":"推定用途置換ルール!OW3","v":0},{"$f":"推定用途置換ルール!OX3","v":0},{"$f":"推定用途置換ルール!OY3","v":0},{"$f":"推定用途置換ルール!OZ3","v":0},{"$f":"推定用途置換ルール!PA3","v":0},{"$f":"推定用途置換ルール!PB3","v":0},{"$f":"推定用途置換ルール!PC3","v":0},{"$f":"推定用途置換ルール!PD3","v":0},{"$f":"推定用途置換ルール!PE3","v":0},{"$f":"推定用途置換ルール!PF3","v":0},{"$f":"推定用途置換ルール!PG3","v":0},{"$f":"推定用途置換ルール!PH3","v":0},{"$f":"推定用途置換ルール!PI3","v":0},{"$f":"推定用途置換ルール!PJ3","v":0},{"$f":"推定用途置換ルール!PK3","v":0},{"$f":"推定用途置換ルール!PL3","v":0},{"$f":"推定用途置換ルール!PM3","v":0},{"$f":"推定用途置換ルール!PN3","v":0},{"$f":"推定用途置換ルール!PO3","v":0},{"$f":"推定用途置換ルール!PP3","v":0},{"$f":"推定用途置換ルール!PQ3","v":0},{"$f":"推定用途置換ルール!PR3","v":0},{"$f":"推定用途置換ルール!PS3","v":0},{"$f":"推定用途置換ルール!PT3","v":0},{"$f":"推定用途置換ルール!PU3","v":0},{"$f":"推定用途置換ルール!PV3","v":0},{"$f":"推定用途置換ルール!PW3","v":0},{"$f":"推定用途置換ルール!PX3","v":0},{"$f":"推定用途置換ルール!PY3","v":0},{"$f":"推定用途置換ルール!PZ3","v":0},{"$f":"推定用途置換ルール!QA3","v":0},{"$f":"推定用途置換ルール!QB3","v":0},{"$f":"推定用途置換ルール!QC3","v":0},{"$f":"推定用途置換ルール!QD3","v":0},{"$f":"推定用途置換ルール!QE3","v":0},{"$f":"推定用途置換ルール!QF3","v":0},{"$f":"推定用途置換ルール!QG3","v":0},{"$f":"推定用途置換ルール!QH3","v":0},{"$f":"推定用途置換ルール!QI3","v":0},{"$f":"推定用途置換ルール!QJ3","v":0},{"$f":"推定用途置換ルール!QK3","v":0},{"$f":"推定用途置換ルール!QL3","v":0},{"$f":"推定用途置換ルール!QM3","v":0},{"$f":"推定用途置換ルール!QN3","v":0},{"$f":"推定用途置換ルール!QO3","v":0},{"$f":"推定用途置換ルール!QP3","v":0},{"$f":"推定用途置換ルール!QQ3","v":0},{"$f":"推定用途置換ルール!QR3","v":0},{"$f":"推定用途置換ルール!QS3","v":0},{"$f":"推定用途置換ルール!QT3","v":0},{"$f":"推定用途置換ルール!QU3","v":0},{"$f":"推定用途置換ルール!QV3","v":0},{"$f":"推定用途置換ルール!QW3","v":0},{"$f":"推定用途置換ルール!QX3","v":0},{"$f":"推定用途置換ルール!QY3","v":0},{"$f":"推定用途置換ルール!QZ3","v":0},{"$f":"推定用途置換ルール!RA3","v":0},{"$f":"推定用途置換ルール!RB3","v":0},{"$f":"推定用途置換ルール!RC3","v":0},{"$f":"推定用途置換ルール!RD3","v":0},{"$f":"推定用途置換ルール!RE3","v":0},{"$f":"推定用途置換ルール!RF3","v":0},{"$f":"推定用途置換ルール!RG3","v":0},{"$f":"推定用途置換ルール!RH3","v":0},{"$f":"推定用途置換ルール!RI3","v":0},{"$f":"推定用途置換ルール!RJ3","v":0},{"$f":"推定用途置換ルール!RK3","v":0},{"$f":"推定用途置換ルール!RL3","v":0},{"$f":"推定用途置換ルール!RM3","v":0},{"$f":"推定用途置換ルール!RN3","v":0},{"$f":"推定用途置換ルール!RO3","v":0},{"$f":"推定用途置換ルール!RP3","v":0},{"$f":"推定用途置換ルール!RQ3","v":0},{"$f":"推定用途置換ルール!RR3","v":0},{"$f":"推定用途置換ルール!RS3","v":0},{"$f":"推定用途置換ルール!RT3","v":0},{"$f":"推定用途置換ルール!RU3","v":0},{"$f":"推定用途置換ルール!RV3","v":0},{"$f":"推定用途置換ルール!RW3","v":0},{"$f":"推定用途置換ルール!RX3","v":0},{"$f":"推定用途置換ルール!RY3","v":0},{"$f":"推定用途置換ルール!RZ3","v":0},{"$f":"推定用途置換ルール!SA3","v":0},{"$f":"推定用途置換ルール!SB3","v":0},{"$f":"推定用途置換ルール!SC3","v":0},{"$f":"推定用途置換ルール!SD3","v":0},{"$f":"推定用途置換ルール!SE3","v":0},{"$f":"推定用途置換ルール!SF3","v":0},{"$f":"推定用途置換ルール!SG3","v":0},{"$f":"推定用途置換ルール!SH3","v":0},{"$f":"推定用途置換ルール!SI3","v":0},{"$f":"推定用途置換ルール!SJ3","v":0},{"$f":"推定用途置換ルール!SK3","v":0},{"$f":"推定用途置換ルール!SL3","v":0},{"$f":"推定用途置換ルール!SM3","v":0},{"$f":"推定用途置換ルール!SN3","v":0},{"$f":"推定用途置換ルール!SO3","v":0},{"$f":"推定用途置換ルール!SP3","v":0},{"$f":"推定用途置換ルール!SQ3","v":0},{"$f":"推定用途置換ルール!SR3","v":0},{"$f":"推定用途置換ルール!SS3","v":0},{"$f":"推定用途置換ルール!ST3","v":0},{"$f":"推定用途置換ルール!SU3","v":0},{"$f":"推定用途置換ルール!SV3","v":0},{"$f":"推定用途置換ルール!SW3","v":0},{"$f":"推定用途置換ルール!SX3","v":0},{"$f":"推定用途置換ルール!SY3","v":0},{"$f":"推定用途置換ルール!SZ3","v":0},{"$f":"推定用途置換ルール!TA3","v":0},{"$f":"推定用途置換ルール!TB3","v":0},{"$f":"推定用途置換ルール!TC3","v":0},{"$f":"推定用途置換ルール!TD3","v":0},{"$f":"推定用途置換ルール!TE3","v":0},{"$f":"推定用途置換ルール!TF3","v":0},{"$f":"推定用途置換ルール!TG3","v":0},{"$f":"推定用途置換ルール!TH3","v":0},{"$f":"推定用途置換ルール!TI3","v":0},{"$f":"推定用途置換ルール!TJ3","v":0},{"$f":"推定用途置換ルール!TK3","v":0},{"$f":"推定用途置換ルール!TL3","v":0},{"$f":"推定用途置換ルール!TM3","v":0},{"$f":"推定用途置換ルール!TN3","v":0},{"$f":"推定用途置換ルール!TO3","v":0},{"$f":"推定用途置換ルール!TP3","v":0},{"$f":"推定用途置換ルール!TQ3","v":0},{"$f":"推定用途置換ルール!TR3","v":0},{"$f":"推定用途置換ルール!TS3","v":0},{"$f":"推定用途置換ルール!TT3","v":0},{"$f":"推定用途置換ルール!TU3","v":0},{"$f":"推定用途置換ルール!TV3","v":0},{"$f":"推定用途置換ルール!TW3","v":0},{"$f":"推定用途置換ルール!TX3","v":0},{"$f":"推定用途置換ルール!TY3","v":0},{"$f":"推定用途置換ルール!TZ3","v":0},{"$f":"推定用途置換ルール!UA3","v":0},{"$f":"推定用途置換ルール!UB3","v":0},{"$f":"推定用途置換ルール!UC3","v":0},{"$f":"推定用途置換ルール!UD3","v":0},{"$f":"推定用途置換ルール!UE3","v":0},{"$f":"推定用途置換ルール!UF3","v":0},{"$f":"推定用途置換ルール!UG3","v":0},{"$f":"推定用途置換ルール!UH3","v":0},{"$f":"推定用途置換ルール!UI3","v":0},{"$f":"推定用途置換ルール!UJ3","v":0},{"$f":"推定用途置換ルール!UK3","v":0},{"$f":"推定用途置換ルール!UL3","v":0},{"$f":"推定用途置換ルール!UM3","v":0},{"$f":"推定用途置換ルール!UN3","v":0},{"$f":"推定用途置換ルール!UO3","v":0},{"$f":"推定用途置換ルール!UP3","v":0},{"$f":"推定用途置換ルール!UQ3","v":0},{"$f":"推定用途置換ルール!UR3","v":0},{"$f":"推定用途置換ルール!US3","v":0},{"$f":"推定用途置換ルール!UT3","v":0},{"$f":"推定用途置換ルール!UU3","v":0},{"$f":"推定用途置換ルール!UV3","v":0},{"$f":"推定用途置換ルール!UW3","v":0},{"$f":"推定用途置換ルール!UX3","v":0},{"$f":"推定用途置換ルール!UY3","v":0},{"$f":"推定用途置換ルール!UZ3","v":0},{"$f":"推定用途置換ルール!VA3","v":0},{"$f":"推定用途置換ルール!VB3","v":0},{"$f":"推定用途置換ルール!VC3","v":0},{"$f":"推定用途置換ルール!VD3","v":0},{"$f":"推定用途置換ルール!VE3","v":0},{"$f":"推定用途置換ルール!VF3","v":0},{"$f":"推定用途置換ルール!VG3","v":0},{"$f":"推定用途置換ルール!VH3","v":0},{"$f":"推定用途置換ルール!VI3","v":0},{"$f":"推定用途置換ルール!VJ3","v":0},{"$f":"推定用途置換ルール!VK3","v":0},{"$f":"推定用途置換ルール!VL3","v":0},{"$f":"推定用途置換ルール!VM3","v":0},{"$f":"推定用途置換ルール!VN3","v":0},{"$f":"推定用途置換ルール!VO3","v":0},{"$f":"推定用途置換ルール!VP3","v":0},{"$f":"推定用途置換ルール!VQ3","v":0},{"$f":"推定用途置換ルール!VR3","v":0},{"$f":"推定用途置換ルール!VS3","v":0},{"$f":"推定用途置換ルール!VT3","v":0},{"$f":"推定用途置換ルール!VU3","v":0},{"$f":"推定用途置換ルール!VV3","v":0},{"$f":"推定用途置換ルール!VW3","v":0},{"$f":"推定用途置換ルール!VX3","v":0},{"$f":"推定用途置換ルール!VY3","v":0},{"$f":"推定用途置換ルール!VZ3","v":0},{"$f":"推定用途置換ルール!WA3","v":0},{"$f":"推定用途置換ルール!WB3","v":0},{"$f":"推定用途置換ルール!WC3","v":0},{"$f":"推定用途置換ルール!WD3","v":0},{"$f":"推定用途置換ルール!WE3","v":0},{"$f":"推定用途置換ルール!WF3","v":0},{"$f":"推定用途置換ルール!WG3","v":0},{"$f":"推定用途置換ルール!WH3","v":0},{"$f":"推定用途置換ルール!WI3","v":0},{"$f":"推定用途置換ルール!WJ3","v":0},{"$f":"推定用途置換ルール!WK3","v":0},{"$f":"推定用途置換ルール!WL3","v":0},{"$f":"推定用途置換ルール!WM3","v":0},{"$f":"推定用途置換ルール!WN3","v":0},{"$f":"推定用途置換ルール!WO3","v":0},{"$f":"推定用途置換ルール!WP3","v":0},{"$f":"推定用途置換ルール!WQ3","v":0},{"$f":"推定用途置換ルール!WR3","v":0},{"$f":"推定用途置換ルール!WS3","v":0},{"$f":"推定用途置換ルール!WT3","v":0},{"$f":"推定用途置換ルール!WU3","v":0},{"$f":"推定用途置換ルール!WV3","v":0},{"$f":"推定用途置換ルール!WW3","v":0},{"$f":"推定用途置換ルール!WX3","v":0},{"$f":"推定用途置換ルール!WY3","v":0},{"$f":"推定用途置換ルール!WZ3","v":0},{"$f":"推定用途置換ルール!XA3","v":0},{"$f":"推定用途置換ルール!XB3","v":0},{"$f":"推定用途置換ルール!XC3","v":0},{"$f":"推定用途置換ルール!XD3","v":0},{"$f":"推定用途置換ルール!XE3","v":0},{"$f":"推定用途置換ルール!XF3","v":0},{"$f":"推定用途置換ルール!XG3","v":0},{"$f":"推定用途置換ルール!XH3","v":0},{"$f":"推定用途置換ルール!XI3","v":0},{"$f":"推定用途置換ルール!XJ3","v":0},{"$f":"推定用途置換ルール!XK3","v":0},{"$f":"推定用途置換ルール!XL3","v":0},{"$f":"推定用途置換ルール!XM3","v":0},{"$f":"推定用途置換ルール!XN3","v":0},{"$f":"推定用途置換ルール!XO3","v":0},{"$f":"推定用途置換ルール!XP3","v":0},{"$f":"推定用途置換ルール!XQ3","v":0},{"$f":"推定用途置換ルール!XR3","v":0},{"$f":"推定用途置換ルール!XS3","v":0},{"$f":"推定用途置換ルール!XT3","v":0},{"$f":"推定用途置換ルール!XU3","v":0},{"$f":"推定用途置換ルール!XV3","v":0},{"$f":"推定用途置換ルール!XW3","v":0},{"$f":"推定用途置換ルール!XX3","v":0},{"$f":"推定用途置換ルール!XY3","v":0},{"$f":"推定用途置換ルール!XZ3","v":0},{"$f":"推定用途置換ルール!YA3","v":0},{"$f":"推定用途置換ルール!YB3","v":0},{"$f":"推定用途置換ルール!YC3","v":0},{"$f":"推定用途置換ルール!YD3","v":0},{"$f":"推定用途置換ルール!YE3","v":0},{"$f":"推定用途置換ルール!YF3","v":0},{"$f":"推定用途置換ルール!YG3","v":0},{"$f":"推定用途置換ルール!YH3","v":0},{"$f":"推定用途置換ルール!YI3","v":0},{"$f":"推定用途置換ルール!YJ3","v":0},{"$f":"推定用途置換ルール!YK3","v":0},{"$f":"推定用途置換ルール!YL3","v":0},{"$f":"推定用途置換ルール!YM3","v":0},{"$f":"推定用途置換ルール!YN3","v":0},{"$f":"推定用途置換ルール!YO3","v":0},{"$f":"推定用途置換ルール!YP3","v":0},{"$f":"推定用途置換ルール!YQ3","v":0},{"$f":"推定用途置換ルール!YR3","v":0},{"$f":"推定用途置換ルール!YS3","v":0},{"$f":"推定用途置換ルール!YT3","v":0},{"$f":"推定用途置換ルール!YU3","v":0},{"$f":"推定用途置換ルール!YV3","v":0},{"$f":"推定用途置換ルール!YW3","v":0},{"$f":"推定用途置換ルール!YX3","v":0},{"$f":"推定用途置換ルール!YY3","v":0},{"$f":"推定用途置換ルール!YZ3","v":0},{"$f":"推定用途置換ルール!ZA3","v":0},{"$f":"推定用途置換ルール!ZB3","v":0},{"$f":"推定用途置換ルール!ZC3","v":0},{"$f":"推定用途置換ルール!ZD3","v":0},{"$f":"推定用途置換ルール!ZE3","v":0},{"$f":"推定用途置換ルール!ZF3","v":0},{"$f":"推定用途置換ルール!ZG3","v":0},{"$f":"推定用途置換ルール!ZH3","v":0},{"$f":"推定用途置換ルール!ZI3","v":0},{"$f":"推定用途置換ルール!ZJ3","v":0},{"$f":"推定用途置換ルール!ZK3","v":0},{"$f":"推定用途置換ルール!ZL3","v":0},{"$f":"推定用途置換ルール!ZM3","v":0},{"$f":"推定用途置換ルール!ZN3","v":0},{"$f":"推定用途置換ルール!ZO3","v":0},{"$f":"推定用途置換ルール!ZP3","v":0},{"$f":"推定用途置換ルール!ZQ3","v":0},{"$f":"推定用途置換ルール!ZR3","v":0},{"$f":"推定用途置換ルール!ZS3","v":0},{"$f":"推定用途置換ルール!ZT3","v":0},{"$f":"推定用途置換ルール!ZU3","v":0},{"$f":"推定用途置換ルール!ZV3","v":0},{"$f":"推定用途置換ルール!ZW3","v":0},{"$f":"推定用途置換ルール!ZX3","v":0},{"$f":"推定用途置換ルール!ZY3","v":0},{"$f":"推定用途置換ルール!ZZ3","v":0},{"$f":"推定用途置換ルール!AAA3","v":0},{"$f":"推定用途置換ルール!AAB3","v":0},{"$f":"推定用途置換ルール!AAC3","v":0},{"$f":"推定用途置換ルール!AAD3","v":0},{"$f":"推定用途置換ルール!AAE3","v":0},{"$f":"推定用途置換ルール!AAF3","v":0},{"$f":"推定用途置換ルール!AAG3","v":0},{"$f":"推定用途置換ルール!AAH3","v":0},{"$f":"推定用途置換ルール!AAI3","v":0},{"$f":"推定用途置換ルール!AAJ3","v":0},{"$f":"推定用途置換ルール!AAK3","v":0},{"$f":"推定用途置換ルール!AAL3","v":0},{"$f":"推定用途置換ルール!AAM3","v":0},{"$f":"推定用途置換ルール!AAN3","v":0},{"$f":"推定用途置換ルール!AAO3","v":0},{"$f":"推定用途置換ルール!AAP3","v":0},{"$f":"推定用途置換ルール!AAQ3","v":0},{"$f":"推定用途置換ルール!AAR3","v":0},{"$f":"推定用途置換ルール!AAS3","v":0},{"$f":"推定用途置換ルール!AAT3","v":0},{"$f":"推定用途置換ルール!AAU3","v":0},{"$f":"推定用途置換ルール!AAV3","v":0},{"$f":"推定用途置換ルール!AAW3","v":0},{"$f":"推定用途置換ルール!AAX3","v":0},{"$f":"推定用途置換ルール!AAY3","v":0},{"$f":"推定用途置換ルール!AAZ3","v":0},{"$f":"推定用途置換ルール!ABA3","v":0},{"$f":"推定用途置換ルール!ABB3","v":0},{"$f":"推定用途置換ルール!ABC3","v":0},{"$f":"推定用途置換ルール!ABD3","v":0},{"$f":"推定用途置換ルール!ABE3","v":0},{"$f":"推定用途置換ルール!ABF3","v":0},{"$f":"推定用途置換ルール!ABG3","v":0},{"$f":"推定用途置換ルール!ABH3","v":0},{"$f":"推定用途置換ルール!ABI3","v":0},{"$f":"推定用途置換ルール!ABJ3","v":0},{"$f":"推定用途置換ルール!ABK3","v":0},{"$f":"推定用途置換ルール!ABL3","v":0},{"$f":"推定用途置換ルール!ABM3","v":0},{"$f":"推定用途置換ルール!ABN3","v":0},{"$f":"推定用途置換ルール!ABO3","v":0},{"$f":"推定用途置換ルール!ABP3","v":0},{"$f":"推定用途置換ルール!ABQ3","v":0},{"$f":"推定用途置換ルール!ABR3","v":0},{"$f":"推定用途置換ルール!ABS3","v":0},{"$f":"推定用途置換ルール!ABT3","v":0},{"$f":"推定用途置換ルール!ABU3","v":0},{"$f":"推定用途置換ルール!ABV3","v":0},{"$f":"推定用途置換ルール!ABW3","v":0},{"$f":"推定用途置換ルール!ABX3","v":0},{"$f":"推定用途置換ルール!ABY3","v":0},{"$f":"推定用途置換ルール!ABZ3","v":0},{"$f":"推定用途置換ルール!ACA3","v":0},{"$f":"推定用途置換ルール!ACB3","v":0},{"$f":"推定用途置換ルール!ACC3","v":0},{"$f":"推定用途置換ルール!ACD3","v":0},{"$f":"推定用途置換ルール!ACE3","v":0},{"$f":"推定用途置換ルール!ACF3","v":0},{"$f":"推定用途置換ルール!ACG3","v":0},{"$f":"推定用途置換ルール!ACH3","v":0},{"$f":"推定用途置換ルール!ACI3","v":0},{"$f":"推定用途置換ルール!ACJ3","v":0},{"$f":"推定用途置換ルール!ACK3","v":0},{"$f":"推定用途置換ルール!ACL3","v":0},{"$f":"推定用途置換ルール!ACM3","v":0},{"$f":"推定用途置換ルール!ACN3","v":0},{"$f":"推定用途置換ルール!ACO3","v":0},{"$f":"推定用途置換ルール!ACP3","v":0},{"$f":"推定用途置換ルール!ACQ3","v":0},{"$f":"推定用途置換ルール!ACR3","v":0},{"$f":"推定用途置換ルール!ACS3","v":0},{"$f":"推定用途置換ルール!ACT3","v":0},{"$f":"推定用途置換ルール!ACU3","v":0},{"$f":"推定用途置換ルール!ACV3","v":0},{"$f":"推定用途置換ルール!ACW3","v":0},{"$f":"推定用途置換ルール!ACX3","v":0},{"$f":"推定用途置換ルール!ACY3","v":0},{"$f":"推定用途置換ルール!ACZ3","v":0},{"$f":"推定用途置換ルール!ADA3","v":0},{"$f":"推定用途置換ルール!ADB3","v":0},{"$f":"推定用途置換ルール!ADC3","v":0},{"$f":"推定用途置換ルール!ADD3","v":0},{"$f":"推定用途置換ルール!ADE3","v":0},{"$f":"推定用途置換ルール!ADF3","v":0},{"$f":"推定用途置換ルール!ADG3","v":0},{"$f":"推定用途置換ルール!ADH3","v":0},{"$f":"推定用途置換ルール!ADI3","v":0},{"$f":"推定用途置換ルール!ADJ3","v":0},{"$f":"推定用途置換ルール!ADK3","v":0},{"$f":"推定用途置換ルール!ADL3","v":0},{"$f":"推定用途置換ルール!ADM3","v":0},{"$f":"推定用途置換ルール!ADN3","v":0},{"$f":"推定用途置換ルール!ADO3","v":0},{"$f":"推定用途置換ルール!ADP3","v":0},{"$f":"推定用途置換ルール!ADQ3","v":0},{"$f":"推定用途置換ルール!ADR3","v":0},{"$f":"推定用途置換ルール!ADS3","v":0},{"$f":"推定用途置換ルール!ADT3","v":0},{"$f":"推定用途置換ルール!ADU3","v":0},{"$f":"推定用途置換ルール!ADV3","v":0},{"$f":"推定用途置換ルール!ADW3","v":0},{"$f":"推定用途置換ルール!ADX3","v":0},{"$f":"推定用途置換ルール!ADY3","v":0},{"$f":"推定用途置換ルール!ADZ3","v":0},{"$f":"推定用途置換ルール!AEA3","v":0},{"$f":"推定用途置換ルール!AEB3","v":0},{"$f":"推定用途置換ルール!AEC3","v":0},{"$f":"推定用途置換ルール!AED3","v":0},{"$f":"推定用途置換ルール!AEE3","v":0},{"$f":"推定用途置換ルール!AEF3","v":0},{"$f":"推定用途置換ルール!AEG3","v":0},{"$f":"推定用途置換ルール!AEH3","v":0},{"$f":"推定用途置換ルール!AEI3","v":0},{"$f":"推定用途置換ルール!AEJ3","v":0},{"$f":"推定用途置換ルール!AEK3","v":0},{"$f":"推定用途置換ルール!AEL3","v":0},{"$f":"推定用途置換ルール!AEM3","v":0},{"$f":"推定用途置換ルール!AEN3","v":0},{"$f":"推定用途置換ルール!AEO3","v":0},{"$f":"推定用途置換ルール!AEP3","v":0},{"$f":"推定用途置換ルール!AEQ3","v":0},{"$f":"推定用途置換ルール!AER3","v":0},{"$f":"推定用途置換ルール!AES3","v":0},{"$f":"推定用途置換ルール!AET3","v":0},{"$f":"推定用途置換ルール!AEU3","v":0},{"$f":"推定用途置換ルール!AEV3","v":0},{"$f":"推定用途置換ルール!AEW3","v":0},{"$f":"推定用途置換ルール!AEX3","v":0},{"$f":"推定用途置換ルール!AEY3","v":0},{"$f":"推定用途置換ルール!AEZ3","v":0},{"$f":"推定用途置換ルール!AFA3","v":0},{"$f":"推定用途置換ルール!AFB3","v":0},{"$f":"推定用途置換ルール!AFC3","v":0},{"$f":"推定用途置換ルール!AFD3","v":0},{"$f":"推定用途置換ルール!AFE3","v":0},{"$f":"推定用途置換ルール!AFF3","v":0},{"$f":"推定用途置換ルール!AFG3","v":0},{"$f":"推定用途置換ルール!AFH3","v":0},{"$f":"推定用途置換ルール!AFI3","v":0},{"$f":"推定用途置換ルール!AFJ3","v":0},{"$f":"推定用途置換ルール!AFK3","v":0},{"$f":"推定用途置換ルール!AFL3","v":0},{"$f":"推定用途置換ルール!AFM3","v":0},{"$f":"推定用途置換ルール!AFN3","v":0},{"$f":"推定用途置換ルール!AFO3","v":0},{"$f":"推定用途置換ルール!AFP3","v":0},{"$f":"推定用途置換ルール!AFQ3","v":0},{"$f":"推定用途置換ルール!AFR3","v":0},{"$f":"推定用途置換ルール!AFS3","v":0},{"$f":"推定用途置換ルール!AFT3","v":0},{"$f":"推定用途置換ルール!AFU3","v":0},{"$f":"推定用途置換ルール!AFV3","v":0},{"$f":"推定用途置換ルール!AFW3","v":0},{"$f":"推定用途置換ルール!AFX3","v":0},{"$f":"推定用途置換ルール!AFY3","v":0},{"$f":"推定用途置換ルール!AFZ3","v":0},{"$f":"推定用途置換ルール!AGA3","v":0},{"$f":"推定用途置換ルール!AGB3","v":0},{"$f":"推定用途置換ルール!AGC3","v":0},{"$f":"推定用途置換ルール!AGD3","v":0},{"$f":"推定用途置換ルール!AGE3","v":0},{"$f":"推定用途置換ルール!AGF3","v":0},{"$f":"推定用途置換ルール!AGG3","v":0},{"$f":"推定用途置換ルール!AGH3","v":0},{"$f":"推定用途置換ルール!AGI3","v":0},{"$f":"推定用途置換ルール!AGJ3","v":0},{"$f":"推定用途置換ルール!AGK3","v":0},{"$f":"推定用途置換ルール!AGL3","v":0},{"$f":"推定用途置換ルール!AGM3","v":0},{"$f":"推定用途置換ルール!AGN3","v":0},{"$f":"推定用途置換ルール!AGO3","v":0},{"$f":"推定用途置換ルール!AGP3","v":0},{"$f":"推定用途置換ルール!AGQ3","v":0},{"$f":"推定用途置換ルール!AGR3","v":0},{"$f":"推定用途置換ルール!AGS3","v":0},{"$f":"推定用途置換ルール!AGT3","v":0},{"$f":"推定用途置換ルール!AGU3","v":0},{"$f":"推定用途置換ルール!AGV3","v":0},{"$f":"推定用途置換ルール!AGW3","v":0},{"$f":"推定用途置換ルール!AGX3","v":0},{"$f":"推定用途置換ルール!AGY3","v":0},{"$f":"推定用途置換ルール!AGZ3","v":0},{"$f":"推定用途置換ルール!AHA3","v":0},{"$f":"推定用途置換ルール!AHB3","v":0},{"$f":"推定用途置換ルール!AHC3","v":0},{"$f":"推定用途置換ルール!AHD3","v":0},{"$f":"推定用途置換ルール!AHE3","v":0},{"$f":"推定用途置換ルール!AHF3","v":0},{"$f":"推定用途置換ルール!AHG3","v":0},{"$f":"推定用途置換ルール!AHH3","v":0},{"$f":"推定用途置換ルール!AHI3","v":0},{"$f":"推定用途置換ルール!AHJ3","v":0},{"$f":"推定用途置換ルール!AHK3","v":0},{"$f":"推定用途置換ルール!AHL3","v":0},{"$f":"推定用途置換ルール!AHM3","v":0},{"$f":"推定用途置換ルール!AHN3","v":0},{"$f":"推定用途置換ルール!AHO3","v":0},{"$f":"推定用途置換ルール!AHP3","v":0},{"$f":"推定用途置換ルール!AHQ3","v":0},{"$f":"推定用途置換ルール!AHR3","v":0},{"$f":"推定用途置換ルール!AHS3","v":0},{"$f":"推定用途置換ルール!AHT3","v":0},{"$f":"推定用途置換ルール!AHU3","v":0},{"$f":"推定用途置換ルール!AHV3","v":0},{"$f":"推定用途置換ルール!AHW3","v":0},{"$f":"推定用途置換ルール!AHX3","v":0},{"$f":"推定用途置換ルール!AHY3","v":0},{"$f":"推定用途置換ルール!AHZ3","v":0},{"$f":"推定用途置換ルール!AIA3","v":0},{"$f":"推定用途置換ルール!AIB3","v":0},{"$f":"推定用途置換ルール!AIC3","v":0},{"$f":"推定用途置換ルール!AID3","v":0},{"$f":"推定用途置換ルール!AIE3","v":0},{"$f":"推定用途置換ルール!AIF3","v":0},{"$f":"推定用途置換ルール!AIG3","v":0},{"$f":"推定用途置換ルール!AIH3","v":0},{"$f":"推定用途置換ルール!AII3","v":0},{"$f":"推定用途置換ルール!AIJ3","v":0},{"$f":"推定用途置換ルール!AIK3","v":0},{"$f":"推定用途置換ルール!AIL3","v":0},{"$f":"推定用途置換ルール!AIM3","v":0},{"$f":"推定用途置換ルール!AIN3","v":0},{"$f":"推定用途置換ルール!AIO3","v":0},{"$f":"推定用途置換ルール!AIP3","v":0},{"$f":"推定用途置換ルール!AIQ3","v":0},{"$f":"推定用途置換ルール!AIR3","v":0},{"$f":"推定用途置換ルール!AIS3","v":0},{"$f":"推定用途置換ルール!AIT3","v":0},{"$f":"推定用途置換ルール!AIU3","v":0},{"$f":"推定用途置換ルール!AIV3","v":0},{"$f":"推定用途置換ルール!AIW3","v":0},{"$f":"推定用途置換ルール!AIX3","v":0},{"$f":"推定用途置換ルール!AIY3","v":0},{"$f":"推定用途置換ルール!AIZ3","v":0},{"$f":"推定用途置換ルール!AJA3","v":0},{"$f":"推定用途置換ルール!AJB3","v":0},{"$f":"推定用途置換ルール!AJC3","v":0},{"$f":"推定用途置換ルール!AJD3","v":0},{"$f":"推定用途置換ルール!AJE3","v":0},{"$f":"推定用途置換ルール!AJF3","v":0},{"$f":"推定用途置換ルール!AJG3","v":0},{"$f":"推定用途置換ルール!AJH3","v":0},{"$f":"推定用途置換ルール!AJI3","v":0},{"$f":"推定用途置換ルール!AJJ3","v":0},{"$f":"推定用途置換ルール!AJK3","v":0},{"$f":"推定用途置換ルール!AJL3","v":0},{"$f":"推定用途置換ルール!AJM3","v":0},{"$f":"推定用途置換ルール!AJN3","v":0},{"$f":"推定用途置換ルール!AJO3","v":0},{"$f":"推定用途置換ルール!AJP3","v":0},{"$f":"推定用途置換ルール!AJQ3","v":0},{"$f":"推定用途置換ルール!AJR3","v":0},{"$f":"推定用途置換ルール!AJS3","v":0},{"$f":"推定用途置換ルール!AJT3","v":0},{"$f":"推定用途置換ルール!AJU3","v":0},{"$f":"推定用途置換ルール!AJV3","v":0},{"$f":"推定用途置換ルール!AJW3","v":0},{"$f":"推定用途置換ルール!AJX3","v":0},{"$f":"推定用途置換ルール!AJY3","v":0},{"$f":"推定用途置換ルール!AJZ3","v":0},{"$f":"推定用途置換ルール!AKA3","v":0},{"$f":"推定用途置換ルール!AKB3","v":0},{"$f":"推定用途置換ルール!AKC3","v":0},{"$f":"推定用途置換ルール!AKD3","v":0},{"$f":"推定用途置換ルール!AKE3","v":0},{"$f":"推定用途置換ルール!AKF3","v":0},{"$f":"推定用途置換ルール!AKG3","v":0},{"$f":"推定用途置換ルール!AKH3","v":0},{"$f":"推定用途置換ルール!AKI3","v":0},{"$f":"推定用途置換ルール!AKJ3","v":0},{"$f":"推定用途置換ルール!AKK3","v":0},{"$f":"推定用途置換ルール!AKL3","v":0},{"$f":"推定用途置換ルール!AKM3","v":0},{"$f":"推定用途置換ルール!AKN3","v":0},{"$f":"推定用途置換ルール!AKO3","v":0},{"$f":"推定用途置換ルール!AKP3","v":0},{"$f":"推定用途置換ルール!AKQ3","v":0},{"$f":"推定用途置換ルール!AKR3","v":0},{"$f":"推定用途置換ルール!AKS3","v":0},{"$f":"推定用途置換ルール!AKT3","v":0},{"$f":"推定用途置換ルール!AKU3","v":0},{"$f":"推定用途置換ルール!AKV3","v":0},{"$f":"推定用途置換ルール!AKW3","v":0},{"$f":"推定用途置換ルール!AKX3","v":0},{"$f":"推定用途置換ルール!AKY3","v":0},{"$f":"推定用途置換ルール!AKZ3","v":0},{"$f":"推定用途置換ルール!ALA3","v":0},{"$f":"推定用途置換ルール!ALB3","v":0},{"$f":"推定用途置換ルール!ALC3","v":0},{"$f":"推定用途置換ルール!ALD3","v":0},{"$f":"推定用途置換ルール!ALE3","v":0},{"$f":"推定用途置換ルール!ALF3","v":0},{"$f":"推定用途置換ルール!ALG3","v":0},{"$f":"推定用途置換ルール!ALH3","v":0},{"$f":"推定用途置換ルール!ALI3","v":0},{"$f":"推定用途置換ルール!ALJ3","v":0},{"$f":"推定用途置換ルール!ALK3","v":0},{"$f":"推定用途置換ルール!ALL3","v":0},{"$f":"推定用途置換ルール!ALM3","v":0},{"$f":"推定用途置換ルール!ALN3","v":0},{"$f":"推定用途置換ルール!ALO3","v":0},{"$f":"推定用途置換ルール!ALP3","v":0},{"$f":"推定用途置換ルール!ALQ3","v":0},{"$f":"推定用途置換ルール!ALR3","v":0},{"$f":"推定用途置換ルール!ALS3","v":0},{"$f":"推定用途置換ルール!ALT3","v":0},{"$f":"推定用途置換ルール!ALU3","v":0},{"$f":"推定用途置換ルール!ALV3","v":0},{"$f":"推定用途置換ルール!ALW3","v":0},{"$f":"推定用途置換ルール!ALX3","v":0},{"$f":"推定用途置換ルール!ALY3","v":0},{"$f":"推定用途置換ルール!ALZ3","v":0},{"$f":"推定用途置換ルール!AMA3","v":0},{"$f":"推定用途置換ルール!AMB3","v":0},{"$f":"推定用途置換ルール!AMC3","v":0},{"$f":"推定用途置換ルール!AMD3","v":0},{"$f":"推定用途置換ルール!AME3","v":0},{"$f":"推定用途置換ルール!AMF3","v":0},{"$f":"推定用途置換ルール!AMG3","v":0},{"$f":"推定用途置換ルール!AMH3","v":0},{"$f":"推定用途置換ルール!AMI3","v":0},{"$f":"推定用途置換ルール!AMJ3","v":0},{"$f":"推定用途置換ルール!AMK3","v":0},{"$f":"推定用途置換ルール!AML3","v":0},{"$f":"推定用途置換ルール!AMM3","v":0},{"$f":"推定用途置換ルール!AMN3","v":0},{"$f":"推定用途置換ルール!AMO3","v":0},{"$f":"推定用途置換ルール!AMP3","v":0},{"$f":"推定用途置換ルール!AMQ3","v":0},{"$f":"推定用途置換ルール!AMR3","v":0},{"$f":"推定用途置換ルール!AMS3","v":0},{"$f":"推定用途置換ルール!AMT3","v":0},{"$f":"推定用途置換ルール!AMU3","v":0},{"$f":"推定用途置換ルール!AMV3","v":0},{"$f":"推定用途置換ルール!AMW3","v":0},{"$f":"推定用途置換ルール!AMX3","v":0},{"$f":"推定用途置換ルール!AMY3","v":0},{"$f":"推定用途置換ルール!AMZ3","v":0},{"$f":"推定用途置換ルール!ANA3","v":0},{"$f":"推定用途置換ルール!ANB3","v":0},{"$f":"推定用途置換ルール!ANC3","v":0},{"$f":"推定用途置換ルール!AND3","v":0},{"$f":"推定用途置換ルール!ANE3","v":0},{"$f":"推定用途置換ルール!ANF3","v":0},{"$f":"推定用途置換ルール!ANG3","v":0},{"$f":"推定用途置換ルール!ANH3","v":0},{"$f":"推定用途置換ルール!ANI3","v":0},{"$f":"推定用途置換ルール!ANJ3","v":0},{"$f":"推定用途置換ルール!ANK3","v":0},{"$f":"推定用途置換ルール!ANL3","v":0},{"$f":"推定用途置換ルール!ANM3","v":0},{"$f":"推定用途置換ルール!ANN3","v":0},{"$f":"推定用途置換ルール!ANO3","v":0},{"$f":"推定用途置換ルール!ANP3","v":0},{"$f":"推定用途置換ルール!ANQ3","v":0},{"$f":"推定用途置換ルール!ANR3","v":0},{"$f":"推定用途置換ルール!ANS3","v":0},{"$f":"推定用途置換ルール!ANT3","v":0},{"$f":"推定用途置換ルール!ANU3","v":0},{"$f":"推定用途置換ルール!ANV3","v":0},{"$f":"推定用途置換ルール!ANW3","v":0},{"$f":"推定用途置換ルール!ANX3","v":0},{"$f":"推定用途置換ルール!ANY3","v":0},{"$f":"推定用途置換ルール!ANZ3","v":0},{"$f":"推定用途置換ルール!AOA3","v":0},{"$f":"推定用途置換ルール!AOB3","v":0},{"$f":"推定用途置換ルール!AOC3","v":0},{"$f":"推定用途置換ルール!AOD3","v":0},{"$f":"推定用途置換ルール!AOE3","v":0},{"$f":"推定用途置換ルール!AOF3","v":0},{"$f":"推定用途置換ルール!AOG3","v":0},{"$f":"推定用途置換ルール!AOH3","v":0},{"$f":"推定用途置換ルール!AOI3","v":0},{"$f":"推定用途置換ルール!AOJ3","v":0},{"$f":"推定用途置換ルール!AOK3","v":0},{"$f":"推定用途置換ルール!AOL3","v":0},{"$f":"推定用途置換ルール!AOM3","v":0},{"$f":"推定用途置換ルール!AON3","v":0},{"$f":"推定用途置換ルール!AOO3","v":0},{"$f":"推定用途置換ルール!AOP3","v":0},{"$f":"推定用途置換ルール!AOQ3","v":0},{"$f":"推定用途置換ルール!AOR3","v":0},{"$f":"推定用途置換ルール!AOS3","v":0},{"$f":"推定用途置換ルール!AOT3","v":0},{"$f":"推定用途置換ルール!AOU3","v":0},{"$f":"推定用途置換ルール!AOV3","v":0},{"$f":"推定用途置換ルール!AOW3","v":0},{"$f":"推定用途置換ルール!AOX3","v":0},{"$f":"推定用途置換ルール!AOY3","v":0},{"$f":"推定用途置換ルール!AOZ3","v":0},{"$f":"推定用途置換ルール!APA3","v":0},{"$f":"推定用途置換ルール!APB3","v":0},{"$f":"推定用途置換ルール!APC3","v":0},{"$f":"推定用途置換ルール!APD3","v":0},{"$f":"推定用途置換ルール!APE3","v":0},{"$f":"推定用途置換ルール!APF3","v":0},{"$f":"推定用途置換ルール!APG3","v":0},{"$f":"推定用途置換ルール!APH3","v":0},{"$f":"推定用途置換ルール!API3","v":0},{"$f":"推定用途置換ルール!APJ3","v":0},{"$f":"推定用途置換ルール!APK3","v":0},{"$f":"推定用途置換ルール!APL3","v":0},{"$f":"推定用途置換ルール!APM3","v":0},{"$f":"推定用途置換ルール!APN3","v":0},{"$f":"推定用途置換ルール!APO3","v":0},{"$f":"推定用途置換ルール!APP3","v":0},{"$f":"推定用途置換ルール!APQ3","v":0},{"$f":"推定用途置換ルール!APR3","v":0},{"$f":"推定用途置換ルール!APS3","v":0},{"$f":"推定用途置換ルール!APT3","v":0},{"$f":"推定用途置換ルール!APU3","v":0},{"$f":"推定用途置換ルール!APV3","v":0},{"$f":"推定用途置換ルール!APW3","v":0},{"$f":"推定用途置換ルール!APX3","v":0},{"$f":"推定用途置換ルール!APY3","v":0},{"$f":"推定用途置換ルール!APZ3","v":0},{"$f":"推定用途置換ルール!AQA3","v":0},{"$f":"推定用途置換ルール!AQB3","v":0},{"$f":"推定用途置換ルール!AQC3","v":0},{"$f":"推定用途置換ルール!AQD3","v":0},{"$f":"推定用途置換ルール!AQE3","v":0},{"$f":"推定用途置換ルール!AQF3","v":0},{"$f":"推定用途置換ルール!AQG3","v":0},{"$f":"推定用途置換ルール!AQH3","v":0},{"$f":"推定用途置換ルール!AQI3","v":0},{"$f":"推定用途置換ルール!AQJ3","v":0},{"$f":"推定用途置換ルール!AQK3","v":0},{"$f":"推定用途置換ルール!AQL3","v":0},{"$f":"推定用途置換ルール!AQM3","v":0},{"$f":"推定用途置換ルール!AQN3","v":0},{"$f":"推定用途置換ルール!AQO3","v":0},{"$f":"推定用途置換ルール!AQP3","v":0},{"$f":"推定用途置換ルール!AQQ3","v":0},{"$f":"推定用途置換ルール!AQR3","v":0},{"$f":"推定用途置換ルール!AQS3","v":0},{"$f":"推定用途置換ルール!AQT3","v":0},{"$f":"推定用途置換ルール!AQU3","v":0},{"$f":"推定用途置換ルール!AQV3","v":0},{"$f":"推定用途置換ルール!AQW3","v":0},{"$f":"推定用途置換ルール!AQX3","v":0},{"$f":"推定用途置換ルール!AQY3","v":0},{"$f":"推定用途置換ルール!AQZ3","v":0},{"$f":"推定用途置換ルール!ARA3","v":0},{"$f":"推定用途置換ルール!ARB3","v":0},{"$f":"推定用途置換ルール!ARC3","v":0},{"$f":"推定用途置換ルール!ARD3","v":0},{"$f":"推定用途置換ルール!ARE3","v":0},{"$f":"推定用途置換ルール!ARF3","v":0},{"$f":"推定用途置換ルール!ARG3","v":0},{"$f":"推定用途置換ルール!ARH3","v":0},{"$f":"推定用途置換ルール!ARI3","v":0},{"$f":"推定用途置換ルール!ARJ3","v":0},{"$f":"推定用途置換ルール!ARK3","v":0},{"$f":"推定用途置換ルール!ARL3","v":0},{"$f":"推定用途置換ルール!ARM3","v":0},{"$f":"推定用途置換ルール!ARN3","v":0},{"$f":"推定用途置換ルール!ARO3","v":0},{"$f":"推定用途置換ルール!ARP3","v":0},{"$f":"推定用途置換ルール!ARQ3","v":0},{"$f":"推定用途置換ルール!ARR3","v":0},{"$f":"推定用途置換ルール!ARS3","v":0},{"$f":"推定用途置換ルール!ART3","v":0},{"$f":"推定用途置換ルール!ARU3","v":0},{"$f":"推定用途置換ルール!ARV3","v":0},{"$f":"推定用途置換ルール!ARW3","v":0},{"$f":"推定用途置換ルール!ARX3","v":0},{"$f":"推定用途置換ルール!ARY3","v":0},{"$f":"推定用途置換ルール!ARZ3","v":0},{"$f":"推定用途置換ルール!ASA3","v":0},{"$f":"推定用途置換ルール!ASB3","v":0},{"$f":"推定用途置換ルール!ASC3","v":0},{"$f":"推定用途置換ルール!ASD3","v":0},{"$f":"推定用途置換ルール!ASE3","v":0},{"$f":"推定用途置換ルール!ASF3","v":0},{"$f":"推定用途置換ルール!ASG3","v":0},{"$f":"推定用途置換ルール!ASH3","v":0},{"$f":"推定用途置換ルール!ASI3","v":0},{"$f":"推定用途置換ルール!ASJ3","v":0},{"$f":"推定用途置換ルール!ASK3","v":0},{"$f":"推定用途置換ルール!ASL3","v":0},{"$f":"推定用途置換ルール!ASM3","v":0},{"$f":"推定用途置換ルール!ASN3","v":0},{"$f":"推定用途置換ルール!ASO3","v":0},{"$f":"推定用途置換ルール!ASP3","v":0},{"$f":"推定用途置換ルール!ASQ3","v":0},{"$f":"推定用途置換ルール!ASR3","v":0},{"$f":"推定用途置換ルール!ASS3","v":0},{"$f":"推定用途置換ルール!AST3","v":0},{"$f":"推定用途置換ルール!ASU3","v":0},{"$f":"推定用途置換ルール!ASV3","v":0},{"$f":"推定用途置換ルール!ASW3","v":0},{"$f":"推定用途置換ルール!ASX3","v":0},{"$f":"推定用途置換ルール!ASY3","v":0},{"$f":"推定用途置換ルール!ASZ3","v":0},{"$f":"推定用途置換ルール!ATA3","v":0},{"$f":"推定用途置換ルール!ATB3","v":0},{"$f":"推定用途置換ルール!ATC3","v":0},{"$f":"推定用途置換ルール!ATD3","v":0},{"$f":"推定用途置換ルール!ATE3","v":0},{"$f":"推定用途置換ルール!ATF3","v":0},{"$f":"推定用途置換ルール!ATG3","v":0},{"$f":"推定用途置換ルール!ATH3","v":0},{"$f":"推定用途置換ルール!ATI3","v":0},{"$f":"推定用途置換ルール!ATJ3","v":0},{"$f":"推定用途置換ルール!ATK3","v":0},{"$f":"推定用途置換ルール!ATL3","v":0},{"$f":"推定用途置換ルール!ATM3","v":0},{"$f":"推定用途置換ルール!ATN3","v":0},{"$f":"推定用途置換ルール!ATO3","v":0},{"$f":"推定用途置換ルール!ATP3","v":0},{"$f":"推定用途置換ルール!ATQ3","v":0},{"$f":"推定用途置換ルール!ATR3","v":0},{"$f":"推定用途置換ルール!ATS3","v":0},{"$f":"推定用途置換ルール!ATT3","v":0},{"$f":"推定用途置換ルール!ATU3","v":0},{"$f":"推定用途置換ルール!ATV3","v":0},{"$f":"推定用途置換ルール!ATW3","v":0},{"$f":"推定用途置換ルール!ATX3","v":0},{"$f":"推定用途置換ルール!ATY3","v":0},{"$f":"推定用途置換ルール!ATZ3","v":0},{"$f":"推定用途置換ルール!AUA3","v":0},{"$f":"推定用途置換ルール!AUB3","v":0},{"$f":"推定用途置換ルール!AUC3","v":0},{"$f":"推定用途置換ルール!AUD3","v":0},{"$f":"推定用途置換ルール!AUE3","v":0},{"$f":"推定用途置換ルール!AUF3","v":0},{"$f":"推定用途置換ルール!AUG3","v":0},{"$f":"推定用途置換ルール!AUH3","v":0},{"$f":"推定用途置換ルール!AUI3","v":0},{"$f":"推定用途置換ルール!AUJ3","v":0},{"$f":"推定用途置換ルール!AUK3","v":0},{"$f":"推定用途置換ルール!AUL3","v":0},{"$f":"推定用途置換ルール!AUM3","v":0},{"$f":"推定用途置換ルール!AUN3","v":0},{"$f":"推定用途置換ルール!AUO3","v":0},{"$f":"推定用途置換ルール!AUP3","v":0},{"$f":"推定用途置換ルール!AUQ3","v":0},{"$f":"推定用途置換ルール!AUR3","v":0},{"$f":"推定用途置換ルール!AUS3","v":0},{"$f":"推定用途置換ルール!AUT3","v":0},{"$f":"推定用途置換ルール!AUU3","v":0},{"$f":"推定用途置換ルール!AUV3","v":0},{"$f":"推定用途置換ルール!AUW3","v":0},{"$f":"推定用途置換ルール!AUX3","v":0},{"$f":"推定用途置換ルール!AUY3","v":0},{"$f":"推定用途置換ルール!AUZ3","v":0},{"$f":"推定用途置換ルール!AVA3","v":0},{"$f":"推定用途置換ルール!AVB3","v":0},{"$f":"推定用途置換ルール!AVC3","v":0},{"$f":"推定用途置換ルール!AVD3","v":0},{"$f":"推定用途置換ルール!AVE3","v":0},{"$f":"推定用途置換ルール!AVF3","v":0},{"$f":"推定用途置換ルール!AVG3","v":0},{"$f":"推定用途置換ルール!AVH3","v":0},{"$f":"推定用途置換ルール!AVI3","v":0},{"$f":"推定用途置換ルール!AVJ3","v":0},{"$f":"推定用途置換ルール!AVK3","v":0},{"$f":"推定用途置換ルール!AVL3","v":0},{"$f":"推定用途置換ルール!AVM3","v":0},{"$f":"推定用途置換ルール!AVN3","v":0},{"$f":"推定用途置換ルール!AVO3","v":0},{"$f":"推定用途置換ルール!AVP3","v":0},{"$f":"推定用途置換ルール!AVQ3","v":0},{"$f":"推定用途置換ルール!AVR3","v":0},{"$f":"推定用途置換ルール!AVS3","v":0},{"$f":"推定用途置換ルール!AVT3","v":0},{"$f":"推定用途置換ルール!AVU3","v":0},{"$f":"推定用途置換ルール!AVV3","v":0},{"$f":"推定用途置換ルール!AVW3","v":0},{"$f":"推定用途置換ルール!AVX3","v":0},{"$f":"推定用途置換ルール!AVY3","v":0},{"$f":"推定用途置換ルール!AVZ3","v":0},{"$f":"推定用途置換ルール!AWA3","v":0},{"$f":"推定用途置換ルール!AWB3","v":0},{"$f":"推定用途置換ルール!AWC3","v":0},{"$f":"推定用途置換ルール!AWD3","v":0},{"$f":"推定用途置換ルール!AWE3","v":0},{"$f":"推定用途置換ルール!AWF3","v":0},{"$f":"推定用途置換ルール!AWG3","v":0},{"$f":"推定用途置換ルール!AWH3","v":0},{"$f":"推定用途置換ルール!AWI3","v":0},{"$f":"推定用途置換ルール!AWJ3","v":0},{"$f":"推定用途置換ルール!AWK3","v":0},{"$f":"推定用途置換ルール!AWL3","v":0},{"$f":"推定用途置換ルール!AWM3","v":0},{"$f":"推定用途置換ルール!AWN3","v":0},{"$f":"推定用途置換ルール!AWO3","v":0},{"$f":"推定用途置換ルール!AWP3","v":0},{"$f":"推定用途置換ルール!AWQ3","v":0},{"$f":"推定用途置換ルール!AWR3","v":0},{"$f":"推定用途置換ルール!AWS3","v":0},{"$f":"推定用途置換ルール!AWT3","v":0},{"$f":"推定用途置換ルール!AWU3","v":0},{"$f":"推定用途置換ルール!AWV3","v":0},{"$f":"推定用途置換ルール!AWW3","v":0},{"$f":"推定用途置換ルール!AWX3","v":0},{"$f":"推定用途置換ルール!AWY3","v":0},{"$f":"推定用途置換ルール!AWZ3","v":0},{"$f":"推定用途置換ルール!AXA3","v":0},{"$f":"推定用途置換ルール!AXB3","v":0},{"$f":"推定用途置換ルール!AXC3","v":0},{"$f":"推定用途置換ルール!AXD3","v":0},{"$f":"推定用途置換ルール!AXE3","v":0},{"$f":"推定用途置換ルール!AXF3","v":0},{"$f":"推定用途置換ルール!AXG3","v":0},{"$f":"推定用途置換ルール!AXH3","v":0},{"$f":"推定用途置換ルール!AXI3","v":0},{"$f":"推定用途置換ルール!AXJ3","v":0},{"$f":"推定用途置換ルール!AXK3","v":0},{"$f":"推定用途置換ルール!AXL3","v":0},{"$f":"推定用途置換ルール!AXM3","v":0},{"$f":"推定用途置換ルール!AXN3","v":0},{"$f":"推定用途置換ルール!AXO3","v":0},{"$f":"推定用途置換ルール!AXP3","v":0},{"$f":"推定用途置換ルール!AXQ3","v":0},{"$f":"推定用途置換ルール!AXR3","v":0},{"$f":"推定用途置換ルール!AXS3","v":0},{"$f":"推定用途置換ルール!AXT3","v":0},{"$f":"推定用途置換ルール!AXU3","v":0},{"$f":"推定用途置換ルール!AXV3","v":0},{"$f":"推定用途置換ルール!AXW3","v":0},{"$f":"推定用途置換ルール!AXX3","v":0},{"$f":"推定用途置換ルール!AXY3","v":0},{"$f":"推定用途置換ルール!AXZ3","v":0},{"$f":"推定用途置換ルール!AYA3","v":0},{"$f":"推定用途置換ルール!AYB3","v":0},{"$f":"推定用途置換ルール!AYC3","v":0},{"$f":"推定用途置換ルール!AYD3","v":0},{"$f":"推定用途置換ルール!AYE3","v":0},{"$f":"推定用途置換ルール!AYF3","v":0},{"$f":"推定用途置換ルール!AYG3","v":0},{"$f":"推定用途置換ルール!AYH3","v":0},{"$f":"推定用途置換ルール!AYI3","v":0},{"$f":"推定用途置換ルール!AYJ3","v":0},{"$f":"推定用途置換ルール!AYK3","v":0},{"$f":"推定用途置換ルール!AYL3","v":0},{"$f":"推定用途置換ルール!AYM3","v":0},{"$f":"推定用途置換ルール!AYN3","v":0},{"$f":"推定用途置換ルール!AYO3","v":0},{"$f":"推定用途置換ルール!AYP3","v":0},{"$f":"推定用途置換ルール!AYQ3","v":0},{"$f":"推定用途置換ルール!AYR3","v":0},{"$f":"推定用途置換ルール!AYS3","v":0},{"$f":"推定用途置換ルール!AYT3","v":0},{"$f":"推定用途置換ルール!AYU3","v":0},{"$f":"推定用途置換ルール!AYV3","v":0},{"$f":"推定用途置換ルール!AYW3","v":0},{"$f":"推定用途置換ルール!AYX3","v":0},{"$f":"推定用途置換ルール!AYY3","v":0},{"$f":"推定用途置換ルール!AYZ3","v":0},{"$f":"推定用途置換ルール!AZA3","v":0},{"$f":"推定用途置換ルール!AZB3","v":0},{"$f":"推定用途置換ルール!AZC3","v":0},{"$f":"推定用途置換ルール!AZD3","v":0},{"$f":"推定用途置換ルール!AZE3","v":0},{"$f":"推定用途置換ルール!AZF3","v":0},{"$f":"推定用途置換ルール!AZG3","v":0},{"$f":"推定用途置換ルール!AZH3","v":0},{"$f":"推定用途置換ルール!AZI3","v":0},{"$f":"推定用途置換ルール!AZJ3","v":0},{"$f":"推定用途置換ルール!AZK3","v":0},{"$f":"推定用途置換ルール!AZL3","v":0},{"$f":"推定用途置換ルール!AZM3","v":0},{"$f":"推定用途置換ルール!AZN3","v":0},{"$f":"推定用途置換ルール!AZO3","v":0},{"$f":"推定用途置換ルール!AZP3","v":0},{"$f":"推定用途置換ルール!AZQ3","v":0},{"$f":"推定用途置換ルール!AZR3","v":0},{"$f":"推定用途置換ルール!AZS3","v":0},{"$f":"推定用途置換ルール!AZT3","v":0},{"$f":"推定用途置換ルール!AZU3","v":0},{"$f":"推定用途置換ルール!AZV3","v":0},{"$f":"推定用途置換ルール!AZW3","v":0},{"$f":"推定用途置換ルール!AZX3","v":0},{"$f":"推定用途置換ルール!AZY3","v":0},{"$f":"推定用途置換ルール!AZZ3","v":0},{"$f":"推定用途置換ルール!BAA3","v":0},{"$f":"推定用途置換ルール!BAB3","v":0},{"$f":"推定用途置換ルール!BAC3","v":0},{"$f":"推定用途置換ルール!BAD3","v":0},{"$f":"推定用途置換ルール!BAE3","v":0},{"$f":"推定用途置換ルール!BAF3","v":0},{"$f":"推定用途置換ルール!BAG3","v":0},{"$f":"推定用途置換ルール!BAH3","v":0},{"$f":"推定用途置換ルール!BAI3","v":0},{"$f":"推定用途置換ルール!BAJ3","v":0},{"$f":"推定用途置換ルール!BAK3","v":0},{"$f":"推定用途置換ルール!BAL3","v":0},{"$f":"推定用途置換ルール!BAM3","v":0},{"$f":"推定用途置換ルール!BAN3","v":0},{"$f":"推定用途置換ルール!BAO3","v":0},{"$f":"推定用途置換ルール!BAP3","v":0},{"$f":"推定用途置換ルール!BAQ3","v":0},{"$f":"推定用途置換ルール!BAR3","v":0},{"$f":"推定用途置換ルール!BAS3","v":0},{"$f":"推定用途置換ルール!BAT3","v":0},{"$f":"推定用途置換ルール!BAU3","v":0},{"$f":"推定用途置換ルール!BAV3","v":0},{"$f":"推定用途置換ルール!BAW3","v":0},{"$f":"推定用途置換ルール!BAX3","v":0},{"$f":"推定用途置換ルール!BAY3","v":0},{"$f":"推定用途置換ルール!BAZ3","v":0},{"$f":"推定用途置換ルール!BBA3","v":0},{"$f":"推定用途置換ルール!BBB3","v":0},{"$f":"推定用途置換ルール!BBC3","v":0},{"$f":"推定用途置換ルール!BBD3","v":0},{"$f":"推定用途置換ルール!BBE3","v":0},{"$f":"推定用途置換ルール!BBF3","v":0},{"$f":"推定用途置換ルール!BBG3","v":0},{"$f":"推定用途置換ルール!BBH3","v":0},{"$f":"推定用途置換ルール!BBI3","v":0},{"$f":"推定用途置換ルール!BBJ3","v":0},{"$f":"推定用途置換ルール!BBK3","v":0},{"$f":"推定用途置換ルール!BBL3","v":0},{"$f":"推定用途置換ルール!BBM3","v":0},{"$f":"推定用途置換ルール!BBN3","v":0},{"$f":"推定用途置換ルール!BBO3","v":0},{"$f":"推定用途置換ルール!BBP3","v":0},{"$f":"推定用途置換ルール!BBQ3","v":0},{"$f":"推定用途置換ルール!BBR3","v":0},{"$f":"推定用途置換ルール!BBS3","v":0},{"$f":"推定用途置換ルール!BBT3","v":0},{"$f":"推定用途置換ルール!BBU3","v":0},{"$f":"推定用途置換ルール!BBV3","v":0},{"$f":"推定用途置換ルール!BBW3","v":0},{"$f":"推定用途置換ルール!BBX3","v":0},{"$f":"推定用途置換ルール!BBY3","v":0},{"$f":"推定用途置換ルール!BBZ3","v":0},{"$f":"推定用途置換ルール!BCA3","v":0},{"$f":"推定用途置換ルール!BCB3","v":0},{"$f":"推定用途置換ルール!BCC3","v":0},{"$f":"推定用途置換ルール!BCD3","v":0},{"$f":"推定用途置換ルール!BCE3","v":0},{"$f":"推定用途置換ルール!BCF3","v":0},{"$f":"推定用途置換ルール!BCG3","v":0},{"$f":"推定用途置換ルール!BCH3","v":0},{"$f":"推定用途置換ルール!BCI3","v":0},{"$f":"推定用途置換ルール!BCJ3","v":0},{"$f":"推定用途置換ルール!BCK3","v":0},{"$f":"推定用途置換ルール!BCL3","v":0},{"$f":"推定用途置換ルール!BCM3","v":0},{"$f":"推定用途置換ルール!BCN3","v":0},{"$f":"推定用途置換ルール!BCO3","v":0},{"$f":"推定用途置換ルール!BCP3","v":0},{"$f":"推定用途置換ルール!BCQ3","v":0},{"$f":"推定用途置換ルール!BCR3","v":0},{"$f":"推定用途置換ルール!BCS3","v":0},{"$f":"推定用途置換ルール!BCT3","v":0},{"$f":"推定用途置換ルール!BCU3","v":0},{"$f":"推定用途置換ルール!BCV3","v":0},{"$f":"推定用途置換ルール!BCW3","v":0},{"$f":"推定用途置換ルール!BCX3","v":0},{"$f":"推定用途置換ルール!BCY3","v":0},{"$f":"推定用途置換ルール!BCZ3","v":0},{"$f":"推定用途置換ルール!BDA3","v":0},{"$f":"推定用途置換ルール!BDB3","v":0},{"$f":"推定用途置換ルール!BDC3","v":0},{"$f":"推定用途置換ルール!BDD3","v":0},{"$f":"推定用途置換ルール!BDE3","v":0},{"$f":"推定用途置換ルール!BDF3","v":0},{"$f":"推定用途置換ルール!BDG3","v":0},{"$f":"推定用途置換ルール!BDH3","v":0},{"$f":"推定用途置換ルール!BDI3","v":0},{"$f":"推定用途置換ルール!BDJ3","v":0},{"$f":"推定用途置換ルール!BDK3","v":0},{"$f":"推定用途置換ルール!BDL3","v":0},{"$f":"推定用途置換ルール!BDM3","v":0},{"$f":"推定用途置換ルール!BDN3","v":0},{"$f":"推定用途置換ルール!BDO3","v":0},{"$f":"推定用途置換ルール!BDP3","v":0},{"$f":"推定用途置換ルール!BDQ3","v":0},{"$f":"推定用途置換ルール!BDR3","v":0},{"$f":"推定用途置換ルール!BDS3","v":0},{"$f":"推定用途置換ルール!BDT3","v":0},{"$f":"推定用途置換ルール!BDU3","v":0},{"$f":"推定用途置換ルール!BDV3","v":0},{"$f":"推定用途置換ルール!BDW3","v":0},{"$f":"推定用途置換ルール!BDX3","v":0},{"$f":"推定用途置換ルール!BDY3","v":0},{"$f":"推定用途置換ルール!BDZ3","v":0},{"$f":"推定用途置換ルール!BEA3","v":0},{"$f":"推定用途置換ルール!BEB3","v":0},{"$f":"推定用途置換ルール!BEC3","v":0},{"$f":"推定用途置換ルール!BED3","v":0},{"$f":"推定用途置換ルール!BEE3","v":0},{"$f":"推定用途置換ルール!BEF3","v":0},{"$f":"推定用途置換ルール!BEG3","v":0},{"$f":"推定用途置換ルール!BEH3","v":0},{"$f":"推定用途置換ルール!BEI3","v":0},{"$f":"推定用途置換ルール!BEJ3","v":0},{"$f":"推定用途置換ルール!BEK3","v":0},{"$f":"推定用途置換ルール!BEL3","v":0},{"$f":"推定用途置換ルール!BEM3","v":0},{"$f":"推定用途置換ルール!BEN3","v":0},{"$f":"推定用途置換ルール!BEO3","v":0},{"$f":"推定用途置換ルール!BEP3","v":0},{"$f":"推定用途置換ルール!BEQ3","v":0},{"$f":"推定用途置換ルール!BER3","v":0},{"$f":"推定用途置換ルール!BES3","v":0},{"$f":"推定用途置換ルール!BET3","v":0},{"$f":"推定用途置換ルール!BEU3","v":0},{"$f":"推定用途置換ルール!BEV3","v":0},{"$f":"推定用途置換ルール!BEW3","v":0},{"$f":"推定用途置換ルール!BEX3","v":0},{"$f":"推定用途置換ルール!BEY3","v":0},{"$f":"推定用途置換ルール!BEZ3","v":0},{"$f":"推定用途置換ルール!BFA3","v":0},{"$f":"推定用途置換ルール!BFB3","v":0},{"$f":"推定用途置換ルール!BFC3","v":0},{"$f":"推定用途置換ルール!BFD3","v":0},{"$f":"推定用途置換ルール!BFE3","v":0},{"$f":"推定用途置換ルール!BFF3","v":0},{"$f":"推定用途置換ルール!BFG3","v":0},{"$f":"推定用途置換ルール!BFH3","v":0},{"$f":"推定用途置換ルール!BFI3","v":0},{"$f":"推定用途置換ルール!BFJ3","v":0},{"$f":"推定用途置換ルール!BFK3","v":0},{"$f":"推定用途置換ルール!BFL3","v":0},{"$f":"推定用途置換ルール!BFM3","v":0},{"$f":"推定用途置換ルール!BFN3","v":0},{"$f":"推定用途置換ルール!BFO3","v":0},{"$f":"推定用途置換ルール!BFP3","v":0},{"$f":"推定用途置換ルール!BFQ3","v":0},{"$f":"推定用途置換ルール!BFR3","v":0},{"$f":"推定用途置換ルール!BFS3","v":0},{"$f":"推定用途置換ルール!BFT3","v":0},{"$f":"推定用途置換ルール!BFU3","v":0},{"$f":"推定用途置換ルール!BFV3","v":0},{"$f":"推定用途置換ルール!BFW3","v":0},{"$f":"推定用途置換ルール!BFX3","v":0},{"$f":"推定用途置換ルール!BFY3","v":0},{"$f":"推定用途置換ルール!BFZ3","v":0},{"$f":"推定用途置換ルール!BGA3","v":0},{"$f":"推定用途置換ルール!BGB3","v":0},{"$f":"推定用途置換ルール!BGC3","v":0},{"$f":"推定用途置換ルール!BGD3","v":0},{"$f":"推定用途置換ルール!BGE3","v":0},{"$f":"推定用途置換ルール!BGF3","v":0},{"$f":"推定用途置換ルール!BGG3","v":0},{"$f":"推定用途置換ルール!BGH3","v":0},{"$f":"推定用途置換ルール!BGI3","v":0},{"$f":"推定用途置換ルール!BGJ3","v":0},{"$f":"推定用途置換ルール!BGK3","v":0},{"$f":"推定用途置換ルール!BGL3","v":0},{"$f":"推定用途置換ルール!BGM3","v":0},{"$f":"推定用途置換ルール!BGN3","v":0},{"$f":"推定用途置換ルール!BGO3","v":0},{"$f":"推定用途置換ルール!BGP3","v":0},{"$f":"推定用途置換ルール!BGQ3","v":0},{"$f":"推定用途置換ルール!BGR3","v":0},{"$f":"推定用途置換ルール!BGS3","v":0},{"$f":"推定用途置換ルール!BGT3","v":0},{"$f":"推定用途置換ルール!BGU3","v":0},{"$f":"推定用途置換ルール!BGV3","v":0},{"$f":"推定用途置換ルール!BGW3","v":0},{"$f":"推定用途置換ルール!BGX3","v":0},{"$f":"推定用途置換ルール!BGY3","v":0},{"$f":"推定用途置換ルール!BGZ3","v":0},{"$f":"推定用途置換ルール!BHA3","v":0},{"$f":"推定用途置換ルール!BHB3","v":0},{"$f":"推定用途置換ルール!BHC3","v":0},{"$f":"推定用途置換ルール!BHD3","v":0},{"$f":"推定用途置換ルール!BHE3","v":0},{"$f":"推定用途置換ルール!BHF3","v":0},{"$f":"推定用途置換ルール!BHG3","v":0},{"$f":"推定用途置換ルール!BHH3","v":0},{"$f":"推定用途置換ルール!BHI3","v":0},{"$f":"推定用途置換ルール!BHJ3","v":0},{"$f":"推定用途置換ルール!BHK3","v":0},{"$f":"推定用途置換ルール!BHL3","v":0},{"$f":"推定用途置換ルール!BHM3","v":0},{"$f":"推定用途置換ルール!BHN3","v":0},{"$f":"推定用途置換ルール!BHO3","v":0},{"$f":"推定用途置換ルール!BHP3","v":0},{"$f":"推定用途置換ルール!BHQ3","v":0},{"$f":"推定用途置換ルール!BHR3","v":0},{"$f":"推定用途置換ルール!BHS3","v":0},{"$f":"推定用途置換ルール!BHT3","v":0},{"$f":"推定用途置換ルール!BHU3","v":0},{"$f":"推定用途置換ルール!BHV3","v":0},{"$f":"推定用途置換ルール!BHW3","v":0},{"$f":"推定用途置換ルール!BHX3","v":0},{"$f":"推定用途置換ルール!BHY3","v":0},{"$f":"推定用途置換ルール!BHZ3","v":0},{"$f":"推定用途置換ルール!BIA3","v":0},{"$f":"推定用途置換ルール!BIB3","v":0},{"$f":"推定用途置換ルール!BIC3","v":0},{"$f":"推定用途置換ルール!BID3","v":0},{"$f":"推定用途置換ルール!BIE3","v":0},{"$f":"推定用途置換ルール!BIF3","v":0},{"$f":"推定用途置換ルール!BIG3","v":0},{"$f":"推定用途置換ルール!BIH3","v":0},{"$f":"推定用途置換ルール!BII3","v":0},{"$f":"推定用途置換ルール!BIJ3","v":0},{"$f":"推定用途置換ルール!BIK3","v":0},{"$f":"推定用途置換ルール!BIL3","v":0},{"$f":"推定用途置換ルール!BIM3","v":0},{"$f":"推定用途置換ルール!BIN3","v":0},{"$f":"推定用途置換ルール!BIO3","v":0},{"$f":"推定用途置換ルール!BIP3","v":0},{"$f":"推定用途置換ルール!BIQ3","v":0},{"$f":"推定用途置換ルール!BIR3","v":0},{"$f":"推定用途置換ルール!BIS3","v":0},{"$f":"推定用途置換ルール!BIT3","v":0},{"$f":"推定用途置換ルール!BIU3","v":0},{"$f":"推定用途置換ルール!BIV3","v":0},{"$f":"推定用途置換ルール!BIW3","v":0},{"$f":"推定用途置換ルール!BIX3","v":0},{"$f":"推定用途置換ルール!BIY3","v":0},{"$f":"推定用途置換ルール!BIZ3","v":0},{"$f":"推定用途置換ルール!BJA3","v":0},{"$f":"推定用途置換ルール!BJB3","v":0},{"$f":"推定用途置換ルール!BJC3","v":0},{"$f":"推定用途置換ルール!BJD3","v":0},{"$f":"推定用途置換ルール!BJE3","v":0},{"$f":"推定用途置換ルール!BJF3","v":0},{"$f":"推定用途置換ルール!BJG3","v":0},{"$f":"推定用途置換ルール!BJH3","v":0},{"$f":"推定用途置換ルール!BJI3","v":0},{"$f":"推定用途置換ルール!BJJ3","v":0},{"$f":"推定用途置換ルール!BJK3","v":0},{"$f":"推定用途置換ルール!BJL3","v":0},{"$f":"推定用途置換ルール!BJM3","v":0},{"$f":"推定用途置換ルール!BJN3","v":0},{"$f":"推定用途置換ルール!BJO3","v":0},{"$f":"推定用途置換ルール!BJP3","v":0},{"$f":"推定用途置換ルール!BJQ3","v":0},{"$f":"推定用途置換ルール!BJR3","v":0},{"$f":"推定用途置換ルール!BJS3","v":0},{"$f":"推定用途置換ルール!BJT3","v":0},{"$f":"推定用途置換ルール!BJU3","v":0},{"$f":"推定用途置換ルール!BJV3","v":0},{"$f":"推定用途置換ルール!BJW3","v":0},{"$f":"推定用途置換ルール!BJX3","v":0},{"$f":"推定用途置換ルール!BJY3","v":0},{"$f":"推定用途置換ルール!BJZ3","v":0},{"$f":"推定用途置換ルール!BKA3","v":0},{"$f":"推定用途置換ルール!BKB3","v":0},{"$f":"推定用途置換ルール!BKC3","v":0},{"$f":"推定用途置換ルール!BKD3","v":0},{"$f":"推定用途置換ルール!BKE3","v":0},{"$f":"推定用途置換ルール!BKF3","v":0},{"$f":"推定用途置換ルール!BKG3","v":0},{"$f":"推定用途置換ルール!BKH3","v":0},{"$f":"推定用途置換ルール!BKI3","v":0},{"$f":"推定用途置換ルール!BKJ3","v":0},{"$f":"推定用途置換ルール!BKK3","v":0},{"$f":"推定用途置換ルール!BKL3","v":0},{"$f":"推定用途置換ルール!BKM3","v":0},{"$f":"推定用途置換ルール!BKN3","v":0},{"$f":"推定用途置換ルール!BKO3","v":0},{"$f":"推定用途置換ルール!BKP3","v":0},{"$f":"推定用途置換ルール!BKQ3","v":0},{"$f":"推定用途置換ルール!BKR3","v":0},{"$f":"推定用途置換ルール!BKS3","v":0},{"$f":"推定用途置換ルール!BKT3","v":0},{"$f":"推定用途置換ルール!BKU3","v":0},{"$f":"推定用途置換ルール!BKV3","v":0},{"$f":"推定用途置換ルール!BKW3","v":0},{"$f":"推定用途置換ルール!BKX3","v":0},{"$f":"推定用途置換ルール!BKY3","v":0},{"$f":"推定用途置換ルール!BKZ3","v":0},{"$f":"推定用途置換ルール!BLA3","v":0},{"$f":"推定用途置換ルール!BLB3","v":0},{"$f":"推定用途置換ルール!BLC3","v":0},{"$f":"推定用途置換ルール!BLD3","v":0},{"$f":"推定用途置換ルール!BLE3","v":0},{"$f":"推定用途置換ルール!BLF3","v":0},{"$f":"推定用途置換ルール!BLG3","v":0},{"$f":"推定用途置換ルール!BLH3","v":0},{"$f":"推定用途置換ルール!BLI3","v":0},{"$f":"推定用途置換ルール!BLJ3","v":0},{"$f":"推定用途置換ルール!BLK3","v":0},{"$f":"推定用途置換ルール!BLL3","v":0},{"$f":"推定用途置換ルール!BLM3","v":0},{"$f":"推定用途置換ルール!BLN3","v":0},{"$f":"推定用途置換ルール!BLO3","v":0},{"$f":"推定用途置換ルール!BLP3","v":0},{"$f":"推定用途置換ルール!BLQ3","v":0},{"$f":"推定用途置換ルール!BLR3","v":0},{"$f":"推定用途置換ルール!BLS3","v":0},{"$f":"推定用途置換ルール!BLT3","v":0},{"$f":"推定用途置換ルール!BLU3","v":0},{"$f":"推定用途置換ルール!BLV3","v":0},{"$f":"推定用途置換ルール!BLW3","v":0},{"$f":"推定用途置換ルール!BLX3","v":0},{"$f":"推定用途置換ルール!BLY3","v":0},{"$f":"推定用途置換ルール!BLZ3","v":0},{"$f":"推定用途置換ルール!BMA3","v":0},{"$f":"推定用途置換ルール!BMB3","v":0},{"$f":"推定用途置換ルール!BMC3","v":0},{"$f":"推定用途置換ルール!BMD3","v":0},{"$f":"推定用途置換ルール!BME3","v":0},{"$f":"推定用途置換ルール!BMF3","v":0},{"$f":"推定用途置換ルール!BMG3","v":0},{"$f":"推定用途置換ルール!BMH3","v":0},{"$f":"推定用途置換ルール!BMI3","v":0},{"$f":"推定用途置換ルール!BMJ3","v":0},{"$f":"推定用途置換ルール!BMK3","v":0},{"$f":"推定用途置換ルール!BML3","v":0},{"$f":"推定用途置換ルール!BMM3","v":0},{"$f":"推定用途置換ルール!BMN3","v":0},{"$f":"推定用途置換ルール!BMO3","v":0},{"$f":"推定用途置換ルール!BMP3","v":0},{"$f":"推定用途置換ルール!BMQ3","v":0},{"$f":"推定用途置換ルール!BMR3","v":0},{"$f":"推定用途置換ルール!BMS3","v":0},{"$f":"推定用途置換ルール!BMT3","v":0},{"$f":"推定用途置換ルール!BMU3","v":0},{"$f":"推定用途置換ルール!BMV3","v":0},{"$f":"推定用途置換ルール!BMW3","v":0},{"$f":"推定用途置換ルール!BMX3","v":0},{"$f":"推定用途置換ルール!BMY3","v":0},{"$f":"推定用途置換ルール!BMZ3","v":0},{"$f":"推定用途置換ルール!BNA3","v":0},{"$f":"推定用途置換ルール!BNB3","v":0},{"$f":"推定用途置換ルール!BNC3","v":0},{"$f":"推定用途置換ルール!BND3","v":0},{"$f":"推定用途置換ルール!BNE3","v":0},{"$f":"推定用途置換ルール!BNF3","v":0},{"$f":"推定用途置換ルール!BNG3","v":0},{"$f":"推定用途置換ルール!BNH3","v":0},{"$f":"推定用途置換ルール!BNI3","v":0},{"$f":"推定用途置換ルール!BNJ3","v":0},{"$f":"推定用途置換ルール!BNK3","v":0},{"$f":"推定用途置換ルール!BNL3","v":0},{"$f":"推定用途置換ルール!BNM3","v":0},{"$f":"推定用途置換ルール!BNN3","v":0},{"$f":"推定用途置換ルール!BNO3","v":0},{"$f":"推定用途置換ルール!BNP3","v":0},{"$f":"推定用途置換ルール!BNQ3","v":0},{"$f":"推定用途置換ルール!BNR3","v":0},{"$f":"推定用途置換ルール!BNS3","v":0},{"$f":"推定用途置換ルール!BNT3","v":0},{"$f":"推定用途置換ルール!BNU3","v":0},{"$f":"推定用途置換ルール!BNV3","v":0},{"$f":"推定用途置換ルール!BNW3","v":0},{"$f":"推定用途置換ルール!BNX3","v":0},{"$f":"推定用途置換ルール!BNY3","v":0},{"$f":"推定用途置換ルール!BNZ3","v":0},{"$f":"推定用途置換ルール!BOA3","v":0},{"$f":"推定用途置換ルール!BOB3","v":0},{"$f":"推定用途置換ルール!BOC3","v":0},{"$f":"推定用途置換ルール!BOD3","v":0},{"$f":"推定用途置換ルール!BOE3","v":0},{"$f":"推定用途置換ルール!BOF3","v":0},{"$f":"推定用途置換ルール!BOG3","v":0},{"$f":"推定用途置換ルール!BOH3","v":0},{"$f":"推定用途置換ルール!BOI3","v":0},{"$f":"推定用途置換ルール!BOJ3","v":0},{"$f":"推定用途置換ルール!BOK3","v":0},{"$f":"推定用途置換ルール!BOL3","v":0},{"$f":"推定用途置換ルール!BOM3","v":0},{"$f":"推定用途置換ルール!BON3","v":0},{"$f":"推定用途置換ルール!BOO3","v":0},{"$f":"推定用途置換ルール!BOP3","v":0},{"$f":"推定用途置換ルール!BOQ3","v":0},{"$f":"推定用途置換ルール!BOR3","v":0},{"$f":"推定用途置換ルール!BOS3","v":0},{"$f":"推定用途置換ルール!BOT3","v":0},{"$f":"推定用途置換ルール!BOU3","v":0},{"$f":"推定用途置換ルール!BOV3","v":0},{"$f":"推定用途置換ルール!BOW3","v":0},{"$f":"推定用途置換ルール!BOX3","v":0},{"$f":"推定用途置換ルール!BOY3","v":0},{"$f":"推定用途置換ルール!BOZ3","v":0},{"$f":"推定用途置換ルール!BPA3","v":0},{"$f":"推定用途置換ルール!BPB3","v":0},{"$f":"推定用途置換ルール!BPC3","v":0},{"$f":"推定用途置換ルール!BPD3","v":0},{"$f":"推定用途置換ルール!BPE3","v":0},{"$f":"推定用途置換ルール!BPF3","v":0},{"$f":"推定用途置換ルール!BPG3","v":0},{"$f":"推定用途置換ルール!BPH3","v":0},{"$f":"推定用途置換ルール!BPI3","v":0},{"$f":"推定用途置換ルール!BPJ3","v":0},{"$f":"推定用途置換ルール!BPK3","v":0},{"$f":"推定用途置換ルール!BPL3","v":0},{"$f":"推定用途置換ルール!BPM3","v":0},{"$f":"推定用途置換ルール!BPN3","v":0},{"$f":"推定用途置換ルール!BPO3","v":0},{"$f":"推定用途置換ルール!BPP3","v":0},{"$f":"推定用途置換ルール!BPQ3","v":0},{"$f":"推定用途置換ルール!BPR3","v":0},{"$f":"推定用途置換ルール!BPS3","v":0},{"$f":"推定用途置換ルール!BPT3","v":0},{"$f":"推定用途置換ルール!BPU3","v":0},{"$f":"推定用途置換ルール!BPV3","v":0},{"$f":"推定用途置換ルール!BPW3","v":0},{"$f":"推定用途置換ルール!BPX3","v":0},{"$f":"推定用途置換ルール!BPY3","v":0},{"$f":"推定用途置換ルール!BPZ3","v":0},{"$f":"推定用途置換ルール!BQA3","v":0},{"$f":"推定用途置換ルール!BQB3","v":0},{"$f":"推定用途置換ルール!BQC3","v":0},{"$f":"推定用途置換ルール!BQD3","v":0},{"$f":"推定用途置換ルール!BQE3","v":0},{"$f":"推定用途置換ルール!BQF3","v":0},{"$f":"推定用途置換ルール!BQG3","v":0},{"$f":"推定用途置換ルール!BQH3","v":0},{"$f":"推定用途置換ルール!BQI3","v":0},{"$f":"推定用途置換ルール!BQJ3","v":0},{"$f":"推定用途置換ルール!BQK3","v":0},{"$f":"推定用途置換ルール!BQL3","v":0},{"$f":"推定用途置換ルール!BQM3","v":0},{"$f":"推定用途置換ルール!BQN3","v":0},{"$f":"推定用途置換ルール!BQO3","v":0},{"$f":"推定用途置換ルール!BQP3","v":0},{"$f":"推定用途置換ルール!BQQ3","v":0},{"$f":"推定用途置換ルール!BQR3","v":0},{"$f":"推定用途置換ルール!BQS3","v":0},{"$f":"推定用途置換ルール!BQT3","v":0},{"$f":"推定用途置換ルール!BQU3","v":0},{"$f":"推定用途置換ルール!BQV3","v":0},{"$f":"推定用途置換ルール!BQW3","v":0},{"$f":"推定用途置換ルール!BQX3","v":0},{"$f":"推定用途置換ルール!BQY3","v":0},{"$f":"推定用途置換ルール!BQZ3","v":0},{"$f":"推定用途置換ルール!BRA3","v":0},{"$f":"推定用途置換ルール!BRB3","v":0},{"$f":"推定用途置換ルール!BRC3","v":0},{"$f":"推定用途置換ルール!BRD3","v":0},{"$f":"推定用途置換ルール!BRE3","v":0},{"$f":"推定用途置換ルール!BRF3","v":0},{"$f":"推定用途置換ルール!BRG3","v":0},{"$f":"推定用途置換ルール!BRH3","v":0},{"$f":"推定用途置換ルール!BRI3","v":0},{"$f":"推定用途置換ルール!BRJ3","v":0},{"$f":"推定用途置換ルール!BRK3","v":0},{"$f":"推定用途置換ルール!BRL3","v":0},{"$f":"推定用途置換ルール!BRM3","v":0},{"$f":"推定用途置換ルール!BRN3","v":0},{"$f":"推定用途置換ルール!BRO3","v":0},{"$f":"推定用途置換ルール!BRP3","v":0},{"$f":"推定用途置換ルール!BRQ3","v":0},{"$f":"推定用途置換ルール!BRR3","v":0},{"$f":"推定用途置換ルール!BRS3","v":0},{"$f":"推定用途置換ルール!BRT3","v":0},{"$f":"推定用途置換ルール!BRU3","v":0},{"$f":"推定用途置換ルール!BRV3","v":0},{"$f":"推定用途置換ルール!BRW3","v":0},{"$f":"推定用途置換ルール!BRX3","v":0},{"$f":"推定用途置換ルール!BRY3","v":0},{"$f":"推定用途置換ルール!BRZ3","v":0},{"$f":"推定用途置換ルール!BSA3","v":0},{"$f":"推定用途置換ルール!BSB3","v":0},{"$f":"推定用途置換ルール!BSC3","v":0},{"$f":"推定用途置換ルール!BSD3","v":0},{"$f":"推定用途置換ルール!BSE3","v":0},{"$f":"推定用途置換ルール!BSF3","v":0},{"$f":"推定用途置換ルール!BSG3","v":0},{"$f":"推定用途置換ルール!BSH3","v":0},{"$f":"推定用途置換ルール!BSI3","v":0},{"$f":"推定用途置換ルール!BSJ3","v":0},{"$f":"推定用途置換ルール!BSK3","v":0},{"$f":"推定用途置換ルール!BSL3","v":0},{"$f":"推定用途置換ルール!BSM3","v":0},{"$f":"推定用途置換ルール!BSN3","v":0},{"$f":"推定用途置換ルール!BSO3","v":0},{"$f":"推定用途置換ルール!BSP3","v":0},{"$f":"推定用途置換ルール!BSQ3","v":0},{"$f":"推定用途置換ルール!BSR3","v":0},{"$f":"推定用途置換ルール!BSS3","v":0},{"$f":"推定用途置換ルール!BST3","v":0},{"$f":"推定用途置換ルール!BSU3","v":0},{"$f":"推定用途置換ルール!BSV3","v":0},{"$f":"推定用途置換ルール!BSW3","v":0},{"$f":"推定用途置換ルール!BSX3","v":0},{"$f":"推定用途置換ルール!BSY3","v":0},{"$f":"推定用途置換ルール!BSZ3","v":0},{"$f":"推定用途置換ルール!BTA3","v":0},{"$f":"推定用途置換ルール!BTB3","v":0},{"$f":"推定用途置換ルール!BTC3","v":0},{"$f":"推定用途置換ルール!BTD3","v":0},{"$f":"推定用途置換ルール!BTE3","v":0},{"$f":"推定用途置換ルール!BTF3","v":0},{"$f":"推定用途置換ルール!BTG3","v":0},{"$f":"推定用途置換ルール!BTH3","v":0},{"$f":"推定用途置換ルール!BTI3","v":0},{"$f":"推定用途置換ルール!BTJ3","v":0},{"$f":"推定用途置換ルール!BTK3","v":0},{"$f":"推定用途置換ルール!BTL3","v":0},{"$f":"推定用途置換ルール!BTM3","v":0},{"$f":"推定用途置換ルール!BTN3","v":0},{"$f":"推定用途置換ルール!BTO3","v":0},{"$f":"推定用途置換ルール!BTP3","v":0},{"$f":"推定用途置換ルール!BTQ3","v":0},{"$f":"推定用途置換ルール!BTR3","v":0},{"$f":"推定用途置換ルール!BTS3","v":0},{"$f":"推定用途置換ルール!BTT3","v":0},{"$f":"推定用途置換ルール!BTU3","v":0},{"$f":"推定用途置換ルール!BTV3","v":0},{"$f":"推定用途置換ルール!BTW3","v":0},{"$f":"推定用途置換ルール!BTX3","v":0},{"$f":"推定用途置換ルール!BTY3","v":0},{"$f":"推定用途置換ルール!BTZ3","v":0},{"$f":"推定用途置換ルール!BUA3","v":0},{"$f":"推定用途置換ルール!BUB3","v":0},{"$f":"推定用途置換ルール!BUC3","v":0},{"$f":"推定用途置換ルール!BUD3","v":0},{"$f":"推定用途置換ルール!BUE3","v":0},{"$f":"推定用途置換ルール!BUF3","v":0},{"$f":"推定用途置換ルール!BUG3","v":0},{"$f":"推定用途置換ルール!BUH3","v":0},{"$f":"推定用途置換ルール!BUI3","v":0},{"$f":"推定用途置換ルール!BUJ3","v":0},{"$f":"推定用途置換ルール!BUK3","v":0},{"$f":"推定用途置換ルール!BUL3","v":0},{"$f":"推定用途置換ルール!BUM3","v":0},{"$f":"推定用途置換ルール!BUN3","v":0},{"$f":"推定用途置換ルール!BUO3","v":0},{"$f":"推定用途置換ルール!BUP3","v":0},{"$f":"推定用途置換ルール!BUQ3","v":0},{"$f":"推定用途置換ルール!BUR3","v":0},{"$f":"推定用途置換ルール!BUS3","v":0},{"$f":"推定用途置換ルール!BUT3","v":0},{"$f":"推定用途置換ルール!BUU3","v":0},{"$f":"推定用途置換ルール!BUV3","v":0},{"$f":"推定用途置換ルール!BUW3","v":0},{"$f":"推定用途置換ルール!BUX3","v":0},{"$f":"推定用途置換ルール!BUY3","v":0},{"$f":"推定用途置換ルール!BUZ3","v":0},{"$f":"推定用途置換ルール!BVA3","v":0},{"$f":"推定用途置換ルール!BVB3","v":0},{"$f":"推定用途置換ルール!BVC3","v":0},{"$f":"推定用途置換ルール!BVD3","v":0},{"$f":"推定用途置換ルール!BVE3","v":0},{"$f":"推定用途置換ルール!BVF3","v":0},{"$f":"推定用途置換ルール!BVG3","v":0},{"$f":"推定用途置換ルール!BVH3","v":0},{"$f":"推定用途置換ルール!BVI3","v":0},{"$f":"推定用途置換ルール!BVJ3","v":0},{"$f":"推定用途置換ルール!BVK3","v":0},{"$f":"推定用途置換ルール!BVL3","v":0},{"$f":"推定用途置換ルール!BVM3","v":0},{"$f":"推定用途置換ルール!BVN3","v":0},{"$f":"推定用途置換ルール!BVO3","v":0},{"$f":"推定用途置換ルール!BVP3","v":0},{"$f":"推定用途置換ルール!BVQ3","v":0},{"$f":"推定用途置換ルール!BVR3","v":0},{"$f":"推定用途置換ルール!BVS3","v":0},{"$f":"推定用途置換ルール!BVT3","v":0},{"$f":"推定用途置換ルール!BVU3","v":0},{"$f":"推定用途置換ルール!BVV3","v":0},{"$f":"推定用途置換ルール!BVW3","v":0},{"$f":"推定用途置換ルール!BVX3","v":0},{"$f":"推定用途置換ルール!BVY3","v":0},{"$f":"推定用途置換ルール!BVZ3","v":0},{"$f":"推定用途置換ルール!BWA3","v":0},{"$f":"推定用途置換ルール!BWB3","v":0},{"$f":"推定用途置換ルール!BWC3","v":0},{"$f":"推定用途置換ルール!BWD3","v":0},{"$f":"推定用途置換ルール!BWE3","v":0},{"$f":"推定用途置換ルール!BWF3","v":0},{"$f":"推定用途置換ルール!BWG3","v":0},{"$f":"推定用途置換ルール!BWH3","v":0},{"$f":"推定用途置換ルール!BWI3","v":0},{"$f":"推定用途置換ルール!BWJ3","v":0},{"$f":"推定用途置換ルール!BWK3","v":0},{"$f":"推定用途置換ルール!BWL3","v":0},{"$f":"推定用途置換ルール!BWM3","v":0},{"$f":"推定用途置換ルール!BWN3","v":0},{"$f":"推定用途置換ルール!BWO3","v":0},{"$f":"推定用途置換ルール!BWP3","v":0},{"$f":"推定用途置換ルール!BWQ3","v":0},{"$f":"推定用途置換ルール!BWR3","v":0},{"$f":"推定用途置換ルール!BWS3","v":0},{"$f":"推定用途置換ルール!BWT3","v":0},{"$f":"推定用途置換ルール!BWU3","v":0},{"$f":"推定用途置換ルール!BWV3","v":0},{"$f":"推定用途置換ルール!BWW3","v":0},{"$f":"推定用途置換ルール!BWX3","v":0},{"$f":"推定用途置換ルール!BWY3","v":0},{"$f":"推定用途置換ルール!BWZ3","v":0},{"$f":"推定用途置換ルール!BXA3","v":0},{"$f":"推定用途置換ルール!BXB3","v":0},{"$f":"推定用途置換ルール!BXC3","v":0},{"$f":"推定用途置換ルール!BXD3","v":0},{"$f":"推定用途置換ルール!BXE3","v":0},{"$f":"推定用途置換ルール!BXF3","v":0},{"$f":"推定用途置換ルール!BXG3","v":0},{"$f":"推定用途置換ルール!BXH3","v":0},{"$f":"推定用途置換ルール!BXI3","v":0},{"$f":"推定用途置換ルール!BXJ3","v":0},{"$f":"推定用途置換ルール!BXK3","v":0},{"$f":"推定用途置換ルール!BXL3","v":0},{"$f":"推定用途置換ルール!BXM3","v":0},{"$f":"推定用途置換ルール!BXN3","v":0},{"$f":"推定用途置換ルール!BXO3","v":0},{"$f":"推定用途置換ルール!BXP3","v":0},{"$f":"推定用途置換ルール!BXQ3","v":0},{"$f":"推定用途置換ルール!BXR3","v":0},{"$f":"推定用途置換ルール!BXS3","v":0},{"$f":"推定用途置換ルール!BXT3","v":0},{"$f":"推定用途置換ルール!BXU3","v":0},{"$f":"推定用途置換ルール!BXV3","v":0},{"$f":"推定用途置換ルール!BXW3","v":0},{"$f":"推定用途置換ルール!BXX3","v":0},{"$f":"推定用途置換ルール!BXY3","v":0},{"$f":"推定用途置換ルール!BXZ3","v":0},{"$f":"推定用途置換ルール!BYA3","v":0},{"$f":"推定用途置換ルール!BYB3","v":0},{"$f":"推定用途置換ルール!BYC3","v":0},{"$f":"推定用途置換ルール!BYD3","v":0},{"$f":"推定用途置換ルール!BYE3","v":0},{"$f":"推定用途置換ルール!BYF3","v":0},{"$f":"推定用途置換ルール!BYG3","v":0},{"$f":"推定用途置換ルール!BYH3","v":0},{"$f":"推定用途置換ルール!BYI3","v":0},{"$f":"推定用途置換ルール!BYJ3","v":0},{"$f":"推定用途置換ルール!BYK3","v":0},{"$f":"推定用途置換ルール!BYL3","v":0},{"$f":"推定用途置換ルール!BYM3","v":0},{"$f":"推定用途置換ルール!BYN3","v":0},{"$f":"推定用途置換ルール!BYO3","v":0},{"$f":"推定用途置換ルール!BYP3","v":0},{"$f":"推定用途置換ルール!BYQ3","v":0},{"$f":"推定用途置換ルール!BYR3","v":0},{"$f":"推定用途置換ルール!BYS3","v":0},{"$f":"推定用途置換ルール!BYT3","v":0},{"$f":"推定用途置換ルール!BYU3","v":0},{"$f":"推定用途置換ルール!BYV3","v":0},{"$f":"推定用途置換ルール!BYW3","v":0},{"$f":"推定用途置換ルール!BYX3","v":0},{"$f":"推定用途置換ルール!BYY3","v":0},{"$f":"推定用途置換ルール!BYZ3","v":0},{"$f":"推定用途置換ルール!BZA3","v":0},{"$f":"推定用途置換ルール!BZB3","v":0},{"$f":"推定用途置換ルール!BZC3","v":0},{"$f":"推定用途置換ルール!BZD3","v":0},{"$f":"推定用途置換ルール!BZE3","v":0},{"$f":"推定用途置換ルール!BZF3","v":0},{"$f":"推定用途置換ルール!BZG3","v":0},{"$f":"推定用途置換ルール!BZH3","v":0},{"$f":"推定用途置換ルール!BZI3","v":0},{"$f":"推定用途置換ルール!BZJ3","v":0},{"$f":"推定用途置換ルール!BZK3","v":0},{"$f":"推定用途置換ルール!BZL3","v":0},{"$f":"推定用途置換ルール!BZM3","v":0},{"$f":"推定用途置換ルール!BZN3","v":0},{"$f":"推定用途置換ルール!BZO3","v":0},{"$f":"推定用途置換ルール!BZP3","v":0},{"$f":"推定用途置換ルール!BZQ3","v":0},{"$f":"推定用途置換ルール!BZR3","v":0},{"$f":"推定用途置換ルール!BZS3","v":0},{"$f":"推定用途置換ルール!BZT3","v":0},{"$f":"推定用途置換ルール!BZU3","v":0},{"$f":"推定用途置換ルール!BZV3","v":0},{"$f":"推定用途置換ルール!BZW3","v":0},{"$f":"推定用途置換ルール!BZX3","v":0},{"$f":"推定用途置換ルール!BZY3","v":0},{"$f":"推定用途置換ルール!BZZ3","v":0},{"$f":"推定用途置換ルール!CAA3","v":0},{"$f":"推定用途置換ルール!CAB3","v":0},{"$f":"推定用途置換ルール!CAC3","v":0},{"$f":"推定用途置換ルール!CAD3","v":0},{"$f":"推定用途置換ルール!CAE3","v":0},{"$f":"推定用途置換ルール!CAF3","v":0},{"$f":"推定用途置換ルール!CAG3","v":0},{"$f":"推定用途置換ルール!CAH3","v":0},{"$f":"推定用途置換ルール!CAI3","v":0},{"$f":"推定用途置換ルール!CAJ3","v":0},{"$f":"推定用途置換ルール!CAK3","v":0},{"$f":"推定用途置換ルール!CAL3","v":0},{"$f":"推定用途置換ルール!CAM3","v":0},{"$f":"推定用途置換ルール!CAN3","v":0},{"$f":"推定用途置換ルール!CAO3","v":0},{"$f":"推定用途置換ルール!CAP3","v":0},{"$f":"推定用途置換ルール!CAQ3","v":0},{"$f":"推定用途置換ルール!CAR3","v":0},{"$f":"推定用途置換ルール!CAS3","v":0},{"$f":"推定用途置換ルール!CAT3","v":0},{"$f":"推定用途置換ルール!CAU3","v":0},{"$f":"推定用途置換ルール!CAV3","v":0},{"$f":"推定用途置換ルール!CAW3","v":0},{"$f":"推定用途置換ルール!CAX3","v":0},{"$f":"推定用途置換ルール!CAY3","v":0},{"$f":"推定用途置換ルール!CAZ3","v":0},{"$f":"推定用途置換ルール!CBA3","v":0},{"$f":"推定用途置換ルール!CBB3","v":0},{"$f":"推定用途置換ルール!CBC3","v":0},{"$f":"推定用途置換ルール!CBD3","v":0},{"$f":"推定用途置換ルール!CBE3","v":0},{"$f":"推定用途置換ルール!CBF3","v":0},{"$f":"推定用途置換ルール!CBG3","v":0},{"$f":"推定用途置換ルール!CBH3","v":0},{"$f":"推定用途置換ルール!CBI3","v":0},{"$f":"推定用途置換ルール!CBJ3","v":0},{"$f":"推定用途置換ルール!CBK3","v":0},{"$f":"推定用途置換ルール!CBL3","v":0},{"$f":"推定用途置換ルール!CBM3","v":0},{"$f":"推定用途置換ルール!CBN3","v":0},{"$f":"推定用途置換ルール!CBO3","v":0},{"$f":"推定用途置換ルール!CBP3","v":0},{"$f":"推定用途置換ルール!CBQ3","v":0},{"$f":"推定用途置換ルール!CBR3","v":0},{"$f":"推定用途置換ルール!CBS3","v":0},{"$f":"推定用途置換ルール!CBT3","v":0},{"$f":"推定用途置換ルール!CBU3","v":0},{"$f":"推定用途置換ルール!CBV3","v":0},{"$f":"推定用途置換ルール!CBW3","v":0},{"$f":"推定用途置換ルール!CBX3","v":0},{"$f":"推定用途置換ルール!CBY3","v":0},{"$f":"推定用途置換ルール!CBZ3","v":0},{"$f":"推定用途置換ルール!CCA3","v":0},{"$f":"推定用途置換ルール!CCB3","v":0},{"$f":"推定用途置換ルール!CCC3","v":0},{"$f":"推定用途置換ルール!CCD3","v":0},{"$f":"推定用途置換ルール!CCE3","v":0},{"$f":"推定用途置換ルール!CCF3","v":0},{"$f":"推定用途置換ルール!CCG3","v":0},{"$f":"推定用途置換ルール!CCH3","v":0},{"$f":"推定用途置換ルール!CCI3","v":0},{"$f":"推定用途置換ルール!CCJ3","v":0},{"$f":"推定用途置換ルール!CCK3","v":0},{"$f":"推定用途置換ルール!CCL3","v":0},{"$f":"推定用途置換ルール!CCM3","v":0},{"$f":"推定用途置換ルール!CCN3","v":0},{"$f":"推定用途置換ルール!CCO3","v":0},{"$f":"推定用途置換ルール!CCP3","v":0},{"$f":"推定用途置換ルール!CCQ3","v":0},{"$f":"推定用途置換ルール!CCR3","v":0},{"$f":"推定用途置換ルール!CCS3","v":0},{"$f":"推定用途置換ルール!CCT3","v":0},{"$f":"推定用途置換ルール!CCU3","v":0},{"$f":"推定用途置換ルール!CCV3","v":0},{"$f":"推定用途置換ルール!CCW3","v":0},{"$f":"推定用途置換ルール!CCX3","v":0},{"$f":"推定用途置換ルール!CCY3","v":0},{"$f":"推定用途置換ルール!CCZ3","v":0},{"$f":"推定用途置換ルール!CDA3","v":0},{"$f":"推定用途置換ルール!CDB3","v":0},{"$f":"推定用途置換ルール!CDC3","v":0},{"$f":"推定用途置換ルール!CDD3","v":0},{"$f":"推定用途置換ルール!CDE3","v":0},{"$f":"推定用途置換ルール!CDF3","v":0},{"$f":"推定用途置換ルール!CDG3","v":0},{"$f":"推定用途置換ルール!CDH3","v":0},{"$f":"推定用途置換ルール!CDI3","v":0},{"$f":"推定用途置換ルール!CDJ3","v":0},{"$f":"推定用途置換ルール!CDK3","v":0},{"$f":"推定用途置換ルール!CDL3","v":0},{"$f":"推定用途置換ルール!CDM3","v":0},{"$f":"推定用途置換ルール!CDN3","v":0},{"$f":"推定用途置換ルール!CDO3","v":0},{"$f":"推定用途置換ルール!CDP3","v":0},{"$f":"推定用途置換ルール!CDQ3","v":0},{"$f":"推定用途置換ルール!CDR3","v":0},{"$f":"推定用途置換ルール!CDS3","v":0},{"$f":"推定用途置換ルール!CDT3","v":0},{"$f":"推定用途置換ルール!CDU3","v":0},{"$f":"推定用途置換ルール!CDV3","v":0},{"$f":"推定用途置換ルール!CDW3","v":0},{"$f":"推定用途置換ルール!CDX3","v":0},{"$f":"推定用途置換ルール!CDY3","v":0},{"$f":"推定用途置換ルール!CDZ3","v":0},{"$f":"推定用途置換ルール!CEA3","v":0},{"$f":"推定用途置換ルール!CEB3","v":0},{"$f":"推定用途置換ルール!CEC3","v":0},{"$f":"推定用途置換ルール!CED3","v":0},{"$f":"推定用途置換ルール!CEE3","v":0},{"$f":"推定用途置換ルール!CEF3","v":0},{"$f":"推定用途置換ルール!CEG3","v":0},{"$f":"推定用途置換ルール!CEH3","v":0},{"$f":"推定用途置換ルール!CEI3","v":0},{"$f":"推定用途置換ルール!CEJ3","v":0},{"$f":"推定用途置換ルール!CEK3","v":0},{"$f":"推定用途置換ルール!CEL3","v":0},{"$f":"推定用途置換ルール!CEM3","v":0},{"$f":"推定用途置換ルール!CEN3","v":0},{"$f":"推定用途置換ルール!CEO3","v":0},{"$f":"推定用途置換ルール!CEP3","v":0},{"$f":"推定用途置換ルール!CEQ3","v":0},{"$f":"推定用途置換ルール!CER3","v":0},{"$f":"推定用途置換ルール!CES3","v":0},{"$f":"推定用途置換ルール!CET3","v":0},{"$f":"推定用途置換ルール!CEU3","v":0},{"$f":"推定用途置換ルール!CEV3","v":0},{"$f":"推定用途置換ルール!CEW3","v":0},{"$f":"推定用途置換ルール!CEX3","v":0},{"$f":"推定用途置換ルール!CEY3","v":0},{"$f":"推定用途置換ルール!CEZ3","v":0},{"$f":"推定用途置換ルール!CFA3","v":0},{"$f":"推定用途置換ルール!CFB3","v":0},{"$f":"推定用途置換ルール!CFC3","v":0},{"$f":"推定用途置換ルール!CFD3","v":0},{"$f":"推定用途置換ルール!CFE3","v":0},{"$f":"推定用途置換ルール!CFF3","v":0},{"$f":"推定用途置換ルール!CFG3","v":0},{"$f":"推定用途置換ルール!CFH3","v":0},{"$f":"推定用途置換ルール!CFI3","v":0},{"$f":"推定用途置換ルール!CFJ3","v":0},{"$f":"推定用途置換ルール!CFK3","v":0},{"$f":"推定用途置換ルール!CFL3","v":0},{"$f":"推定用途置換ルール!CFM3","v":0},{"$f":"推定用途置換ルール!CFN3","v":0},{"$f":"推定用途置換ルール!CFO3","v":0},{"$f":"推定用途置換ルール!CFP3","v":0},{"$f":"推定用途置換ルール!CFQ3","v":0},{"$f":"推定用途置換ルール!CFR3","v":0},{"$f":"推定用途置換ルール!CFS3","v":0},{"$f":"推定用途置換ルール!CFT3","v":0},{"$f":"推定用途置換ルール!CFU3","v":0},{"$f":"推定用途置換ルール!CFV3","v":0},{"$f":"推定用途置換ルール!CFW3","v":0},{"$f":"推定用途置換ルール!CFX3","v":0},{"$f":"推定用途置換ルール!CFY3","v":0},{"$f":"推定用途置換ルール!CFZ3","v":0},{"$f":"推定用途置換ルール!CGA3","v":0},{"$f":"推定用途置換ルール!CGB3","v":0},{"$f":"推定用途置換ルール!CGC3","v":0},{"$f":"推定用途置換ルール!CGD3","v":0},{"$f":"推定用途置換ルール!CGE3","v":0},{"$f":"推定用途置換ルール!CGF3","v":0},{"$f":"推定用途置換ルール!CGG3","v":0},{"$f":"推定用途置換ルール!CGH3","v":0},{"$f":"推定用途置換ルール!CGI3","v":0},{"$f":"推定用途置換ルール!CGJ3","v":0},{"$f":"推定用途置換ルール!CGK3","v":0},{"$f":"推定用途置換ルール!CGL3","v":0},{"$f":"推定用途置換ルール!CGM3","v":0},{"$f":"推定用途置換ルール!CGN3","v":0},{"$f":"推定用途置換ルール!CGO3","v":0},{"$f":"推定用途置換ルール!CGP3","v":0},{"$f":"推定用途置換ルール!CGQ3","v":0},{"$f":"推定用途置換ルール!CGR3","v":0},{"$f":"推定用途置換ルール!CGS3","v":0},{"$f":"推定用途置換ルール!CGT3","v":0},{"$f":"推定用途置換ルール!CGU3","v":0},{"$f":"推定用途置換ルール!CGV3","v":0},{"$f":"推定用途置換ルール!CGW3","v":0},{"$f":"推定用途置換ルール!CGX3","v":0},{"$f":"推定用途置換ルール!CGY3","v":0},{"$f":"推定用途置換ルール!CGZ3","v":0},{"$f":"推定用途置換ルール!CHA3","v":0},{"$f":"推定用途置換ルール!CHB3","v":0},{"$f":"推定用途置換ルール!CHC3","v":0},{"$f":"推定用途置換ルール!CHD3","v":0},{"$f":"推定用途置換ルール!CHE3","v":0},{"$f":"推定用途置換ルール!CHF3","v":0},{"$f":"推定用途置換ルール!CHG3","v":0},{"$f":"推定用途置換ルール!CHH3","v":0},{"$f":"推定用途置換ルール!CHI3","v":0},{"$f":"推定用途置換ルール!CHJ3","v":0},{"$f":"推定用途置換ルール!CHK3","v":0},{"$f":"推定用途置換ルール!CHL3","v":0},{"$f":"推定用途置換ルール!CHM3","v":0},{"$f":"推定用途置換ルール!CHN3","v":0},{"$f":"推定用途置換ルール!CHO3","v":0},{"$f":"推定用途置換ルール!CHP3","v":0},{"$f":"推定用途置換ルール!CHQ3","v":0},{"$f":"推定用途置換ルール!CHR3","v":0},{"$f":"推定用途置換ルール!CHS3","v":0},{"$f":"推定用途置換ルール!CHT3","v":0},{"$f":"推定用途置換ルール!CHU3","v":0},{"$f":"推定用途置換ルール!CHV3","v":0},{"$f":"推定用途置換ルール!CHW3","v":0},{"$f":"推定用途置換ルール!CHX3","v":0},{"$f":"推定用途置換ルール!CHY3","v":0},{"$f":"推定用途置換ルール!CHZ3","v":0},{"$f":"推定用途置換ルール!CIA3","v":0},{"$f":"推定用途置換ルール!CIB3","v":0},{"$f":"推定用途置換ルール!CIC3","v":0},{"$f":"推定用途置換ルール!CID3","v":0},{"$f":"推定用途置換ルール!CIE3","v":0},{"$f":"推定用途置換ルール!CIF3","v":0},{"$f":"推定用途置換ルール!CIG3","v":0},{"$f":"推定用途置換ルール!CIH3","v":0},{"$f":"推定用途置換ルール!CII3","v":0},{"$f":"推定用途置換ルール!CIJ3","v":0},{"$f":"推定用途置換ルール!CIK3","v":0},{"$f":"推定用途置換ルール!CIL3","v":0},{"$f":"推定用途置換ルール!CIM3","v":0},{"$f":"推定用途置換ルール!CIN3","v":0},{"$f":"推定用途置換ルール!CIO3","v":0},{"$f":"推定用途置換ルール!CIP3","v":0},{"$f":"推定用途置換ルール!CIQ3","v":0},{"$f":"推定用途置換ルール!CIR3","v":0},{"$f":"推定用途置換ルール!CIS3","v":0},{"$f":"推定用途置換ルール!CIT3","v":0},{"$f":"推定用途置換ルール!CIU3","v":0},{"$f":"推定用途置換ルール!CIV3","v":0},{"$f":"推定用途置換ルール!CIW3","v":0},{"$f":"推定用途置換ルール!CIX3","v":0},{"$f":"推定用途置換ルール!CIY3","v":0},{"$f":"推定用途置換ルール!CIZ3","v":0},{"$f":"推定用途置換ルール!CJA3","v":0},{"$f":"推定用途置換ルール!CJB3","v":0},{"$f":"推定用途置換ルール!CJC3","v":0},{"$f":"推定用途置換ルール!CJD3","v":0},{"$f":"推定用途置換ルール!CJE3","v":0},{"$f":"推定用途置換ルール!CJF3","v":0},{"$f":"推定用途置換ルール!CJG3","v":0},{"$f":"推定用途置換ルール!CJH3","v":0},{"$f":"推定用途置換ルール!CJI3","v":0},{"$f":"推定用途置換ルール!CJJ3","v":0},{"$f":"推定用途置換ルール!CJK3","v":0},{"$f":"推定用途置換ルール!CJL3","v":0},{"$f":"推定用途置換ルール!CJM3","v":0},{"$f":"推定用途置換ルール!CJN3","v":0},{"$f":"推定用途置換ルール!CJO3","v":0},{"$f":"推定用途置換ルール!CJP3","v":0},{"$f":"推定用途置換ルール!CJQ3","v":0},{"$f":"推定用途置換ルール!CJR3","v":0},{"$f":"推定用途置換ルール!CJS3","v":0},{"$f":"推定用途置換ルール!CJT3","v":0},{"$f":"推定用途置換ルール!CJU3","v":0},{"$f":"推定用途置換ルール!CJV3","v":0},{"$f":"推定用途置換ルール!CJW3","v":0},{"$f":"推定用途置換ルール!CJX3","v":0},{"$f":"推定用途置換ルール!CJY3","v":0},{"$f":"推定用途置換ルール!CJZ3","v":0},{"$f":"推定用途置換ルール!CKA3","v":0},{"$f":"推定用途置換ルール!CKB3","v":0},{"$f":"推定用途置換ルール!CKC3","v":0},{"$f":"推定用途置換ルール!CKD3","v":0},{"$f":"推定用途置換ルール!CKE3","v":0},{"$f":"推定用途置換ルール!CKF3","v":0},{"$f":"推定用途置換ルール!CKG3","v":0},{"$f":"推定用途置換ルール!CKH3","v":0},{"$f":"推定用途置換ルール!CKI3","v":0},{"$f":"推定用途置換ルール!CKJ3","v":0},{"$f":"推定用途置換ルール!CKK3","v":0},{"$f":"推定用途置換ルール!CKL3","v":0},{"$f":"推定用途置換ルール!CKM3","v":0},{"$f":"推定用途置換ルール!CKN3","v":0},{"$f":"推定用途置換ルール!CKO3","v":0},{"$f":"推定用途置換ルール!CKP3","v":0},{"$f":"推定用途置換ルール!CKQ3","v":0},{"$f":"推定用途置換ルール!CKR3","v":0},{"$f":"推定用途置換ルール!CKS3","v":0},{"$f":"推定用途置換ルール!CKT3","v":0},{"$f":"推定用途置換ルール!CKU3","v":0},{"$f":"推定用途置換ルール!CKV3","v":0},{"$f":"推定用途置換ルール!CKW3","v":0},{"$f":"推定用途置換ルール!CKX3","v":0},{"$f":"推定用途置換ルール!CKY3","v":0},{"$f":"推定用途置換ルール!CKZ3","v":0},{"$f":"推定用途置換ルール!CLA3","v":0},{"$f":"推定用途置換ルール!CLB3","v":0},{"$f":"推定用途置換ルール!CLC3","v":0},{"$f":"推定用途置換ルール!CLD3","v":0},{"$f":"推定用途置換ルール!CLE3","v":0},{"$f":"推定用途置換ルール!CLF3","v":0},{"$f":"推定用途置換ルール!CLG3","v":0},{"$f":"推定用途置換ルール!CLH3","v":0},{"$f":"推定用途置換ルール!CLI3","v":0},{"$f":"推定用途置換ルール!CLJ3","v":0},{"$f":"推定用途置換ルール!CLK3","v":0},{"$f":"推定用途置換ルール!CLL3","v":0},{"$f":"推定用途置換ルール!CLM3","v":0},{"$f":"推定用途置換ルール!CLN3","v":0},{"$f":"推定用途置換ルール!CLO3","v":0},{"$f":"推定用途置換ルール!CLP3","v":0},{"$f":"推定用途置換ルール!CLQ3","v":0},{"$f":"推定用途置換ルール!CLR3","v":0},{"$f":"推定用途置換ルール!CLS3","v":0},{"$f":"推定用途置換ルール!CLT3","v":0},{"$f":"推定用途置換ルール!CLU3","v":0},{"$f":"推定用途置換ルール!CLV3","v":0},{"$f":"推定用途置換ルール!CLW3","v":0},{"$f":"推定用途置換ルール!CLX3","v":0},{"$f":"推定用途置換ルール!CLY3","v":0},{"$f":"推定用途置換ルール!CLZ3","v":0},{"$f":"推定用途置換ルール!CMA3","v":0},{"$f":"推定用途置換ルール!CMB3","v":0},{"$f":"推定用途置換ルール!CMC3","v":0},{"$f":"推定用途置換ルール!CMD3","v":0},{"$f":"推定用途置換ルール!CME3","v":0},{"$f":"推定用途置換ルール!CMF3","v":0},{"$f":"推定用途置換ルール!CMG3","v":0},{"$f":"推定用途置換ルール!CMH3","v":0},{"$f":"推定用途置換ルール!CMI3","v":0},{"$f":"推定用途置換ルール!CMJ3","v":0},{"$f":"推定用途置換ルール!CMK3","v":0},{"$f":"推定用途置換ルール!CML3","v":0},{"$f":"推定用途置換ルール!CMM3","v":0},{"$f":"推定用途置換ルール!CMN3","v":0},{"$f":"推定用途置換ルール!CMO3","v":0},{"$f":"推定用途置換ルール!CMP3","v":0},{"$f":"推定用途置換ルール!CMQ3","v":0},{"$f":"推定用途置換ルール!CMR3","v":0},{"$f":"推定用途置換ルール!CMS3","v":0},{"$f":"推定用途置換ルール!CMT3","v":0},{"$f":"推定用途置換ルール!CMU3","v":0},{"$f":"推定用途置換ルール!CMV3","v":0},{"$f":"推定用途置換ルール!CMW3","v":0},{"$f":"推定用途置換ルール!CMX3","v":0},{"$f":"推定用途置換ルール!CMY3","v":0},{"$f":"推定用途置換ルール!CMZ3","v":0},{"$f":"推定用途置換ルール!CNA3","v":0},{"$f":"推定用途置換ルール!CNB3","v":0},{"$f":"推定用途置換ルール!CNC3","v":0},{"$f":"推定用途置換ルール!CND3","v":0},{"$f":"推定用途置換ルール!CNE3","v":0},{"$f":"推定用途置換ルール!CNF3","v":0},{"$f":"推定用途置換ルール!CNG3","v":0},{"$f":"推定用途置換ルール!CNH3","v":0},{"$f":"推定用途置換ルール!CNI3","v":0},{"$f":"推定用途置換ルール!CNJ3","v":0},{"$f":"推定用途置換ルール!CNK3","v":0},{"$f":"推定用途置換ルール!CNL3","v":0},{"$f":"推定用途置換ルール!CNM3","v":0},{"$f":"推定用途置換ルール!CNN3","v":0},{"$f":"推定用途置換ルール!CNO3","v":0},{"$f":"推定用途置換ルール!CNP3","v":0},{"$f":"推定用途置換ルール!CNQ3","v":0},{"$f":"推定用途置換ルール!CNR3","v":0},{"$f":"推定用途置換ルール!CNS3","v":0},{"$f":"推定用途置換ルール!CNT3","v":0},{"$f":"推定用途置換ルール!CNU3","v":0},{"$f":"推定用途置換ルール!CNV3","v":0},{"$f":"推定用途置換ルール!CNW3","v":0},{"$f":"推定用途置換ルール!CNX3","v":0},{"$f":"推定用途置換ルール!CNY3","v":0},{"$f":"推定用途置換ルール!CNZ3","v":0},{"$f":"推定用途置換ルール!COA3","v":0},{"$f":"推定用途置換ルール!COB3","v":0},{"$f":"推定用途置換ルール!COC3","v":0},{"$f":"推定用途置換ルール!COD3","v":0},{"$f":"推定用途置換ルール!COE3","v":0},{"$f":"推定用途置換ルール!COF3","v":0},{"$f":"推定用途置換ルール!COG3","v":0},{"$f":"推定用途置換ルール!COH3","v":0},{"$f":"推定用途置換ルール!COI3","v":0},{"$f":"推定用途置換ルール!COJ3","v":0},{"$f":"推定用途置換ルール!COK3","v":0},{"$f":"推定用途置換ルール!COL3","v":0},{"$f":"推定用途置換ルール!COM3","v":0},{"$f":"推定用途置換ルール!CON3","v":0},{"$f":"推定用途置換ルール!COO3","v":0},{"$f":"推定用途置換ルール!COP3","v":0},{"$f":"推定用途置換ルール!COQ3","v":0},{"$f":"推定用途置換ルール!COR3","v":0},{"$f":"推定用途置換ルール!COS3","v":0},{"$f":"推定用途置換ルール!COT3","v":0},{"$f":"推定用途置換ルール!COU3","v":0},{"$f":"推定用途置換ルール!COV3","v":0},{"$f":"推定用途置換ルール!COW3","v":0},{"$f":"推定用途置換ルール!COX3","v":0},{"$f":"推定用途置換ルール!COY3","v":0},{"$f":"推定用途置換ルール!COZ3","v":0},{"$f":"推定用途置換ルール!CPA3","v":0},{"$f":"推定用途置換ルール!CPB3","v":0},{"$f":"推定用途置換ルール!CPC3","v":0},{"$f":"推定用途置換ルール!CPD3","v":0},{"$f":"推定用途置換ルール!CPE3","v":0},{"$f":"推定用途置換ルール!CPF3","v":0},{"$f":"推定用途置換ルール!CPG3","v":0},{"$f":"推定用途置換ルール!CPH3","v":0},{"$f":"推定用途置換ルール!CPI3","v":0},{"$f":"推定用途置換ルール!CPJ3","v":0},{"$f":"推定用途置換ルール!CPK3","v":0},{"$f":"推定用途置換ルール!CPL3","v":0},{"$f":"推定用途置換ルール!CPM3","v":0},{"$f":"推定用途置換ルール!CPN3","v":0},{"$f":"推定用途置換ルール!CPO3","v":0},{"$f":"推定用途置換ルール!CPP3","v":0},{"$f":"推定用途置換ルール!CPQ3","v":0},{"$f":"推定用途置換ルール!CPR3","v":0},{"$f":"推定用途置換ルール!CPS3","v":0},{"$f":"推定用途置換ルール!CPT3","v":0},{"$f":"推定用途置換ルール!CPU3","v":0},{"$f":"推定用途置換ルール!CPV3","v":0},{"$f":"推定用途置換ルール!CPW3","v":0},{"$f":"推定用途置換ルール!CPX3","v":0},{"$f":"推定用途置換ルール!CPY3","v":0},{"$f":"推定用途置換ルール!CPZ3","v":0},{"$f":"推定用途置換ルール!CQA3","v":0},{"$f":"推定用途置換ルール!CQB3","v":0},{"$f":"推定用途置換ルール!CQC3","v":0},{"$f":"推定用途置換ルール!CQD3","v":0},{"$f":"推定用途置換ルール!CQE3","v":0},{"$f":"推定用途置換ルール!CQF3","v":0},{"$f":"推定用途置換ルール!CQG3","v":0},{"$f":"推定用途置換ルール!CQH3","v":0},{"$f":"推定用途置換ルール!CQI3","v":0},{"$f":"推定用途置換ルール!CQJ3","v":0},{"$f":"推定用途置換ルール!CQK3","v":0},{"$f":"推定用途置換ルール!CQL3","v":0},{"$f":"推定用途置換ルール!CQM3","v":0},{"$f":"推定用途置換ルール!CQN3","v":0},{"$f":"推定用途置換ルール!CQO3","v":0},{"$f":"推定用途置換ルール!CQP3","v":0},{"$f":"推定用途置換ルール!CQQ3","v":0},{"$f":"推定用途置換ルール!CQR3","v":0},{"$f":"推定用途置換ルール!CQS3","v":0},{"$f":"推定用途置換ルール!CQT3","v":0},{"$f":"推定用途置換ルール!CQU3","v":0},{"$f":"推定用途置換ルール!CQV3","v":0},{"$f":"推定用途置換ルール!CQW3","v":0},{"$f":"推定用途置換ルール!CQX3","v":0},{"$f":"推定用途置換ルール!CQY3","v":0},{"$f":"推定用途置換ルール!CQZ3","v":0},{"$f":"推定用途置換ルール!CRA3","v":0},{"$f":"推定用途置換ルール!CRB3","v":0},{"$f":"推定用途置換ルール!CRC3","v":0},{"$f":"推定用途置換ルール!CRD3","v":0},{"$f":"推定用途置換ルール!CRE3","v":0},{"$f":"推定用途置換ルール!CRF3","v":0},{"$f":"推定用途置換ルール!CRG3","v":0},{"$f":"推定用途置換ルール!CRH3","v":0},{"$f":"推定用途置換ルール!CRI3","v":0},{"$f":"推定用途置換ルール!CRJ3","v":0},{"$f":"推定用途置換ルール!CRK3","v":0},{"$f":"推定用途置換ルール!CRL3","v":0},{"$f":"推定用途置換ルール!CRM3","v":0},{"$f":"推定用途置換ルール!CRN3","v":0},{"$f":"推定用途置換ルール!CRO3","v":0},{"$f":"推定用途置換ルール!CRP3","v":0},{"$f":"推定用途置換ルール!CRQ3","v":0},{"$f":"推定用途置換ルール!CRR3","v":0},{"$f":"推定用途置換ルール!CRS3","v":0},{"$f":"推定用途置換ルール!CRT3","v":0},{"$f":"推定用途置換ルール!CRU3","v":0},{"$f":"推定用途置換ルール!CRV3","v":0},{"$f":"推定用途置換ルール!CRW3","v":0},{"$f":"推定用途置換ルール!CRX3","v":0},{"$f":"推定用途置換ルール!CRY3","v":0},{"$f":"推定用途置換ルール!CRZ3","v":0},{"$f":"推定用途置換ルール!CSA3","v":0},{"$f":"推定用途置換ルール!CSB3","v":0},{"$f":"推定用途置換ルール!CSC3","v":0},{"$f":"推定用途置換ルール!CSD3","v":0},{"$f":"推定用途置換ルール!CSE3","v":0},{"$f":"推定用途置換ルール!CSF3","v":0},{"$f":"推定用途置換ルール!CSG3","v":0},{"$f":"推定用途置換ルール!CSH3","v":0},{"$f":"推定用途置換ルール!CSI3","v":0},{"$f":"推定用途置換ルール!CSJ3","v":0},{"$f":"推定用途置換ルール!CSK3","v":0},{"$f":"推定用途置換ルール!CSL3","v":0},{"$f":"推定用途置換ルール!CSM3","v":0},{"$f":"推定用途置換ルール!CSN3","v":0},{"$f":"推定用途置換ルール!CSO3","v":0},{"$f":"推定用途置換ルール!CSP3","v":0},{"$f":"推定用途置換ルール!CSQ3","v":0},{"$f":"推定用途置換ルール!CSR3","v":0},{"$f":"推定用途置換ルール!CSS3","v":0},{"$f":"推定用途置換ルール!CST3","v":0},{"$f":"推定用途置換ルール!CSU3","v":0},{"$f":"推定用途置換ルール!CSV3","v":0},{"$f":"推定用途置換ルール!CSW3","v":0},{"$f":"推定用途置換ルール!CSX3","v":0},{"$f":"推定用途置換ルール!CSY3","v":0},{"$f":"推定用途置換ルール!CSZ3","v":0},{"$f":"推定用途置換ルール!CTA3","v":0},{"$f":"推定用途置換ルール!CTB3","v":0},{"$f":"推定用途置換ルール!CTC3","v":0},{"$f":"推定用途置換ルール!CTD3","v":0},{"$f":"推定用途置換ルール!CTE3","v":0},{"$f":"推定用途置換ルール!CTF3","v":0},{"$f":"推定用途置換ルール!CTG3","v":0},{"$f":"推定用途置換ルール!CTH3","v":0},{"$f":"推定用途置換ルール!CTI3","v":0},{"$f":"推定用途置換ルール!CTJ3","v":0},{"$f":"推定用途置換ルール!CTK3","v":0},{"$f":"推定用途置換ルール!CTL3","v":0},{"$f":"推定用途置換ルール!CTM3","v":0},{"$f":"推定用途置換ルール!CTN3","v":0},{"$f":"推定用途置換ルール!CTO3","v":0},{"$f":"推定用途置換ルール!CTP3","v":0},{"$f":"推定用途置換ルール!CTQ3","v":0},{"$f":"推定用途置換ルール!CTR3","v":0},{"$f":"推定用途置換ルール!CTS3","v":0},{"$f":"推定用途置換ルール!CTT3","v":0},{"$f":"推定用途置換ルール!CTU3","v":0},{"$f":"推定用途置換ルール!CTV3","v":0},{"$f":"推定用途置換ルール!CTW3","v":0},{"$f":"推定用途置換ルール!CTX3","v":0},{"$f":"推定用途置換ルール!CTY3","v":0},{"$f":"推定用途置換ルール!CTZ3","v":0},{"$f":"推定用途置換ルール!CUA3","v":0},{"$f":"推定用途置換ルール!CUB3","v":0},{"$f":"推定用途置換ルール!CUC3","v":0},{"$f":"推定用途置換ルール!CUD3","v":0},{"$f":"推定用途置換ルール!CUE3","v":0},{"$f":"推定用途置換ルール!CUF3","v":0},{"$f":"推定用途置換ルール!CUG3","v":0},{"$f":"推定用途置換ルール!CUH3","v":0},{"$f":"推定用途置換ルール!CUI3","v":0},{"$f":"推定用途置換ルール!CUJ3","v":0},{"$f":"推定用途置換ルール!CUK3","v":0},{"$f":"推定用途置換ルール!CUL3","v":0},{"$f":"推定用途置換ルール!CUM3","v":0},{"$f":"推定用途置換ルール!CUN3","v":0},{"$f":"推定用途置換ルール!CUO3","v":0},{"$f":"推定用途置換ルール!CUP3","v":0},{"$f":"推定用途置換ルール!CUQ3","v":0},{"$f":"推定用途置換ルール!CUR3","v":0},{"$f":"推定用途置換ルール!CUS3","v":0},{"$f":"推定用途置換ルール!CUT3","v":0},{"$f":"推定用途置換ルール!CUU3","v":0},{"$f":"推定用途置換ルール!CUV3","v":0},{"$f":"推定用途置換ルール!CUW3","v":0},{"$f":"推定用途置換ルール!CUX3","v":0},{"$f":"推定用途置換ルール!CUY3","v":0},{"$f":"推定用途置換ルール!CUZ3","v":0},{"$f":"推定用途置換ルール!CVA3","v":0},{"$f":"推定用途置換ルール!CVB3","v":0},{"$f":"推定用途置換ルール!CVC3","v":0},{"$f":"推定用途置換ルール!CVD3","v":0},{"$f":"推定用途置換ルール!CVE3","v":0},{"$f":"推定用途置換ルール!CVF3","v":0},{"$f":"推定用途置換ルール!CVG3","v":0},{"$f":"推定用途置換ルール!CVH3","v":0},{"$f":"推定用途置換ルール!CVI3","v":0},{"$f":"推定用途置換ルール!CVJ3","v":0},{"$f":"推定用途置換ルール!CVK3","v":0},{"$f":"推定用途置換ルール!CVL3","v":0},{"$f":"推定用途置換ルール!CVM3","v":0},{"$f":"推定用途置換ルール!CVN3","v":0},{"$f":"推定用途置換ルール!CVO3","v":0},{"$f":"推定用途置換ルール!CVP3","v":0},{"$f":"推定用途置換ルール!CVQ3","v":0},{"$f":"推定用途置換ルール!CVR3","v":0},{"$f":"推定用途置換ルール!CVS3","v":0},{"$f":"推定用途置換ルール!CVT3","v":0},{"$f":"推定用途置換ルール!CVU3","v":0},{"$f":"推定用途置換ルール!CVV3","v":0},{"$f":"推定用途置換ルール!CVW3","v":0},{"$f":"推定用途置換ルール!CVX3","v":0},{"$f":"推定用途置換ルール!CVY3","v":0},{"$f":"推定用途置換ルール!CVZ3","v":0},{"$f":"推定用途置換ルール!CWA3","v":0},{"$f":"推定用途置換ルール!CWB3","v":0},{"$f":"推定用途置換ルール!CWC3","v":0},{"$f":"推定用途置換ルール!CWD3","v":0},{"$f":"推定用途置換ルール!CWE3","v":0},{"$f":"推定用途置換ルール!CWF3","v":0},{"$f":"推定用途置換ルール!CWG3","v":0},{"$f":"推定用途置換ルール!CWH3","v":0},{"$f":"推定用途置換ルール!CWI3","v":0},{"$f":"推定用途置換ルール!CWJ3","v":0},{"$f":"推定用途置換ルール!CWK3","v":0},{"$f":"推定用途置換ルール!CWL3","v":0},{"$f":"推定用途置換ルール!CWM3","v":0},{"$f":"推定用途置換ルール!CWN3","v":0},{"$f":"推定用途置換ルール!CWO3","v":0},{"$f":"推定用途置換ルール!CWP3","v":0},{"$f":"推定用途置換ルール!CWQ3","v":0},{"$f":"推定用途置換ルール!CWR3","v":0},{"$f":"推定用途置換ルール!CWS3","v":0},{"$f":"推定用途置換ルール!CWT3","v":0},{"$f":"推定用途置換ルール!CWU3","v":0},{"$f":"推定用途置換ルール!CWV3","v":0},{"$f":"推定用途置換ルール!CWW3","v":0},{"$f":"推定用途置換ルール!CWX3","v":0},{"$f":"推定用途置換ルール!CWY3","v":0},{"$f":"推定用途置換ルール!CWZ3","v":0},{"$f":"推定用途置換ルール!CXA3","v":0},{"$f":"推定用途置換ルール!CXB3","v":0},{"$f":"推定用途置換ルール!CXC3","v":0},{"$f":"推定用途置換ルール!CXD3","v":0},{"$f":"推定用途置換ルール!CXE3","v":0},{"$f":"推定用途置換ルール!CXF3","v":0},{"$f":"推定用途置換ルール!CXG3","v":0},{"$f":"推定用途置換ルール!CXH3","v":0},{"$f":"推定用途置換ルール!CXI3","v":0},{"$f":"推定用途置換ルール!CXJ3","v":0},{"$f":"推定用途置換ルール!CXK3","v":0},{"$f":"推定用途置換ルール!CXL3","v":0},{"$f":"推定用途置換ルール!CXM3","v":0},{"$f":"推定用途置換ルール!CXN3","v":0},{"$f":"推定用途置換ルール!CXO3","v":0},{"$f":"推定用途置換ルール!CXP3","v":0},{"$f":"推定用途置換ルール!CXQ3","v":0},{"$f":"推定用途置換ルール!CXR3","v":0},{"$f":"推定用途置換ルール!CXS3","v":0},{"$f":"推定用途置換ルール!CXT3","v":0},{"$f":"推定用途置換ルール!CXU3","v":0},{"$f":"推定用途置換ルール!CXV3","v":0},{"$f":"推定用途置換ルール!CXW3","v":0},{"$f":"推定用途置換ルール!CXX3","v":0},{"$f":"推定用途置換ルール!CXY3","v":0},{"$f":"推定用途置換ルール!CXZ3","v":0},{"$f":"推定用途置換ルール!CYA3","v":0},{"$f":"推定用途置換ルール!CYB3","v":0},{"$f":"推定用途置換ルール!CYC3","v":0},{"$f":"推定用途置換ルール!CYD3","v":0},{"$f":"推定用途置換ルール!CYE3","v":0},{"$f":"推定用途置換ルール!CYF3","v":0},{"$f":"推定用途置換ルール!CYG3","v":0},{"$f":"推定用途置換ルール!CYH3","v":0},{"$f":"推定用途置換ルール!CYI3","v":0},{"$f":"推定用途置換ルール!CYJ3","v":0},{"$f":"推定用途置換ルール!CYK3","v":0},{"$f":"推定用途置換ルール!CYL3","v":0},{"$f":"推定用途置換ルール!CYM3","v":0},{"$f":"推定用途置換ルール!CYN3","v":0},{"$f":"推定用途置換ルール!CYO3","v":0},{"$f":"推定用途置換ルール!CYP3","v":0},{"$f":"推定用途置換ルール!CYQ3","v":0},{"$f":"推定用途置換ルール!CYR3","v":0},{"$f":"推定用途置換ルール!CYS3","v":0},{"$f":"推定用途置換ルール!CYT3","v":0},{"$f":"推定用途置換ルール!CYU3","v":0},{"$f":"推定用途置換ルール!CYV3","v":0},{"$f":"推定用途置換ルール!CYW3","v":0},{"$f":"推定用途置換ルール!CYX3","v":0},{"$f":"推定用途置換ルール!CYY3","v":0},{"$f":"推定用途置換ルール!CYZ3","v":0},{"$f":"推定用途置換ルール!CZA3","v":0},{"$f":"推定用途置換ルール!CZB3","v":0},{"$f":"推定用途置換ルール!CZC3","v":0},{"$f":"推定用途置換ルール!CZD3","v":0},{"$f":"推定用途置換ルール!CZE3","v":0},{"$f":"推定用途置換ルール!CZF3","v":0},{"$f":"推定用途置換ルール!CZG3","v":0},{"$f":"推定用途置換ルール!CZH3","v":0},{"$f":"推定用途置換ルール!CZI3","v":0},{"$f":"推定用途置換ルール!CZJ3","v":0},{"$f":"推定用途置換ルール!CZK3","v":0},{"$f":"推定用途置換ルール!CZL3","v":0},{"$f":"推定用途置換ルール!CZM3","v":0},{"$f":"推定用途置換ルール!CZN3","v":0},{"$f":"推定用途置換ルール!CZO3","v":0},{"$f":"推定用途置換ルール!CZP3","v":0},{"$f":"推定用途置換ルール!CZQ3","v":0},{"$f":"推定用途置換ルール!CZR3","v":0},{"$f":"推定用途置換ルール!CZS3","v":0},{"$f":"推定用途置換ルール!CZT3","v":0},{"$f":"推定用途置換ルール!CZU3","v":0},{"$f":"推定用途置換ルール!CZV3","v":0},{"$f":"推定用途置換ルール!CZW3","v":0},{"$f":"推定用途置換ルール!CZX3","v":0},{"$f":"推定用途置換ルール!CZY3","v":0},{"$f":"推定用途置換ルール!CZZ3","v":0},{"$f":"推定用途置換ルール!DAA3","v":0},{"$f":"推定用途置換ルール!DAB3","v":0},{"$f":"推定用途置換ルール!DAC3","v":0},{"$f":"推定用途置換ルール!DAD3","v":0},{"$f":"推定用途置換ルール!DAE3","v":0},{"$f":"推定用途置換ルール!DAF3","v":0},{"$f":"推定用途置換ルール!DAG3","v":0},{"$f":"推定用途置換ルール!DAH3","v":0},{"$f":"推定用途置換ルール!DAI3","v":0},{"$f":"推定用途置換ルール!DAJ3","v":0},{"$f":"推定用途置換ルール!DAK3","v":0},{"$f":"推定用途置換ルール!DAL3","v":0},{"$f":"推定用途置換ルール!DAM3","v":0},{"$f":"推定用途置換ルール!DAN3","v":0},{"$f":"推定用途置換ルール!DAO3","v":0},{"$f":"推定用途置換ルール!DAP3","v":0},{"$f":"推定用途置換ルール!DAQ3","v":0},{"$f":"推定用途置換ルール!DAR3","v":0},{"$f":"推定用途置換ルール!DAS3","v":0},{"$f":"推定用途置換ルール!DAT3","v":0},{"$f":"推定用途置換ルール!DAU3","v":0},{"$f":"推定用途置換ルール!DAV3","v":0},{"$f":"推定用途置換ルール!DAW3","v":0},{"$f":"推定用途置換ルール!DAX3","v":0},{"$f":"推定用途置換ルール!DAY3","v":0},{"$f":"推定用途置換ルール!DAZ3","v":0},{"$f":"推定用途置換ルール!DBA3","v":0},{"$f":"推定用途置換ルール!DBB3","v":0},{"$f":"推定用途置換ルール!DBC3","v":0},{"$f":"推定用途置換ルール!DBD3","v":0},{"$f":"推定用途置換ルール!DBE3","v":0},{"$f":"推定用途置換ルール!DBF3","v":0},{"$f":"推定用途置換ルール!DBG3","v":0},{"$f":"推定用途置換ルール!DBH3","v":0},{"$f":"推定用途置換ルール!DBI3","v":0},{"$f":"推定用途置換ルール!DBJ3","v":0},{"$f":"推定用途置換ルール!DBK3","v":0},{"$f":"推定用途置換ルール!DBL3","v":0},{"$f":"推定用途置換ルール!DBM3","v":0},{"$f":"推定用途置換ルール!DBN3","v":0},{"$f":"推定用途置換ルール!DBO3","v":0},{"$f":"推定用途置換ルール!DBP3","v":0},{"$f":"推定用途置換ルール!DBQ3","v":0},{"$f":"推定用途置換ルール!DBR3","v":0},{"$f":"推定用途置換ルール!DBS3","v":0},{"$f":"推定用途置換ルール!DBT3","v":0},{"$f":"推定用途置換ルール!DBU3","v":0},{"$f":"推定用途置換ルール!DBV3","v":0},{"$f":"推定用途置換ルール!DBW3","v":0},{"$f":"推定用途置換ルール!DBX3","v":0},{"$f":"推定用途置換ルール!DBY3","v":0},{"$f":"推定用途置換ルール!DBZ3","v":0},{"$f":"推定用途置換ルール!DCA3","v":0},{"$f":"推定用途置換ルール!DCB3","v":0},{"$f":"推定用途置換ルール!DCC3","v":0},{"$f":"推定用途置換ルール!DCD3","v":0},{"$f":"推定用途置換ルール!DCE3","v":0},{"$f":"推定用途置換ルール!DCF3","v":0},{"$f":"推定用途置換ルール!DCG3","v":0},{"$f":"推定用途置換ルール!DCH3","v":0},{"$f":"推定用途置換ルール!DCI3","v":0},{"$f":"推定用途置換ルール!DCJ3","v":0},{"$f":"推定用途置換ルール!DCK3","v":0},{"$f":"推定用途置換ルール!DCL3","v":0},{"$f":"推定用途置換ルール!DCM3","v":0},{"$f":"推定用途置換ルール!DCN3","v":0},{"$f":"推定用途置換ルール!DCO3","v":0},{"$f":"推定用途置換ルール!DCP3","v":0},{"$f":"推定用途置換ルール!DCQ3","v":0},{"$f":"推定用途置換ルール!DCR3","v":0},{"$f":"推定用途置換ルール!DCS3","v":0},{"$f":"推定用途置換ルール!DCT3","v":0},{"$f":"推定用途置換ルール!DCU3","v":0},{"$f":"推定用途置換ルール!DCV3","v":0},{"$f":"推定用途置換ルール!DCW3","v":0},{"$f":"推定用途置換ルール!DCX3","v":0},{"$f":"推定用途置換ルール!DCY3","v":0},{"$f":"推定用途置換ルール!DCZ3","v":0},{"$f":"推定用途置換ルール!DDA3","v":0},{"$f":"推定用途置換ルール!DDB3","v":0},{"$f":"推定用途置換ルール!DDC3","v":0},{"$f":"推定用途置換ルール!DDD3","v":0},{"$f":"推定用途置換ルール!DDE3","v":0},{"$f":"推定用途置換ルール!DDF3","v":0},{"$f":"推定用途置換ルール!DDG3","v":0},{"$f":"推定用途置換ルール!DDH3","v":0},{"$f":"推定用途置換ルール!DDI3","v":0},{"$f":"推定用途置換ルール!DDJ3","v":0},{"$f":"推定用途置換ルール!DDK3","v":0},{"$f":"推定用途置換ルール!DDL3","v":0},{"$f":"推定用途置換ルール!DDM3","v":0},{"$f":"推定用途置換ルール!DDN3","v":0},{"$f":"推定用途置換ルール!DDO3","v":0},{"$f":"推定用途置換ルール!DDP3","v":0},{"$f":"推定用途置換ルール!DDQ3","v":0},{"$f":"推定用途置換ルール!DDR3","v":0},{"$f":"推定用途置換ルール!DDS3","v":0},{"$f":"推定用途置換ルール!DDT3","v":0},{"$f":"推定用途置換ルール!DDU3","v":0},{"$f":"推定用途置換ルール!DDV3","v":0},{"$f":"推定用途置換ルール!DDW3","v":0},{"$f":"推定用途置換ルール!DDX3","v":0},{"$f":"推定用途置換ルール!DDY3","v":0},{"$f":"推定用途置換ルール!DDZ3","v":0},{"$f":"推定用途置換ルール!DEA3","v":0},{"$f":"推定用途置換ルール!DEB3","v":0},{"$f":"推定用途置換ルール!DEC3","v":0},{"$f":"推定用途置換ルール!DED3","v":0},{"$f":"推定用途置換ルール!DEE3","v":0},{"$f":"推定用途置換ルール!DEF3","v":0},{"$f":"推定用途置換ルール!DEG3","v":0},{"$f":"推定用途置換ルール!DEH3","v":0},{"$f":"推定用途置換ルール!DEI3","v":0},{"$f":"推定用途置換ルール!DEJ3","v":0},{"$f":"推定用途置換ルール!DEK3","v":0},{"$f":"推定用途置換ルール!DEL3","v":0},{"$f":"推定用途置換ルール!DEM3","v":0},{"$f":"推定用途置換ルール!DEN3","v":0},{"$f":"推定用途置換ルール!DEO3","v":0},{"$f":"推定用途置換ルール!DEP3","v":0},{"$f":"推定用途置換ルール!DEQ3","v":0},{"$f":"推定用途置換ルール!DER3","v":0},{"$f":"推定用途置換ルール!DES3","v":0},{"$f":"推定用途置換ルール!DET3","v":0},{"$f":"推定用途置換ルール!DEU3","v":0},{"$f":"推定用途置換ルール!DEV3","v":0},{"$f":"推定用途置換ルール!DEW3","v":0},{"$f":"推定用途置換ルール!DEX3","v":0},{"$f":"推定用途置換ルール!DEY3","v":0},{"$f":"推定用途置換ルール!DEZ3","v":0},{"$f":"推定用途置換ルール!DFA3","v":0},{"$f":"推定用途置換ルール!DFB3","v":0},{"$f":"推定用途置換ルール!DFC3","v":0},{"$f":"推定用途置換ルール!DFD3","v":0},{"$f":"推定用途置換ルール!DFE3","v":0},{"$f":"推定用途置換ルール!DFF3","v":0},{"$f":"推定用途置換ルール!DFG3","v":0},{"$f":"推定用途置換ルール!DFH3","v":0},{"$f":"推定用途置換ルール!DFI3","v":0},{"$f":"推定用途置換ルール!DFJ3","v":0},{"$f":"推定用途置換ルール!DFK3","v":0},{"$f":"推定用途置換ルール!DFL3","v":0},{"$f":"推定用途置換ルール!DFM3","v":0},{"$f":"推定用途置換ルール!DFN3","v":0},{"$f":"推定用途置換ルール!DFO3","v":0},{"$f":"推定用途置換ルール!DFP3","v":0},{"$f":"推定用途置換ルール!DFQ3","v":0},{"$f":"推定用途置換ルール!DFR3","v":0},{"$f":"推定用途置換ルール!DFS3","v":0},{"$f":"推定用途置換ルール!DFT3","v":0},{"$f":"推定用途置換ルール!DFU3","v":0},{"$f":"推定用途置換ルール!DFV3","v":0},{"$f":"推定用途置換ルール!DFW3","v":0},{"$f":"推定用途置換ルール!DFX3","v":0},{"$f":"推定用途置換ルール!DFY3","v":0},{"$f":"推定用途置換ルール!DFZ3","v":0},{"$f":"推定用途置換ルール!DGA3","v":0},{"$f":"推定用途置換ルール!DGB3","v":0},{"$f":"推定用途置換ルール!DGC3","v":0},{"$f":"推定用途置換ルール!DGD3","v":0},{"$f":"推定用途置換ルール!DGE3","v":0},{"$f":"推定用途置換ルール!DGF3","v":0},{"$f":"推定用途置換ルール!DGG3","v":0},{"$f":"推定用途置換ルール!DGH3","v":0},{"$f":"推定用途置換ルール!DGI3","v":0},{"$f":"推定用途置換ルール!DGJ3","v":0},{"$f":"推定用途置換ルール!DGK3","v":0},{"$f":"推定用途置換ルール!DGL3","v":0},{"$f":"推定用途置換ルール!DGM3","v":0},{"$f":"推定用途置換ルール!DGN3","v":0},{"$f":"推定用途置換ルール!DGO3","v":0},{"$f":"推定用途置換ルール!DGP3","v":0},{"$f":"推定用途置換ルール!DGQ3","v":0},{"$f":"推定用途置換ルール!DGR3","v":0},{"$f":"推定用途置換ルール!DGS3","v":0},{"$f":"推定用途置換ルール!DGT3","v":0},{"$f":"推定用途置換ルール!DGU3","v":0},{"$f":"推定用途置換ルール!DGV3","v":0},{"$f":"推定用途置換ルール!DGW3","v":0},{"$f":"推定用途置換ルール!DGX3","v":0},{"$f":"推定用途置換ルール!DGY3","v":0},{"$f":"推定用途置換ルール!DGZ3","v":0},{"$f":"推定用途置換ルール!DHA3","v":0},{"$f":"推定用途置換ルール!DHB3","v":0},{"$f":"推定用途置換ルール!DHC3","v":0},{"$f":"推定用途置換ルール!DHD3","v":0},{"$f":"推定用途置換ルール!DHE3","v":0},{"$f":"推定用途置換ルール!DHF3","v":0},{"$f":"推定用途置換ルール!DHG3","v":0},{"$f":"推定用途置換ルール!DHH3","v":0},{"$f":"推定用途置換ルール!DHI3","v":0},{"$f":"推定用途置換ルール!DHJ3","v":0},{"$f":"推定用途置換ルール!DHK3","v":0},{"$f":"推定用途置換ルール!DHL3","v":0},{"$f":"推定用途置換ルール!DHM3","v":0},{"$f":"推定用途置換ルール!DHN3","v":0},{"$f":"推定用途置換ルール!DHO3","v":0},{"$f":"推定用途置換ルール!DHP3","v":0},{"$f":"推定用途置換ルール!DHQ3","v":0},{"$f":"推定用途置換ルール!DHR3","v":0},{"$f":"推定用途置換ルール!DHS3","v":0},{"$f":"推定用途置換ルール!DHT3","v":0},{"$f":"推定用途置換ルール!DHU3","v":0},{"$f":"推定用途置換ルール!DHV3","v":0},{"$f":"推定用途置換ルール!DHW3","v":0},{"$f":"推定用途置換ルール!DHX3","v":0},{"$f":"推定用途置換ルール!DHY3","v":0},{"$f":"推定用途置換ルール!DHZ3","v":0},{"$f":"推定用途置換ルール!DIA3","v":0},{"$f":"推定用途置換ルール!DIB3","v":0},{"$f":"推定用途置換ルール!DIC3","v":0},{"$f":"推定用途置換ルール!DID3","v":0},{"$f":"推定用途置換ルール!DIE3","v":0},{"$f":"推定用途置換ルール!DIF3","v":0},{"$f":"推定用途置換ルール!DIG3","v":0},{"$f":"推定用途置換ルール!DIH3","v":0},{"$f":"推定用途置換ルール!DII3","v":0},{"$f":"推定用途置換ルール!DIJ3","v":0},{"$f":"推定用途置換ルール!DIK3","v":0},{"$f":"推定用途置換ルール!DIL3","v":0},{"$f":"推定用途置換ルール!DIM3","v":0},{"$f":"推定用途置換ルール!DIN3","v":0},{"$f":"推定用途置換ルール!DIO3","v":0},{"$f":"推定用途置換ルール!DIP3","v":0},{"$f":"推定用途置換ルール!DIQ3","v":0},{"$f":"推定用途置換ルール!DIR3","v":0},{"$f":"推定用途置換ルール!DIS3","v":0},{"$f":"推定用途置換ルール!DIT3","v":0},{"$f":"推定用途置換ルール!DIU3","v":0},{"$f":"推定用途置換ルール!DIV3","v":0},{"$f":"推定用途置換ルール!DIW3","v":0},{"$f":"推定用途置換ルール!DIX3","v":0},{"$f":"推定用途置換ルール!DIY3","v":0},{"$f":"推定用途置換ルール!DIZ3","v":0},{"$f":"推定用途置換ルール!DJA3","v":0},{"$f":"推定用途置換ルール!DJB3","v":0},{"$f":"推定用途置換ルール!DJC3","v":0},{"$f":"推定用途置換ルール!DJD3","v":0},{"$f":"推定用途置換ルール!DJE3","v":0},{"$f":"推定用途置換ルール!DJF3","v":0},{"$f":"推定用途置換ルール!DJG3","v":0},{"$f":"推定用途置換ルール!DJH3","v":0},{"$f":"推定用途置換ルール!DJI3","v":0},{"$f":"推定用途置換ルール!DJJ3","v":0},{"$f":"推定用途置換ルール!DJK3","v":0},{"$f":"推定用途置換ルール!DJL3","v":0},{"$f":"推定用途置換ルール!DJM3","v":0},{"$f":"推定用途置換ルール!DJN3","v":0},{"$f":"推定用途置換ルール!DJO3","v":0},{"$f":"推定用途置換ルール!DJP3","v":0},{"$f":"推定用途置換ルール!DJQ3","v":0},{"$f":"推定用途置換ルール!DJR3","v":0},{"$f":"推定用途置換ルール!DJS3","v":0},{"$f":"推定用途置換ルール!DJT3","v":0},{"$f":"推定用途置換ルール!DJU3","v":0},{"$f":"推定用途置換ルール!DJV3","v":0},{"$f":"推定用途置換ルール!DJW3","v":0},{"$f":"推定用途置換ルール!DJX3","v":0},{"$f":"推定用途置換ルール!DJY3","v":0},{"$f":"推定用途置換ルール!DJZ3","v":0},{"$f":"推定用途置換ルール!DKA3","v":0},{"$f":"推定用途置換ルール!DKB3","v":0},{"$f":"推定用途置換ルール!DKC3","v":0},{"$f":"推定用途置換ルール!DKD3","v":0},{"$f":"推定用途置換ルール!DKE3","v":0},{"$f":"推定用途置換ルール!DKF3","v":0},{"$f":"推定用途置換ルール!DKG3","v":0},{"$f":"推定用途置換ルール!DKH3","v":0},{"$f":"推定用途置換ルール!DKI3","v":0},{"$f":"推定用途置換ルール!DKJ3","v":0},{"$f":"推定用途置換ルール!DKK3","v":0},{"$f":"推定用途置換ルール!DKL3","v":0},{"$f":"推定用途置換ルール!DKM3","v":0},{"$f":"推定用途置換ルール!DKN3","v":0},{"$f":"推定用途置換ルール!DKO3","v":0},{"$f":"推定用途置換ルール!DKP3","v":0},{"$f":"推定用途置換ルール!DKQ3","v":0},{"$f":"推定用途置換ルール!DKR3","v":0},{"$f":"推定用途置換ルール!DKS3","v":0},{"$f":"推定用途置換ルール!DKT3","v":0},{"$f":"推定用途置換ルール!DKU3","v":0},{"$f":"推定用途置換ルール!DKV3","v":0},{"$f":"推定用途置換ルール!DKW3","v":0},{"$f":"推定用途置換ルール!DKX3","v":0},{"$f":"推定用途置換ルール!DKY3","v":0},{"$f":"推定用途置換ルール!DKZ3","v":0},{"$f":"推定用途置換ルール!DLA3","v":0},{"$f":"推定用途置換ルール!DLB3","v":0},{"$f":"推定用途置換ルール!DLC3","v":0},{"$f":"推定用途置換ルール!DLD3","v":0},{"$f":"推定用途置換ルール!DLE3","v":0},{"$f":"推定用途置換ルール!DLF3","v":0},{"$f":"推定用途置換ルール!DLG3","v":0},{"$f":"推定用途置換ルール!DLH3","v":0},{"$f":"推定用途置換ルール!DLI3","v":0},{"$f":"推定用途置換ルール!DLJ3","v":0},{"$f":"推定用途置換ルール!DLK3","v":0},{"$f":"推定用途置換ルール!DLL3","v":0},{"$f":"推定用途置換ルール!DLM3","v":0},{"$f":"推定用途置換ルール!DLN3","v":0},{"$f":"推定用途置換ルール!DLO3","v":0},{"$f":"推定用途置換ルール!DLP3","v":0},{"$f":"推定用途置換ルール!DLQ3","v":0},{"$f":"推定用途置換ルール!DLR3","v":0},{"$f":"推定用途置換ルール!DLS3","v":0},{"$f":"推定用途置換ルール!DLT3","v":0},{"$f":"推定用途置換ルール!DLU3","v":0},{"$f":"推定用途置換ルール!DLV3","v":0},{"$f":"推定用途置換ルール!DLW3","v":0},{"$f":"推定用途置換ルール!DLX3","v":0},{"$f":"推定用途置換ルール!DLY3","v":0},{"$f":"推定用途置換ルール!DLZ3","v":0},{"$f":"推定用途置換ルール!DMA3","v":0},{"$f":"推定用途置換ルール!DMB3","v":0},{"$f":"推定用途置換ルール!DMC3","v":0},{"$f":"推定用途置換ルール!DMD3","v":0},{"$f":"推定用途置換ルール!DME3","v":0},{"$f":"推定用途置換ルール!DMF3","v":0},{"$f":"推定用途置換ルール!DMG3","v":0},{"$f":"推定用途置換ルール!DMH3","v":0},{"$f":"推定用途置換ルール!DMI3","v":0},{"$f":"推定用途置換ルール!DMJ3","v":0},{"$f":"推定用途置換ルール!DMK3","v":0},{"$f":"推定用途置換ルール!DML3","v":0},{"$f":"推定用途置換ルール!DMM3","v":0},{"$f":"推定用途置換ルール!DMN3","v":0},{"$f":"推定用途置換ルール!DMO3","v":0},{"$f":"推定用途置換ルール!DMP3","v":0},{"$f":"推定用途置換ルール!DMQ3","v":0},{"$f":"推定用途置換ルール!DMR3","v":0},{"$f":"推定用途置換ルール!DMS3","v":0},{"$f":"推定用途置換ルール!DMT3","v":0},{"$f":"推定用途置換ルール!DMU3","v":0},{"$f":"推定用途置換ルール!DMV3","v":0},{"$f":"推定用途置換ルール!DMW3","v":0},{"$f":"推定用途置換ルール!DMX3","v":0},{"$f":"推定用途置換ルール!DMY3","v":0},{"$f":"推定用途置換ルール!DMZ3","v":0},{"$f":"推定用途置換ルール!DNA3","v":0},{"$f":"推定用途置換ルール!DNB3","v":0},{"$f":"推定用途置換ルール!DNC3","v":0},{"$f":"推定用途置換ルール!DND3","v":0},{"$f":"推定用途置換ルール!DNE3","v":0},{"$f":"推定用途置換ルール!DNF3","v":0},{"$f":"推定用途置換ルール!DNG3","v":0},{"$f":"推定用途置換ルール!DNH3","v":0},{"$f":"推定用途置換ルール!DNI3","v":0},{"$f":"推定用途置換ルール!DNJ3","v":0},{"$f":"推定用途置換ルール!DNK3","v":0},{"$f":"推定用途置換ルール!DNL3","v":0},{"$f":"推定用途置換ルール!DNM3","v":0},{"$f":"推定用途置換ルール!DNN3","v":0},{"$f":"推定用途置換ルール!DNO3","v":0},{"$f":"推定用途置換ルール!DNP3","v":0},{"$f":"推定用途置換ルール!DNQ3","v":0},{"$f":"推定用途置換ルール!DNR3","v":0},{"$f":"推定用途置換ルール!DNS3","v":0},{"$f":"推定用途置換ルール!DNT3","v":0},{"$f":"推定用途置換ルール!DNU3","v":0},{"$f":"推定用途置換ルール!DNV3","v":0},{"$f":"推定用途置換ルール!DNW3","v":0},{"$f":"推定用途置換ルール!DNX3","v":0},{"$f":"推定用途置換ルール!DNY3","v":0},{"$f":"推定用途置換ルール!DNZ3","v":0},{"$f":"推定用途置換ルール!DOA3","v":0},{"$f":"推定用途置換ルール!DOB3","v":0},{"$f":"推定用途置換ルール!DOC3","v":0},{"$f":"推定用途置換ルール!DOD3","v":0},{"$f":"推定用途置換ルール!DOE3","v":0},{"$f":"推定用途置換ルール!DOF3","v":0},{"$f":"推定用途置換ルール!DOG3","v":0},{"$f":"推定用途置換ルール!DOH3","v":0},{"$f":"推定用途置換ルール!DOI3","v":0},{"$f":"推定用途置換ルール!DOJ3","v":0},{"$f":"推定用途置換ルール!DOK3","v":0},{"$f":"推定用途置換ルール!DOL3","v":0},{"$f":"推定用途置換ルール!DOM3","v":0},{"$f":"推定用途置換ルール!DON3","v":0},{"$f":"推定用途置換ルール!DOO3","v":0},{"$f":"推定用途置換ルール!DOP3","v":0},{"$f":"推定用途置換ルール!DOQ3","v":0},{"$f":"推定用途置換ルール!DOR3","v":0},{"$f":"推定用途置換ルール!DOS3","v":0},{"$f":"推定用途置換ルール!DOT3","v":0},{"$f":"推定用途置換ルール!DOU3","v":0},{"$f":"推定用途置換ルール!DOV3","v":0},{"$f":"推定用途置換ルール!DOW3","v":0},{"$f":"推定用途置換ルール!DOX3","v":0},{"$f":"推定用途置換ルール!DOY3","v":0},{"$f":"推定用途置換ルール!DOZ3","v":0},{"$f":"推定用途置換ルール!DPA3","v":0},{"$f":"推定用途置換ルール!DPB3","v":0},{"$f":"推定用途置換ルール!DPC3","v":0},{"$f":"推定用途置換ルール!DPD3","v":0},{"$f":"推定用途置換ルール!DPE3","v":0},{"$f":"推定用途置換ルール!DPF3","v":0},{"$f":"推定用途置換ルール!DPG3","v":0},{"$f":"推定用途置換ルール!DPH3","v":0},{"$f":"推定用途置換ルール!DPI3","v":0},{"$f":"推定用途置換ルール!DPJ3","v":0},{"$f":"推定用途置換ルール!DPK3","v":0},{"$f":"推定用途置換ルール!DPL3","v":0},{"$f":"推定用途置換ルール!DPM3","v":0},{"$f":"推定用途置換ルール!DPN3","v":0},{"$f":"推定用途置換ルール!DPO3","v":0},{"$f":"推定用途置換ルール!DPP3","v":0},{"$f":"推定用途置換ルール!DPQ3","v":0},{"$f":"推定用途置換ルール!DPR3","v":0},{"$f":"推定用途置換ルール!DPS3","v":0},{"$f":"推定用途置換ルール!DPT3","v":0},{"$f":"推定用途置換ルール!DPU3","v":0},{"$f":"推定用途置換ルール!DPV3","v":0},{"$f":"推定用途置換ルール!DPW3","v":0},{"$f":"推定用途置換ルール!DPX3","v":0},{"$f":"推定用途置換ルール!DPY3","v":0},{"$f":"推定用途置換ルール!DPZ3","v":0},{"$f":"推定用途置換ルール!DQA3","v":0},{"$f":"推定用途置換ルール!DQB3","v":0},{"$f":"推定用途置換ルール!DQC3","v":0},{"$f":"推定用途置換ルール!DQD3","v":0},{"$f":"推定用途置換ルール!DQE3","v":0},{"$f":"推定用途置換ルール!DQF3","v":0},{"$f":"推定用途置換ルール!DQG3","v":0},{"$f":"推定用途置換ルール!DQH3","v":0},{"$f":"推定用途置換ルール!DQI3","v":0},{"$f":"推定用途置換ルール!DQJ3","v":0},{"$f":"推定用途置換ルール!DQK3","v":0},{"$f":"推定用途置換ルール!DQL3","v":0},{"$f":"推定用途置換ルール!DQM3","v":0},{"$f":"推定用途置換ルール!DQN3","v":0},{"$f":"推定用途置換ルール!DQO3","v":0},{"$f":"推定用途置換ルール!DQP3","v":0},{"$f":"推定用途置換ルール!DQQ3","v":0},{"$f":"推定用途置換ルール!DQR3","v":0},{"$f":"推定用途置換ルール!DQS3","v":0},{"$f":"推定用途置換ルール!DQT3","v":0},{"$f":"推定用途置換ルール!DQU3","v":0},{"$f":"推定用途置換ルール!DQV3","v":0},{"$f":"推定用途置換ルール!DQW3","v":0},{"$f":"推定用途置換ルール!DQX3","v":0},{"$f":"推定用途置換ルール!DQY3","v":0},{"$f":"推定用途置換ルール!DQZ3","v":0},{"$f":"推定用途置換ルール!DRA3","v":0},{"$f":"推定用途置換ルール!DRB3","v":0},{"$f":"推定用途置換ルール!DRC3","v":0},{"$f":"推定用途置換ルール!DRD3","v":0},{"$f":"推定用途置換ルール!DRE3","v":0},{"$f":"推定用途置換ルール!DRF3","v":0},{"$f":"推定用途置換ルール!DRG3","v":0},{"$f":"推定用途置換ルール!DRH3","v":0},{"$f":"推定用途置換ルール!DRI3","v":0},{"$f":"推定用途置換ルール!DRJ3","v":0},{"$f":"推定用途置換ルール!DRK3","v":0},{"$f":"推定用途置換ルール!DRL3","v":0},{"$f":"推定用途置換ルール!DRM3","v":0},{"$f":"推定用途置換ルール!DRN3","v":0},{"$f":"推定用途置換ルール!DRO3","v":0},{"$f":"推定用途置換ルール!DRP3","v":0},{"$f":"推定用途置換ルール!DRQ3","v":0},{"$f":"推定用途置換ルール!DRR3","v":0},{"$f":"推定用途置換ルール!DRS3","v":0},{"$f":"推定用途置換ルール!DRT3","v":0},{"$f":"推定用途置換ルール!DRU3","v":0},{"$f":"推定用途置換ルール!DRV3","v":0},{"$f":"推定用途置換ルール!DRW3","v":0},{"$f":"推定用途置換ルール!DRX3","v":0},{"$f":"推定用途置換ルール!DRY3","v":0},{"$f":"推定用途置換ルール!DRZ3","v":0},{"$f":"推定用途置換ルール!DSA3","v":0},{"$f":"推定用途置換ルール!DSB3","v":0},{"$f":"推定用途置換ルール!DSC3","v":0},{"$f":"推定用途置換ルール!DSD3","v":0},{"$f":"推定用途置換ルール!DSE3","v":0},{"$f":"推定用途置換ルール!DSF3","v":0},{"$f":"推定用途置換ルール!DSG3","v":0},{"$f":"推定用途置換ルール!DSH3","v":0},{"$f":"推定用途置換ルール!DSI3","v":0},{"$f":"推定用途置換ルール!DSJ3","v":0},{"$f":"推定用途置換ルール!DSK3","v":0},{"$f":"推定用途置換ルール!DSL3","v":0},{"$f":"推定用途置換ルール!DSM3","v":0},{"$f":"推定用途置換ルール!DSN3","v":0},{"$f":"推定用途置換ルール!DSO3","v":0},{"$f":"推定用途置換ルール!DSP3","v":0},{"$f":"推定用途置換ルール!DSQ3","v":0},{"$f":"推定用途置換ルール!DSR3","v":0},{"$f":"推定用途置換ルール!DSS3","v":0},{"$f":"推定用途置換ルール!DST3","v":0},{"$f":"推定用途置換ルール!DSU3","v":0},{"$f":"推定用途置換ルール!DSV3","v":0},{"$f":"推定用途置換ルール!DSW3","v":0},{"$f":"推定用途置換ルール!DSX3","v":0},{"$f":"推定用途置換ルール!DSY3","v":0},{"$f":"推定用途置換ルール!DSZ3","v":0},{"$f":"推定用途置換ルール!DTA3","v":0},{"$f":"推定用途置換ルール!DTB3","v":0},{"$f":"推定用途置換ルール!DTC3","v":0},{"$f":"推定用途置換ルール!DTD3","v":0},{"$f":"推定用途置換ルール!DTE3","v":0},{"$f":"推定用途置換ルール!DTF3","v":0},{"$f":"推定用途置換ルール!DTG3","v":0},{"$f":"推定用途置換ルール!DTH3","v":0},{"$f":"推定用途置換ルール!DTI3","v":0},{"$f":"推定用途置換ルール!DTJ3","v":0},{"$f":"推定用途置換ルール!DTK3","v":0},{"$f":"推定用途置換ルール!DTL3","v":0},{"$f":"推定用途置換ルール!DTM3","v":0},{"$f":"推定用途置換ルール!DTN3","v":0},{"$f":"推定用途置換ルール!DTO3","v":0},{"$f":"推定用途置換ルール!DTP3","v":0},{"$f":"推定用途置換ルール!DTQ3","v":0},{"$f":"推定用途置換ルール!DTR3","v":0},{"$f":"推定用途置換ルール!DTS3","v":0},{"$f":"推定用途置換ルール!DTT3","v":0},{"$f":"推定用途置換ルール!DTU3","v":0},{"$f":"推定用途置換ルール!DTV3","v":0},{"$f":"推定用途置換ルール!DTW3","v":0},{"$f":"推定用途置換ルール!DTX3","v":0},{"$f":"推定用途置換ルール!DTY3","v":0},{"$f":"推定用途置換ルール!DTZ3","v":0},{"$f":"推定用途置換ルール!DUA3","v":0},{"$f":"推定用途置換ルール!DUB3","v":0},{"$f":"推定用途置換ルール!DUC3","v":0},{"$f":"推定用途置換ルール!DUD3","v":0},{"$f":"推定用途置換ルール!DUE3","v":0},{"$f":"推定用途置換ルール!DUF3","v":0},{"$f":"推定用途置換ルール!DUG3","v":0},{"$f":"推定用途置換ルール!DUH3","v":0},{"$f":"推定用途置換ルール!DUI3","v":0},{"$f":"推定用途置換ルール!DUJ3","v":0},{"$f":"推定用途置換ルール!DUK3","v":0},{"$f":"推定用途置換ルール!DUL3","v":0},{"$f":"推定用途置換ルール!DUM3","v":0},{"$f":"推定用途置換ルール!DUN3","v":0},{"$f":"推定用途置換ルール!DUO3","v":0},{"$f":"推定用途置換ルール!DUP3","v":0},{"$f":"推定用途置換ルール!DUQ3","v":0},{"$f":"推定用途置換ルール!DUR3","v":0},{"$f":"推定用途置換ルール!DUS3","v":0},{"$f":"推定用途置換ルール!DUT3","v":0},{"$f":"推定用途置換ルール!DUU3","v":0},{"$f":"推定用途置換ルール!DUV3","v":0},{"$f":"推定用途置換ルール!DUW3","v":0},{"$f":"推定用途置換ルール!DUX3","v":0},{"$f":"推定用途置換ルール!DUY3","v":0},{"$f":"推定用途置換ルール!DUZ3","v":0},{"$f":"推定用途置換ルール!DVA3","v":0},{"$f":"推定用途置換ルール!DVB3","v":0},{"$f":"推定用途置換ルール!DVC3","v":0},{"$f":"推定用途置換ルール!DVD3","v":0},{"$f":"推定用途置換ルール!DVE3","v":0},{"$f":"推定用途置換ルール!DVF3","v":0},{"$f":"推定用途置換ルール!DVG3","v":0},{"$f":"推定用途置換ルール!DVH3","v":0},{"$f":"推定用途置換ルール!DVI3","v":0},{"$f":"推定用途置換ルール!DVJ3","v":0},{"$f":"推定用途置換ルール!DVK3","v":0},{"$f":"推定用途置換ルール!DVL3","v":0},{"$f":"推定用途置換ルール!DVM3","v":0},{"$f":"推定用途置換ルール!DVN3","v":0},{"$f":"推定用途置換ルール!DVO3","v":0},{"$f":"推定用途置換ルール!DVP3","v":0},{"$f":"推定用途置換ルール!DVQ3","v":0},{"$f":"推定用途置換ルール!DVR3","v":0},{"$f":"推定用途置換ルール!DVS3","v":0},{"$f":"推定用途置換ルール!DVT3","v":0},{"$f":"推定用途置換ルール!DVU3","v":0},{"$f":"推定用途置換ルール!DVV3","v":0},{"$f":"推定用途置換ルール!DVW3","v":0},{"$f":"推定用途置換ルール!DVX3","v":0},{"$f":"推定用途置換ルール!DVY3","v":0},{"$f":"推定用途置換ルール!DVZ3","v":0},{"$f":"推定用途置換ルール!DWA3","v":0},{"$f":"推定用途置換ルール!DWB3","v":0},{"$f":"推定用途置換ルール!DWC3","v":0},{"$f":"推定用途置換ルール!DWD3","v":0},{"$f":"推定用途置換ルール!DWE3","v":0},{"$f":"推定用途置換ルール!DWF3","v":0},{"$f":"推定用途置換ルール!DWG3","v":0},{"$f":"推定用途置換ルール!DWH3","v":0},{"$f":"推定用途置換ルール!DWI3","v":0},{"$f":"推定用途置換ルール!DWJ3","v":0},{"$f":"推定用途置換ルール!DWK3","v":0},{"$f":"推定用途置換ルール!DWL3","v":0},{"$f":"推定用途置換ルール!DWM3","v":0},{"$f":"推定用途置換ルール!DWN3","v":0},{"$f":"推定用途置換ルール!DWO3","v":0},{"$f":"推定用途置換ルール!DWP3","v":0},{"$f":"推定用途置換ルール!DWQ3","v":0},{"$f":"推定用途置換ルール!DWR3","v":0},{"$f":"推定用途置換ルール!DWS3","v":0},{"$f":"推定用途置換ルール!DWT3","v":0},{"$f":"推定用途置換ルール!DWU3","v":0},{"$f":"推定用途置換ルール!DWV3","v":0},{"$f":"推定用途置換ルール!DWW3","v":0},{"$f":"推定用途置換ルール!DWX3","v":0},{"$f":"推定用途置換ルール!DWY3","v":0},{"$f":"推定用途置換ルール!DWZ3","v":0},{"$f":"推定用途置換ルール!DXA3","v":0},{"$f":"推定用途置換ルール!DXB3","v":0},{"$f":"推定用途置換ルール!DXC3","v":0},{"$f":"推定用途置換ルール!DXD3","v":0},{"$f":"推定用途置換ルール!DXE3","v":0},{"$f":"推定用途置換ルール!DXF3","v":0},{"$f":"推定用途置換ルール!DXG3","v":0},{"$f":"推定用途置換ルール!DXH3","v":0},{"$f":"推定用途置換ルール!DXI3","v":0},{"$f":"推定用途置換ルール!DXJ3","v":0},{"$f":"推定用途置換ルール!DXK3","v":0},{"$f":"推定用途置換ルール!DXL3","v":0},{"$f":"推定用途置換ルール!DXM3","v":0},{"$f":"推定用途置換ルール!DXN3","v":0},{"$f":"推定用途置換ルール!DXO3","v":0},{"$f":"推定用途置換ルール!DXP3","v":0},{"$f":"推定用途置換ルール!DXQ3","v":0},{"$f":"推定用途置換ルール!DXR3","v":0},{"$f":"推定用途置換ルール!DXS3","v":0},{"$f":"推定用途置換ルール!DXT3","v":0},{"$f":"推定用途置換ルール!DXU3","v":0},{"$f":"推定用途置換ルール!DXV3","v":0},{"$f":"推定用途置換ルール!DXW3","v":0},{"$f":"推定用途置換ルール!DXX3","v":0},{"$f":"推定用途置換ルール!DXY3","v":0},{"$f":"推定用途置換ルール!DXZ3","v":0},{"$f":"推定用途置換ルール!DYA3","v":0},{"$f":"推定用途置換ルール!DYB3","v":0},{"$f":"推定用途置換ルール!DYC3","v":0},{"$f":"推定用途置換ルール!DYD3","v":0},{"$f":"推定用途置換ルール!DYE3","v":0},{"$f":"推定用途置換ルール!DYF3","v":0},{"$f":"推定用途置換ルール!DYG3","v":0},{"$f":"推定用途置換ルール!DYH3","v":0},{"$f":"推定用途置換ルール!DYI3","v":0},{"$f":"推定用途置換ルール!DYJ3","v":0},{"$f":"推定用途置換ルール!DYK3","v":0},{"$f":"推定用途置換ルール!DYL3","v":0},{"$f":"推定用途置換ルール!DYM3","v":0},{"$f":"推定用途置換ルール!DYN3","v":0},{"$f":"推定用途置換ルール!DYO3","v":0},{"$f":"推定用途置換ルール!DYP3","v":0},{"$f":"推定用途置換ルール!DYQ3","v":0},{"$f":"推定用途置換ルール!DYR3","v":0},{"$f":"推定用途置換ルール!DYS3","v":0},{"$f":"推定用途置換ルール!DYT3","v":0},{"$f":"推定用途置換ルール!DYU3","v":0},{"$f":"推定用途置換ルール!DYV3","v":0},{"$f":"推定用途置換ルール!DYW3","v":0},{"$f":"推定用途置換ルール!DYX3","v":0},{"$f":"推定用途置換ルール!DYY3","v":0},{"$f":"推定用途置換ルール!DYZ3","v":0},{"$f":"推定用途置換ルール!DZA3","v":0},{"$f":"推定用途置換ルール!DZB3","v":0},{"$f":"推定用途置換ルール!DZC3","v":0},{"$f":"推定用途置換ルール!DZD3","v":0},{"$f":"推定用途置換ルール!DZE3","v":0},{"$f":"推定用途置換ルール!DZF3","v":0},{"$f":"推定用途置換ルール!DZG3","v":0},{"$f":"推定用途置換ルール!DZH3","v":0},{"$f":"推定用途置換ルール!DZI3","v":0},{"$f":"推定用途置換ルール!DZJ3","v":0},{"$f":"推定用途置換ルール!DZK3","v":0},{"$f":"推定用途置換ルール!DZL3","v":0},{"$f":"推定用途置換ルール!DZM3","v":0},{"$f":"推定用途置換ルール!DZN3","v":0},{"$f":"推定用途置換ルール!DZO3","v":0},{"$f":"推定用途置換ルール!DZP3","v":0},{"$f":"推定用途置換ルール!DZQ3","v":0},{"$f":"推定用途置換ルール!DZR3","v":0},{"$f":"推定用途置換ルール!DZS3","v":0},{"$f":"推定用途置換ルール!DZT3","v":0},{"$f":"推定用途置換ルール!DZU3","v":0},{"$f":"推定用途置換ルール!DZV3","v":0},{"$f":"推定用途置換ルール!DZW3","v":0},{"$f":"推定用途置換ルール!DZX3","v":0},{"$f":"推定用途置換ルール!DZY3","v":0},{"$f":"推定用途置換ルール!DZZ3","v":0},{"$f":"推定用途置換ルール!EAA3","v":0},{"$f":"推定用途置換ルール!EAB3","v":0},{"$f":"推定用途置換ルール!EAC3","v":0},{"$f":"推定用途置換ルール!EAD3","v":0},{"$f":"推定用途置換ルール!EAE3","v":0},{"$f":"推定用途置換ルール!EAF3","v":0},{"$f":"推定用途置換ルール!EAG3","v":0},{"$f":"推定用途置換ルール!EAH3","v":0},{"$f":"推定用途置換ルール!EAI3","v":0},{"$f":"推定用途置換ルール!EAJ3","v":0},{"$f":"推定用途置換ルール!EAK3","v":0},{"$f":"推定用途置換ルール!EAL3","v":0},{"$f":"推定用途置換ルール!EAM3","v":0},{"$f":"推定用途置換ルール!EAN3","v":0},{"$f":"推定用途置換ルール!EAO3","v":0},{"$f":"推定用途置換ルール!EAP3","v":0},{"$f":"推定用途置換ルール!EAQ3","v":0},{"$f":"推定用途置換ルール!EAR3","v":0},{"$f":"推定用途置換ルール!EAS3","v":0},{"$f":"推定用途置換ルール!EAT3","v":0},{"$f":"推定用途置換ルール!EAU3","v":0},{"$f":"推定用途置換ルール!EAV3","v":0},{"$f":"推定用途置換ルール!EAW3","v":0},{"$f":"推定用途置換ルール!EAX3","v":0},{"$f":"推定用途置換ルール!EAY3","v":0},{"$f":"推定用途置換ルール!EAZ3","v":0},{"$f":"推定用途置換ルール!EBA3","v":0},{"$f":"推定用途置換ルール!EBB3","v":0},{"$f":"推定用途置換ルール!EBC3","v":0},{"$f":"推定用途置換ルール!EBD3","v":0},{"$f":"推定用途置換ルール!EBE3","v":0},{"$f":"推定用途置換ルール!EBF3","v":0},{"$f":"推定用途置換ルール!EBG3","v":0},{"$f":"推定用途置換ルール!EBH3","v":0},{"$f":"推定用途置換ルール!EBI3","v":0},{"$f":"推定用途置換ルール!EBJ3","v":0},{"$f":"推定用途置換ルール!EBK3","v":0},{"$f":"推定用途置換ルール!EBL3","v":0},{"$f":"推定用途置換ルール!EBM3","v":0},{"$f":"推定用途置換ルール!EBN3","v":0},{"$f":"推定用途置換ルール!EBO3","v":0},{"$f":"推定用途置換ルール!EBP3","v":0},{"$f":"推定用途置換ルール!EBQ3","v":0},{"$f":"推定用途置換ルール!EBR3","v":0},{"$f":"推定用途置換ルール!EBS3","v":0},{"$f":"推定用途置換ルール!EBT3","v":0},{"$f":"推定用途置換ルール!EBU3","v":0},{"$f":"推定用途置換ルール!EBV3","v":0},{"$f":"推定用途置換ルール!EBW3","v":0},{"$f":"推定用途置換ルール!EBX3","v":0},{"$f":"推定用途置換ルール!EBY3","v":0},{"$f":"推定用途置換ルール!EBZ3","v":0},{"$f":"推定用途置換ルール!ECA3","v":0},{"$f":"推定用途置換ルール!ECB3","v":0},{"$f":"推定用途置換ルール!ECC3","v":0},{"$f":"推定用途置換ルール!ECD3","v":0},{"$f":"推定用途置換ルール!ECE3","v":0},{"$f":"推定用途置換ルール!ECF3","v":0},{"$f":"推定用途置換ルール!ECG3","v":0},{"$f":"推定用途置換ルール!ECH3","v":0},{"$f":"推定用途置換ルール!ECI3","v":0},{"$f":"推定用途置換ルール!ECJ3","v":0},{"$f":"推定用途置換ルール!ECK3","v":0},{"$f":"推定用途置換ルール!ECL3","v":0},{"$f":"推定用途置換ルール!ECM3","v":0},{"$f":"推定用途置換ルール!ECN3","v":0},{"$f":"推定用途置換ルール!ECO3","v":0},{"$f":"推定用途置換ルール!ECP3","v":0},{"$f":"推定用途置換ルール!ECQ3","v":0},{"$f":"推定用途置換ルール!ECR3","v":0},{"$f":"推定用途置換ルール!ECS3","v":0},{"$f":"推定用途置換ルール!ECT3","v":0},{"$f":"推定用途置換ルール!ECU3","v":0},{"$f":"推定用途置換ルール!ECV3","v":0},{"$f":"推定用途置換ルール!ECW3","v":0},{"$f":"推定用途置換ルール!ECX3","v":0},{"$f":"推定用途置換ルール!ECY3","v":0},{"$f":"推定用途置換ルール!ECZ3","v":0},{"$f":"推定用途置換ルール!EDA3","v":0},{"$f":"推定用途置換ルール!EDB3","v":0},{"$f":"推定用途置換ルール!EDC3","v":0},{"$f":"推定用途置換ルール!EDD3","v":0},{"$f":"推定用途置換ルール!EDE3","v":0},{"$f":"推定用途置換ルール!EDF3","v":0},{"$f":"推定用途置換ルール!EDG3","v":0},{"$f":"推定用途置換ルール!EDH3","v":0},{"$f":"推定用途置換ルール!EDI3","v":0},{"$f":"推定用途置換ルール!EDJ3","v":0},{"$f":"推定用途置換ルール!EDK3","v":0},{"$f":"推定用途置換ルール!EDL3","v":0},{"$f":"推定用途置換ルール!EDM3","v":0},{"$f":"推定用途置換ルール!EDN3","v":0},{"$f":"推定用途置換ルール!EDO3","v":0},{"$f":"推定用途置換ルール!EDP3","v":0},{"$f":"推定用途置換ルール!EDQ3","v":0},{"$f":"推定用途置換ルール!EDR3","v":0},{"$f":"推定用途置換ルール!EDS3","v":0},{"$f":"推定用途置換ルール!EDT3","v":0},{"$f":"推定用途置換ルール!EDU3","v":0},{"$f":"推定用途置換ルール!EDV3","v":0},{"$f":"推定用途置換ルール!EDW3","v":0},{"$f":"推定用途置換ルール!EDX3","v":0},{"$f":"推定用途置換ルール!EDY3","v":0},{"$f":"推定用途置換ルール!EDZ3","v":0},{"$f":"推定用途置換ルール!EEA3","v":0},{"$f":"推定用途置換ルール!EEB3","v":0},{"$f":"推定用途置換ルール!EEC3","v":0},{"$f":"推定用途置換ルール!EED3","v":0},{"$f":"推定用途置換ルール!EEE3","v":0},{"$f":"推定用途置換ルール!EEF3","v":0},{"$f":"推定用途置換ルール!EEG3","v":0},{"$f":"推定用途置換ルール!EEH3","v":0},{"$f":"推定用途置換ルール!EEI3","v":0},{"$f":"推定用途置換ルール!EEJ3","v":0},{"$f":"推定用途置換ルール!EEK3","v":0},{"$f":"推定用途置換ルール!EEL3","v":0},{"$f":"推定用途置換ルール!EEM3","v":0},{"$f":"推定用途置換ルール!EEN3","v":0},{"$f":"推定用途置換ルール!EEO3","v":0},{"$f":"推定用途置換ルール!EEP3","v":0},{"$f":"推定用途置換ルール!EEQ3","v":0},{"$f":"推定用途置換ルール!EER3","v":0},{"$f":"推定用途置換ルール!EES3","v":0},{"$f":"推定用途置換ルール!EET3","v":0},{"$f":"推定用途置換ルール!EEU3","v":0},{"$f":"推定用途置換ルール!EEV3","v":0},{"$f":"推定用途置換ルール!EEW3","v":0},{"$f":"推定用途置換ルール!EEX3","v":0},{"$f":"推定用途置換ルール!EEY3","v":0},{"$f":"推定用途置換ルール!EEZ3","v":0},{"$f":"推定用途置換ルール!EFA3","v":0},{"$f":"推定用途置換ルール!EFB3","v":0},{"$f":"推定用途置換ルール!EFC3","v":0},{"$f":"推定用途置換ルール!EFD3","v":0},{"$f":"推定用途置換ルール!EFE3","v":0},{"$f":"推定用途置換ルール!EFF3","v":0},{"$f":"推定用途置換ルール!EFG3","v":0},{"$f":"推定用途置換ルール!EFH3","v":0},{"$f":"推定用途置換ルール!EFI3","v":0},{"$f":"推定用途置換ルール!EFJ3","v":0},{"$f":"推定用途置換ルール!EFK3","v":0},{"$f":"推定用途置換ルール!EFL3","v":0},{"$f":"推定用途置換ルール!EFM3","v":0},{"$f":"推定用途置換ルール!EFN3","v":0},{"$f":"推定用途置換ルール!EFO3","v":0},{"$f":"推定用途置換ルール!EFP3","v":0},{"$f":"推定用途置換ルール!EFQ3","v":0},{"$f":"推定用途置換ルール!EFR3","v":0},{"$f":"推定用途置換ルール!EFS3","v":0},{"$f":"推定用途置換ルール!EFT3","v":0},{"$f":"推定用途置換ルール!EFU3","v":0},{"$f":"推定用途置換ルール!EFV3","v":0},{"$f":"推定用途置換ルール!EFW3","v":0},{"$f":"推定用途置換ルール!EFX3","v":0},{"$f":"推定用途置換ルール!EFY3","v":0},{"$f":"推定用途置換ルール!EFZ3","v":0},{"$f":"推定用途置換ルール!EGA3","v":0},{"$f":"推定用途置換ルール!EGB3","v":0},{"$f":"推定用途置換ルール!EGC3","v":0},{"$f":"推定用途置換ルール!EGD3","v":0},{"$f":"推定用途置換ルール!EGE3","v":0},{"$f":"推定用途置換ルール!EGF3","v":0},{"$f":"推定用途置換ルール!EGG3","v":0},{"$f":"推定用途置換ルール!EGH3","v":0},{"$f":"推定用途置換ルール!EGI3","v":0},{"$f":"推定用途置換ルール!EGJ3","v":0},{"$f":"推定用途置換ルール!EGK3","v":0},{"$f":"推定用途置換ルール!EGL3","v":0},{"$f":"推定用途置換ルール!EGM3","v":0},{"$f":"推定用途置換ルール!EGN3","v":0},{"$f":"推定用途置換ルール!EGO3","v":0},{"$f":"推定用途置換ルール!EGP3","v":0},{"$f":"推定用途置換ルール!EGQ3","v":0},{"$f":"推定用途置換ルール!EGR3","v":0},{"$f":"推定用途置換ルール!EGS3","v":0},{"$f":"推定用途置換ルール!EGT3","v":0},{"$f":"推定用途置換ルール!EGU3","v":0},{"$f":"推定用途置換ルール!EGV3","v":0},{"$f":"推定用途置換ルール!EGW3","v":0},{"$f":"推定用途置換ルール!EGX3","v":0},{"$f":"推定用途置換ルール!EGY3","v":0},{"$f":"推定用途置換ルール!EGZ3","v":0},{"$f":"推定用途置換ルール!EHA3","v":0},{"$f":"推定用途置換ルール!EHB3","v":0},{"$f":"推定用途置換ルール!EHC3","v":0},{"$f":"推定用途置換ルール!EHD3","v":0},{"$f":"推定用途置換ルール!EHE3","v":0},{"$f":"推定用途置換ルール!EHF3","v":0},{"$f":"推定用途置換ルール!EHG3","v":0},{"$f":"推定用途置換ルール!EHH3","v":0},{"$f":"推定用途置換ルール!EHI3","v":0},{"$f":"推定用途置換ルール!EHJ3","v":0},{"$f":"推定用途置換ルール!EHK3","v":0},{"$f":"推定用途置換ルール!EHL3","v":0},{"$f":"推定用途置換ルール!EHM3","v":0},{"$f":"推定用途置換ルール!EHN3","v":0},{"$f":"推定用途置換ルール!EHO3","v":0},{"$f":"推定用途置換ルール!EHP3","v":0},{"$f":"推定用途置換ルール!EHQ3","v":0},{"$f":"推定用途置換ルール!EHR3","v":0},{"$f":"推定用途置換ルール!EHS3","v":0},{"$f":"推定用途置換ルール!EHT3","v":0},{"$f":"推定用途置換ルール!EHU3","v":0},{"$f":"推定用途置換ルール!EHV3","v":0},{"$f":"推定用途置換ルール!EHW3","v":0},{"$f":"推定用途置換ルール!EHX3","v":0},{"$f":"推定用途置換ルール!EHY3","v":0},{"$f":"推定用途置換ルール!EHZ3","v":0},{"$f":"推定用途置換ルール!EIA3","v":0},{"$f":"推定用途置換ルール!EIB3","v":0},{"$f":"推定用途置換ルール!EIC3","v":0},{"$f":"推定用途置換ルール!EID3","v":0},{"$f":"推定用途置換ルール!EIE3","v":0},{"$f":"推定用途置換ルール!EIF3","v":0},{"$f":"推定用途置換ルール!EIG3","v":0},{"$f":"推定用途置換ルール!EIH3","v":0},{"$f":"推定用途置換ルール!EII3","v":0},{"$f":"推定用途置換ルール!EIJ3","v":0},{"$f":"推定用途置換ルール!EIK3","v":0},{"$f":"推定用途置換ルール!EIL3","v":0},{"$f":"推定用途置換ルール!EIM3","v":0},{"$f":"推定用途置換ルール!EIN3","v":0},{"$f":"推定用途置換ルール!EIO3","v":0},{"$f":"推定用途置換ルール!EIP3","v":0},{"$f":"推定用途置換ルール!EIQ3","v":0},{"$f":"推定用途置換ルール!EIR3","v":0},{"$f":"推定用途置換ルール!EIS3","v":0},{"$f":"推定用途置換ルール!EIT3","v":0},{"$f":"推定用途置換ルール!EIU3","v":0},{"$f":"推定用途置換ルール!EIV3","v":0},{"$f":"推定用途置換ルール!EIW3","v":0},{"$f":"推定用途置換ルール!EIX3","v":0},{"$f":"推定用途置換ルール!EIY3","v":0},{"$f":"推定用途置換ルール!EIZ3","v":0},{"$f":"推定用途置換ルール!EJA3","v":0},{"$f":"推定用途置換ルール!EJB3","v":0},{"$f":"推定用途置換ルール!EJC3","v":0},{"$f":"推定用途置換ルール!EJD3","v":0},{"$f":"推定用途置換ルール!EJE3","v":0},{"$f":"推定用途置換ルール!EJF3","v":0},{"$f":"推定用途置換ルール!EJG3","v":0},{"$f":"推定用途置換ルール!EJH3","v":0},{"$f":"推定用途置換ルール!EJI3","v":0},{"$f":"推定用途置換ルール!EJJ3","v":0},{"$f":"推定用途置換ルール!EJK3","v":0},{"$f":"推定用途置換ルール!EJL3","v":0},{"$f":"推定用途置換ルール!EJM3","v":0},{"$f":"推定用途置換ルール!EJN3","v":0},{"$f":"推定用途置換ルール!EJO3","v":0},{"$f":"推定用途置換ルール!EJP3","v":0},{"$f":"推定用途置換ルール!EJQ3","v":0},{"$f":"推定用途置換ルール!EJR3","v":0},{"$f":"推定用途置換ルール!EJS3","v":0},{"$f":"推定用途置換ルール!EJT3","v":0},{"$f":"推定用途置換ルール!EJU3","v":0},{"$f":"推定用途置換ルール!EJV3","v":0},{"$f":"推定用途置換ルール!EJW3","v":0},{"$f":"推定用途置換ルール!EJX3","v":0},{"$f":"推定用途置換ルール!EJY3","v":0},{"$f":"推定用途置換ルール!EJZ3","v":0},{"$f":"推定用途置換ルール!EKA3","v":0},{"$f":"推定用途置換ルール!EKB3","v":0},{"$f":"推定用途置換ルール!EKC3","v":0},{"$f":"推定用途置換ルール!EKD3","v":0},{"$f":"推定用途置換ルール!EKE3","v":0},{"$f":"推定用途置換ルール!EKF3","v":0},{"$f":"推定用途置換ルール!EKG3","v":0},{"$f":"推定用途置換ルール!EKH3","v":0},{"$f":"推定用途置換ルール!EKI3","v":0},{"$f":"推定用途置換ルール!EKJ3","v":0},{"$f":"推定用途置換ルール!EKK3","v":0},{"$f":"推定用途置換ルール!EKL3","v":0},{"$f":"推定用途置換ルール!EKM3","v":0},{"$f":"推定用途置換ルール!EKN3","v":0},{"$f":"推定用途置換ルール!EKO3","v":0},{"$f":"推定用途置換ルール!EKP3","v":0},{"$f":"推定用途置換ルール!EKQ3","v":0},{"$f":"推定用途置換ルール!EKR3","v":0},{"$f":"推定用途置換ルール!EKS3","v":0},{"$f":"推定用途置換ルール!EKT3","v":0},{"$f":"推定用途置換ルール!EKU3","v":0},{"$f":"推定用途置換ルール!EKV3","v":0},{"$f":"推定用途置換ルール!EKW3","v":0},{"$f":"推定用途置換ルール!EKX3","v":0},{"$f":"推定用途置換ルール!EKY3","v":0},{"$f":"推定用途置換ルール!EKZ3","v":0},{"$f":"推定用途置換ルール!ELA3","v":0},{"$f":"推定用途置換ルール!ELB3","v":0},{"$f":"推定用途置換ルール!ELC3","v":0},{"$f":"推定用途置換ルール!ELD3","v":0},{"$f":"推定用途置換ルール!ELE3","v":0},{"$f":"推定用途置換ルール!ELF3","v":0},{"$f":"推定用途置換ルール!ELG3","v":0},{"$f":"推定用途置換ルール!ELH3","v":0},{"$f":"推定用途置換ルール!ELI3","v":0},{"$f":"推定用途置換ルール!ELJ3","v":0},{"$f":"推定用途置換ルール!ELK3","v":0},{"$f":"推定用途置換ルール!ELL3","v":0},{"$f":"推定用途置換ルール!ELM3","v":0},{"$f":"推定用途置換ルール!ELN3","v":0},{"$f":"推定用途置換ルール!ELO3","v":0},{"$f":"推定用途置換ルール!ELP3","v":0},{"$f":"推定用途置換ルール!ELQ3","v":0},{"$f":"推定用途置換ルール!ELR3","v":0},{"$f":"推定用途置換ルール!ELS3","v":0},{"$f":"推定用途置換ルール!ELT3","v":0},{"$f":"推定用途置換ルール!ELU3","v":0},{"$f":"推定用途置換ルール!ELV3","v":0},{"$f":"推定用途置換ルール!ELW3","v":0},{"$f":"推定用途置換ルール!ELX3","v":0},{"$f":"推定用途置換ルール!ELY3","v":0},{"$f":"推定用途置換ルール!ELZ3","v":0},{"$f":"推定用途置換ルール!EMA3","v":0},{"$f":"推定用途置換ルール!EMB3","v":0},{"$f":"推定用途置換ルール!EMC3","v":0},{"$f":"推定用途置換ルール!EMD3","v":0},{"$f":"推定用途置換ルール!EME3","v":0},{"$f":"推定用途置換ルール!EMF3","v":0},{"$f":"推定用途置換ルール!EMG3","v":0},{"$f":"推定用途置換ルール!EMH3","v":0},{"$f":"推定用途置換ルール!EMI3","v":0},{"$f":"推定用途置換ルール!EMJ3","v":0},{"$f":"推定用途置換ルール!EMK3","v":0},{"$f":"推定用途置換ルール!EML3","v":0},{"$f":"推定用途置換ルール!EMM3","v":0},{"$f":"推定用途置換ルール!EMN3","v":0},{"$f":"推定用途置換ルール!EMO3","v":0},{"$f":"推定用途置換ルール!EMP3","v":0},{"$f":"推定用途置換ルール!EMQ3","v":0},{"$f":"推定用途置換ルール!EMR3","v":0},{"$f":"推定用途置換ルール!EMS3","v":0},{"$f":"推定用途置換ルール!EMT3","v":0},{"$f":"推定用途置換ルール!EMU3","v":0},{"$f":"推定用途置換ルール!EMV3","v":0},{"$f":"推定用途置換ルール!EMW3","v":0},{"$f":"推定用途置換ルール!EMX3","v":0},{"$f":"推定用途置換ルール!EMY3","v":0},{"$f":"推定用途置換ルール!EMZ3","v":0},{"$f":"推定用途置換ルール!ENA3","v":0},{"$f":"推定用途置換ルール!ENB3","v":0},{"$f":"推定用途置換ルール!ENC3","v":0},{"$f":"推定用途置換ルール!END3","v":0},{"$f":"推定用途置換ルール!ENE3","v":0},{"$f":"推定用途置換ルール!ENF3","v":0},{"$f":"推定用途置換ルール!ENG3","v":0},{"$f":"推定用途置換ルール!ENH3","v":0},{"$f":"推定用途置換ルール!ENI3","v":0},{"$f":"推定用途置換ルール!ENJ3","v":0},{"$f":"推定用途置換ルール!ENK3","v":0},{"$f":"推定用途置換ルール!ENL3","v":0},{"$f":"推定用途置換ルール!ENM3","v":0},{"$f":"推定用途置換ルール!ENN3","v":0},{"$f":"推定用途置換ルール!ENO3","v":0},{"$f":"推定用途置換ルール!ENP3","v":0},{"$f":"推定用途置換ルール!ENQ3","v":0},{"$f":"推定用途置換ルール!ENR3","v":0},{"$f":"推定用途置換ルール!ENS3","v":0},{"$f":"推定用途置換ルール!ENT3","v":0},{"$f":"推定用途置換ルール!ENU3","v":0},{"$f":"推定用途置換ルール!ENV3","v":0},{"$f":"推定用途置換ルール!ENW3","v":0},{"$f":"推定用途置換ルール!ENX3","v":0},{"$f":"推定用途置換ルール!ENY3","v":0},{"$f":"推定用途置換ルール!ENZ3","v":0},{"$f":"推定用途置換ルール!EOA3","v":0},{"$f":"推定用途置換ルール!EOB3","v":0},{"$f":"推定用途置換ルール!EOC3","v":0},{"$f":"推定用途置換ルール!EOD3","v":0},{"$f":"推定用途置換ルール!EOE3","v":0},{"$f":"推定用途置換ルール!EOF3","v":0},{"$f":"推定用途置換ルール!EOG3","v":0},{"$f":"推定用途置換ルール!EOH3","v":0},{"$f":"推定用途置換ルール!EOI3","v":0},{"$f":"推定用途置換ルール!EOJ3","v":0},{"$f":"推定用途置換ルール!EOK3","v":0},{"$f":"推定用途置換ルール!EOL3","v":0},{"$f":"推定用途置換ルール!EOM3","v":0},{"$f":"推定用途置換ルール!EON3","v":0},{"$f":"推定用途置換ルール!EOO3","v":0},{"$f":"推定用途置換ルール!EOP3","v":0},{"$f":"推定用途置換ルール!EOQ3","v":0},{"$f":"推定用途置換ルール!EOR3","v":0},{"$f":"推定用途置換ルール!EOS3","v":0},{"$f":"推定用途置換ルール!EOT3","v":0},{"$f":"推定用途置換ルール!EOU3","v":0},{"$f":"推定用途置換ルール!EOV3","v":0},{"$f":"推定用途置換ルール!EOW3","v":0},{"$f":"推定用途置換ルール!EOX3","v":0},{"$f":"推定用途置換ルール!EOY3","v":0},{"$f":"推定用途置換ルール!EOZ3","v":0},{"$f":"推定用途置換ルール!EPA3","v":0},{"$f":"推定用途置換ルール!EPB3","v":0},{"$f":"推定用途置換ルール!EPC3","v":0},{"$f":"推定用途置換ルール!EPD3","v":0},{"$f":"推定用途置換ルール!EPE3","v":0},{"$f":"推定用途置換ルール!EPF3","v":0},{"$f":"推定用途置換ルール!EPG3","v":0},{"$f":"推定用途置換ルール!EPH3","v":0},{"$f":"推定用途置換ルール!EPI3","v":0},{"$f":"推定用途置換ルール!EPJ3","v":0},{"$f":"推定用途置換ルール!EPK3","v":0},{"$f":"推定用途置換ルール!EPL3","v":0},{"$f":"推定用途置換ルール!EPM3","v":0},{"$f":"推定用途置換ルール!EPN3","v":0},{"$f":"推定用途置換ルール!EPO3","v":0},{"$f":"推定用途置換ルール!EPP3","v":0},{"$f":"推定用途置換ルール!EPQ3","v":0},{"$f":"推定用途置換ルール!EPR3","v":0},{"$f":"推定用途置換ルール!EPS3","v":0},{"$f":"推定用途置換ルール!EPT3","v":0},{"$f":"推定用途置換ルール!EPU3","v":0},{"$f":"推定用途置換ルール!EPV3","v":0},{"$f":"推定用途置換ルール!EPW3","v":0},{"$f":"推定用途置換ルール!EPX3","v":0},{"$f":"推定用途置換ルール!EPY3","v":0},{"$f":"推定用途置換ルール!EPZ3","v":0},{"$f":"推定用途置換ルール!EQA3","v":0},{"$f":"推定用途置換ルール!EQB3","v":0},{"$f":"推定用途置換ルール!EQC3","v":0},{"$f":"推定用途置換ルール!EQD3","v":0},{"$f":"推定用途置換ルール!EQE3","v":0},{"$f":"推定用途置換ルール!EQF3","v":0},{"$f":"推定用途置換ルール!EQG3","v":0},{"$f":"推定用途置換ルール!EQH3","v":0},{"$f":"推定用途置換ルール!EQI3","v":0},{"$f":"推定用途置換ルール!EQJ3","v":0},{"$f":"推定用途置換ルール!EQK3","v":0},{"$f":"推定用途置換ルール!EQL3","v":0},{"$f":"推定用途置換ルール!EQM3","v":0},{"$f":"推定用途置換ルール!EQN3","v":0},{"$f":"推定用途置換ルール!EQO3","v":0},{"$f":"推定用途置換ルール!EQP3","v":0},{"$f":"推定用途置換ルール!EQQ3","v":0},{"$f":"推定用途置換ルール!EQR3","v":0},{"$f":"推定用途置換ルール!EQS3","v":0},{"$f":"推定用途置換ルール!EQT3","v":0},{"$f":"推定用途置換ルール!EQU3","v":0},{"$f":"推定用途置換ルール!EQV3","v":0},{"$f":"推定用途置換ルール!EQW3","v":0},{"$f":"推定用途置換ルール!EQX3","v":0},{"$f":"推定用途置換ルール!EQY3","v":0},{"$f":"推定用途置換ルール!EQZ3","v":0},{"$f":"推定用途置換ルール!ERA3","v":0},{"$f":"推定用途置換ルール!ERB3","v":0},{"$f":"推定用途置換ルール!ERC3","v":0},{"$f":"推定用途置換ルール!ERD3","v":0},{"$f":"推定用途置換ルール!ERE3","v":0},{"$f":"推定用途置換ルール!ERF3","v":0},{"$f":"推定用途置換ルール!ERG3","v":0},{"$f":"推定用途置換ルール!ERH3","v":0},{"$f":"推定用途置換ルール!ERI3","v":0},{"$f":"推定用途置換ルール!ERJ3","v":0},{"$f":"推定用途置換ルール!ERK3","v":0},{"$f":"推定用途置換ルール!ERL3","v":0},{"$f":"推定用途置換ルール!ERM3","v":0},{"$f":"推定用途置換ルール!ERN3","v":0},{"$f":"推定用途置換ルール!ERO3","v":0},{"$f":"推定用途置換ルール!ERP3","v":0},{"$f":"推定用途置換ルール!ERQ3","v":0},{"$f":"推定用途置換ルール!ERR3","v":0},{"$f":"推定用途置換ルール!ERS3","v":0},{"$f":"推定用途置換ルール!ERT3","v":0},{"$f":"推定用途置換ルール!ERU3","v":0},{"$f":"推定用途置換ルール!ERV3","v":0},{"$f":"推定用途置換ルール!ERW3","v":0},{"$f":"推定用途置換ルール!ERX3","v":0},{"$f":"推定用途置換ルール!ERY3","v":0},{"$f":"推定用途置換ルール!ERZ3","v":0},{"$f":"推定用途置換ルール!ESA3","v":0},{"$f":"推定用途置換ルール!ESB3","v":0},{"$f":"推定用途置換ルール!ESC3","v":0},{"$f":"推定用途置換ルール!ESD3","v":0},{"$f":"推定用途置換ルール!ESE3","v":0},{"$f":"推定用途置換ルール!ESF3","v":0},{"$f":"推定用途置換ルール!ESG3","v":0},{"$f":"推定用途置換ルール!ESH3","v":0},{"$f":"推定用途置換ルール!ESI3","v":0},{"$f":"推定用途置換ルール!ESJ3","v":0},{"$f":"推定用途置換ルール!ESK3","v":0},{"$f":"推定用途置換ルール!ESL3","v":0},{"$f":"推定用途置換ルール!ESM3","v":0},{"$f":"推定用途置換ルール!ESN3","v":0},{"$f":"推定用途置換ルール!ESO3","v":0},{"$f":"推定用途置換ルール!ESP3","v":0},{"$f":"推定用途置換ルール!ESQ3","v":0},{"$f":"推定用途置換ルール!ESR3","v":0},{"$f":"推定用途置換ルール!ESS3","v":0},{"$f":"推定用途置換ルール!EST3","v":0},{"$f":"推定用途置換ルール!ESU3","v":0},{"$f":"推定用途置換ルール!ESV3","v":0},{"$f":"推定用途置換ルール!ESW3","v":0},{"$f":"推定用途置換ルール!ESX3","v":0},{"$f":"推定用途置換ルール!ESY3","v":0},{"$f":"推定用途置換ルール!ESZ3","v":0},{"$f":"推定用途置換ルール!ETA3","v":0},{"$f":"推定用途置換ルール!ETB3","v":0},{"$f":"推定用途置換ルール!ETC3","v":0},{"$f":"推定用途置換ルール!ETD3","v":0},{"$f":"推定用途置換ルール!ETE3","v":0},{"$f":"推定用途置換ルール!ETF3","v":0},{"$f":"推定用途置換ルール!ETG3","v":0},{"$f":"推定用途置換ルール!ETH3","v":0},{"$f":"推定用途置換ルール!ETI3","v":0},{"$f":"推定用途置換ルール!ETJ3","v":0},{"$f":"推定用途置換ルール!ETK3","v":0},{"$f":"推定用途置換ルール!ETL3","v":0},{"$f":"推定用途置換ルール!ETM3","v":0},{"$f":"推定用途置換ルール!ETN3","v":0},{"$f":"推定用途置換ルール!ETO3","v":0},{"$f":"推定用途置換ルール!ETP3","v":0},{"$f":"推定用途置換ルール!ETQ3","v":0},{"$f":"推定用途置換ルール!ETR3","v":0},{"$f":"推定用途置換ルール!ETS3","v":0},{"$f":"推定用途置換ルール!ETT3","v":0},{"$f":"推定用途置換ルール!ETU3","v":0},{"$f":"推定用途置換ルール!ETV3","v":0},{"$f":"推定用途置換ルール!ETW3","v":0},{"$f":"推定用途置換ルール!ETX3","v":0},{"$f":"推定用途置換ルール!ETY3","v":0},{"$f":"推定用途置換ルール!ETZ3","v":0},{"$f":"推定用途置換ルール!EUA3","v":0},{"$f":"推定用途置換ルール!EUB3","v":0},{"$f":"推定用途置換ルール!EUC3","v":0},{"$f":"推定用途置換ルール!EUD3","v":0},{"$f":"推定用途置換ルール!EUE3","v":0},{"$f":"推定用途置換ルール!EUF3","v":0},{"$f":"推定用途置換ルール!EUG3","v":0},{"$f":"推定用途置換ルール!EUH3","v":0},{"$f":"推定用途置換ルール!EUI3","v":0},{"$f":"推定用途置換ルール!EUJ3","v":0},{"$f":"推定用途置換ルール!EUK3","v":0},{"$f":"推定用途置換ルール!EUL3","v":0},{"$f":"推定用途置換ルール!EUM3","v":0},{"$f":"推定用途置換ルール!EUN3","v":0},{"$f":"推定用途置換ルール!EUO3","v":0},{"$f":"推定用途置換ルール!EUP3","v":0},{"$f":"推定用途置換ルール!EUQ3","v":0},{"$f":"推定用途置換ルール!EUR3","v":0},{"$f":"推定用途置換ルール!EUS3","v":0},{"$f":"推定用途置換ルール!EUT3","v":0},{"$f":"推定用途置換ルール!EUU3","v":0},{"$f":"推定用途置換ルール!EUV3","v":0},{"$f":"推定用途置換ルール!EUW3","v":0},{"$f":"推定用途置換ルール!EUX3","v":0},{"$f":"推定用途置換ルール!EUY3","v":0},{"$f":"推定用途置換ルール!EUZ3","v":0},{"$f":"推定用途置換ルール!EVA3","v":0},{"$f":"推定用途置換ルール!EVB3","v":0},{"$f":"推定用途置換ルール!EVC3","v":0},{"$f":"推定用途置換ルール!EVD3","v":0},{"$f":"推定用途置換ルール!EVE3","v":0},{"$f":"推定用途置換ルール!EVF3","v":0},{"$f":"推定用途置換ルール!EVG3","v":0},{"$f":"推定用途置換ルール!EVH3","v":0},{"$f":"推定用途置換ルール!EVI3","v":0},{"$f":"推定用途置換ルール!EVJ3","v":0},{"$f":"推定用途置換ルール!EVK3","v":0},{"$f":"推定用途置換ルール!EVL3","v":0},{"$f":"推定用途置換ルール!EVM3","v":0},{"$f":"推定用途置換ルール!EVN3","v":0},{"$f":"推定用途置換ルール!EVO3","v":0},{"$f":"推定用途置換ルール!EVP3","v":0},{"$f":"推定用途置換ルール!EVQ3","v":0},{"$f":"推定用途置換ルール!EVR3","v":0},{"$f":"推定用途置換ルール!EVS3","v":0},{"$f":"推定用途置換ルール!EVT3","v":0},{"$f":"推定用途置換ルール!EVU3","v":0},{"$f":"推定用途置換ルール!EVV3","v":0},{"$f":"推定用途置換ルール!EVW3","v":0},{"$f":"推定用途置換ルール!EVX3","v":0},{"$f":"推定用途置換ルール!EVY3","v":0},{"$f":"推定用途置換ルール!EVZ3","v":0},{"$f":"推定用途置換ルール!EWA3","v":0},{"$f":"推定用途置換ルール!EWB3","v":0},{"$f":"推定用途置換ルール!EWC3","v":0},{"$f":"推定用途置換ルール!EWD3","v":0},{"$f":"推定用途置換ルール!EWE3","v":0},{"$f":"推定用途置換ルール!EWF3","v":0},{"$f":"推定用途置換ルール!EWG3","v":0},{"$f":"推定用途置換ルール!EWH3","v":0},{"$f":"推定用途置換ルール!EWI3","v":0},{"$f":"推定用途置換ルール!EWJ3","v":0},{"$f":"推定用途置換ルール!EWK3","v":0},{"$f":"推定用途置換ルール!EWL3","v":0},{"$f":"推定用途置換ルール!EWM3","v":0},{"$f":"推定用途置換ルール!EWN3","v":0},{"$f":"推定用途置換ルール!EWO3","v":0},{"$f":"推定用途置換ルール!EWP3","v":0},{"$f":"推定用途置換ルール!EWQ3","v":0},{"$f":"推定用途置換ルール!EWR3","v":0},{"$f":"推定用途置換ルール!EWS3","v":0},{"$f":"推定用途置換ルール!EWT3","v":0},{"$f":"推定用途置換ルール!EWU3","v":0},{"$f":"推定用途置換ルール!EWV3","v":0},{"$f":"推定用途置換ルール!EWW3","v":0},{"$f":"推定用途置換ルール!EWX3","v":0},{"$f":"推定用途置換ルール!EWY3","v":0},{"$f":"推定用途置換ルール!EWZ3","v":0},{"$f":"推定用途置換ルール!EXA3","v":0},{"$f":"推定用途置換ルール!EXB3","v":0},{"$f":"推定用途置換ルール!EXC3","v":0},{"$f":"推定用途置換ルール!EXD3","v":0},{"$f":"推定用途置換ルール!EXE3","v":0},{"$f":"推定用途置換ルール!EXF3","v":0},{"$f":"推定用途置換ルール!EXG3","v":0},{"$f":"推定用途置換ルール!EXH3","v":0},{"$f":"推定用途置換ルール!EXI3","v":0},{"$f":"推定用途置換ルール!EXJ3","v":0},{"$f":"推定用途置換ルール!EXK3","v":0},{"$f":"推定用途置換ルール!EXL3","v":0},{"$f":"推定用途置換ルール!EXM3","v":0},{"$f":"推定用途置換ルール!EXN3","v":0},{"$f":"推定用途置換ルール!EXO3","v":0},{"$f":"推定用途置換ルール!EXP3","v":0},{"$f":"推定用途置換ルール!EXQ3","v":0},{"$f":"推定用途置換ルール!EXR3","v":0},{"$f":"推定用途置換ルール!EXS3","v":0},{"$f":"推定用途置換ルール!EXT3","v":0},{"$f":"推定用途置換ルール!EXU3","v":0},{"$f":"推定用途置換ルール!EXV3","v":0},{"$f":"推定用途置換ルール!EXW3","v":0},{"$f":"推定用途置換ルール!EXX3","v":0},{"$f":"推定用途置換ルール!EXY3","v":0},{"$f":"推定用途置換ルール!EXZ3","v":0},{"$f":"推定用途置換ルール!EYA3","v":0},{"$f":"推定用途置換ルール!EYB3","v":0},{"$f":"推定用途置換ルール!EYC3","v":0},{"$f":"推定用途置換ルール!EYD3","v":0},{"$f":"推定用途置換ルール!EYE3","v":0},{"$f":"推定用途置換ルール!EYF3","v":0},{"$f":"推定用途置換ルール!EYG3","v":0},{"$f":"推定用途置換ルール!EYH3","v":0},{"$f":"推定用途置換ルール!EYI3","v":0},{"$f":"推定用途置換ルール!EYJ3","v":0},{"$f":"推定用途置換ルール!EYK3","v":0},{"$f":"推定用途置換ルール!EYL3","v":0},{"$f":"推定用途置換ルール!EYM3","v":0},{"$f":"推定用途置換ルール!EYN3","v":0},{"$f":"推定用途置換ルール!EYO3","v":0},{"$f":"推定用途置換ルール!EYP3","v":0},{"$f":"推定用途置換ルール!EYQ3","v":0},{"$f":"推定用途置換ルール!EYR3","v":0},{"$f":"推定用途置換ルール!EYS3","v":0},{"$f":"推定用途置換ルール!EYT3","v":0},{"$f":"推定用途置換ルール!EYU3","v":0},{"$f":"推定用途置換ルール!EYV3","v":0},{"$f":"推定用途置換ルール!EYW3","v":0},{"$f":"推定用途置換ルール!EYX3","v":0},{"$f":"推定用途置換ルール!EYY3","v":0},{"$f":"推定用途置換ルール!EYZ3","v":0},{"$f":"推定用途置換ルール!EZA3","v":0},{"$f":"推定用途置換ルール!EZB3","v":0},{"$f":"推定用途置換ルール!EZC3","v":0},{"$f":"推定用途置換ルール!EZD3","v":0},{"$f":"推定用途置換ルール!EZE3","v":0},{"$f":"推定用途置換ルール!EZF3","v":0},{"$f":"推定用途置換ルール!EZG3","v":0},{"$f":"推定用途置換ルール!EZH3","v":0},{"$f":"推定用途置換ルール!EZI3","v":0},{"$f":"推定用途置換ルール!EZJ3","v":0},{"$f":"推定用途置換ルール!EZK3","v":0},{"$f":"推定用途置換ルール!EZL3","v":0},{"$f":"推定用途置換ルール!EZM3","v":0},{"$f":"推定用途置換ルール!EZN3","v":0},{"$f":"推定用途置換ルール!EZO3","v":0},{"$f":"推定用途置換ルール!EZP3","v":0},{"$f":"推定用途置換ルール!EZQ3","v":0},{"$f":"推定用途置換ルール!EZR3","v":0},{"$f":"推定用途置換ルール!EZS3","v":0},{"$f":"推定用途置換ルール!EZT3","v":0},{"$f":"推定用途置換ルール!EZU3","v":0},{"$f":"推定用途置換ルール!EZV3","v":0},{"$f":"推定用途置換ルール!EZW3","v":0},{"$f":"推定用途置換ルール!EZX3","v":0},{"$f":"推定用途置換ルール!EZY3","v":0},{"$f":"推定用途置換ルール!EZZ3","v":0},{"$f":"推定用途置換ルール!FAA3","v":0},{"$f":"推定用途置換ルール!FAB3","v":0},{"$f":"推定用途置換ルール!FAC3","v":0},{"$f":"推定用途置換ルール!FAD3","v":0},{"$f":"推定用途置換ルール!FAE3","v":0},{"$f":"推定用途置換ルール!FAF3","v":0},{"$f":"推定用途置換ルール!FAG3","v":0},{"$f":"推定用途置換ルール!FAH3","v":0},{"$f":"推定用途置換ルール!FAI3","v":0},{"$f":"推定用途置換ルール!FAJ3","v":0},{"$f":"推定用途置換ルール!FAK3","v":0},{"$f":"推定用途置換ルール!FAL3","v":0},{"$f":"推定用途置換ルール!FAM3","v":0},{"$f":"推定用途置換ルール!FAN3","v":0},{"$f":"推定用途置換ルール!FAO3","v":0},{"$f":"推定用途置換ルール!FAP3","v":0},{"$f":"推定用途置換ルール!FAQ3","v":0},{"$f":"推定用途置換ルール!FAR3","v":0},{"$f":"推定用途置換ルール!FAS3","v":0},{"$f":"推定用途置換ルール!FAT3","v":0},{"$f":"推定用途置換ルール!FAU3","v":0},{"$f":"推定用途置換ルール!FAV3","v":0},{"$f":"推定用途置換ルール!FAW3","v":0},{"$f":"推定用途置換ルール!FAX3","v":0},{"$f":"推定用途置換ルール!FAY3","v":0},{"$f":"推定用途置換ルール!FAZ3","v":0},{"$f":"推定用途置換ルール!FBA3","v":0},{"$f":"推定用途置換ルール!FBB3","v":0},{"$f":"推定用途置換ルール!FBC3","v":0},{"$f":"推定用途置換ルール!FBD3","v":0},{"$f":"推定用途置換ルール!FBE3","v":0},{"$f":"推定用途置換ルール!FBF3","v":0},{"$f":"推定用途置換ルール!FBG3","v":0},{"$f":"推定用途置換ルール!FBH3","v":0},{"$f":"推定用途置換ルール!FBI3","v":0},{"$f":"推定用途置換ルール!FBJ3","v":0},{"$f":"推定用途置換ルール!FBK3","v":0},{"$f":"推定用途置換ルール!FBL3","v":0},{"$f":"推定用途置換ルール!FBM3","v":0},{"$f":"推定用途置換ルール!FBN3","v":0},{"$f":"推定用途置換ルール!FBO3","v":0},{"$f":"推定用途置換ルール!FBP3","v":0},{"$f":"推定用途置換ルール!FBQ3","v":0},{"$f":"推定用途置換ルール!FBR3","v":0},{"$f":"推定用途置換ルール!FBS3","v":0},{"$f":"推定用途置換ルール!FBT3","v":0},{"$f":"推定用途置換ルール!FBU3","v":0},{"$f":"推定用途置換ルール!FBV3","v":0},{"$f":"推定用途置換ルール!FBW3","v":0},{"$f":"推定用途置換ルール!FBX3","v":0},{"$f":"推定用途置換ルール!FBY3","v":0},{"$f":"推定用途置換ルール!FBZ3","v":0},{"$f":"推定用途置換ルール!FCA3","v":0},{"$f":"推定用途置換ルール!FCB3","v":0},{"$f":"推定用途置換ルール!FCC3","v":0},{"$f":"推定用途置換ルール!FCD3","v":0},{"$f":"推定用途置換ルール!FCE3","v":0},{"$f":"推定用途置換ルール!FCF3","v":0},{"$f":"推定用途置換ルール!FCG3","v":0},{"$f":"推定用途置換ルール!FCH3","v":0},{"$f":"推定用途置換ルール!FCI3","v":0},{"$f":"推定用途置換ルール!FCJ3","v":0},{"$f":"推定用途置換ルール!FCK3","v":0},{"$f":"推定用途置換ルール!FCL3","v":0},{"$f":"推定用途置換ルール!FCM3","v":0},{"$f":"推定用途置換ルール!FCN3","v":0},{"$f":"推定用途置換ルール!FCO3","v":0},{"$f":"推定用途置換ルール!FCP3","v":0},{"$f":"推定用途置換ルール!FCQ3","v":0},{"$f":"推定用途置換ルール!FCR3","v":0},{"$f":"推定用途置換ルール!FCS3","v":0},{"$f":"推定用途置換ルール!FCT3","v":0},{"$f":"推定用途置換ルール!FCU3","v":0},{"$f":"推定用途置換ルール!FCV3","v":0},{"$f":"推定用途置換ルール!FCW3","v":0},{"$f":"推定用途置換ルール!FCX3","v":0},{"$f":"推定用途置換ルール!FCY3","v":0},{"$f":"推定用途置換ルール!FCZ3","v":0},{"$f":"推定用途置換ルール!FDA3","v":0},{"$f":"推定用途置換ルール!FDB3","v":0},{"$f":"推定用途置換ルール!FDC3","v":0},{"$f":"推定用途置換ルール!FDD3","v":0},{"$f":"推定用途置換ルール!FDE3","v":0},{"$f":"推定用途置換ルール!FDF3","v":0},{"$f":"推定用途置換ルール!FDG3","v":0},{"$f":"推定用途置換ルール!FDH3","v":0},{"$f":"推定用途置換ルール!FDI3","v":0},{"$f":"推定用途置換ルール!FDJ3","v":0},{"$f":"推定用途置換ルール!FDK3","v":0},{"$f":"推定用途置換ルール!FDL3","v":0},{"$f":"推定用途置換ルール!FDM3","v":0},{"$f":"推定用途置換ルール!FDN3","v":0},{"$f":"推定用途置換ルール!FDO3","v":0},{"$f":"推定用途置換ルール!FDP3","v":0},{"$f":"推定用途置換ルール!FDQ3","v":0},{"$f":"推定用途置換ルール!FDR3","v":0},{"$f":"推定用途置換ルール!FDS3","v":0},{"$f":"推定用途置換ルール!FDT3","v":0},{"$f":"推定用途置換ルール!FDU3","v":0},{"$f":"推定用途置換ルール!FDV3","v":0},{"$f":"推定用途置換ルール!FDW3","v":0},{"$f":"推定用途置換ルール!FDX3","v":0},{"$f":"推定用途置換ルール!FDY3","v":0},{"$f":"推定用途置換ルール!FDZ3","v":0},{"$f":"推定用途置換ルール!FEA3","v":0},{"$f":"推定用途置換ルール!FEB3","v":0},{"$f":"推定用途置換ルール!FEC3","v":0},{"$f":"推定用途置換ルール!FED3","v":0},{"$f":"推定用途置換ルール!FEE3","v":0},{"$f":"推定用途置換ルール!FEF3","v":0},{"$f":"推定用途置換ルール!FEG3","v":0},{"$f":"推定用途置換ルール!FEH3","v":0},{"$f":"推定用途置換ルール!FEI3","v":0},{"$f":"推定用途置換ルール!FEJ3","v":0},{"$f":"推定用途置換ルール!FEK3","v":0},{"$f":"推定用途置換ルール!FEL3","v":0},{"$f":"推定用途置換ルール!FEM3","v":0},{"$f":"推定用途置換ルール!FEN3","v":0},{"$f":"推定用途置換ルール!FEO3","v":0},{"$f":"推定用途置換ルール!FEP3","v":0},{"$f":"推定用途置換ルール!FEQ3","v":0},{"$f":"推定用途置換ルール!FER3","v":0},{"$f":"推定用途置換ルール!FES3","v":0},{"$f":"推定用途置換ルール!FET3","v":0},{"$f":"推定用途置換ルール!FEU3","v":0},{"$f":"推定用途置換ルール!FEV3","v":0},{"$f":"推定用途置換ルール!FEW3","v":0},{"$f":"推定用途置換ルール!FEX3","v":0},{"$f":"推定用途置換ルール!FEY3","v":0},{"$f":"推定用途置換ルール!FEZ3","v":0},{"$f":"推定用途置換ルール!FFA3","v":0},{"$f":"推定用途置換ルール!FFB3","v":0},{"$f":"推定用途置換ルール!FFC3","v":0},{"$f":"推定用途置換ルール!FFD3","v":0},{"$f":"推定用途置換ルール!FFE3","v":0},{"$f":"推定用途置換ルール!FFF3","v":0},{"$f":"推定用途置換ルール!FFG3","v":0},{"$f":"推定用途置換ルール!FFH3","v":0},{"$f":"推定用途置換ルール!FFI3","v":0},{"$f":"推定用途置換ルール!FFJ3","v":0},{"$f":"推定用途置換ルール!FFK3","v":0},{"$f":"推定用途置換ルール!FFL3","v":0},{"$f":"推定用途置換ルール!FFM3","v":0},{"$f":"推定用途置換ルール!FFN3","v":0},{"$f":"推定用途置換ルール!FFO3","v":0},{"$f":"推定用途置換ルール!FFP3","v":0},{"$f":"推定用途置換ルール!FFQ3","v":0},{"$f":"推定用途置換ルール!FFR3","v":0},{"$f":"推定用途置換ルール!FFS3","v":0},{"$f":"推定用途置換ルール!FFT3","v":0},{"$f":"推定用途置換ルール!FFU3","v":0},{"$f":"推定用途置換ルール!FFV3","v":0},{"$f":"推定用途置換ルール!FFW3","v":0},{"$f":"推定用途置換ルール!FFX3","v":0},{"$f":"推定用途置換ルール!FFY3","v":0},{"$f":"推定用途置換ルール!FFZ3","v":0},{"$f":"推定用途置換ルール!FGA3","v":0},{"$f":"推定用途置換ルール!FGB3","v":0},{"$f":"推定用途置換ルール!FGC3","v":0},{"$f":"推定用途置換ルール!FGD3","v":0},{"$f":"推定用途置換ルール!FGE3","v":0},{"$f":"推定用途置換ルール!FGF3","v":0},{"$f":"推定用途置換ルール!FGG3","v":0},{"$f":"推定用途置換ルール!FGH3","v":0},{"$f":"推定用途置換ルール!FGI3","v":0},{"$f":"推定用途置換ルール!FGJ3","v":0},{"$f":"推定用途置換ルール!FGK3","v":0},{"$f":"推定用途置換ルール!FGL3","v":0},{"$f":"推定用途置換ルール!FGM3","v":0},{"$f":"推定用途置換ルール!FGN3","v":0},{"$f":"推定用途置換ルール!FGO3","v":0},{"$f":"推定用途置換ルール!FGP3","v":0},{"$f":"推定用途置換ルール!FGQ3","v":0},{"$f":"推定用途置換ルール!FGR3","v":0},{"$f":"推定用途置換ルール!FGS3","v":0},{"$f":"推定用途置換ルール!FGT3","v":0},{"$f":"推定用途置換ルール!FGU3","v":0},{"$f":"推定用途置換ルール!FGV3","v":0},{"$f":"推定用途置換ルール!FGW3","v":0},{"$f":"推定用途置換ルール!FGX3","v":0},{"$f":"推定用途置換ルール!FGY3","v":0},{"$f":"推定用途置換ルール!FGZ3","v":0},{"$f":"推定用途置換ルール!FHA3","v":0},{"$f":"推定用途置換ルール!FHB3","v":0},{"$f":"推定用途置換ルール!FHC3","v":0},{"$f":"推定用途置換ルール!FHD3","v":0},{"$f":"推定用途置換ルール!FHE3","v":0},{"$f":"推定用途置換ルール!FHF3","v":0},{"$f":"推定用途置換ルール!FHG3","v":0},{"$f":"推定用途置換ルール!FHH3","v":0},{"$f":"推定用途置換ルール!FHI3","v":0},{"$f":"推定用途置換ルール!FHJ3","v":0},{"$f":"推定用途置換ルール!FHK3","v":0},{"$f":"推定用途置換ルール!FHL3","v":0},{"$f":"推定用途置換ルール!FHM3","v":0},{"$f":"推定用途置換ルール!FHN3","v":0},{"$f":"推定用途置換ルール!FHO3","v":0},{"$f":"推定用途置換ルール!FHP3","v":0},{"$f":"推定用途置換ルール!FHQ3","v":0},{"$f":"推定用途置換ルール!FHR3","v":0},{"$f":"推定用途置換ルール!FHS3","v":0},{"$f":"推定用途置換ルール!FHT3","v":0},{"$f":"推定用途置換ルール!FHU3","v":0},{"$f":"推定用途置換ルール!FHV3","v":0},{"$f":"推定用途置換ルール!FHW3","v":0},{"$f":"推定用途置換ルール!FHX3","v":0},{"$f":"推定用途置換ルール!FHY3","v":0},{"$f":"推定用途置換ルール!FHZ3","v":0},{"$f":"推定用途置換ルール!FIA3","v":0},{"$f":"推定用途置換ルール!FIB3","v":0},{"$f":"推定用途置換ルール!FIC3","v":0},{"$f":"推定用途置換ルール!FID3","v":0},{"$f":"推定用途置換ルール!FIE3","v":0},{"$f":"推定用途置換ルール!FIF3","v":0},{"$f":"推定用途置換ルール!FIG3","v":0},{"$f":"推定用途置換ルール!FIH3","v":0},{"$f":"推定用途置換ルール!FII3","v":0},{"$f":"推定用途置換ルール!FIJ3","v":0},{"$f":"推定用途置換ルール!FIK3","v":0},{"$f":"推定用途置換ルール!FIL3","v":0},{"$f":"推定用途置換ルール!FIM3","v":0},{"$f":"推定用途置換ルール!FIN3","v":0},{"$f":"推定用途置換ルール!FIO3","v":0},{"$f":"推定用途置換ルール!FIP3","v":0},{"$f":"推定用途置換ルール!FIQ3","v":0},{"$f":"推定用途置換ルール!FIR3","v":0},{"$f":"推定用途置換ルール!FIS3","v":0},{"$f":"推定用途置換ルール!FIT3","v":0},{"$f":"推定用途置換ルール!FIU3","v":0},{"$f":"推定用途置換ルール!FIV3","v":0},{"$f":"推定用途置換ルール!FIW3","v":0},{"$f":"推定用途置換ルール!FIX3","v":0},{"$f":"推定用途置換ルール!FIY3","v":0},{"$f":"推定用途置換ルール!FIZ3","v":0},{"$f":"推定用途置換ルール!FJA3","v":0},{"$f":"推定用途置換ルール!FJB3","v":0},{"$f":"推定用途置換ルール!FJC3","v":0},{"$f":"推定用途置換ルール!FJD3","v":0},{"$f":"推定用途置換ルール!FJE3","v":0},{"$f":"推定用途置換ルール!FJF3","v":0},{"$f":"推定用途置換ルール!FJG3","v":0},{"$f":"推定用途置換ルール!FJH3","v":0},{"$f":"推定用途置換ルール!FJI3","v":0},{"$f":"推定用途置換ルール!FJJ3","v":0},{"$f":"推定用途置換ルール!FJK3","v":0},{"$f":"推定用途置換ルール!FJL3","v":0},{"$f":"推定用途置換ルール!FJM3","v":0},{"$f":"推定用途置換ルール!FJN3","v":0},{"$f":"推定用途置換ルール!FJO3","v":0},{"$f":"推定用途置換ルール!FJP3","v":0},{"$f":"推定用途置換ルール!FJQ3","v":0},{"$f":"推定用途置換ルール!FJR3","v":0},{"$f":"推定用途置換ルール!FJS3","v":0},{"$f":"推定用途置換ルール!FJT3","v":0},{"$f":"推定用途置換ルール!FJU3","v":0},{"$f":"推定用途置換ルール!FJV3","v":0},{"$f":"推定用途置換ルール!FJW3","v":0},{"$f":"推定用途置換ルール!FJX3","v":0},{"$f":"推定用途置換ルール!FJY3","v":0},{"$f":"推定用途置換ルール!FJZ3","v":0},{"$f":"推定用途置換ルール!FKA3","v":0},{"$f":"推定用途置換ルール!FKB3","v":0},{"$f":"推定用途置換ルール!FKC3","v":0},{"$f":"推定用途置換ルール!FKD3","v":0},{"$f":"推定用途置換ルール!FKE3","v":0},{"$f":"推定用途置換ルール!FKF3","v":0},{"$f":"推定用途置換ルール!FKG3","v":0},{"$f":"推定用途置換ルール!FKH3","v":0},{"$f":"推定用途置換ルール!FKI3","v":0},{"$f":"推定用途置換ルール!FKJ3","v":0},{"$f":"推定用途置換ルール!FKK3","v":0},{"$f":"推定用途置換ルール!FKL3","v":0},{"$f":"推定用途置換ルール!FKM3","v":0},{"$f":"推定用途置換ルール!FKN3","v":0},{"$f":"推定用途置換ルール!FKO3","v":0},{"$f":"推定用途置換ルール!FKP3","v":0},{"$f":"推定用途置換ルール!FKQ3","v":0},{"$f":"推定用途置換ルール!FKR3","v":0},{"$f":"推定用途置換ルール!FKS3","v":0},{"$f":"推定用途置換ルール!FKT3","v":0},{"$f":"推定用途置換ルール!FKU3","v":0},{"$f":"推定用途置換ルール!FKV3","v":0},{"$f":"推定用途置換ルール!FKW3","v":0},{"$f":"推定用途置換ルール!FKX3","v":0},{"$f":"推定用途置換ルール!FKY3","v":0},{"$f":"推定用途置換ルール!FKZ3","v":0},{"$f":"推定用途置換ルール!FLA3","v":0},{"$f":"推定用途置換ルール!FLB3","v":0},{"$f":"推定用途置換ルール!FLC3","v":0},{"$f":"推定用途置換ルール!FLD3","v":0},{"$f":"推定用途置換ルール!FLE3","v":0},{"$f":"推定用途置換ルール!FLF3","v":0},{"$f":"推定用途置換ルール!FLG3","v":0},{"$f":"推定用途置換ルール!FLH3","v":0},{"$f":"推定用途置換ルール!FLI3","v":0},{"$f":"推定用途置換ルール!FLJ3","v":0},{"$f":"推定用途置換ルール!FLK3","v":0},{"$f":"推定用途置換ルール!FLL3","v":0},{"$f":"推定用途置換ルール!FLM3","v":0},{"$f":"推定用途置換ルール!FLN3","v":0},{"$f":"推定用途置換ルール!FLO3","v":0},{"$f":"推定用途置換ルール!FLP3","v":0},{"$f":"推定用途置換ルール!FLQ3","v":0},{"$f":"推定用途置換ルール!FLR3","v":0},{"$f":"推定用途置換ルール!FLS3","v":0},{"$f":"推定用途置換ルール!FLT3","v":0},{"$f":"推定用途置換ルール!FLU3","v":0},{"$f":"推定用途置換ルール!FLV3","v":0},{"$f":"推定用途置換ルール!FLW3","v":0},{"$f":"推定用途置換ルール!FLX3","v":0},{"$f":"推定用途置換ルール!FLY3","v":0},{"$f":"推定用途置換ルール!FLZ3","v":0},{"$f":"推定用途置換ルール!FMA3","v":0},{"$f":"推定用途置換ルール!FMB3","v":0},{"$f":"推定用途置換ルール!FMC3","v":0},{"$f":"推定用途置換ルール!FMD3","v":0},{"$f":"推定用途置換ルール!FME3","v":0},{"$f":"推定用途置換ルール!FMF3","v":0},{"$f":"推定用途置換ルール!FMG3","v":0},{"$f":"推定用途置換ルール!FMH3","v":0},{"$f":"推定用途置換ルール!FMI3","v":0},{"$f":"推定用途置換ルール!FMJ3","v":0},{"$f":"推定用途置換ルール!FMK3","v":0},{"$f":"推定用途置換ルール!FML3","v":0},{"$f":"推定用途置換ルール!FMM3","v":0},{"$f":"推定用途置換ルール!FMN3","v":0},{"$f":"推定用途置換ルール!FMO3","v":0},{"$f":"推定用途置換ルール!FMP3","v":0},{"$f":"推定用途置換ルール!FMQ3","v":0},{"$f":"推定用途置換ルール!FMR3","v":0},{"$f":"推定用途置換ルール!FMS3","v":0},{"$f":"推定用途置換ルール!FMT3","v":0},{"$f":"推定用途置換ルール!FMU3","v":0},{"$f":"推定用途置換ルール!FMV3","v":0},{"$f":"推定用途置換ルール!FMW3","v":0},{"$f":"推定用途置換ルール!FMX3","v":0},{"$f":"推定用途置換ルール!FMY3","v":0},{"$f":"推定用途置換ルール!FMZ3","v":0},{"$f":"推定用途置換ルール!FNA3","v":0},{"$f":"推定用途置換ルール!FNB3","v":0},{"$f":"推定用途置換ルール!FNC3","v":0},{"$f":"推定用途置換ルール!FND3","v":0},{"$f":"推定用途置換ルール!FNE3","v":0},{"$f":"推定用途置換ルール!FNF3","v":0},{"$f":"推定用途置換ルール!FNG3","v":0},{"$f":"推定用途置換ルール!FNH3","v":0},{"$f":"推定用途置換ルール!FNI3","v":0},{"$f":"推定用途置換ルール!FNJ3","v":0},{"$f":"推定用途置換ルール!FNK3","v":0},{"$f":"推定用途置換ルール!FNL3","v":0},{"$f":"推定用途置換ルール!FNM3","v":0},{"$f":"推定用途置換ルール!FNN3","v":0},{"$f":"推定用途置換ルール!FNO3","v":0},{"$f":"推定用途置換ルール!FNP3","v":0},{"$f":"推定用途置換ルール!FNQ3","v":0},{"$f":"推定用途置換ルール!FNR3","v":0},{"$f":"推定用途置換ルール!FNS3","v":0},{"$f":"推定用途置換ルール!FNT3","v":0},{"$f":"推定用途置換ルール!FNU3","v":0},{"$f":"推定用途置換ルール!FNV3","v":0},{"$f":"推定用途置換ルール!FNW3","v":0},{"$f":"推定用途置換ルール!FNX3","v":0},{"$f":"推定用途置換ルール!FNY3","v":0},{"$f":"推定用途置換ルール!FNZ3","v":0},{"$f":"推定用途置換ルール!FOA3","v":0},{"$f":"推定用途置換ルール!FOB3","v":0},{"$f":"推定用途置換ルール!FOC3","v":0},{"$f":"推定用途置換ルール!FOD3","v":0},{"$f":"推定用途置換ルール!FOE3","v":0},{"$f":"推定用途置換ルール!FOF3","v":0},{"$f":"推定用途置換ルール!FOG3","v":0},{"$f":"推定用途置換ルール!FOH3","v":0},{"$f":"推定用途置換ルール!FOI3","v":0},{"$f":"推定用途置換ルール!FOJ3","v":0},{"$f":"推定用途置換ルール!FOK3","v":0},{"$f":"推定用途置換ルール!FOL3","v":0},{"$f":"推定用途置換ルール!FOM3","v":0},{"$f":"推定用途置換ルール!FON3","v":0},{"$f":"推定用途置換ルール!FOO3","v":0},{"$f":"推定用途置換ルール!FOP3","v":0},{"$f":"推定用途置換ルール!FOQ3","v":0},{"$f":"推定用途置換ルール!FOR3","v":0},{"$f":"推定用途置換ルール!FOS3","v":0},{"$f":"推定用途置換ルール!FOT3","v":0},{"$f":"推定用途置換ルール!FOU3","v":0},{"$f":"推定用途置換ルール!FOV3","v":0},{"$f":"推定用途置換ルール!FOW3","v":0},{"$f":"推定用途置換ルール!FOX3","v":0},{"$f":"推定用途置換ルール!FOY3","v":0},{"$f":"推定用途置換ルール!FOZ3","v":0},{"$f":"推定用途置換ルール!FPA3","v":0},{"$f":"推定用途置換ルール!FPB3","v":0},{"$f":"推定用途置換ルール!FPC3","v":0},{"$f":"推定用途置換ルール!FPD3","v":0},{"$f":"推定用途置換ルール!FPE3","v":0},{"$f":"推定用途置換ルール!FPF3","v":0},{"$f":"推定用途置換ルール!FPG3","v":0},{"$f":"推定用途置換ルール!FPH3","v":0},{"$f":"推定用途置換ルール!FPI3","v":0},{"$f":"推定用途置換ルール!FPJ3","v":0},{"$f":"推定用途置換ルール!FPK3","v":0},{"$f":"推定用途置換ルール!FPL3","v":0},{"$f":"推定用途置換ルール!FPM3","v":0},{"$f":"推定用途置換ルール!FPN3","v":0},{"$f":"推定用途置換ルール!FPO3","v":0},{"$f":"推定用途置換ルール!FPP3","v":0},{"$f":"推定用途置換ルール!FPQ3","v":0},{"$f":"推定用途置換ルール!FPR3","v":0},{"$f":"推定用途置換ルール!FPS3","v":0},{"$f":"推定用途置換ルール!FPT3","v":0},{"$f":"推定用途置換ルール!FPU3","v":0},{"$f":"推定用途置換ルール!FPV3","v":0},{"$f":"推定用途置換ルール!FPW3","v":0},{"$f":"推定用途置換ルール!FPX3","v":0},{"$f":"推定用途置換ルール!FPY3","v":0},{"$f":"推定用途置換ルール!FPZ3","v":0},{"$f":"推定用途置換ルール!FQA3","v":0},{"$f":"推定用途置換ルール!FQB3","v":0},{"$f":"推定用途置換ルール!FQC3","v":0},{"$f":"推定用途置換ルール!FQD3","v":0},{"$f":"推定用途置換ルール!FQE3","v":0},{"$f":"推定用途置換ルール!FQF3","v":0},{"$f":"推定用途置換ルール!FQG3","v":0},{"$f":"推定用途置換ルール!FQH3","v":0},{"$f":"推定用途置換ルール!FQI3","v":0},{"$f":"推定用途置換ルール!FQJ3","v":0},{"$f":"推定用途置換ルール!FQK3","v":0},{"$f":"推定用途置換ルール!FQL3","v":0},{"$f":"推定用途置換ルール!FQM3","v":0},{"$f":"推定用途置換ルール!FQN3","v":0},{"$f":"推定用途置換ルール!FQO3","v":0},{"$f":"推定用途置換ルール!FQP3","v":0},{"$f":"推定用途置換ルール!FQQ3","v":0},{"$f":"推定用途置換ルール!FQR3","v":0},{"$f":"推定用途置換ルール!FQS3","v":0},{"$f":"推定用途置換ルール!FQT3","v":0},{"$f":"推定用途置換ルール!FQU3","v":0},{"$f":"推定用途置換ルール!FQV3","v":0},{"$f":"推定用途置換ルール!FQW3","v":0},{"$f":"推定用途置換ルール!FQX3","v":0},{"$f":"推定用途置換ルール!FQY3","v":0},{"$f":"推定用途置換ルール!FQZ3","v":0},{"$f":"推定用途置換ルール!FRA3","v":0},{"$f":"推定用途置換ルール!FRB3","v":0},{"$f":"推定用途置換ルール!FRC3","v":0},{"$f":"推定用途置換ルール!FRD3","v":0},{"$f":"推定用途置換ルール!FRE3","v":0},{"$f":"推定用途置換ルール!FRF3","v":0},{"$f":"推定用途置換ルール!FRG3","v":0},{"$f":"推定用途置換ルール!FRH3","v":0},{"$f":"推定用途置換ルール!FRI3","v":0},{"$f":"推定用途置換ルール!FRJ3","v":0},{"$f":"推定用途置換ルール!FRK3","v":0},{"$f":"推定用途置換ルール!FRL3","v":0},{"$f":"推定用途置換ルール!FRM3","v":0},{"$f":"推定用途置換ルール!FRN3","v":0},{"$f":"推定用途置換ルール!FRO3","v":0},{"$f":"推定用途置換ルール!FRP3","v":0},{"$f":"推定用途置換ルール!FRQ3","v":0},{"$f":"推定用途置換ルール!FRR3","v":0},{"$f":"推定用途置換ルール!FRS3","v":0},{"$f":"推定用途置換ルール!FRT3","v":0},{"$f":"推定用途置換ルール!FRU3","v":0},{"$f":"推定用途置換ルール!FRV3","v":0},{"$f":"推定用途置換ルール!FRW3","v":0},{"$f":"推定用途置換ルール!FRX3","v":0},{"$f":"推定用途置換ルール!FRY3","v":0},{"$f":"推定用途置換ルール!FRZ3","v":0},{"$f":"推定用途置換ルール!FSA3","v":0},{"$f":"推定用途置換ルール!FSB3","v":0},{"$f":"推定用途置換ルール!FSC3","v":0},{"$f":"推定用途置換ルール!FSD3","v":0},{"$f":"推定用途置換ルール!FSE3","v":0},{"$f":"推定用途置換ルール!FSF3","v":0},{"$f":"推定用途置換ルール!FSG3","v":0},{"$f":"推定用途置換ルール!FSH3","v":0},{"$f":"推定用途置換ルール!FSI3","v":0},{"$f":"推定用途置換ルール!FSJ3","v":0},{"$f":"推定用途置換ルール!FSK3","v":0},{"$f":"推定用途置換ルール!FSL3","v":0},{"$f":"推定用途置換ルール!FSM3","v":0},{"$f":"推定用途置換ルール!FSN3","v":0},{"$f":"推定用途置換ルール!FSO3","v":0},{"$f":"推定用途置換ルール!FSP3","v":0},{"$f":"推定用途置換ルール!FSQ3","v":0},{"$f":"推定用途置換ルール!FSR3","v":0},{"$f":"推定用途置換ルール!FSS3","v":0},{"$f":"推定用途置換ルール!FST3","v":0},{"$f":"推定用途置換ルール!FSU3","v":0},{"$f":"推定用途置換ルール!FSV3","v":0},{"$f":"推定用途置換ルール!FSW3","v":0},{"$f":"推定用途置換ルール!FSX3","v":0},{"$f":"推定用途置換ルール!FSY3","v":0},{"$f":"推定用途置換ルール!FSZ3","v":0},{"$f":"推定用途置換ルール!FTA3","v":0},{"$f":"推定用途置換ルール!FTB3","v":0},{"$f":"推定用途置換ルール!FTC3","v":0},{"$f":"推定用途置換ルール!FTD3","v":0},{"$f":"推定用途置換ルール!FTE3","v":0},{"$f":"推定用途置換ルール!FTF3","v":0},{"$f":"推定用途置換ルール!FTG3","v":0},{"$f":"推定用途置換ルール!FTH3","v":0},{"$f":"推定用途置換ルール!FTI3","v":0},{"$f":"推定用途置換ルール!FTJ3","v":0},{"$f":"推定用途置換ルール!FTK3","v":0},{"$f":"推定用途置換ルール!FTL3","v":0},{"$f":"推定用途置換ルール!FTM3","v":0},{"$f":"推定用途置換ルール!FTN3","v":0},{"$f":"推定用途置換ルール!FTO3","v":0},{"$f":"推定用途置換ルール!FTP3","v":0},{"$f":"推定用途置換ルール!FTQ3","v":0},{"$f":"推定用途置換ルール!FTR3","v":0},{"$f":"推定用途置換ルール!FTS3","v":0},{"$f":"推定用途置換ルール!FTT3","v":0},{"$f":"推定用途置換ルール!FTU3","v":0},{"$f":"推定用途置換ルール!FTV3","v":0},{"$f":"推定用途置換ルール!FTW3","v":0},{"$f":"推定用途置換ルール!FTX3","v":0},{"$f":"推定用途置換ルール!FTY3","v":0},{"$f":"推定用途置換ルール!FTZ3","v":0},{"$f":"推定用途置換ルール!FUA3","v":0},{"$f":"推定用途置換ルール!FUB3","v":0},{"$f":"推定用途置換ルール!FUC3","v":0},{"$f":"推定用途置換ルール!FUD3","v":0},{"$f":"推定用途置換ルール!FUE3","v":0},{"$f":"推定用途置換ルール!FUF3","v":0},{"$f":"推定用途置換ルール!FUG3","v":0},{"$f":"推定用途置換ルール!FUH3","v":0},{"$f":"推定用途置換ルール!FUI3","v":0},{"$f":"推定用途置換ルール!FUJ3","v":0},{"$f":"推定用途置換ルール!FUK3","v":0},{"$f":"推定用途置換ルール!FUL3","v":0},{"$f":"推定用途置換ルール!FUM3","v":0},{"$f":"推定用途置換ルール!FUN3","v":0},{"$f":"推定用途置換ルール!FUO3","v":0},{"$f":"推定用途置換ルール!FUP3","v":0},{"$f":"推定用途置換ルール!FUQ3","v":0},{"$f":"推定用途置換ルール!FUR3","v":0},{"$f":"推定用途置換ルール!FUS3","v":0},{"$f":"推定用途置換ルール!FUT3","v":0},{"$f":"推定用途置換ルール!FUU3","v":0},{"$f":"推定用途置換ルール!FUV3","v":0},{"$f":"推定用途置換ルール!FUW3","v":0},{"$f":"推定用途置換ルール!FUX3","v":0},{"$f":"推定用途置換ルール!FUY3","v":0},{"$f":"推定用途置換ルール!FUZ3","v":0},{"$f":"推定用途置換ルール!FVA3","v":0},{"$f":"推定用途置換ルール!FVB3","v":0},{"$f":"推定用途置換ルール!FVC3","v":0},{"$f":"推定用途置換ルール!FVD3","v":0},{"$f":"推定用途置換ルール!FVE3","v":0},{"$f":"推定用途置換ルール!FVF3","v":0},{"$f":"推定用途置換ルール!FVG3","v":0},{"$f":"推定用途置換ルール!FVH3","v":0},{"$f":"推定用途置換ルール!FVI3","v":0},{"$f":"推定用途置換ルール!FVJ3","v":0},{"$f":"推定用途置換ルール!FVK3","v":0},{"$f":"推定用途置換ルール!FVL3","v":0},{"$f":"推定用途置換ルール!FVM3","v":0},{"$f":"推定用途置換ルール!FVN3","v":0},{"$f":"推定用途置換ルール!FVO3","v":0},{"$f":"推定用途置換ルール!FVP3","v":0},{"$f":"推定用途置換ルール!FVQ3","v":0},{"$f":"推定用途置換ルール!FVR3","v":0},{"$f":"推定用途置換ルール!FVS3","v":0},{"$f":"推定用途置換ルール!FVT3","v":0},{"$f":"推定用途置換ルール!FVU3","v":0},{"$f":"推定用途置換ルール!FVV3","v":0},{"$f":"推定用途置換ルール!FVW3","v":0},{"$f":"推定用途置換ルール!FVX3","v":0},{"$f":"推定用途置換ルール!FVY3","v":0},{"$f":"推定用途置換ルール!FVZ3","v":0},{"$f":"推定用途置換ルール!FWA3","v":0},{"$f":"推定用途置換ルール!FWB3","v":0},{"$f":"推定用途置換ルール!FWC3","v":0},{"$f":"推定用途置換ルール!FWD3","v":0},{"$f":"推定用途置換ルール!FWE3","v":0},{"$f":"推定用途置換ルール!FWF3","v":0},{"$f":"推定用途置換ルール!FWG3","v":0},{"$f":"推定用途置換ルール!FWH3","v":0},{"$f":"推定用途置換ルール!FWI3","v":0},{"$f":"推定用途置換ルール!FWJ3","v":0},{"$f":"推定用途置換ルール!FWK3","v":0},{"$f":"推定用途置換ルール!FWL3","v":0},{"$f":"推定用途置換ルール!FWM3","v":0},{"$f":"推定用途置換ルール!FWN3","v":0},{"$f":"推定用途置換ルール!FWO3","v":0},{"$f":"推定用途置換ルール!FWP3","v":0},{"$f":"推定用途置換ルール!FWQ3","v":0},{"$f":"推定用途置換ルール!FWR3","v":0},{"$f":"推定用途置換ルール!FWS3","v":0},{"$f":"推定用途置換ルール!FWT3","v":0},{"$f":"推定用途置換ルール!FWU3","v":0},{"$f":"推定用途置換ルール!FWV3","v":0},{"$f":"推定用途置換ルール!FWW3","v":0},{"$f":"推定用途置換ルール!FWX3","v":0},{"$f":"推定用途置換ルール!FWY3","v":0},{"$f":"推定用途置換ルール!FWZ3","v":0},{"$f":"推定用途置換ルール!FXA3","v":0},{"$f":"推定用途置換ルール!FXB3","v":0},{"$f":"推定用途置換ルール!FXC3","v":0},{"$f":"推定用途置換ルール!FXD3","v":0},{"$f":"推定用途置換ルール!FXE3","v":0},{"$f":"推定用途置換ルール!FXF3","v":0},{"$f":"推定用途置換ルール!FXG3","v":0},{"$f":"推定用途置換ルール!FXH3","v":0},{"$f":"推定用途置換ルール!FXI3","v":0},{"$f":"推定用途置換ルール!FXJ3","v":0},{"$f":"推定用途置換ルール!FXK3","v":0},{"$f":"推定用途置換ルール!FXL3","v":0},{"$f":"推定用途置換ルール!FXM3","v":0},{"$f":"推定用途置換ルール!FXN3","v":0},{"$f":"推定用途置換ルール!FXO3","v":0},{"$f":"推定用途置換ルール!FXP3","v":0},{"$f":"推定用途置換ルール!FXQ3","v":0},{"$f":"推定用途置換ルール!FXR3","v":0},{"$f":"推定用途置換ルール!FXS3","v":0},{"$f":"推定用途置換ルール!FXT3","v":0},{"$f":"推定用途置換ルール!FXU3","v":0},{"$f":"推定用途置換ルール!FXV3","v":0},{"$f":"推定用途置換ルール!FXW3","v":0},{"$f":"推定用途置換ルール!FXX3","v":0},{"$f":"推定用途置換ルール!FXY3","v":0},{"$f":"推定用途置換ルール!FXZ3","v":0},{"$f":"推定用途置換ルール!FYA3","v":0},{"$f":"推定用途置換ルール!FYB3","v":0},{"$f":"推定用途置換ルール!FYC3","v":0},{"$f":"推定用途置換ルール!FYD3","v":0},{"$f":"推定用途置換ルール!FYE3","v":0},{"$f":"推定用途置換ルール!FYF3","v":0},{"$f":"推定用途置換ルール!FYG3","v":0},{"$f":"推定用途置換ルール!FYH3","v":0},{"$f":"推定用途置換ルール!FYI3","v":0},{"$f":"推定用途置換ルール!FYJ3","v":0},{"$f":"推定用途置換ルール!FYK3","v":0},{"$f":"推定用途置換ルール!FYL3","v":0},{"$f":"推定用途置換ルール!FYM3","v":0},{"$f":"推定用途置換ルール!FYN3","v":0},{"$f":"推定用途置換ルール!FYO3","v":0},{"$f":"推定用途置換ルール!FYP3","v":0},{"$f":"推定用途置換ルール!FYQ3","v":0},{"$f":"推定用途置換ルール!FYR3","v":0},{"$f":"推定用途置換ルール!FYS3","v":0},{"$f":"推定用途置換ルール!FYT3","v":0},{"$f":"推定用途置換ルール!FYU3","v":0},{"$f":"推定用途置換ルール!FYV3","v":0},{"$f":"推定用途置換ルール!FYW3","v":0},{"$f":"推定用途置換ルール!FYX3","v":0},{"$f":"推定用途置換ルール!FYY3","v":0},{"$f":"推定用途置換ルール!FYZ3","v":0},{"$f":"推定用途置換ルール!FZA3","v":0},{"$f":"推定用途置換ルール!FZB3","v":0},{"$f":"推定用途置換ルール!FZC3","v":0},{"$f":"推定用途置換ルール!FZD3","v":0},{"$f":"推定用途置換ルール!FZE3","v":0},{"$f":"推定用途置換ルール!FZF3","v":0},{"$f":"推定用途置換ルール!FZG3","v":0},{"$f":"推定用途置換ルール!FZH3","v":0},{"$f":"推定用途置換ルール!FZI3","v":0},{"$f":"推定用途置換ルール!FZJ3","v":0},{"$f":"推定用途置換ルール!FZK3","v":0},{"$f":"推定用途置換ルール!FZL3","v":0},{"$f":"推定用途置換ルール!FZM3","v":0},{"$f":"推定用途置換ルール!FZN3","v":0},{"$f":"推定用途置換ルール!FZO3","v":0},{"$f":"推定用途置換ルール!FZP3","v":0},{"$f":"推定用途置換ルール!FZQ3","v":0},{"$f":"推定用途置換ルール!FZR3","v":0},{"$f":"推定用途置換ルール!FZS3","v":0},{"$f":"推定用途置換ルール!FZT3","v":0},{"$f":"推定用途置換ルール!FZU3","v":0},{"$f":"推定用途置換ルール!FZV3","v":0},{"$f":"推定用途置換ルール!FZW3","v":0},{"$f":"推定用途置換ルール!FZX3","v":0},{"$f":"推定用途置換ルール!FZY3","v":0},{"$f":"推定用途置換ルール!FZZ3","v":0},{"$f":"推定用途置換ルール!GAA3","v":0},{"$f":"推定用途置換ルール!GAB3","v":0},{"$f":"推定用途置換ルール!GAC3","v":0},{"$f":"推定用途置換ルール!GAD3","v":0},{"$f":"推定用途置換ルール!GAE3","v":0},{"$f":"推定用途置換ルール!GAF3","v":0},{"$f":"推定用途置換ルール!GAG3","v":0},{"$f":"推定用途置換ルール!GAH3","v":0},{"$f":"推定用途置換ルール!GAI3","v":0},{"$f":"推定用途置換ルール!GAJ3","v":0},{"$f":"推定用途置換ルール!GAK3","v":0},{"$f":"推定用途置換ルール!GAL3","v":0},{"$f":"推定用途置換ルール!GAM3","v":0},{"$f":"推定用途置換ルール!GAN3","v":0},{"$f":"推定用途置換ルール!GAO3","v":0},{"$f":"推定用途置換ルール!GAP3","v":0},{"$f":"推定用途置換ルール!GAQ3","v":0},{"$f":"推定用途置換ルール!GAR3","v":0},{"$f":"推定用途置換ルール!GAS3","v":0},{"$f":"推定用途置換ルール!GAT3","v":0},{"$f":"推定用途置換ルール!GAU3","v":0},{"$f":"推定用途置換ルール!GAV3","v":0},{"$f":"推定用途置換ルール!GAW3","v":0},{"$f":"推定用途置換ルール!GAX3","v":0},{"$f":"推定用途置換ルール!GAY3","v":0},{"$f":"推定用途置換ルール!GAZ3","v":0},{"$f":"推定用途置換ルール!GBA3","v":0},{"$f":"推定用途置換ルール!GBB3","v":0},{"$f":"推定用途置換ルール!GBC3","v":0},{"$f":"推定用途置換ルール!GBD3","v":0},{"$f":"推定用途置換ルール!GBE3","v":0},{"$f":"推定用途置換ルール!GBF3","v":0},{"$f":"推定用途置換ルール!GBG3","v":0},{"$f":"推定用途置換ルール!GBH3","v":0},{"$f":"推定用途置換ルール!GBI3","v":0},{"$f":"推定用途置換ルール!GBJ3","v":0},{"$f":"推定用途置換ルール!GBK3","v":0},{"$f":"推定用途置換ルール!GBL3","v":0},{"$f":"推定用途置換ルール!GBM3","v":0},{"$f":"推定用途置換ルール!GBN3","v":0},{"$f":"推定用途置換ルール!GBO3","v":0},{"$f":"推定用途置換ルール!GBP3","v":0},{"$f":"推定用途置換ルール!GBQ3","v":0},{"$f":"推定用途置換ルール!GBR3","v":0},{"$f":"推定用途置換ルール!GBS3","v":0},{"$f":"推定用途置換ルール!GBT3","v":0},{"$f":"推定用途置換ルール!GBU3","v":0},{"$f":"推定用途置換ルール!GBV3","v":0},{"$f":"推定用途置換ルール!GBW3","v":0},{"$f":"推定用途置換ルール!GBX3","v":0},{"$f":"推定用途置換ルール!GBY3","v":0},{"$f":"推定用途置換ルール!GBZ3","v":0},{"$f":"推定用途置換ルール!GCA3","v":0},{"$f":"推定用途置換ルール!GCB3","v":0},{"$f":"推定用途置換ルール!GCC3","v":0},{"$f":"推定用途置換ルール!GCD3","v":0},{"$f":"推定用途置換ルール!GCE3","v":0},{"$f":"推定用途置換ルール!GCF3","v":0},{"$f":"推定用途置換ルール!GCG3","v":0},{"$f":"推定用途置換ルール!GCH3","v":0},{"$f":"推定用途置換ルール!GCI3","v":0},{"$f":"推定用途置換ルール!GCJ3","v":0},{"$f":"推定用途置換ルール!GCK3","v":0},{"$f":"推定用途置換ルール!GCL3","v":0},{"$f":"推定用途置換ルール!GCM3","v":0},{"$f":"推定用途置換ルール!GCN3","v":0},{"$f":"推定用途置換ルール!GCO3","v":0},{"$f":"推定用途置換ルール!GCP3","v":0},{"$f":"推定用途置換ルール!GCQ3","v":0},{"$f":"推定用途置換ルール!GCR3","v":0},{"$f":"推定用途置換ルール!GCS3","v":0},{"$f":"推定用途置換ルール!GCT3","v":0},{"$f":"推定用途置換ルール!GCU3","v":0},{"$f":"推定用途置換ルール!GCV3","v":0},{"$f":"推定用途置換ルール!GCW3","v":0},{"$f":"推定用途置換ルール!GCX3","v":0},{"$f":"推定用途置換ルール!GCY3","v":0},{"$f":"推定用途置換ルール!GCZ3","v":0},{"$f":"推定用途置換ルール!GDA3","v":0},{"$f":"推定用途置換ルール!GDB3","v":0},{"$f":"推定用途置換ルール!GDC3","v":0},{"$f":"推定用途置換ルール!GDD3","v":0},{"$f":"推定用途置換ルール!GDE3","v":0},{"$f":"推定用途置換ルール!GDF3","v":0},{"$f":"推定用途置換ルール!GDG3","v":0},{"$f":"推定用途置換ルール!GDH3","v":0},{"$f":"推定用途置換ルール!GDI3","v":0},{"$f":"推定用途置換ルール!GDJ3","v":0},{"$f":"推定用途置換ルール!GDK3","v":0},{"$f":"推定用途置換ルール!GDL3","v":0},{"$f":"推定用途置換ルール!GDM3","v":0},{"$f":"推定用途置換ルール!GDN3","v":0},{"$f":"推定用途置換ルール!GDO3","v":0},{"$f":"推定用途置換ルール!GDP3","v":0},{"$f":"推定用途置換ルール!GDQ3","v":0},{"$f":"推定用途置換ルール!GDR3","v":0},{"$f":"推定用途置換ルール!GDS3","v":0},{"$f":"推定用途置換ルール!GDT3","v":0},{"$f":"推定用途置換ルール!GDU3","v":0},{"$f":"推定用途置換ルール!GDV3","v":0},{"$f":"推定用途置換ルール!GDW3","v":0},{"$f":"推定用途置換ルール!GDX3","v":0},{"$f":"推定用途置換ルール!GDY3","v":0},{"$f":"推定用途置換ルール!GDZ3","v":0},{"$f":"推定用途置換ルール!GEA3","v":0},{"$f":"推定用途置換ルール!GEB3","v":0},{"$f":"推定用途置換ルール!GEC3","v":0},{"$f":"推定用途置換ルール!GED3","v":0},{"$f":"推定用途置換ルール!GEE3","v":0},{"$f":"推定用途置換ルール!GEF3","v":0},{"$f":"推定用途置換ルール!GEG3","v":0},{"$f":"推定用途置換ルール!GEH3","v":0},{"$f":"推定用途置換ルール!GEI3","v":0},{"$f":"推定用途置換ルール!GEJ3","v":0},{"$f":"推定用途置換ルール!GEK3","v":0},{"$f":"推定用途置換ルール!GEL3","v":0},{"$f":"推定用途置換ルール!GEM3","v":0},{"$f":"推定用途置換ルール!GEN3","v":0},{"$f":"推定用途置換ルール!GEO3","v":0},{"$f":"推定用途置換ルール!GEP3","v":0},{"$f":"推定用途置換ルール!GEQ3","v":0},{"$f":"推定用途置換ルール!GER3","v":0},{"$f":"推定用途置換ルール!GES3","v":0},{"$f":"推定用途置換ルール!GET3","v":0},{"$f":"推定用途置換ルール!GEU3","v":0},{"$f":"推定用途置換ルール!GEV3","v":0},{"$f":"推定用途置換ルール!GEW3","v":0},{"$f":"推定用途置換ルール!GEX3","v":0},{"$f":"推定用途置換ルール!GEY3","v":0},{"$f":"推定用途置換ルール!GEZ3","v":0},{"$f":"推定用途置換ルール!GFA3","v":0},{"$f":"推定用途置換ルール!GFB3","v":0},{"$f":"推定用途置換ルール!GFC3","v":0},{"$f":"推定用途置換ルール!GFD3","v":0},{"$f":"推定用途置換ルール!GFE3","v":0},{"$f":"推定用途置換ルール!GFF3","v":0},{"$f":"推定用途置換ルール!GFG3","v":0},{"$f":"推定用途置換ルール!GFH3","v":0},{"$f":"推定用途置換ルール!GFI3","v":0},{"$f":"推定用途置換ルール!GFJ3","v":0},{"$f":"推定用途置換ルール!GFK3","v":0},{"$f":"推定用途置換ルール!GFL3","v":0},{"$f":"推定用途置換ルール!GFM3","v":0},{"$f":"推定用途置換ルール!GFN3","v":0},{"$f":"推定用途置換ルール!GFO3","v":0},{"$f":"推定用途置換ルール!GFP3","v":0},{"$f":"推定用途置換ルール!GFQ3","v":0},{"$f":"推定用途置換ルール!GFR3","v":0},{"$f":"推定用途置換ルール!GFS3","v":0},{"$f":"推定用途置換ルール!GFT3","v":0},{"$f":"推定用途置換ルール!GFU3","v":0},{"$f":"推定用途置換ルール!GFV3","v":0},{"$f":"推定用途置換ルール!GFW3","v":0},{"$f":"推定用途置換ルール!GFX3","v":0},{"$f":"推定用途置換ルール!GFY3","v":0},{"$f":"推定用途置換ルール!GFZ3","v":0},{"$f":"推定用途置換ルール!GGA3","v":0},{"$f":"推定用途置換ルール!GGB3","v":0},{"$f":"推定用途置換ルール!GGC3","v":0},{"$f":"推定用途置換ルール!GGD3","v":0},{"$f":"推定用途置換ルール!GGE3","v":0},{"$f":"推定用途置換ルール!GGF3","v":0},{"$f":"推定用途置換ルール!GGG3","v":0},{"$f":"推定用途置換ルール!GGH3","v":0},{"$f":"推定用途置換ルール!GGI3","v":0},{"$f":"推定用途置換ルール!GGJ3","v":0},{"$f":"推定用途置換ルール!GGK3","v":0},{"$f":"推定用途置換ルール!GGL3","v":0},{"$f":"推定用途置換ルール!GGM3","v":0},{"$f":"推定用途置換ルール!GGN3","v":0},{"$f":"推定用途置換ルール!GGO3","v":0},{"$f":"推定用途置換ルール!GGP3","v":0},{"$f":"推定用途置換ルール!GGQ3","v":0},{"$f":"推定用途置換ルール!GGR3","v":0},{"$f":"推定用途置換ルール!GGS3","v":0},{"$f":"推定用途置換ルール!GGT3","v":0},{"$f":"推定用途置換ルール!GGU3","v":0},{"$f":"推定用途置換ルール!GGV3","v":0},{"$f":"推定用途置換ルール!GGW3","v":0},{"$f":"推定用途置換ルール!GGX3","v":0},{"$f":"推定用途置換ルール!GGY3","v":0},{"$f":"推定用途置換ルール!GGZ3","v":0},{"$f":"推定用途置換ルール!GHA3","v":0},{"$f":"推定用途置換ルール!GHB3","v":0},{"$f":"推定用途置換ルール!GHC3","v":0},{"$f":"推定用途置換ルール!GHD3","v":0},{"$f":"推定用途置換ルール!GHE3","v":0},{"$f":"推定用途置換ルール!GHF3","v":0},{"$f":"推定用途置換ルール!GHG3","v":0},{"$f":"推定用途置換ルール!GHH3","v":0},{"$f":"推定用途置換ルール!GHI3","v":0},{"$f":"推定用途置換ルール!GHJ3","v":0},{"$f":"推定用途置換ルール!GHK3","v":0},{"$f":"推定用途置換ルール!GHL3","v":0},{"$f":"推定用途置換ルール!GHM3","v":0},{"$f":"推定用途置換ルール!GHN3","v":0},{"$f":"推定用途置換ルール!GHO3","v":0},{"$f":"推定用途置換ルール!GHP3","v":0},{"$f":"推定用途置換ルール!GHQ3","v":0},{"$f":"推定用途置換ルール!GHR3","v":0},{"$f":"推定用途置換ルール!GHS3","v":0},{"$f":"推定用途置換ルール!GHT3","v":0},{"$f":"推定用途置換ルール!GHU3","v":0},{"$f":"推定用途置換ルール!GHV3","v":0},{"$f":"推定用途置換ルール!GHW3","v":0},{"$f":"推定用途置換ルール!GHX3","v":0},{"$f":"推定用途置換ルール!GHY3","v":0},{"$f":"推定用途置換ルール!GHZ3","v":0},{"$f":"推定用途置換ルール!GIA3","v":0},{"$f":"推定用途置換ルール!GIB3","v":0},{"$f":"推定用途置換ルール!GIC3","v":0},{"$f":"推定用途置換ルール!GID3","v":0},{"$f":"推定用途置換ルール!GIE3","v":0},{"$f":"推定用途置換ルール!GIF3","v":0},{"$f":"推定用途置換ルール!GIG3","v":0},{"$f":"推定用途置換ルール!GIH3","v":0},{"$f":"推定用途置換ルール!GII3","v":0},{"$f":"推定用途置換ルール!GIJ3","v":0},{"$f":"推定用途置換ルール!GIK3","v":0},{"$f":"推定用途置換ルール!GIL3","v":0},{"$f":"推定用途置換ルール!GIM3","v":0},{"$f":"推定用途置換ルール!GIN3","v":0},{"$f":"推定用途置換ルール!GIO3","v":0},{"$f":"推定用途置換ルール!GIP3","v":0},{"$f":"推定用途置換ルール!GIQ3","v":0},{"$f":"推定用途置換ルール!GIR3","v":0},{"$f":"推定用途置換ルール!GIS3","v":0},{"$f":"推定用途置換ルール!GIT3","v":0},{"$f":"推定用途置換ルール!GIU3","v":0},{"$f":"推定用途置換ルール!GIV3","v":0},{"$f":"推定用途置換ルール!GIW3","v":0},{"$f":"推定用途置換ルール!GIX3","v":0},{"$f":"推定用途置換ルール!GIY3","v":0},{"$f":"推定用途置換ルール!GIZ3","v":0},{"$f":"推定用途置換ルール!GJA3","v":0},{"$f":"推定用途置換ルール!GJB3","v":0},{"$f":"推定用途置換ルール!GJC3","v":0},{"$f":"推定用途置換ルール!GJD3","v":0},{"$f":"推定用途置換ルール!GJE3","v":0},{"$f":"推定用途置換ルール!GJF3","v":0},{"$f":"推定用途置換ルール!GJG3","v":0},{"$f":"推定用途置換ルール!GJH3","v":0},{"$f":"推定用途置換ルール!GJI3","v":0},{"$f":"推定用途置換ルール!GJJ3","v":0},{"$f":"推定用途置換ルール!GJK3","v":0},{"$f":"推定用途置換ルール!GJL3","v":0},{"$f":"推定用途置換ルール!GJM3","v":0},{"$f":"推定用途置換ルール!GJN3","v":0},{"$f":"推定用途置換ルール!GJO3","v":0},{"$f":"推定用途置換ルール!GJP3","v":0},{"$f":"推定用途置換ルール!GJQ3","v":0},{"$f":"推定用途置換ルール!GJR3","v":0},{"$f":"推定用途置換ルール!GJS3","v":0},{"$f":"推定用途置換ルール!GJT3","v":0},{"$f":"推定用途置換ルール!GJU3","v":0},{"$f":"推定用途置換ルール!GJV3","v":0},{"$f":"推定用途置換ルール!GJW3","v":0},{"$f":"推定用途置換ルール!GJX3","v":0},{"$f":"推定用途置換ルール!GJY3","v":0},{"$f":"推定用途置換ルール!GJZ3","v":0},{"$f":"推定用途置換ルール!GKA3","v":0},{"$f":"推定用途置換ルール!GKB3","v":0},{"$f":"推定用途置換ルール!GKC3","v":0},{"$f":"推定用途置換ルール!GKD3","v":0},{"$f":"推定用途置換ルール!GKE3","v":0},{"$f":"推定用途置換ルール!GKF3","v":0},{"$f":"推定用途置換ルール!GKG3","v":0},{"$f":"推定用途置換ルール!GKH3","v":0},{"$f":"推定用途置換ルール!GKI3","v":0},{"$f":"推定用途置換ルール!GKJ3","v":0},{"$f":"推定用途置換ルール!GKK3","v":0},{"$f":"推定用途置換ルール!GKL3","v":0},{"$f":"推定用途置換ルール!GKM3","v":0},{"$f":"推定用途置換ルール!GKN3","v":0},{"$f":"推定用途置換ルール!GKO3","v":0},{"$f":"推定用途置換ルール!GKP3","v":0},{"$f":"推定用途置換ルール!GKQ3","v":0},{"$f":"推定用途置換ルール!GKR3","v":0},{"$f":"推定用途置換ルール!GKS3","v":0},{"$f":"推定用途置換ルール!GKT3","v":0},{"$f":"推定用途置換ルール!GKU3","v":0},{"$f":"推定用途置換ルール!GKV3","v":0},{"$f":"推定用途置換ルール!GKW3","v":0},{"$f":"推定用途置換ルール!GKX3","v":0},{"$f":"推定用途置換ルール!GKY3","v":0},{"$f":"推定用途置換ルール!GKZ3","v":0},{"$f":"推定用途置換ルール!GLA3","v":0},{"$f":"推定用途置換ルール!GLB3","v":0},{"$f":"推定用途置換ルール!GLC3","v":0},{"$f":"推定用途置換ルール!GLD3","v":0},{"$f":"推定用途置換ルール!GLE3","v":0},{"$f":"推定用途置換ルール!GLF3","v":0},{"$f":"推定用途置換ルール!GLG3","v":0},{"$f":"推定用途置換ルール!GLH3","v":0},{"$f":"推定用途置換ルール!GLI3","v":0},{"$f":"推定用途置換ルール!GLJ3","v":0},{"$f":"推定用途置換ルール!GLK3","v":0},{"$f":"推定用途置換ルール!GLL3","v":0},{"$f":"推定用途置換ルール!GLM3","v":0},{"$f":"推定用途置換ルール!GLN3","v":0},{"$f":"推定用途置換ルール!GLO3","v":0},{"$f":"推定用途置換ルール!GLP3","v":0},{"$f":"推定用途置換ルール!GLQ3","v":0},{"$f":"推定用途置換ルール!GLR3","v":0},{"$f":"推定用途置換ルール!GLS3","v":0},{"$f":"推定用途置換ルール!GLT3","v":0},{"$f":"推定用途置換ルール!GLU3","v":0},{"$f":"推定用途置換ルール!GLV3","v":0},{"$f":"推定用途置換ルール!GLW3","v":0},{"$f":"推定用途置換ルール!GLX3","v":0},{"$f":"推定用途置換ルール!GLY3","v":0},{"$f":"推定用途置換ルール!GLZ3","v":0},{"$f":"推定用途置換ルール!GMA3","v":0},{"$f":"推定用途置換ルール!GMB3","v":0},{"$f":"推定用途置換ルール!GMC3","v":0},{"$f":"推定用途置換ルール!GMD3","v":0},{"$f":"推定用途置換ルール!GME3","v":0},{"$f":"推定用途置換ルール!GMF3","v":0},{"$f":"推定用途置換ルール!GMG3","v":0},{"$f":"推定用途置換ルール!GMH3","v":0},{"$f":"推定用途置換ルール!GMI3","v":0},{"$f":"推定用途置換ルール!GMJ3","v":0},{"$f":"推定用途置換ルール!GMK3","v":0},{"$f":"推定用途置換ルール!GML3","v":0},{"$f":"推定用途置換ルール!GMM3","v":0},{"$f":"推定用途置換ルール!GMN3","v":0},{"$f":"推定用途置換ルール!GMO3","v":0},{"$f":"推定用途置換ルール!GMP3","v":0},{"$f":"推定用途置換ルール!GMQ3","v":0},{"$f":"推定用途置換ルール!GMR3","v":0},{"$f":"推定用途置換ルール!GMS3","v":0},{"$f":"推定用途置換ルール!GMT3","v":0},{"$f":"推定用途置換ルール!GMU3","v":0},{"$f":"推定用途置換ルール!GMV3","v":0},{"$f":"推定用途置換ルール!GMW3","v":0},{"$f":"推定用途置換ルール!GMX3","v":0},{"$f":"推定用途置換ルール!GMY3","v":0},{"$f":"推定用途置換ルール!GMZ3","v":0},{"$f":"推定用途置換ルール!GNA3","v":0},{"$f":"推定用途置換ルール!GNB3","v":0},{"$f":"推定用途置換ルール!GNC3","v":0},{"$f":"推定用途置換ルール!GND3","v":0},{"$f":"推定用途置換ルール!GNE3","v":0},{"$f":"推定用途置換ルール!GNF3","v":0},{"$f":"推定用途置換ルール!GNG3","v":0},{"$f":"推定用途置換ルール!GNH3","v":0},{"$f":"推定用途置換ルール!GNI3","v":0},{"$f":"推定用途置換ルール!GNJ3","v":0},{"$f":"推定用途置換ルール!GNK3","v":0},{"$f":"推定用途置換ルール!GNL3","v":0},{"$f":"推定用途置換ルール!GNM3","v":0},{"$f":"推定用途置換ルール!GNN3","v":0},{"$f":"推定用途置換ルール!GNO3","v":0},{"$f":"推定用途置換ルール!GNP3","v":0},{"$f":"推定用途置換ルール!GNQ3","v":0},{"$f":"推定用途置換ルール!GNR3","v":0},{"$f":"推定用途置換ルール!GNS3","v":0},{"$f":"推定用途置換ルール!GNT3","v":0},{"$f":"推定用途置換ルール!GNU3","v":0},{"$f":"推定用途置換ルール!GNV3","v":0},{"$f":"推定用途置換ルール!GNW3","v":0},{"$f":"推定用途置換ルール!GNX3","v":0},{"$f":"推定用途置換ルール!GNY3","v":0},{"$f":"推定用途置換ルール!GNZ3","v":0},{"$f":"推定用途置換ルール!GOA3","v":0},{"$f":"推定用途置換ルール!GOB3","v":0},{"$f":"推定用途置換ルール!GOC3","v":0},{"$f":"推定用途置換ルール!GOD3","v":0},{"$f":"推定用途置換ルール!GOE3","v":0},{"$f":"推定用途置換ルール!GOF3","v":0},{"$f":"推定用途置換ルール!GOG3","v":0},{"$f":"推定用途置換ルール!GOH3","v":0},{"$f":"推定用途置換ルール!GOI3","v":0},{"$f":"推定用途置換ルール!GOJ3","v":0},{"$f":"推定用途置換ルール!GOK3","v":0},{"$f":"推定用途置換ルール!GOL3","v":0},{"$f":"推定用途置換ルール!GOM3","v":0},{"$f":"推定用途置換ルール!GON3","v":0},{"$f":"推定用途置換ルール!GOO3","v":0},{"$f":"推定用途置換ルール!GOP3","v":0},{"$f":"推定用途置換ルール!GOQ3","v":0},{"$f":"推定用途置換ルール!GOR3","v":0},{"$f":"推定用途置換ルール!GOS3","v":0},{"$f":"推定用途置換ルール!GOT3","v":0},{"$f":"推定用途置換ルール!GOU3","v":0},{"$f":"推定用途置換ルール!GOV3","v":0},{"$f":"推定用途置換ルール!GOW3","v":0},{"$f":"推定用途置換ルール!GOX3","v":0},{"$f":"推定用途置換ルール!GOY3","v":0},{"$f":"推定用途置換ルール!GOZ3","v":0},{"$f":"推定用途置換ルール!GPA3","v":0},{"$f":"推定用途置換ルール!GPB3","v":0},{"$f":"推定用途置換ルール!GPC3","v":0},{"$f":"推定用途置換ルール!GPD3","v":0},{"$f":"推定用途置換ルール!GPE3","v":0},{"$f":"推定用途置換ルール!GPF3","v":0},{"$f":"推定用途置換ルール!GPG3","v":0},{"$f":"推定用途置換ルール!GPH3","v":0},{"$f":"推定用途置換ルール!GPI3","v":0},{"$f":"推定用途置換ルール!GPJ3","v":0},{"$f":"推定用途置換ルール!GPK3","v":0},{"$f":"推定用途置換ルール!GPL3","v":0},{"$f":"推定用途置換ルール!GPM3","v":0},{"$f":"推定用途置換ルール!GPN3","v":0},{"$f":"推定用途置換ルール!GPO3","v":0},{"$f":"推定用途置換ルール!GPP3","v":0},{"$f":"推定用途置換ルール!GPQ3","v":0},{"$f":"推定用途置換ルール!GPR3","v":0},{"$f":"推定用途置換ルール!GPS3","v":0},{"$f":"推定用途置換ルール!GPT3","v":0},{"$f":"推定用途置換ルール!GPU3","v":0},{"$f":"推定用途置換ルール!GPV3","v":0},{"$f":"推定用途置換ルール!GPW3","v":0},{"$f":"推定用途置換ルール!GPX3","v":0},{"$f":"推定用途置換ルール!GPY3","v":0},{"$f":"推定用途置換ルール!GPZ3","v":0},{"$f":"推定用途置換ルール!GQA3","v":0},{"$f":"推定用途置換ルール!GQB3","v":0},{"$f":"推定用途置換ルール!GQC3","v":0},{"$f":"推定用途置換ルール!GQD3","v":0},{"$f":"推定用途置換ルール!GQE3","v":0},{"$f":"推定用途置換ルール!GQF3","v":0},{"$f":"推定用途置換ルール!GQG3","v":0},{"$f":"推定用途置換ルール!GQH3","v":0},{"$f":"推定用途置換ルール!GQI3","v":0},{"$f":"推定用途置換ルール!GQJ3","v":0},{"$f":"推定用途置換ルール!GQK3","v":0},{"$f":"推定用途置換ルール!GQL3","v":0},{"$f":"推定用途置換ルール!GQM3","v":0},{"$f":"推定用途置換ルール!GQN3","v":0},{"$f":"推定用途置換ルール!GQO3","v":0},{"$f":"推定用途置換ルール!GQP3","v":0},{"$f":"推定用途置換ルール!GQQ3","v":0},{"$f":"推定用途置換ルール!GQR3","v":0},{"$f":"推定用途置換ルール!GQS3","v":0},{"$f":"推定用途置換ルール!GQT3","v":0},{"$f":"推定用途置換ルール!GQU3","v":0},{"$f":"推定用途置換ルール!GQV3","v":0},{"$f":"推定用途置換ルール!GQW3","v":0},{"$f":"推定用途置換ルール!GQX3","v":0},{"$f":"推定用途置換ルール!GQY3","v":0},{"$f":"推定用途置換ルール!GQZ3","v":0},{"$f":"推定用途置換ルール!GRA3","v":0},{"$f":"推定用途置換ルール!GRB3","v":0},{"$f":"推定用途置換ルール!GRC3","v":0},{"$f":"推定用途置換ルール!GRD3","v":0},{"$f":"推定用途置換ルール!GRE3","v":0},{"$f":"推定用途置換ルール!GRF3","v":0},{"$f":"推定用途置換ルール!GRG3","v":0},{"$f":"推定用途置換ルール!GRH3","v":0},{"$f":"推定用途置換ルール!GRI3","v":0},{"$f":"推定用途置換ルール!GRJ3","v":0},{"$f":"推定用途置換ルール!GRK3","v":0},{"$f":"推定用途置換ルール!GRL3","v":0},{"$f":"推定用途置換ルール!GRM3","v":0},{"$f":"推定用途置換ルール!GRN3","v":0},{"$f":"推定用途置換ルール!GRO3","v":0},{"$f":"推定用途置換ルール!GRP3","v":0},{"$f":"推定用途置換ルール!GRQ3","v":0},{"$f":"推定用途置換ルール!GRR3","v":0},{"$f":"推定用途置換ルール!GRS3","v":0},{"$f":"推定用途置換ルール!GRT3","v":0},{"$f":"推定用途置換ルール!GRU3","v":0},{"$f":"推定用途置換ルール!GRV3","v":0},{"$f":"推定用途置換ルール!GRW3","v":0},{"$f":"推定用途置換ルール!GRX3","v":0},{"$f":"推定用途置換ルール!GRY3","v":0},{"$f":"推定用途置換ルール!GRZ3","v":0},{"$f":"推定用途置換ルール!GSA3","v":0},{"$f":"推定用途置換ルール!GSB3","v":0},{"$f":"推定用途置換ルール!GSC3","v":0},{"$f":"推定用途置換ルール!GSD3","v":0},{"$f":"推定用途置換ルール!GSE3","v":0},{"$f":"推定用途置換ルール!GSF3","v":0},{"$f":"推定用途置換ルール!GSG3","v":0},{"$f":"推定用途置換ルール!GSH3","v":0},{"$f":"推定用途置換ルール!GSI3","v":0},{"$f":"推定用途置換ルール!GSJ3","v":0},{"$f":"推定用途置換ルール!GSK3","v":0},{"$f":"推定用途置換ルール!GSL3","v":0},{"$f":"推定用途置換ルール!GSM3","v":0},{"$f":"推定用途置換ルール!GSN3","v":0},{"$f":"推定用途置換ルール!GSO3","v":0},{"$f":"推定用途置換ルール!GSP3","v":0},{"$f":"推定用途置換ルール!GSQ3","v":0},{"$f":"推定用途置換ルール!GSR3","v":0},{"$f":"推定用途置換ルール!GSS3","v":0},{"$f":"推定用途置換ルール!GST3","v":0},{"$f":"推定用途置換ルール!GSU3","v":0},{"$f":"推定用途置換ルール!GSV3","v":0},{"$f":"推定用途置換ルール!GSW3","v":0},{"$f":"推定用途置換ルール!GSX3","v":0},{"$f":"推定用途置換ルール!GSY3","v":0},{"$f":"推定用途置換ルール!GSZ3","v":0},{"$f":"推定用途置換ルール!GTA3","v":0},{"$f":"推定用途置換ルール!GTB3","v":0},{"$f":"推定用途置換ルール!GTC3","v":0},{"$f":"推定用途置換ルール!GTD3","v":0},{"$f":"推定用途置換ルール!GTE3","v":0},{"$f":"推定用途置換ルール!GTF3","v":0},{"$f":"推定用途置換ルール!GTG3","v":0},{"$f":"推定用途置換ルール!GTH3","v":0},{"$f":"推定用途置換ルール!GTI3","v":0},{"$f":"推定用途置換ルール!GTJ3","v":0},{"$f":"推定用途置換ルール!GTK3","v":0},{"$f":"推定用途置換ルール!GTL3","v":0},{"$f":"推定用途置換ルール!GTM3","v":0},{"$f":"推定用途置換ルール!GTN3","v":0},{"$f":"推定用途置換ルール!GTO3","v":0},{"$f":"推定用途置換ルール!GTP3","v":0},{"$f":"推定用途置換ルール!GTQ3","v":0},{"$f":"推定用途置換ルール!GTR3","v":0},{"$f":"推定用途置換ルール!GTS3","v":0},{"$f":"推定用途置換ルール!GTT3","v":0},{"$f":"推定用途置換ルール!GTU3","v":0},{"$f":"推定用途置換ルール!GTV3","v":0},{"$f":"推定用途置換ルール!GTW3","v":0},{"$f":"推定用途置換ルール!GTX3","v":0},{"$f":"推定用途置換ルール!GTY3","v":0},{"$f":"推定用途置換ルール!GTZ3","v":0},{"$f":"推定用途置換ルール!GUA3","v":0},{"$f":"推定用途置換ルール!GUB3","v":0},{"$f":"推定用途置換ルール!GUC3","v":0},{"$f":"推定用途置換ルール!GUD3","v":0},{"$f":"推定用途置換ルール!GUE3","v":0},{"$f":"推定用途置換ルール!GUF3","v":0},{"$f":"推定用途置換ルール!GUG3","v":0},{"$f":"推定用途置換ルール!GUH3","v":0},{"$f":"推定用途置換ルール!GUI3","v":0},{"$f":"推定用途置換ルール!GUJ3","v":0},{"$f":"推定用途置換ルール!GUK3","v":0},{"$f":"推定用途置換ルール!GUL3","v":0},{"$f":"推定用途置換ルール!GUM3","v":0},{"$f":"推定用途置換ルール!GUN3","v":0},{"$f":"推定用途置換ルール!GUO3","v":0},{"$f":"推定用途置換ルール!GUP3","v":0},{"$f":"推定用途置換ルール!GUQ3","v":0},{"$f":"推定用途置換ルール!GUR3","v":0},{"$f":"推定用途置換ルール!GUS3","v":0},{"$f":"推定用途置換ルール!GUT3","v":0},{"$f":"推定用途置換ルール!GUU3","v":0},{"$f":"推定用途置換ルール!GUV3","v":0},{"$f":"推定用途置換ルール!GUW3","v":0},{"$f":"推定用途置換ルール!GUX3","v":0},{"$f":"推定用途置換ルール!GUY3","v":0},{"$f":"推定用途置換ルール!GUZ3","v":0},{"$f":"推定用途置換ルール!GVA3","v":0},{"$f":"推定用途置換ルール!GVB3","v":0},{"$f":"推定用途置換ルール!GVC3","v":0},{"$f":"推定用途置換ルール!GVD3","v":0},{"$f":"推定用途置換ルール!GVE3","v":0},{"$f":"推定用途置換ルール!GVF3","v":0},{"$f":"推定用途置換ルール!GVG3","v":0},{"$f":"推定用途置換ルール!GVH3","v":0},{"$f":"推定用途置換ルール!GVI3","v":0},{"$f":"推定用途置換ルール!GVJ3","v":0},{"$f":"推定用途置換ルール!GVK3","v":0},{"$f":"推定用途置換ルール!GVL3","v":0},{"$f":"推定用途置換ルール!GVM3","v":0},{"$f":"推定用途置換ルール!GVN3","v":0},{"$f":"推定用途置換ルール!GVO3","v":0},{"$f":"推定用途置換ルール!GVP3","v":0},{"$f":"推定用途置換ルール!GVQ3","v":0},{"$f":"推定用途置換ルール!GVR3","v":0},{"$f":"推定用途置換ルール!GVS3","v":0},{"$f":"推定用途置換ルール!GVT3","v":0},{"$f":"推定用途置換ルール!GVU3","v":0},{"$f":"推定用途置換ルール!GVV3","v":0},{"$f":"推定用途置換ルール!GVW3","v":0},{"$f":"推定用途置換ルール!GVX3","v":0},{"$f":"推定用途置換ルール!GVY3","v":0},{"$f":"推定用途置換ルール!GVZ3","v":0},{"$f":"推定用途置換ルール!GWA3","v":0},{"$f":"推定用途置換ルール!GWB3","v":0},{"$f":"推定用途置換ルール!GWC3","v":0},{"$f":"推定用途置換ルール!GWD3","v":0},{"$f":"推定用途置換ルール!GWE3","v":0},{"$f":"推定用途置換ルール!GWF3","v":0},{"$f":"推定用途置換ルール!GWG3","v":0},{"$f":"推定用途置換ルール!GWH3","v":0},{"$f":"推定用途置換ルール!GWI3","v":0},{"$f":"推定用途置換ルール!GWJ3","v":0},{"$f":"推定用途置換ルール!GWK3","v":0},{"$f":"推定用途置換ルール!GWL3","v":0},{"$f":"推定用途置換ルール!GWM3","v":0},{"$f":"推定用途置換ルール!GWN3","v":0},{"$f":"推定用途置換ルール!GWO3","v":0},{"$f":"推定用途置換ルール!GWP3","v":0},{"$f":"推定用途置換ルール!GWQ3","v":0},{"$f":"推定用途置換ルール!GWR3","v":0},{"$f":"推定用途置換ルール!GWS3","v":0},{"$f":"推定用途置換ルール!GWT3","v":0},{"$f":"推定用途置換ルール!GWU3","v":0},{"$f":"推定用途置換ルール!GWV3","v":0},{"$f":"推定用途置換ルール!GWW3","v":0},{"$f":"推定用途置換ルール!GWX3","v":0},{"$f":"推定用途置換ルール!GWY3","v":0},{"$f":"推定用途置換ルール!GWZ3","v":0},{"$f":"推定用途置換ルール!GXA3","v":0},{"$f":"推定用途置換ルール!GXB3","v":0},{"$f":"推定用途置換ルール!GXC3","v":0},{"$f":"推定用途置換ルール!GXD3","v":0},{"$f":"推定用途置換ルール!GXE3","v":0},{"$f":"推定用途置換ルール!GXF3","v":0},{"$f":"推定用途置換ルール!GXG3","v":0},{"$f":"推定用途置換ルール!GXH3","v":0},{"$f":"推定用途置換ルール!GXI3","v":0},{"$f":"推定用途置換ルール!GXJ3","v":0},{"$f":"推定用途置換ルール!GXK3","v":0},{"$f":"推定用途置換ルール!GXL3","v":0},{"$f":"推定用途置換ルール!GXM3","v":0},{"$f":"推定用途置換ルール!GXN3","v":0},{"$f":"推定用途置換ルール!GXO3","v":0},{"$f":"推定用途置換ルール!GXP3","v":0},{"$f":"推定用途置換ルール!GXQ3","v":0},{"$f":"推定用途置換ルール!GXR3","v":0},{"$f":"推定用途置換ルール!GXS3","v":0},{"$f":"推定用途置換ルール!GXT3","v":0},{"$f":"推定用途置換ルール!GXU3","v":0},{"$f":"推定用途置換ルール!GXV3","v":0},{"$f":"推定用途置換ルール!GXW3","v":0},{"$f":"推定用途置換ルール!GXX3","v":0},{"$f":"推定用途置換ルール!GXY3","v":0},{"$f":"推定用途置換ルール!GXZ3","v":0},{"$f":"推定用途置換ルール!GYA3","v":0},{"$f":"推定用途置換ルール!GYB3","v":0},{"$f":"推定用途置換ルール!GYC3","v":0},{"$f":"推定用途置換ルール!GYD3","v":0},{"$f":"推定用途置換ルール!GYE3","v":0},{"$f":"推定用途置換ルール!GYF3","v":0},{"$f":"推定用途置換ルール!GYG3","v":0},{"$f":"推定用途置換ルール!GYH3","v":0},{"$f":"推定用途置換ルール!GYI3","v":0},{"$f":"推定用途置換ルール!GYJ3","v":0},{"$f":"推定用途置換ルール!GYK3","v":0},{"$f":"推定用途置換ルール!GYL3","v":0},{"$f":"推定用途置換ルール!GYM3","v":0},{"$f":"推定用途置換ルール!GYN3","v":0},{"$f":"推定用途置換ルール!GYO3","v":0},{"$f":"推定用途置換ルール!GYP3","v":0},{"$f":"推定用途置換ルール!GYQ3","v":0},{"$f":"推定用途置換ルール!GYR3","v":0},{"$f":"推定用途置換ルール!GYS3","v":0},{"$f":"推定用途置換ルール!GYT3","v":0},{"$f":"推定用途置換ルール!GYU3","v":0},{"$f":"推定用途置換ルール!GYV3","v":0},{"$f":"推定用途置換ルール!GYW3","v":0},{"$f":"推定用途置換ルール!GYX3","v":0},{"$f":"推定用途置換ルール!GYY3","v":0},{"$f":"推定用途置換ルール!GYZ3","v":0},{"$f":"推定用途置換ルール!GZA3","v":0},{"$f":"推定用途置換ルール!GZB3","v":0},{"$f":"推定用途置換ルール!GZC3","v":0},{"$f":"推定用途置換ルール!GZD3","v":0},{"$f":"推定用途置換ルール!GZE3","v":0},{"$f":"推定用途置換ルール!GZF3","v":0},{"$f":"推定用途置換ルール!GZG3","v":0},{"$f":"推定用途置換ルール!GZH3","v":0},{"$f":"推定用途置換ルール!GZI3","v":0},{"$f":"推定用途置換ルール!GZJ3","v":0},{"$f":"推定用途置換ルール!GZK3","v":0},{"$f":"推定用途置換ルール!GZL3","v":0},{"$f":"推定用途置換ルール!GZM3","v":0},{"$f":"推定用途置換ルール!GZN3","v":0},{"$f":"推定用途置換ルール!GZO3","v":0},{"$f":"推定用途置換ルール!GZP3","v":0},{"$f":"推定用途置換ルール!GZQ3","v":0},{"$f":"推定用途置換ルール!GZR3","v":0},{"$f":"推定用途置換ルール!GZS3","v":0},{"$f":"推定用途置換ルール!GZT3","v":0},{"$f":"推定用途置換ルール!GZU3","v":0},{"$f":"推定用途置換ルール!GZV3","v":0},{"$f":"推定用途置換ルール!GZW3","v":0},{"$f":"推定用途置換ルール!GZX3","v":0},{"$f":"推定用途置換ルール!GZY3","v":0},{"$f":"推定用途置換ルール!GZZ3","v":0},{"$f":"推定用途置換ルール!HAA3","v":0},{"$f":"推定用途置換ルール!HAB3","v":0},{"$f":"推定用途置換ルール!HAC3","v":0},{"$f":"推定用途置換ルール!HAD3","v":0},{"$f":"推定用途置換ルール!HAE3","v":0},{"$f":"推定用途置換ルール!HAF3","v":0},{"$f":"推定用途置換ルール!HAG3","v":0},{"$f":"推定用途置換ルール!HAH3","v":0},{"$f":"推定用途置換ルール!HAI3","v":0},{"$f":"推定用途置換ルール!HAJ3","v":0},{"$f":"推定用途置換ルール!HAK3","v":0},{"$f":"推定用途置換ルール!HAL3","v":0},{"$f":"推定用途置換ルール!HAM3","v":0},{"$f":"推定用途置換ルール!HAN3","v":0},{"$f":"推定用途置換ルール!HAO3","v":0},{"$f":"推定用途置換ルール!HAP3","v":0},{"$f":"推定用途置換ルール!HAQ3","v":0},{"$f":"推定用途置換ルール!HAR3","v":0},{"$f":"推定用途置換ルール!HAS3","v":0},{"$f":"推定用途置換ルール!HAT3","v":0},{"$f":"推定用途置換ルール!HAU3","v":0},{"$f":"推定用途置換ルール!HAV3","v":0},{"$f":"推定用途置換ルール!HAW3","v":0},{"$f":"推定用途置換ルール!HAX3","v":0},{"$f":"推定用途置換ルール!HAY3","v":0},{"$f":"推定用途置換ルール!HAZ3","v":0},{"$f":"推定用途置換ルール!HBA3","v":0},{"$f":"推定用途置換ルール!HBB3","v":0},{"$f":"推定用途置換ルール!HBC3","v":0},{"$f":"推定用途置換ルール!HBD3","v":0},{"$f":"推定用途置換ルール!HBE3","v":0},{"$f":"推定用途置換ルール!HBF3","v":0},{"$f":"推定用途置換ルール!HBG3","v":0},{"$f":"推定用途置換ルール!HBH3","v":0},{"$f":"推定用途置換ルール!HBI3","v":0},{"$f":"推定用途置換ルール!HBJ3","v":0},{"$f":"推定用途置換ルール!HBK3","v":0},{"$f":"推定用途置換ルール!HBL3","v":0},{"$f":"推定用途置換ルール!HBM3","v":0},{"$f":"推定用途置換ルール!HBN3","v":0},{"$f":"推定用途置換ルール!HBO3","v":0},{"$f":"推定用途置換ルール!HBP3","v":0},{"$f":"推定用途置換ルール!HBQ3","v":0},{"$f":"推定用途置換ルール!HBR3","v":0},{"$f":"推定用途置換ルール!HBS3","v":0},{"$f":"推定用途置換ルール!HBT3","v":0},{"$f":"推定用途置換ルール!HBU3","v":0},{"$f":"推定用途置換ルール!HBV3","v":0},{"$f":"推定用途置換ルール!HBW3","v":0},{"$f":"推定用途置換ルール!HBX3","v":0},{"$f":"推定用途置換ルール!HBY3","v":0},{"$f":"推定用途置換ルール!HBZ3","v":0},{"$f":"推定用途置換ルール!HCA3","v":0},{"$f":"推定用途置換ルール!HCB3","v":0},{"$f":"推定用途置換ルール!HCC3","v":0},{"$f":"推定用途置換ルール!HCD3","v":0},{"$f":"推定用途置換ルール!HCE3","v":0},{"$f":"推定用途置換ルール!HCF3","v":0},{"$f":"推定用途置換ルール!HCG3","v":0},{"$f":"推定用途置換ルール!HCH3","v":0},{"$f":"推定用途置換ルール!HCI3","v":0},{"$f":"推定用途置換ルール!HCJ3","v":0},{"$f":"推定用途置換ルール!HCK3","v":0},{"$f":"推定用途置換ルール!HCL3","v":0},{"$f":"推定用途置換ルール!HCM3","v":0},{"$f":"推定用途置換ルール!HCN3","v":0},{"$f":"推定用途置換ルール!HCO3","v":0},{"$f":"推定用途置換ルール!HCP3","v":0},{"$f":"推定用途置換ルール!HCQ3","v":0},{"$f":"推定用途置換ルール!HCR3","v":0},{"$f":"推定用途置換ルール!HCS3","v":0},{"$f":"推定用途置換ルール!HCT3","v":0},{"$f":"推定用途置換ルール!HCU3","v":0},{"$f":"推定用途置換ルール!HCV3","v":0},{"$f":"推定用途置換ルール!HCW3","v":0},{"$f":"推定用途置換ルール!HCX3","v":0},{"$f":"推定用途置換ルール!HCY3","v":0},{"$f":"推定用途置換ルール!HCZ3","v":0},{"$f":"推定用途置換ルール!HDA3","v":0},{"$f":"推定用途置換ルール!HDB3","v":0},{"$f":"推定用途置換ルール!HDC3","v":0},{"$f":"推定用途置換ルール!HDD3","v":0},{"$f":"推定用途置換ルール!HDE3","v":0},{"$f":"推定用途置換ルール!HDF3","v":0},{"$f":"推定用途置換ルール!HDG3","v":0},{"$f":"推定用途置換ルール!HDH3","v":0},{"$f":"推定用途置換ルール!HDI3","v":0},{"$f":"推定用途置換ルール!HDJ3","v":0},{"$f":"推定用途置換ルール!HDK3","v":0},{"$f":"推定用途置換ルール!HDL3","v":0},{"$f":"推定用途置換ルール!HDM3","v":0},{"$f":"推定用途置換ルール!HDN3","v":0},{"$f":"推定用途置換ルール!HDO3","v":0},{"$f":"推定用途置換ルール!HDP3","v":0},{"$f":"推定用途置換ルール!HDQ3","v":0},{"$f":"推定用途置換ルール!HDR3","v":0},{"$f":"推定用途置換ルール!HDS3","v":0},{"$f":"推定用途置換ルール!HDT3","v":0},{"$f":"推定用途置換ルール!HDU3","v":0},{"$f":"推定用途置換ルール!HDV3","v":0},{"$f":"推定用途置換ルール!HDW3","v":0},{"$f":"推定用途置換ルール!HDX3","v":0},{"$f":"推定用途置換ルール!HDY3","v":0},{"$f":"推定用途置換ルール!HDZ3","v":0},{"$f":"推定用途置換ルール!HEA3","v":0},{"$f":"推定用途置換ルール!HEB3","v":0},{"$f":"推定用途置換ルール!HEC3","v":0},{"$f":"推定用途置換ルール!HED3","v":0},{"$f":"推定用途置換ルール!HEE3","v":0},{"$f":"推定用途置換ルール!HEF3","v":0},{"$f":"推定用途置換ルール!HEG3","v":0},{"$f":"推定用途置換ルール!HEH3","v":0},{"$f":"推定用途置換ルール!HEI3","v":0},{"$f":"推定用途置換ルール!HEJ3","v":0},{"$f":"推定用途置換ルール!HEK3","v":0},{"$f":"推定用途置換ルール!HEL3","v":0},{"$f":"推定用途置換ルール!HEM3","v":0},{"$f":"推定用途置換ルール!HEN3","v":0},{"$f":"推定用途置換ルール!HEO3","v":0},{"$f":"推定用途置換ルール!HEP3","v":0},{"$f":"推定用途置換ルール!HEQ3","v":0},{"$f":"推定用途置換ルール!HER3","v":0},{"$f":"推定用途置換ルール!HES3","v":0},{"$f":"推定用途置換ルール!HET3","v":0},{"$f":"推定用途置換ルール!HEU3","v":0},{"$f":"推定用途置換ルール!HEV3","v":0},{"$f":"推定用途置換ルール!HEW3","v":0},{"$f":"推定用途置換ルール!HEX3","v":0},{"$f":"推定用途置換ルール!HEY3","v":0},{"$f":"推定用途置換ルール!HEZ3","v":0},{"$f":"推定用途置換ルール!HFA3","v":0},{"$f":"推定用途置換ルール!HFB3","v":0},{"$f":"推定用途置換ルール!HFC3","v":0},{"$f":"推定用途置換ルール!HFD3","v":0},{"$f":"推定用途置換ルール!HFE3","v":0},{"$f":"推定用途置換ルール!HFF3","v":0},{"$f":"推定用途置換ルール!HFG3","v":0},{"$f":"推定用途置換ルール!HFH3","v":0},{"$f":"推定用途置換ルール!HFI3","v":0},{"$f":"推定用途置換ルール!HFJ3","v":0},{"$f":"推定用途置換ルール!HFK3","v":0},{"$f":"推定用途置換ルール!HFL3","v":0},{"$f":"推定用途置換ルール!HFM3","v":0},{"$f":"推定用途置換ルール!HFN3","v":0},{"$f":"推定用途置換ルール!HFO3","v":0},{"$f":"推定用途置換ルール!HFP3","v":0},{"$f":"推定用途置換ルール!HFQ3","v":0},{"$f":"推定用途置換ルール!HFR3","v":0},{"$f":"推定用途置換ルール!HFS3","v":0},{"$f":"推定用途置換ルール!HFT3","v":0},{"$f":"推定用途置換ルール!HFU3","v":0},{"$f":"推定用途置換ルール!HFV3","v":0},{"$f":"推定用途置換ルール!HFW3","v":0},{"$f":"推定用途置換ルール!HFX3","v":0},{"$f":"推定用途置換ルール!HFY3","v":0},{"$f":"推定用途置換ルール!HFZ3","v":0},{"$f":"推定用途置換ルール!HGA3","v":0},{"$f":"推定用途置換ルール!HGB3","v":0},{"$f":"推定用途置換ルール!HGC3","v":0},{"$f":"推定用途置換ルール!HGD3","v":0},{"$f":"推定用途置換ルール!HGE3","v":0},{"$f":"推定用途置換ルール!HGF3","v":0},{"$f":"推定用途置換ルール!HGG3","v":0},{"$f":"推定用途置換ルール!HGH3","v":0},{"$f":"推定用途置換ルール!HGI3","v":0},{"$f":"推定用途置換ルール!HGJ3","v":0},{"$f":"推定用途置換ルール!HGK3","v":0},{"$f":"推定用途置換ルール!HGL3","v":0},{"$f":"推定用途置換ルール!HGM3","v":0},{"$f":"推定用途置換ルール!HGN3","v":0},{"$f":"推定用途置換ルール!HGO3","v":0},{"$f":"推定用途置換ルール!HGP3","v":0},{"$f":"推定用途置換ルール!HGQ3","v":0},{"$f":"推定用途置換ルール!HGR3","v":0},{"$f":"推定用途置換ルール!HGS3","v":0},{"$f":"推定用途置換ルール!HGT3","v":0},{"$f":"推定用途置換ルール!HGU3","v":0},{"$f":"推定用途置換ルール!HGV3","v":0},{"$f":"推定用途置換ルール!HGW3","v":0},{"$f":"推定用途置換ルール!HGX3","v":0},{"$f":"推定用途置換ルール!HGY3","v":0},{"$f":"推定用途置換ルール!HGZ3","v":0},{"$f":"推定用途置換ルール!HHA3","v":0},{"$f":"推定用途置換ルール!HHB3","v":0},{"$f":"推定用途置換ルール!HHC3","v":0},{"$f":"推定用途置換ルール!HHD3","v":0},{"$f":"推定用途置換ルール!HHE3","v":0},{"$f":"推定用途置換ルール!HHF3","v":0},{"$f":"推定用途置換ルール!HHG3","v":0},{"$f":"推定用途置換ルール!HHH3","v":0},{"$f":"推定用途置換ルール!HHI3","v":0},{"$f":"推定用途置換ルール!HHJ3","v":0},{"$f":"推定用途置換ルール!HHK3","v":0},{"$f":"推定用途置換ルール!HHL3","v":0},{"$f":"推定用途置換ルール!HHM3","v":0},{"$f":"推定用途置換ルール!HHN3","v":0},{"$f":"推定用途置換ルール!HHO3","v":0},{"$f":"推定用途置換ルール!HHP3","v":0},{"$f":"推定用途置換ルール!HHQ3","v":0},{"$f":"推定用途置換ルール!HHR3","v":0},{"$f":"推定用途置換ルール!HHS3","v":0},{"$f":"推定用途置換ルール!HHT3","v":0},{"$f":"推定用途置換ルール!HHU3","v":0},{"$f":"推定用途置換ルール!HHV3","v":0},{"$f":"推定用途置換ルール!HHW3","v":0},{"$f":"推定用途置換ルール!HHX3","v":0},{"$f":"推定用途置換ルール!HHY3","v":0},{"$f":"推定用途置換ルール!HHZ3","v":0},{"$f":"推定用途置換ルール!HIA3","v":0},{"$f":"推定用途置換ルール!HIB3","v":0},{"$f":"推定用途置換ルール!HIC3","v":0},{"$f":"推定用途置換ルール!HID3","v":0},{"$f":"推定用途置換ルール!HIE3","v":0},{"$f":"推定用途置換ルール!HIF3","v":0},{"$f":"推定用途置換ルール!HIG3","v":0},{"$f":"推定用途置換ルール!HIH3","v":0},{"$f":"推定用途置換ルール!HII3","v":0},{"$f":"推定用途置換ルール!HIJ3","v":0},{"$f":"推定用途置換ルール!HIK3","v":0},{"$f":"推定用途置換ルール!HIL3","v":0},{"$f":"推定用途置換ルール!HIM3","v":0},{"$f":"推定用途置換ルール!HIN3","v":0},{"$f":"推定用途置換ルール!HIO3","v":0},{"$f":"推定用途置換ルール!HIP3","v":0},{"$f":"推定用途置換ルール!HIQ3","v":0},{"$f":"推定用途置換ルール!HIR3","v":0},{"$f":"推定用途置換ルール!HIS3","v":0},{"$f":"推定用途置換ルール!HIT3","v":0},{"$f":"推定用途置換ルール!HIU3","v":0},{"$f":"推定用途置換ルール!HIV3","v":0},{"$f":"推定用途置換ルール!HIW3","v":0},{"$f":"推定用途置換ルール!HIX3","v":0},{"$f":"推定用途置換ルール!HIY3","v":0},{"$f":"推定用途置換ルール!HIZ3","v":0},{"$f":"推定用途置換ルール!HJA3","v":0},{"$f":"推定用途置換ルール!HJB3","v":0},{"$f":"推定用途置換ルール!HJC3","v":0},{"$f":"推定用途置換ルール!HJD3","v":0},{"$f":"推定用途置換ルール!HJE3","v":0},{"$f":"推定用途置換ルール!HJF3","v":0},{"$f":"推定用途置換ルール!HJG3","v":0},{"$f":"推定用途置換ルール!HJH3","v":0},{"$f":"推定用途置換ルール!HJI3","v":0},{"$f":"推定用途置換ルール!HJJ3","v":0},{"$f":"推定用途置換ルール!HJK3","v":0},{"$f":"推定用途置換ルール!HJL3","v":0},{"$f":"推定用途置換ルール!HJM3","v":0},{"$f":"推定用途置換ルール!HJN3","v":0},{"$f":"推定用途置換ルール!HJO3","v":0},{"$f":"推定用途置換ルール!HJP3","v":0},{"$f":"推定用途置換ルール!HJQ3","v":0},{"$f":"推定用途置換ルール!HJR3","v":0},{"$f":"推定用途置換ルール!HJS3","v":0},{"$f":"推定用途置換ルール!HJT3","v":0},{"$f":"推定用途置換ルール!HJU3","v":0},{"$f":"推定用途置換ルール!HJV3","v":0},{"$f":"推定用途置換ルール!HJW3","v":0},{"$f":"推定用途置換ルール!HJX3","v":0},{"$f":"推定用途置換ルール!HJY3","v":0},{"$f":"推定用途置換ルール!HJZ3","v":0},{"$f":"推定用途置換ルール!HKA3","v":0},{"$f":"推定用途置換ルール!HKB3","v":0},{"$f":"推定用途置換ルール!HKC3","v":0},{"$f":"推定用途置換ルール!HKD3","v":0},{"$f":"推定用途置換ルール!HKE3","v":0},{"$f":"推定用途置換ルール!HKF3","v":0},{"$f":"推定用途置換ルール!HKG3","v":0},{"$f":"推定用途置換ルール!HKH3","v":0},{"$f":"推定用途置換ルール!HKI3","v":0},{"$f":"推定用途置換ルール!HKJ3","v":0},{"$f":"推定用途置換ルール!HKK3","v":0},{"$f":"推定用途置換ルール!HKL3","v":0},{"$f":"推定用途置換ルール!HKM3","v":0},{"$f":"推定用途置換ルール!HKN3","v":0},{"$f":"推定用途置換ルール!HKO3","v":0},{"$f":"推定用途置換ルール!HKP3","v":0},{"$f":"推定用途置換ルール!HKQ3","v":0},{"$f":"推定用途置換ルール!HKR3","v":0},{"$f":"推定用途置換ルール!HKS3","v":0},{"$f":"推定用途置換ルール!HKT3","v":0},{"$f":"推定用途置換ルール!HKU3","v":0},{"$f":"推定用途置換ルール!HKV3","v":0},{"$f":"推定用途置換ルール!HKW3","v":0},{"$f":"推定用途置換ルール!HKX3","v":0},{"$f":"推定用途置換ルール!HKY3","v":0},{"$f":"推定用途置換ルール!HKZ3","v":0},{"$f":"推定用途置換ルール!HLA3","v":0},{"$f":"推定用途置換ルール!HLB3","v":0},{"$f":"推定用途置換ルール!HLC3","v":0},{"$f":"推定用途置換ルール!HLD3","v":0},{"$f":"推定用途置換ルール!HLE3","v":0},{"$f":"推定用途置換ルール!HLF3","v":0},{"$f":"推定用途置換ルール!HLG3","v":0},{"$f":"推定用途置換ルール!HLH3","v":0},{"$f":"推定用途置換ルール!HLI3","v":0},{"$f":"推定用途置換ルール!HLJ3","v":0},{"$f":"推定用途置換ルール!HLK3","v":0},{"$f":"推定用途置換ルール!HLL3","v":0},{"$f":"推定用途置換ルール!HLM3","v":0},{"$f":"推定用途置換ルール!HLN3","v":0},{"$f":"推定用途置換ルール!HLO3","v":0},{"$f":"推定用途置換ルール!HLP3","v":0},{"$f":"推定用途置換ルール!HLQ3","v":0},{"$f":"推定用途置換ルール!HLR3","v":0},{"$f":"推定用途置換ルール!HLS3","v":0},{"$f":"推定用途置換ルール!HLT3","v":0},{"$f":"推定用途置換ルール!HLU3","v":0},{"$f":"推定用途置換ルール!HLV3","v":0},{"$f":"推定用途置換ルール!HLW3","v":0},{"$f":"推定用途置換ルール!HLX3","v":0},{"$f":"推定用途置換ルール!HLY3","v":0},{"$f":"推定用途置換ルール!HLZ3","v":0},{"$f":"推定用途置換ルール!HMA3","v":0},{"$f":"推定用途置換ルール!HMB3","v":0},{"$f":"推定用途置換ルール!HMC3","v":0},{"$f":"推定用途置換ルール!HMD3","v":0},{"$f":"推定用途置換ルール!HME3","v":0},{"$f":"推定用途置換ルール!HMF3","v":0},{"$f":"推定用途置換ルール!HMG3","v":0},{"$f":"推定用途置換ルール!HMH3","v":0},{"$f":"推定用途置換ルール!HMI3","v":0},{"$f":"推定用途置換ルール!HMJ3","v":0},{"$f":"推定用途置換ルール!HMK3","v":0},{"$f":"推定用途置換ルール!HML3","v":0},{"$f":"推定用途置換ルール!HMM3","v":0},{"$f":"推定用途置換ルール!HMN3","v":0},{"$f":"推定用途置換ルール!HMO3","v":0},{"$f":"推定用途置換ルール!HMP3","v":0},{"$f":"推定用途置換ルール!HMQ3","v":0},{"$f":"推定用途置換ルール!HMR3","v":0},{"$f":"推定用途置換ルール!HMS3","v":0},{"$f":"推定用途置換ルール!HMT3","v":0},{"$f":"推定用途置換ルール!HMU3","v":0},{"$f":"推定用途置換ルール!HMV3","v":0},{"$f":"推定用途置換ルール!HMW3","v":0},{"$f":"推定用途置換ルール!HMX3","v":0},{"$f":"推定用途置換ルール!HMY3","v":0},{"$f":"推定用途置換ルール!HMZ3","v":0},{"$f":"推定用途置換ルール!HNA3","v":0},{"$f":"推定用途置換ルール!HNB3","v":0},{"$f":"推定用途置換ルール!HNC3","v":0},{"$f":"推定用途置換ルール!HND3","v":0},{"$f":"推定用途置換ルール!HNE3","v":0},{"$f":"推定用途置換ルール!HNF3","v":0},{"$f":"推定用途置換ルール!HNG3","v":0},{"$f":"推定用途置換ルール!HNH3","v":0},{"$f":"推定用途置換ルール!HNI3","v":0},{"$f":"推定用途置換ルール!HNJ3","v":0},{"$f":"推定用途置換ルール!HNK3","v":0},{"$f":"推定用途置換ルール!HNL3","v":0},{"$f":"推定用途置換ルール!HNM3","v":0},{"$f":"推定用途置換ルール!HNN3","v":0},{"$f":"推定用途置換ルール!HNO3","v":0},{"$f":"推定用途置換ルール!HNP3","v":0},{"$f":"推定用途置換ルール!HNQ3","v":0},{"$f":"推定用途置換ルール!HNR3","v":0},{"$f":"推定用途置換ルール!HNS3","v":0},{"$f":"推定用途置換ルール!HNT3","v":0},{"$f":"推定用途置換ルール!HNU3","v":0},{"$f":"推定用途置換ルール!HNV3","v":0},{"$f":"推定用途置換ルール!HNW3","v":0},{"$f":"推定用途置換ルール!HNX3","v":0},{"$f":"推定用途置換ルール!HNY3","v":0},{"$f":"推定用途置換ルール!HNZ3","v":0},{"$f":"推定用途置換ルール!HOA3","v":0},{"$f":"推定用途置換ルール!HOB3","v":0},{"$f":"推定用途置換ルール!HOC3","v":0},{"$f":"推定用途置換ルール!HOD3","v":0},{"$f":"推定用途置換ルール!HOE3","v":0},{"$f":"推定用途置換ルール!HOF3","v":0},{"$f":"推定用途置換ルール!HOG3","v":0},{"$f":"推定用途置換ルール!HOH3","v":0},{"$f":"推定用途置換ルール!HOI3","v":0},{"$f":"推定用途置換ルール!HOJ3","v":0},{"$f":"推定用途置換ルール!HOK3","v":0},{"$f":"推定用途置換ルール!HOL3","v":0},{"$f":"推定用途置換ルール!HOM3","v":0},{"$f":"推定用途置換ルール!HON3","v":0},{"$f":"推定用途置換ルール!HOO3","v":0},{"$f":"推定用途置換ルール!HOP3","v":0},{"$f":"推定用途置換ルール!HOQ3","v":0},{"$f":"推定用途置換ルール!HOR3","v":0},{"$f":"推定用途置換ルール!HOS3","v":0},{"$f":"推定用途置換ルール!HOT3","v":0},{"$f":"推定用途置換ルール!HOU3","v":0},{"$f":"推定用途置換ルール!HOV3","v":0},{"$f":"推定用途置換ルール!HOW3","v":0},{"$f":"推定用途置換ルール!HOX3","v":0},{"$f":"推定用途置換ルール!HOY3","v":0},{"$f":"推定用途置換ルール!HOZ3","v":0},{"$f":"推定用途置換ルール!HPA3","v":0},{"$f":"推定用途置換ルール!HPB3","v":0},{"$f":"推定用途置換ルール!HPC3","v":0},{"$f":"推定用途置換ルール!HPD3","v":0},{"$f":"推定用途置換ルール!HPE3","v":0},{"$f":"推定用途置換ルール!HPF3","v":0},{"$f":"推定用途置換ルール!HPG3","v":0},{"$f":"推定用途置換ルール!HPH3","v":0},{"$f":"推定用途置換ルール!HPI3","v":0},{"$f":"推定用途置換ルール!HPJ3","v":0},{"$f":"推定用途置換ルール!HPK3","v":0},{"$f":"推定用途置換ルール!HPL3","v":0},{"$f":"推定用途置換ルール!HPM3","v":0},{"$f":"推定用途置換ルール!HPN3","v":0},{"$f":"推定用途置換ルール!HPO3","v":0},{"$f":"推定用途置換ルール!HPP3","v":0},{"$f":"推定用途置換ルール!HPQ3","v":0},{"$f":"推定用途置換ルール!HPR3","v":0},{"$f":"推定用途置換ルール!HPS3","v":0},{"$f":"推定用途置換ルール!HPT3","v":0},{"$f":"推定用途置換ルール!HPU3","v":0},{"$f":"推定用途置換ルール!HPV3","v":0},{"$f":"推定用途置換ルール!HPW3","v":0},{"$f":"推定用途置換ルール!HPX3","v":0},{"$f":"推定用途置換ルール!HPY3","v":0},{"$f":"推定用途置換ルール!HPZ3","v":0},{"$f":"推定用途置換ルール!HQA3","v":0},{"$f":"推定用途置換ルール!HQB3","v":0},{"$f":"推定用途置換ルール!HQC3","v":0},{"$f":"推定用途置換ルール!HQD3","v":0},{"$f":"推定用途置換ルール!HQE3","v":0},{"$f":"推定用途置換ルール!HQF3","v":0},{"$f":"推定用途置換ルール!HQG3","v":0},{"$f":"推定用途置換ルール!HQH3","v":0},{"$f":"推定用途置換ルール!HQI3","v":0},{"$f":"推定用途置換ルール!HQJ3","v":0},{"$f":"推定用途置換ルール!HQK3","v":0},{"$f":"推定用途置換ルール!HQL3","v":0},{"$f":"推定用途置換ルール!HQM3","v":0},{"$f":"推定用途置換ルール!HQN3","v":0},{"$f":"推定用途置換ルール!HQO3","v":0},{"$f":"推定用途置換ルール!HQP3","v":0},{"$f":"推定用途置換ルール!HQQ3","v":0},{"$f":"推定用途置換ルール!HQR3","v":0},{"$f":"推定用途置換ルール!HQS3","v":0},{"$f":"推定用途置換ルール!HQT3","v":0},{"$f":"推定用途置換ルール!HQU3","v":0},{"$f":"推定用途置換ルール!HQV3","v":0},{"$f":"推定用途置換ルール!HQW3","v":0},{"$f":"推定用途置換ルール!HQX3","v":0},{"$f":"推定用途置換ルール!HQY3","v":0},{"$f":"推定用途置換ルール!HQZ3","v":0},{"$f":"推定用途置換ルール!HRA3","v":0},{"$f":"推定用途置換ルール!HRB3","v":0},{"$f":"推定用途置換ルール!HRC3","v":0},{"$f":"推定用途置換ルール!HRD3","v":0},{"$f":"推定用途置換ルール!HRE3","v":0},{"$f":"推定用途置換ルール!HRF3","v":0},{"$f":"推定用途置換ルール!HRG3","v":0},{"$f":"推定用途置換ルール!HRH3","v":0},{"$f":"推定用途置換ルール!HRI3","v":0},{"$f":"推定用途置換ルール!HRJ3","v":0},{"$f":"推定用途置換ルール!HRK3","v":0},{"$f":"推定用途置換ルール!HRL3","v":0},{"$f":"推定用途置換ルール!HRM3","v":0},{"$f":"推定用途置換ルール!HRN3","v":0},{"$f":"推定用途置換ルール!HRO3","v":0},{"$f":"推定用途置換ルール!HRP3","v":0},{"$f":"推定用途置換ルール!HRQ3","v":0},{"$f":"推定用途置換ルール!HRR3","v":0},{"$f":"推定用途置換ルール!HRS3","v":0},{"$f":"推定用途置換ルール!HRT3","v":0},{"$f":"推定用途置換ルール!HRU3","v":0},{"$f":"推定用途置換ルール!HRV3","v":0},{"$f":"推定用途置換ルール!HRW3","v":0},{"$f":"推定用途置換ルール!HRX3","v":0},{"$f":"推定用途置換ルール!HRY3","v":0},{"$f":"推定用途置換ルール!HRZ3","v":0},{"$f":"推定用途置換ルール!HSA3","v":0},{"$f":"推定用途置換ルール!HSB3","v":0},{"$f":"推定用途置換ルール!HSC3","v":0},{"$f":"推定用途置換ルール!HSD3","v":0},{"$f":"推定用途置換ルール!HSE3","v":0},{"$f":"推定用途置換ルール!HSF3","v":0},{"$f":"推定用途置換ルール!HSG3","v":0},{"$f":"推定用途置換ルール!HSH3","v":0},{"$f":"推定用途置換ルール!HSI3","v":0},{"$f":"推定用途置換ルール!HSJ3","v":0},{"$f":"推定用途置換ルール!HSK3","v":0},{"$f":"推定用途置換ルール!HSL3","v":0},{"$f":"推定用途置換ルール!HSM3","v":0},{"$f":"推定用途置換ルール!HSN3","v":0},{"$f":"推定用途置換ルール!HSO3","v":0},{"$f":"推定用途置換ルール!HSP3","v":0},{"$f":"推定用途置換ルール!HSQ3","v":0},{"$f":"推定用途置換ルール!HSR3","v":0},{"$f":"推定用途置換ルール!HSS3","v":0},{"$f":"推定用途置換ルール!HST3","v":0},{"$f":"推定用途置換ルール!HSU3","v":0},{"$f":"推定用途置換ルール!HSV3","v":0},{"$f":"推定用途置換ルール!HSW3","v":0},{"$f":"推定用途置換ルール!HSX3","v":0},{"$f":"推定用途置換ルール!HSY3","v":0},{"$f":"推定用途置換ルール!HSZ3","v":0},{"$f":"推定用途置換ルール!HTA3","v":0},{"$f":"推定用途置換ルール!HTB3","v":0},{"$f":"推定用途置換ルール!HTC3","v":0},{"$f":"推定用途置換ルール!HTD3","v":0},{"$f":"推定用途置換ルール!HTE3","v":0},{"$f":"推定用途置換ルール!HTF3","v":0},{"$f":"推定用途置換ルール!HTG3","v":0},{"$f":"推定用途置換ルール!HTH3","v":0},{"$f":"推定用途置換ルール!HTI3","v":0},{"$f":"推定用途置換ルール!HTJ3","v":0},{"$f":"推定用途置換ルール!HTK3","v":0},{"$f":"推定用途置換ルール!HTL3","v":0},{"$f":"推定用途置換ルール!HTM3","v":0},{"$f":"推定用途置換ルール!HTN3","v":0},{"$f":"推定用途置換ルール!HTO3","v":0},{"$f":"推定用途置換ルール!HTP3","v":0},{"$f":"推定用途置換ルール!HTQ3","v":0},{"$f":"推定用途置換ルール!HTR3","v":0},{"$f":"推定用途置換ルール!HTS3","v":0},{"$f":"推定用途置換ルール!HTT3","v":0},{"$f":"推定用途置換ルール!HTU3","v":0},{"$f":"推定用途置換ルール!HTV3","v":0},{"$f":"推定用途置換ルール!HTW3","v":0},{"$f":"推定用途置換ルール!HTX3","v":0},{"$f":"推定用途置換ルール!HTY3","v":0},{"$f":"推定用途置換ルール!HTZ3","v":0},{"$f":"推定用途置換ルール!HUA3","v":0},{"$f":"推定用途置換ルール!HUB3","v":0},{"$f":"推定用途置換ルール!HUC3","v":0},{"$f":"推定用途置換ルール!HUD3","v":0},{"$f":"推定用途置換ルール!HUE3","v":0},{"$f":"推定用途置換ルール!HUF3","v":0},{"$f":"推定用途置換ルール!HUG3","v":0},{"$f":"推定用途置換ルール!HUH3","v":0},{"$f":"推定用途置換ルール!HUI3","v":0},{"$f":"推定用途置換ルール!HUJ3","v":0},{"$f":"推定用途置換ルール!HUK3","v":0},{"$f":"推定用途置換ルール!HUL3","v":0},{"$f":"推定用途置換ルール!HUM3","v":0},{"$f":"推定用途置換ルール!HUN3","v":0},{"$f":"推定用途置換ルール!HUO3","v":0},{"$f":"推定用途置換ルール!HUP3","v":0},{"$f":"推定用途置換ルール!HUQ3","v":0},{"$f":"推定用途置換ルール!HUR3","v":0},{"$f":"推定用途置換ルール!HUS3","v":0},{"$f":"推定用途置換ルール!HUT3","v":0},{"$f":"推定用途置換ルール!HUU3","v":0},{"$f":"推定用途置換ルール!HUV3","v":0},{"$f":"推定用途置換ルール!HUW3","v":0},{"$f":"推定用途置換ルール!HUX3","v":0},{"$f":"推定用途置換ルール!HUY3","v":0},{"$f":"推定用途置換ルール!HUZ3","v":0},{"$f":"推定用途置換ルール!HVA3","v":0},{"$f":"推定用途置換ルール!HVB3","v":0},{"$f":"推定用途置換ルール!HVC3","v":0},{"$f":"推定用途置換ルール!HVD3","v":0},{"$f":"推定用途置換ルール!HVE3","v":0},{"$f":"推定用途置換ルール!HVF3","v":0},{"$f":"推定用途置換ルール!HVG3","v":0},{"$f":"推定用途置換ルール!HVH3","v":0},{"$f":"推定用途置換ルール!HVI3","v":0},{"$f":"推定用途置換ルール!HVJ3","v":0},{"$f":"推定用途置換ルール!HVK3","v":0},{"$f":"推定用途置換ルール!HVL3","v":0},{"$f":"推定用途置換ルール!HVM3","v":0},{"$f":"推定用途置換ルール!HVN3","v":0},{"$f":"推定用途置換ルール!HVO3","v":0},{"$f":"推定用途置換ルール!HVP3","v":0},{"$f":"推定用途置換ルール!HVQ3","v":0},{"$f":"推定用途置換ルール!HVR3","v":0},{"$f":"推定用途置換ルール!HVS3","v":0},{"$f":"推定用途置換ルール!HVT3","v":0},{"$f":"推定用途置換ルール!HVU3","v":0},{"$f":"推定用途置換ルール!HVV3","v":0},{"$f":"推定用途置換ルール!HVW3","v":0},{"$f":"推定用途置換ルール!HVX3","v":0},{"$f":"推定用途置換ルール!HVY3","v":0},{"$f":"推定用途置換ルール!HVZ3","v":0},{"$f":"推定用途置換ルール!HWA3","v":0},{"$f":"推定用途置換ルール!HWB3","v":0},{"$f":"推定用途置換ルール!HWC3","v":0},{"$f":"推定用途置換ルール!HWD3","v":0},{"$f":"推定用途置換ルール!HWE3","v":0},{"$f":"推定用途置換ルール!HWF3","v":0},{"$f":"推定用途置換ルール!HWG3","v":0},{"$f":"推定用途置換ルール!HWH3","v":0},{"$f":"推定用途置換ルール!HWI3","v":0},{"$f":"推定用途置換ルール!HWJ3","v":0},{"$f":"推定用途置換ルール!HWK3","v":0},{"$f":"推定用途置換ルール!HWL3","v":0},{"$f":"推定用途置換ルール!HWM3","v":0},{"$f":"推定用途置換ルール!HWN3","v":0},{"$f":"推定用途置換ルール!HWO3","v":0},{"$f":"推定用途置換ルール!HWP3","v":0},{"$f":"推定用途置換ルール!HWQ3","v":0},{"$f":"推定用途置換ルール!HWR3","v":0},{"$f":"推定用途置換ルール!HWS3","v":0},{"$f":"推定用途置換ルール!HWT3","v":0},{"$f":"推定用途置換ルール!HWU3","v":0},{"$f":"推定用途置換ルール!HWV3","v":0},{"$f":"推定用途置換ルール!HWW3","v":0},{"$f":"推定用途置換ルール!HWX3","v":0},{"$f":"推定用途置換ルール!HWY3","v":0},{"$f":"推定用途置換ルール!HWZ3","v":0},{"$f":"推定用途置換ルール!HXA3","v":0},{"$f":"推定用途置換ルール!HXB3","v":0},{"$f":"推定用途置換ルール!HXC3","v":0},{"$f":"推定用途置換ルール!HXD3","v":0},{"$f":"推定用途置換ルール!HXE3","v":0},{"$f":"推定用途置換ルール!HXF3","v":0},{"$f":"推定用途置換ルール!HXG3","v":0},{"$f":"推定用途置換ルール!HXH3","v":0},{"$f":"推定用途置換ルール!HXI3","v":0},{"$f":"推定用途置換ルール!HXJ3","v":0},{"$f":"推定用途置換ルール!HXK3","v":0},{"$f":"推定用途置換ルール!HXL3","v":0},{"$f":"推定用途置換ルール!HXM3","v":0},{"$f":"推定用途置換ルール!HXN3","v":0},{"$f":"推定用途置換ルール!HXO3","v":0},{"$f":"推定用途置換ルール!HXP3","v":0},{"$f":"推定用途置換ルール!HXQ3","v":0},{"$f":"推定用途置換ルール!HXR3","v":0},{"$f":"推定用途置換ルール!HXS3","v":0},{"$f":"推定用途置換ルール!HXT3","v":0},{"$f":"推定用途置換ルール!HXU3","v":0},{"$f":"推定用途置換ルール!HXV3","v":0},{"$f":"推定用途置換ルール!HXW3","v":0},{"$f":"推定用途置換ルール!HXX3","v":0},{"$f":"推定用途置換ルール!HXY3","v":0},{"$f":"推定用途置換ルール!HXZ3","v":0},{"$f":"推定用途置換ルール!HYA3","v":0},{"$f":"推定用途置換ルール!HYB3","v":0},{"$f":"推定用途置換ルール!HYC3","v":0},{"$f":"推定用途置換ルール!HYD3","v":0},{"$f":"推定用途置換ルール!HYE3","v":0},{"$f":"推定用途置換ルール!HYF3","v":0},{"$f":"推定用途置換ルール!HYG3","v":0},{"$f":"推定用途置換ルール!HYH3","v":0},{"$f":"推定用途置換ルール!HYI3","v":0},{"$f":"推定用途置換ルール!HYJ3","v":0},{"$f":"推定用途置換ルール!HYK3","v":0},{"$f":"推定用途置換ルール!HYL3","v":0},{"$f":"推定用途置換ルール!HYM3","v":0},{"$f":"推定用途置換ルール!HYN3","v":0},{"$f":"推定用途置換ルール!HYO3","v":0},{"$f":"推定用途置換ルール!HYP3","v":0},{"$f":"推定用途置換ルール!HYQ3","v":0},{"$f":"推定用途置換ルール!HYR3","v":0},{"$f":"推定用途置換ルール!HYS3","v":0},{"$f":"推定用途置換ルール!HYT3","v":0},{"$f":"推定用途置換ルール!HYU3","v":0},{"$f":"推定用途置換ルール!HYV3","v":0},{"$f":"推定用途置換ルール!HYW3","v":0},{"$f":"推定用途置換ルール!HYX3","v":0},{"$f":"推定用途置換ルール!HYY3","v":0},{"$f":"推定用途置換ルール!HYZ3","v":0},{"$f":"推定用途置換ルール!HZA3","v":0},{"$f":"推定用途置換ルール!HZB3","v":0},{"$f":"推定用途置換ルール!HZC3","v":0},{"$f":"推定用途置換ルール!HZD3","v":0},{"$f":"推定用途置換ルール!HZE3","v":0},{"$f":"推定用途置換ルール!HZF3","v":0},{"$f":"推定用途置換ルール!HZG3","v":0},{"$f":"推定用途置換ルール!HZH3","v":0},{"$f":"推定用途置換ルール!HZI3","v":0},{"$f":"推定用途置換ルール!HZJ3","v":0},{"$f":"推定用途置換ルール!HZK3","v":0},{"$f":"推定用途置換ルール!HZL3","v":0},{"$f":"推定用途置換ルール!HZM3","v":0},{"$f":"推定用途置換ルール!HZN3","v":0},{"$f":"推定用途置換ルール!HZO3","v":0},{"$f":"推定用途置換ルール!HZP3","v":0},{"$f":"推定用途置換ルール!HZQ3","v":0},{"$f":"推定用途置換ルール!HZR3","v":0},{"$f":"推定用途置換ルール!HZS3","v":0},{"$f":"推定用途置換ルール!HZT3","v":0},{"$f":"推定用途置換ルール!HZU3","v":0},{"$f":"推定用途置換ルール!HZV3","v":0},{"$f":"推定用途置換ルール!HZW3","v":0},{"$f":"推定用途置換ルール!HZX3","v":0},{"$f":"推定用途置換ルール!HZY3","v":0},{"$f":"推定用途置換ルール!HZZ3","v":0},{"$f":"推定用途置換ルール!IAA3","v":0},{"$f":"推定用途置換ルール!IAB3","v":0},{"$f":"推定用途置換ルール!IAC3","v":0},{"$f":"推定用途置換ルール!IAD3","v":0},{"$f":"推定用途置換ルール!IAE3","v":0},{"$f":"推定用途置換ルール!IAF3","v":0},{"$f":"推定用途置換ルール!IAG3","v":0},{"$f":"推定用途置換ルール!IAH3","v":0},{"$f":"推定用途置換ルール!IAI3","v":0},{"$f":"推定用途置換ルール!IAJ3","v":0},{"$f":"推定用途置換ルール!IAK3","v":0},{"$f":"推定用途置換ルール!IAL3","v":0},{"$f":"推定用途置換ルール!IAM3","v":0},{"$f":"推定用途置換ルール!IAN3","v":0},{"$f":"推定用途置換ルール!IAO3","v":0},{"$f":"推定用途置換ルール!IAP3","v":0},{"$f":"推定用途置換ルール!IAQ3","v":0},{"$f":"推定用途置換ルール!IAR3","v":0},{"$f":"推定用途置換ルール!IAS3","v":0},{"$f":"推定用途置換ルール!IAT3","v":0},{"$f":"推定用途置換ルール!IAU3","v":0},{"$f":"推定用途置換ルール!IAV3","v":0},{"$f":"推定用途置換ルール!IAW3","v":0},{"$f":"推定用途置換ルール!IAX3","v":0},{"$f":"推定用途置換ルール!IAY3","v":0},{"$f":"推定用途置換ルール!IAZ3","v":0},{"$f":"推定用途置換ルール!IBA3","v":0},{"$f":"推定用途置換ルール!IBB3","v":0},{"$f":"推定用途置換ルール!IBC3","v":0},{"$f":"推定用途置換ルール!IBD3","v":0},{"$f":"推定用途置換ルール!IBE3","v":0},{"$f":"推定用途置換ルール!IBF3","v":0},{"$f":"推定用途置換ルール!IBG3","v":0},{"$f":"推定用途置換ルール!IBH3","v":0},{"$f":"推定用途置換ルール!IBI3","v":0},{"$f":"推定用途置換ルール!IBJ3","v":0},{"$f":"推定用途置換ルール!IBK3","v":0},{"$f":"推定用途置換ルール!IBL3","v":0},{"$f":"推定用途置換ルール!IBM3","v":0},{"$f":"推定用途置換ルール!IBN3","v":0},{"$f":"推定用途置換ルール!IBO3","v":0},{"$f":"推定用途置換ルール!IBP3","v":0},{"$f":"推定用途置換ルール!IBQ3","v":0},{"$f":"推定用途置換ルール!IBR3","v":0},{"$f":"推定用途置換ルール!IBS3","v":0},{"$f":"推定用途置換ルール!IBT3","v":0},{"$f":"推定用途置換ルール!IBU3","v":0},{"$f":"推定用途置換ルール!IBV3","v":0},{"$f":"推定用途置換ルール!IBW3","v":0},{"$f":"推定用途置換ルール!IBX3","v":0},{"$f":"推定用途置換ルール!IBY3","v":0},{"$f":"推定用途置換ルール!IBZ3","v":0},{"$f":"推定用途置換ルール!ICA3","v":0},{"$f":"推定用途置換ルール!ICB3","v":0},{"$f":"推定用途置換ルール!ICC3","v":0},{"$f":"推定用途置換ルール!ICD3","v":0},{"$f":"推定用途置換ルール!ICE3","v":0},{"$f":"推定用途置換ルール!ICF3","v":0},{"$f":"推定用途置換ルール!ICG3","v":0},{"$f":"推定用途置換ルール!ICH3","v":0},{"$f":"推定用途置換ルール!ICI3","v":0},{"$f":"推定用途置換ルール!ICJ3","v":0},{"$f":"推定用途置換ルール!ICK3","v":0},{"$f":"推定用途置換ルール!ICL3","v":0},{"$f":"推定用途置換ルール!ICM3","v":0},{"$f":"推定用途置換ルール!ICN3","v":0},{"$f":"推定用途置換ルール!ICO3","v":0},{"$f":"推定用途置換ルール!ICP3","v":0},{"$f":"推定用途置換ルール!ICQ3","v":0},{"$f":"推定用途置換ルール!ICR3","v":0},{"$f":"推定用途置換ルール!ICS3","v":0},{"$f":"推定用途置換ルール!ICT3","v":0},{"$f":"推定用途置換ルール!ICU3","v":0},{"$f":"推定用途置換ルール!ICV3","v":0},{"$f":"推定用途置換ルール!ICW3","v":0},{"$f":"推定用途置換ルール!ICX3","v":0},{"$f":"推定用途置換ルール!ICY3","v":0},{"$f":"推定用途置換ルール!ICZ3","v":0},{"$f":"推定用途置換ルール!IDA3","v":0},{"$f":"推定用途置換ルール!IDB3","v":0},{"$f":"推定用途置換ルール!IDC3","v":0},{"$f":"推定用途置換ルール!IDD3","v":0},{"$f":"推定用途置換ルール!IDE3","v":0},{"$f":"推定用途置換ルール!IDF3","v":0},{"$f":"推定用途置換ルール!IDG3","v":0},{"$f":"推定用途置換ルール!IDH3","v":0},{"$f":"推定用途置換ルール!IDI3","v":0},{"$f":"推定用途置換ルール!IDJ3","v":0},{"$f":"推定用途置換ルール!IDK3","v":0},{"$f":"推定用途置換ルール!IDL3","v":0},{"$f":"推定用途置換ルール!IDM3","v":0},{"$f":"推定用途置換ルール!IDN3","v":0},{"$f":"推定用途置換ルール!IDO3","v":0},{"$f":"推定用途置換ルール!IDP3","v":0},{"$f":"推定用途置換ルール!IDQ3","v":0},{"$f":"推定用途置換ルール!IDR3","v":0},{"$f":"推定用途置換ルール!IDS3","v":0},{"$f":"推定用途置換ルール!IDT3","v":0},{"$f":"推定用途置換ルール!IDU3","v":0},{"$f":"推定用途置換ルール!IDV3","v":0},{"$f":"推定用途置換ルール!IDW3","v":0},{"$f":"推定用途置換ルール!IDX3","v":0},{"$f":"推定用途置換ルール!IDY3","v":0},{"$f":"推定用途置換ルール!IDZ3","v":0},{"$f":"推定用途置換ルール!IEA3","v":0},{"$f":"推定用途置換ルール!IEB3","v":0},{"$f":"推定用途置換ルール!IEC3","v":0},{"$f":"推定用途置換ルール!IED3","v":0},{"$f":"推定用途置換ルール!IEE3","v":0},{"$f":"推定用途置換ルール!IEF3","v":0},{"$f":"推定用途置換ルール!IEG3","v":0},{"$f":"推定用途置換ルール!IEH3","v":0},{"$f":"推定用途置換ルール!IEI3","v":0},{"$f":"推定用途置換ルール!IEJ3","v":0},{"$f":"推定用途置換ルール!IEK3","v":0},{"$f":"推定用途置換ルール!IEL3","v":0},{"$f":"推定用途置換ルール!IEM3","v":0},{"$f":"推定用途置換ルール!IEN3","v":0},{"$f":"推定用途置換ルール!IEO3","v":0},{"$f":"推定用途置換ルール!IEP3","v":0},{"$f":"推定用途置換ルール!IEQ3","v":0},{"$f":"推定用途置換ルール!IER3","v":0},{"$f":"推定用途置換ルール!IES3","v":0},{"$f":"推定用途置換ルール!IET3","v":0},{"$f":"推定用途置換ルール!IEU3","v":0},{"$f":"推定用途置換ルール!IEV3","v":0},{"$f":"推定用途置換ルール!IEW3","v":0},{"$f":"推定用途置換ルール!IEX3","v":0},{"$f":"推定用途置換ルール!IEY3","v":0},{"$f":"推定用途置換ルール!IEZ3","v":0},{"$f":"推定用途置換ルール!IFA3","v":0},{"$f":"推定用途置換ルール!IFB3","v":0},{"$f":"推定用途置換ルール!IFC3","v":0},{"$f":"推定用途置換ルール!IFD3","v":0},{"$f":"推定用途置換ルール!IFE3","v":0},{"$f":"推定用途置換ルール!IFF3","v":0},{"$f":"推定用途置換ルール!IFG3","v":0},{"$f":"推定用途置換ルール!IFH3","v":0},{"$f":"推定用途置換ルール!IFI3","v":0},{"$f":"推定用途置換ルール!IFJ3","v":0},{"$f":"推定用途置換ルール!IFK3","v":0},{"$f":"推定用途置換ルール!IFL3","v":0},{"$f":"推定用途置換ルール!IFM3","v":0},{"$f":"推定用途置換ルール!IFN3","v":0},{"$f":"推定用途置換ルール!IFO3","v":0},{"$f":"推定用途置換ルール!IFP3","v":0},{"$f":"推定用途置換ルール!IFQ3","v":0},{"$f":"推定用途置換ルール!IFR3","v":0},{"$f":"推定用途置換ルール!IFS3","v":0},{"$f":"推定用途置換ルール!IFT3","v":0},{"$f":"推定用途置換ルール!IFU3","v":0},{"$f":"推定用途置換ルール!IFV3","v":0},{"$f":"推定用途置換ルール!IFW3","v":0},{"$f":"推定用途置換ルール!IFX3","v":0},{"$f":"推定用途置換ルール!IFY3","v":0},{"$f":"推定用途置換ルール!IFZ3","v":0},{"$f":"推定用途置換ルール!IGA3","v":0},{"$f":"推定用途置換ルール!IGB3","v":0},{"$f":"推定用途置換ルール!IGC3","v":0},{"$f":"推定用途置換ルール!IGD3","v":0},{"$f":"推定用途置換ルール!IGE3","v":0},{"$f":"推定用途置換ルール!IGF3","v":0},{"$f":"推定用途置換ルール!IGG3","v":0},{"$f":"推定用途置換ルール!IGH3","v":0},{"$f":"推定用途置換ルール!IGI3","v":0},{"$f":"推定用途置換ルール!IGJ3","v":0},{"$f":"推定用途置換ルール!IGK3","v":0},{"$f":"推定用途置換ルール!IGL3","v":0},{"$f":"推定用途置換ルール!IGM3","v":0},{"$f":"推定用途置換ルール!IGN3","v":0},{"$f":"推定用途置換ルール!IGO3","v":0},{"$f":"推定用途置換ルール!IGP3","v":0},{"$f":"推定用途置換ルール!IGQ3","v":0},{"$f":"推定用途置換ルール!IGR3","v":0},{"$f":"推定用途置換ルール!IGS3","v":0},{"$f":"推定用途置換ルール!IGT3","v":0},{"$f":"推定用途置換ルール!IGU3","v":0},{"$f":"推定用途置換ルール!IGV3","v":0},{"$f":"推定用途置換ルール!IGW3","v":0},{"$f":"推定用途置換ルール!IGX3","v":0},{"$f":"推定用途置換ルール!IGY3","v":0},{"$f":"推定用途置換ルール!IGZ3","v":0},{"$f":"推定用途置換ルール!IHA3","v":0},{"$f":"推定用途置換ルール!IHB3","v":0},{"$f":"推定用途置換ルール!IHC3","v":0},{"$f":"推定用途置換ルール!IHD3","v":0},{"$f":"推定用途置換ルール!IHE3","v":0},{"$f":"推定用途置換ルール!IHF3","v":0},{"$f":"推定用途置換ルール!IHG3","v":0},{"$f":"推定用途置換ルール!IHH3","v":0},{"$f":"推定用途置換ルール!IHI3","v":0},{"$f":"推定用途置換ルール!IHJ3","v":0},{"$f":"推定用途置換ルール!IHK3","v":0},{"$f":"推定用途置換ルール!IHL3","v":0},{"$f":"推定用途置換ルール!IHM3","v":0},{"$f":"推定用途置換ルール!IHN3","v":0},{"$f":"推定用途置換ルール!IHO3","v":0},{"$f":"推定用途置換ルール!IHP3","v":0},{"$f":"推定用途置換ルール!IHQ3","v":0},{"$f":"推定用途置換ルール!IHR3","v":0},{"$f":"推定用途置換ルール!IHS3","v":0},{"$f":"推定用途置換ルール!IHT3","v":0},{"$f":"推定用途置換ルール!IHU3","v":0},{"$f":"推定用途置換ルール!IHV3","v":0},{"$f":"推定用途置換ルール!IHW3","v":0},{"$f":"推定用途置換ルール!IHX3","v":0},{"$f":"推定用途置換ルール!IHY3","v":0},{"$f":"推定用途置換ルール!IHZ3","v":0},{"$f":"推定用途置換ルール!IIA3","v":0},{"$f":"推定用途置換ルール!IIB3","v":0},{"$f":"推定用途置換ルール!IIC3","v":0},{"$f":"推定用途置換ルール!IID3","v":0},{"$f":"推定用途置換ルール!IIE3","v":0},{"$f":"推定用途置換ルール!IIF3","v":0},{"$f":"推定用途置換ルール!IIG3","v":0},{"$f":"推定用途置換ルール!IIH3","v":0},{"$f":"推定用途置換ルール!III3","v":0},{"$f":"推定用途置換ルール!IIJ3","v":0},{"$f":"推定用途置換ルール!IIK3","v":0},{"$f":"推定用途置換ルール!IIL3","v":0},{"$f":"推定用途置換ルール!IIM3","v":0},{"$f":"推定用途置換ルール!IIN3","v":0},{"$f":"推定用途置換ルール!IIO3","v":0},{"$f":"推定用途置換ルール!IIP3","v":0},{"$f":"推定用途置換ルール!IIQ3","v":0},{"$f":"推定用途置換ルール!IIR3","v":0},{"$f":"推定用途置換ルール!IIS3","v":0},{"$f":"推定用途置換ルール!IIT3","v":0},{"$f":"推定用途置換ルール!IIU3","v":0},{"$f":"推定用途置換ルール!IIV3","v":0},{"$f":"推定用途置換ルール!IIW3","v":0},{"$f":"推定用途置換ルール!IIX3","v":0},{"$f":"推定用途置換ルール!IIY3","v":0},{"$f":"推定用途置換ルール!IIZ3","v":0},{"$f":"推定用途置換ルール!IJA3","v":0},{"$f":"推定用途置換ルール!IJB3","v":0},{"$f":"推定用途置換ルール!IJC3","v":0},{"$f":"推定用途置換ルール!IJD3","v":0},{"$f":"推定用途置換ルール!IJE3","v":0},{"$f":"推定用途置換ルール!IJF3","v":0},{"$f":"推定用途置換ルール!IJG3","v":0},{"$f":"推定用途置換ルール!IJH3","v":0},{"$f":"推定用途置換ルール!IJI3","v":0},{"$f":"推定用途置換ルール!IJJ3","v":0},{"$f":"推定用途置換ルール!IJK3","v":0},{"$f":"推定用途置換ルール!IJL3","v":0},{"$f":"推定用途置換ルール!IJM3","v":0},{"$f":"推定用途置換ルール!IJN3","v":0},{"$f":"推定用途置換ルール!IJO3","v":0},{"$f":"推定用途置換ルール!IJP3","v":0},{"$f":"推定用途置換ルール!IJQ3","v":0},{"$f":"推定用途置換ルール!IJR3","v":0},{"$f":"推定用途置換ルール!IJS3","v":0},{"$f":"推定用途置換ルール!IJT3","v":0},{"$f":"推定用途置換ルール!IJU3","v":0},{"$f":"推定用途置換ルール!IJV3","v":0},{"$f":"推定用途置換ルール!IJW3","v":0},{"$f":"推定用途置換ルール!IJX3","v":0},{"$f":"推定用途置換ルール!IJY3","v":0},{"$f":"推定用途置換ルール!IJZ3","v":0},{"$f":"推定用途置換ルール!IKA3","v":0},{"$f":"推定用途置換ルール!IKB3","v":0},{"$f":"推定用途置換ルール!IKC3","v":0},{"$f":"推定用途置換ルール!IKD3","v":0},{"$f":"推定用途置換ルール!IKE3","v":0},{"$f":"推定用途置換ルール!IKF3","v":0},{"$f":"推定用途置換ルール!IKG3","v":0},{"$f":"推定用途置換ルール!IKH3","v":0},{"$f":"推定用途置換ルール!IKI3","v":0},{"$f":"推定用途置換ルール!IKJ3","v":0},{"$f":"推定用途置換ルール!IKK3","v":0},{"$f":"推定用途置換ルール!IKL3","v":0},{"$f":"推定用途置換ルール!IKM3","v":0},{"$f":"推定用途置換ルール!IKN3","v":0},{"$f":"推定用途置換ルール!IKO3","v":0},{"$f":"推定用途置換ルール!IKP3","v":0},{"$f":"推定用途置換ルール!IKQ3","v":0},{"$f":"推定用途置換ルール!IKR3","v":0},{"$f":"推定用途置換ルール!IKS3","v":0},{"$f":"推定用途置換ルール!IKT3","v":0},{"$f":"推定用途置換ルール!IKU3","v":0},{"$f":"推定用途置換ルール!IKV3","v":0},{"$f":"推定用途置換ルール!IKW3","v":0},{"$f":"推定用途置換ルール!IKX3","v":0},{"$f":"推定用途置換ルール!IKY3","v":0},{"$f":"推定用途置換ルール!IKZ3","v":0},{"$f":"推定用途置換ルール!ILA3","v":0},{"$f":"推定用途置換ルール!ILB3","v":0},{"$f":"推定用途置換ルール!ILC3","v":0},{"$f":"推定用途置換ルール!ILD3","v":0},{"$f":"推定用途置換ルール!ILE3","v":0},{"$f":"推定用途置換ルール!ILF3","v":0},{"$f":"推定用途置換ルール!ILG3","v":0},{"$f":"推定用途置換ルール!ILH3","v":0},{"$f":"推定用途置換ルール!ILI3","v":0},{"$f":"推定用途置換ルール!ILJ3","v":0},{"$f":"推定用途置換ルール!ILK3","v":0},{"$f":"推定用途置換ルール!ILL3","v":0},{"$f":"推定用途置換ルール!ILM3","v":0},{"$f":"推定用途置換ルール!ILN3","v":0},{"$f":"推定用途置換ルール!ILO3","v":0},{"$f":"推定用途置換ルール!ILP3","v":0},{"$f":"推定用途置換ルール!ILQ3","v":0},{"$f":"推定用途置換ルール!ILR3","v":0},{"$f":"推定用途置換ルール!ILS3","v":0},{"$f":"推定用途置換ルール!ILT3","v":0},{"$f":"推定用途置換ルール!ILU3","v":0},{"$f":"推定用途置換ルール!ILV3","v":0},{"$f":"推定用途置換ルール!ILW3","v":0},{"$f":"推定用途置換ルール!ILX3","v":0},{"$f":"推定用途置換ルール!ILY3","v":0},{"$f":"推定用途置換ルール!ILZ3","v":0},{"$f":"推定用途置換ルール!IMA3","v":0},{"$f":"推定用途置換ルール!IMB3","v":0},{"$f":"推定用途置換ルール!IMC3","v":0},{"$f":"推定用途置換ルール!IMD3","v":0},{"$f":"推定用途置換ルール!IME3","v":0},{"$f":"推定用途置換ルール!IMF3","v":0},{"$f":"推定用途置換ルール!IMG3","v":0},{"$f":"推定用途置換ルール!IMH3","v":0},{"$f":"推定用途置換ルール!IMI3","v":0},{"$f":"推定用途置換ルール!IMJ3","v":0},{"$f":"推定用途置換ルール!IMK3","v":0},{"$f":"推定用途置換ルール!IML3","v":0},{"$f":"推定用途置換ルール!IMM3","v":0},{"$f":"推定用途置換ルール!IMN3","v":0},{"$f":"推定用途置換ルール!IMO3","v":0},{"$f":"推定用途置換ルール!IMP3","v":0},{"$f":"推定用途置換ルール!IMQ3","v":0},{"$f":"推定用途置換ルール!IMR3","v":0},{"$f":"推定用途置換ルール!IMS3","v":0},{"$f":"推定用途置換ルール!IMT3","v":0},{"$f":"推定用途置換ルール!IMU3","v":0},{"$f":"推定用途置換ルール!IMV3","v":0},{"$f":"推定用途置換ルール!IMW3","v":0},{"$f":"推定用途置換ルール!IMX3","v":0},{"$f":"推定用途置換ルール!IMY3","v":0},{"$f":"推定用途置換ルール!IMZ3","v":0},{"$f":"推定用途置換ルール!INA3","v":0},{"$f":"推定用途置換ルール!INB3","v":0},{"$f":"推定用途置換ルール!INC3","v":0},{"$f":"推定用途置換ルール!IND3","v":0},{"$f":"推定用途置換ルール!INE3","v":0},{"$f":"推定用途置換ルール!INF3","v":0},{"$f":"推定用途置換ルール!ING3","v":0},{"$f":"推定用途置換ルール!INH3","v":0},{"$f":"推定用途置換ルール!INI3","v":0},{"$f":"推定用途置換ルール!INJ3","v":0},{"$f":"推定用途置換ルール!INK3","v":0},{"$f":"推定用途置換ルール!INL3","v":0},{"$f":"推定用途置換ルール!INM3","v":0},{"$f":"推定用途置換ルール!INN3","v":0},{"$f":"推定用途置換ルール!INO3","v":0},{"$f":"推定用途置換ルール!INP3","v":0},{"$f":"推定用途置換ルール!INQ3","v":0},{"$f":"推定用途置換ルール!INR3","v":0},{"$f":"推定用途置換ルール!INS3","v":0},{"$f":"推定用途置換ルール!INT3","v":0},{"$f":"推定用途置換ルール!INU3","v":0},{"$f":"推定用途置換ルール!INV3","v":0},{"$f":"推定用途置換ルール!INW3","v":0},{"$f":"推定用途置換ルール!INX3","v":0},{"$f":"推定用途置換ルール!INY3","v":0},{"$f":"推定用途置換ルール!INZ3","v":0},{"$f":"推定用途置換ルール!IOA3","v":0},{"$f":"推定用途置換ルール!IOB3","v":0},{"$f":"推定用途置換ルール!IOC3","v":0},{"$f":"推定用途置換ルール!IOD3","v":0},{"$f":"推定用途置換ルール!IOE3","v":0},{"$f":"推定用途置換ルール!IOF3","v":0},{"$f":"推定用途置換ルール!IOG3","v":0},{"$f":"推定用途置換ルール!IOH3","v":0},{"$f":"推定用途置換ルール!IOI3","v":0},{"$f":"推定用途置換ルール!IOJ3","v":0},{"$f":"推定用途置換ルール!IOK3","v":0},{"$f":"推定用途置換ルール!IOL3","v":0},{"$f":"推定用途置換ルール!IOM3","v":0},{"$f":"推定用途置換ルール!ION3","v":0},{"$f":"推定用途置換ルール!IOO3","v":0},{"$f":"推定用途置換ルール!IOP3","v":0},{"$f":"推定用途置換ルール!IOQ3","v":0},{"$f":"推定用途置換ルール!IOR3","v":0},{"$f":"推定用途置換ルール!IOS3","v":0},{"$f":"推定用途置換ルール!IOT3","v":0},{"$f":"推定用途置換ルール!IOU3","v":0},{"$f":"推定用途置換ルール!IOV3","v":0},{"$f":"推定用途置換ルール!IOW3","v":0},{"$f":"推定用途置換ルール!IOX3","v":0},{"$f":"推定用途置換ルール!IOY3","v":0},{"$f":"推定用途置換ルール!IOZ3","v":0},{"$f":"推定用途置換ルール!IPA3","v":0},{"$f":"推定用途置換ルール!IPB3","v":0},{"$f":"推定用途置換ルール!IPC3","v":0},{"$f":"推定用途置換ルール!IPD3","v":0},{"$f":"推定用途置換ルール!IPE3","v":0},{"$f":"推定用途置換ルール!IPF3","v":0},{"$f":"推定用途置換ルール!IPG3","v":0},{"$f":"推定用途置換ルール!IPH3","v":0},{"$f":"推定用途置換ルール!IPI3","v":0},{"$f":"推定用途置換ルール!IPJ3","v":0},{"$f":"推定用途置換ルール!IPK3","v":0},{"$f":"推定用途置換ルール!IPL3","v":0},{"$f":"推定用途置換ルール!IPM3","v":0},{"$f":"推定用途置換ルール!IPN3","v":0},{"$f":"推定用途置換ルール!IPO3","v":0},{"$f":"推定用途置換ルール!IPP3","v":0},{"$f":"推定用途置換ルール!IPQ3","v":0},{"$f":"推定用途置換ルール!IPR3","v":0},{"$f":"推定用途置換ルール!IPS3","v":0},{"$f":"推定用途置換ルール!IPT3","v":0},{"$f":"推定用途置換ルール!IPU3","v":0},{"$f":"推定用途置換ルール!IPV3","v":0},{"$f":"推定用途置換ルール!IPW3","v":0},{"$f":"推定用途置換ルール!IPX3","v":0},{"$f":"推定用途置換ルール!IPY3","v":0},{"$f":"推定用途置換ルール!IPZ3","v":0},{"$f":"推定用途置換ルール!IQA3","v":0},{"$f":"推定用途置換ルール!IQB3","v":0},{"$f":"推定用途置換ルール!IQC3","v":0},{"$f":"推定用途置換ルール!IQD3","v":0},{"$f":"推定用途置換ルール!IQE3","v":0},{"$f":"推定用途置換ルール!IQF3","v":0},{"$f":"推定用途置換ルール!IQG3","v":0},{"$f":"推定用途置換ルール!IQH3","v":0},{"$f":"推定用途置換ルール!IQI3","v":0},{"$f":"推定用途置換ルール!IQJ3","v":0},{"$f":"推定用途置換ルール!IQK3","v":0},{"$f":"推定用途置換ルール!IQL3","v":0},{"$f":"推定用途置換ルール!IQM3","v":0},{"$f":"推定用途置換ルール!IQN3","v":0},{"$f":"推定用途置換ルール!IQO3","v":0},{"$f":"推定用途置換ルール!IQP3","v":0},{"$f":"推定用途置換ルール!IQQ3","v":0},{"$f":"推定用途置換ルール!IQR3","v":0},{"$f":"推定用途置換ルール!IQS3","v":0},{"$f":"推定用途置換ルール!IQT3","v":0},{"$f":"推定用途置換ルール!IQU3","v":0},{"$f":"推定用途置換ルール!IQV3","v":0},{"$f":"推定用途置換ルール!IQW3","v":0},{"$f":"推定用途置換ルール!IQX3","v":0},{"$f":"推定用途置換ルール!IQY3","v":0},{"$f":"推定用途置換ルール!IQZ3","v":0},{"$f":"推定用途置換ルール!IRA3","v":0},{"$f":"推定用途置換ルール!IRB3","v":0},{"$f":"推定用途置換ルール!IRC3","v":0},{"$f":"推定用途置換ルール!IRD3","v":0},{"$f":"推定用途置換ルール!IRE3","v":0},{"$f":"推定用途置換ルール!IRF3","v":0},{"$f":"推定用途置換ルール!IRG3","v":0},{"$f":"推定用途置換ルール!IRH3","v":0},{"$f":"推定用途置換ルール!IRI3","v":0},{"$f":"推定用途置換ルール!IRJ3","v":0},{"$f":"推定用途置換ルール!IRK3","v":0},{"$f":"推定用途置換ルール!IRL3","v":0},{"$f":"推定用途置換ルール!IRM3","v":0},{"$f":"推定用途置換ルール!IRN3","v":0},{"$f":"推定用途置換ルール!IRO3","v":0},{"$f":"推定用途置換ルール!IRP3","v":0},{"$f":"推定用途置換ルール!IRQ3","v":0},{"$f":"推定用途置換ルール!IRR3","v":0},{"$f":"推定用途置換ルール!IRS3","v":0},{"$f":"推定用途置換ルール!IRT3","v":0},{"$f":"推定用途置換ルール!IRU3","v":0},{"$f":"推定用途置換ルール!IRV3","v":0},{"$f":"推定用途置換ルール!IRW3","v":0},{"$f":"推定用途置換ルール!IRX3","v":0},{"$f":"推定用途置換ルール!IRY3","v":0},{"$f":"推定用途置換ルール!IRZ3","v":0},{"$f":"推定用途置換ルール!ISA3","v":0},{"$f":"推定用途置換ルール!ISB3","v":0},{"$f":"推定用途置換ルール!ISC3","v":0},{"$f":"推定用途置換ルール!ISD3","v":0},{"$f":"推定用途置換ルール!ISE3","v":0},{"$f":"推定用途置換ルール!ISF3","v":0},{"$f":"推定用途置換ルール!ISG3","v":0},{"$f":"推定用途置換ルール!ISH3","v":0},{"$f":"推定用途置換ルール!ISI3","v":0},{"$f":"推定用途置換ルール!ISJ3","v":0},{"$f":"推定用途置換ルール!ISK3","v":0},{"$f":"推定用途置換ルール!ISL3","v":0},{"$f":"推定用途置換ルール!ISM3","v":0},{"$f":"推定用途置換ルール!ISN3","v":0},{"$f":"推定用途置換ルール!ISO3","v":0},{"$f":"推定用途置換ルール!ISP3","v":0},{"$f":"推定用途置換ルール!ISQ3","v":0},{"$f":"推定用途置換ルール!ISR3","v":0},{"$f":"推定用途置換ルール!ISS3","v":0},{"$f":"推定用途置換ルール!IST3","v":0},{"$f":"推定用途置換ルール!ISU3","v":0},{"$f":"推定用途置換ルール!ISV3","v":0},{"$f":"推定用途置換ルール!ISW3","v":0},{"$f":"推定用途置換ルール!ISX3","v":0},{"$f":"推定用途置換ルール!ISY3","v":0},{"$f":"推定用途置換ルール!ISZ3","v":0},{"$f":"推定用途置換ルール!ITA3","v":0},{"$f":"推定用途置換ルール!ITB3","v":0},{"$f":"推定用途置換ルール!ITC3","v":0},{"$f":"推定用途置換ルール!ITD3","v":0},{"$f":"推定用途置換ルール!ITE3","v":0},{"$f":"推定用途置換ルール!ITF3","v":0},{"$f":"推定用途置換ルール!ITG3","v":0},{"$f":"推定用途置換ルール!ITH3","v":0},{"$f":"推定用途置換ルール!ITI3","v":0},{"$f":"推定用途置換ルール!ITJ3","v":0},{"$f":"推定用途置換ルール!ITK3","v":0},{"$f":"推定用途置換ルール!ITL3","v":0},{"$f":"推定用途置換ルール!ITM3","v":0},{"$f":"推定用途置換ルール!ITN3","v":0},{"$f":"推定用途置換ルール!ITO3","v":0},{"$f":"推定用途置換ルール!ITP3","v":0},{"$f":"推定用途置換ルール!ITQ3","v":0},{"$f":"推定用途置換ルール!ITR3","v":0},{"$f":"推定用途置換ルール!ITS3","v":0},{"$f":"推定用途置換ルール!ITT3","v":0},{"$f":"推定用途置換ルール!ITU3","v":0},{"$f":"推定用途置換ルール!ITV3","v":0},{"$f":"推定用途置換ルール!ITW3","v":0},{"$f":"推定用途置換ルール!ITX3","v":0},{"$f":"推定用途置換ルール!ITY3","v":0},{"$f":"推定用途置換ルール!ITZ3","v":0},{"$f":"推定用途置換ルール!IUA3","v":0},{"$f":"推定用途置換ルール!IUB3","v":0},{"$f":"推定用途置換ルール!IUC3","v":0},{"$f":"推定用途置換ルール!IUD3","v":0},{"$f":"推定用途置換ルール!IUE3","v":0},{"$f":"推定用途置換ルール!IUF3","v":0},{"$f":"推定用途置換ルール!IUG3","v":0},{"$f":"推定用途置換ルール!IUH3","v":0},{"$f":"推定用途置換ルール!IUI3","v":0},{"$f":"推定用途置換ルール!IUJ3","v":0},{"$f":"推定用途置換ルール!IUK3","v":0},{"$f":"推定用途置換ルール!IUL3","v":0},{"$f":"推定用途置換ルール!IUM3","v":0},{"$f":"推定用途置換ルール!IUN3","v":0},{"$f":"推定用途置換ルール!IUO3","v":0},{"$f":"推定用途置換ルール!IUP3","v":0},{"$f":"推定用途置換ルール!IUQ3","v":0},{"$f":"推定用途置換ルール!IUR3","v":0},{"$f":"推定用途置換ルール!IUS3","v":0},{"$f":"推定用途置換ルール!IUT3","v":0},{"$f":"推定用途置換ルール!IUU3","v":0},{"$f":"推定用途置換ルール!IUV3","v":0},{"$f":"推定用途置換ルール!IUW3","v":0},{"$f":"推定用途置換ルール!IUX3","v":0},{"$f":"推定用途置換ルール!IUY3","v":0},{"$f":"推定用途置換ルール!IUZ3","v":0},{"$f":"推定用途置換ルール!IVA3","v":0},{"$f":"推定用途置換ルール!IVB3","v":0},{"$f":"推定用途置換ルール!IVC3","v":0},{"$f":"推定用途置換ルール!IVD3","v":0},{"$f":"推定用途置換ルール!IVE3","v":0},{"$f":"推定用途置換ルール!IVF3","v":0},{"$f":"推定用途置換ルール!IVG3","v":0},{"$f":"推定用途置換ルール!IVH3","v":0},{"$f":"推定用途置換ルール!IVI3","v":0},{"$f":"推定用途置換ルール!IVJ3","v":0},{"$f":"推定用途置換ルール!IVK3","v":0},{"$f":"推定用途置換ルール!IVL3","v":0},{"$f":"推定用途置換ルール!IVM3","v":0},{"$f":"推定用途置換ルール!IVN3","v":0},{"$f":"推定用途置換ルール!IVO3","v":0},{"$f":"推定用途置換ルール!IVP3","v":0},{"$f":"推定用途置換ルール!IVQ3","v":0},{"$f":"推定用途置換ルール!IVR3","v":0},{"$f":"推定用途置換ルール!IVS3","v":0},{"$f":"推定用途置換ルール!IVT3","v":0},{"$f":"推定用途置換ルール!IVU3","v":0},{"$f":"推定用途置換ルール!IVV3","v":0},{"$f":"推定用途置換ルール!IVW3","v":0},{"$f":"推定用途置換ルール!IVX3","v":0},{"$f":"推定用途置換ルール!IVY3","v":0},{"$f":"推定用途置換ルール!IVZ3","v":0},{"$f":"推定用途置換ルール!IWA3","v":0},{"$f":"推定用途置換ルール!IWB3","v":0},{"$f":"推定用途置換ルール!IWC3","v":0},{"$f":"推定用途置換ルール!IWD3","v":0},{"$f":"推定用途置換ルール!IWE3","v":0},{"$f":"推定用途置換ルール!IWF3","v":0},{"$f":"推定用途置換ルール!IWG3","v":0},{"$f":"推定用途置換ルール!IWH3","v":0},{"$f":"推定用途置換ルール!IWI3","v":0},{"$f":"推定用途置換ルール!IWJ3","v":0},{"$f":"推定用途置換ルール!IWK3","v":0},{"$f":"推定用途置換ルール!IWL3","v":0},{"$f":"推定用途置換ルール!IWM3","v":0},{"$f":"推定用途置換ルール!IWN3","v":0},{"$f":"推定用途置換ルール!IWO3","v":0},{"$f":"推定用途置換ルール!IWP3","v":0},{"$f":"推定用途置換ルール!IWQ3","v":0},{"$f":"推定用途置換ルール!IWR3","v":0},{"$f":"推定用途置換ルール!IWS3","v":0},{"$f":"推定用途置換ルール!IWT3","v":0},{"$f":"推定用途置換ルール!IWU3","v":0},{"$f":"推定用途置換ルール!IWV3","v":0},{"$f":"推定用途置換ルール!IWW3","v":0},{"$f":"推定用途置換ルール!IWX3","v":0},{"$f":"推定用途置換ルール!IWY3","v":0},{"$f":"推定用途置換ルール!IWZ3","v":0},{"$f":"推定用途置換ルール!IXA3","v":0},{"$f":"推定用途置換ルール!IXB3","v":0},{"$f":"推定用途置換ルール!IXC3","v":0},{"$f":"推定用途置換ルール!IXD3","v":0},{"$f":"推定用途置換ルール!IXE3","v":0},{"$f":"推定用途置換ルール!IXF3","v":0},{"$f":"推定用途置換ルール!IXG3","v":0},{"$f":"推定用途置換ルール!IXH3","v":0},{"$f":"推定用途置換ルール!IXI3","v":0},{"$f":"推定用途置換ルール!IXJ3","v":0},{"$f":"推定用途置換ルール!IXK3","v":0},{"$f":"推定用途置換ルール!IXL3","v":0},{"$f":"推定用途置換ルール!IXM3","v":0},{"$f":"推定用途置換ルール!IXN3","v":0},{"$f":"推定用途置換ルール!IXO3","v":0},{"$f":"推定用途置換ルール!IXP3","v":0},{"$f":"推定用途置換ルール!IXQ3","v":0},{"$f":"推定用途置換ルール!IXR3","v":0},{"$f":"推定用途置換ルール!IXS3","v":0},{"$f":"推定用途置換ルール!IXT3","v":0},{"$f":"推定用途置換ルール!IXU3","v":0},{"$f":"推定用途置換ルール!IXV3","v":0},{"$f":"推定用途置換ルール!IXW3","v":0},{"$f":"推定用途置換ルール!IXX3","v":0},{"$f":"推定用途置換ルール!IXY3","v":0},{"$f":"推定用途置換ルール!IXZ3","v":0},{"$f":"推定用途置換ルール!IYA3","v":0},{"$f":"推定用途置換ルール!IYB3","v":0},{"$f":"推定用途置換ルール!IYC3","v":0},{"$f":"推定用途置換ルール!IYD3","v":0},{"$f":"推定用途置換ルール!IYE3","v":0},{"$f":"推定用途置換ルール!IYF3","v":0},{"$f":"推定用途置換ルール!IYG3","v":0},{"$f":"推定用途置換ルール!IYH3","v":0},{"$f":"推定用途置換ルール!IYI3","v":0},{"$f":"推定用途置換ルール!IYJ3","v":0},{"$f":"推定用途置換ルール!IYK3","v":0},{"$f":"推定用途置換ルール!IYL3","v":0},{"$f":"推定用途置換ルール!IYM3","v":0},{"$f":"推定用途置換ルール!IYN3","v":0},{"$f":"推定用途置換ルール!IYO3","v":0},{"$f":"推定用途置換ルール!IYP3","v":0},{"$f":"推定用途置換ルール!IYQ3","v":0},{"$f":"推定用途置換ルール!IYR3","v":0},{"$f":"推定用途置換ルール!IYS3","v":0},{"$f":"推定用途置換ルール!IYT3","v":0},{"$f":"推定用途置換ルール!IYU3","v":0},{"$f":"推定用途置換ルール!IYV3","v":0},{"$f":"推定用途置換ルール!IYW3","v":0},{"$f":"推定用途置換ルール!IYX3","v":0},{"$f":"推定用途置換ルール!IYY3","v":0},{"$f":"推定用途置換ルール!IYZ3","v":0},{"$f":"推定用途置換ルール!IZA3","v":0},{"$f":"推定用途置換ルール!IZB3","v":0},{"$f":"推定用途置換ルール!IZC3","v":0},{"$f":"推定用途置換ルール!IZD3","v":0},{"$f":"推定用途置換ルール!IZE3","v":0},{"$f":"推定用途置換ルール!IZF3","v":0},{"$f":"推定用途置換ルール!IZG3","v":0},{"$f":"推定用途置換ルール!IZH3","v":0},{"$f":"推定用途置換ルール!IZI3","v":0},{"$f":"推定用途置換ルール!IZJ3","v":0},{"$f":"推定用途置換ルール!IZK3","v":0},{"$f":"推定用途置換ルール!IZL3","v":0},{"$f":"推定用途置換ルール!IZM3","v":0},{"$f":"推定用途置換ルール!IZN3","v":0},{"$f":"推定用途置換ルール!IZO3","v":0},{"$f":"推定用途置換ルール!IZP3","v":0},{"$f":"推定用途置換ルール!IZQ3","v":0},{"$f":"推定用途置換ルール!IZR3","v":0},{"$f":"推定用途置換ルール!IZS3","v":0},{"$f":"推定用途置換ルール!IZT3","v":0},{"$f":"推定用途置換ルール!IZU3","v":0},{"$f":"推定用途置換ルール!IZV3","v":0},{"$f":"推定用途置換ルール!IZW3","v":0},{"$f":"推定用途置換ルール!IZX3","v":0},{"$f":"推定用途置換ルール!IZY3","v":0},{"$f":"推定用途置換ルール!IZZ3","v":0},{"$f":"推定用途置換ルール!JAA3","v":0},{"$f":"推定用途置換ルール!JAB3","v":0},{"$f":"推定用途置換ルール!JAC3","v":0},{"$f":"推定用途置換ルール!JAD3","v":0},{"$f":"推定用途置換ルール!JAE3","v":0},{"$f":"推定用途置換ルール!JAF3","v":0},{"$f":"推定用途置換ルール!JAG3","v":0},{"$f":"推定用途置換ルール!JAH3","v":0},{"$f":"推定用途置換ルール!JAI3","v":0},{"$f":"推定用途置換ルール!JAJ3","v":0},{"$f":"推定用途置換ルール!JAK3","v":0},{"$f":"推定用途置換ルール!JAL3","v":0},{"$f":"推定用途置換ルール!JAM3","v":0},{"$f":"推定用途置換ルール!JAN3","v":0},{"$f":"推定用途置換ルール!JAO3","v":0},{"$f":"推定用途置換ルール!JAP3","v":0},{"$f":"推定用途置換ルール!JAQ3","v":0},{"$f":"推定用途置換ルール!JAR3","v":0},{"$f":"推定用途置換ルール!JAS3","v":0},{"$f":"推定用途置換ルール!JAT3","v":0},{"$f":"推定用途置換ルール!JAU3","v":0},{"$f":"推定用途置換ルール!JAV3","v":0},{"$f":"推定用途置換ルール!JAW3","v":0},{"$f":"推定用途置換ルール!JAX3","v":0},{"$f":"推定用途置換ルール!JAY3","v":0},{"$f":"推定用途置換ルール!JAZ3","v":0},{"$f":"推定用途置換ルール!JBA3","v":0},{"$f":"推定用途置換ルール!JBB3","v":0},{"$f":"推定用途置換ルール!JBC3","v":0},{"$f":"推定用途置換ルール!JBD3","v":0},{"$f":"推定用途置換ルール!JBE3","v":0},{"$f":"推定用途置換ルール!JBF3","v":0},{"$f":"推定用途置換ルール!JBG3","v":0},{"$f":"推定用途置換ルール!JBH3","v":0},{"$f":"推定用途置換ルール!JBI3","v":0},{"$f":"推定用途置換ルール!JBJ3","v":0},{"$f":"推定用途置換ルール!JBK3","v":0},{"$f":"推定用途置換ルール!JBL3","v":0},{"$f":"推定用途置換ルール!JBM3","v":0},{"$f":"推定用途置換ルール!JBN3","v":0},{"$f":"推定用途置換ルール!JBO3","v":0},{"$f":"推定用途置換ルール!JBP3","v":0},{"$f":"推定用途置換ルール!JBQ3","v":0},{"$f":"推定用途置換ルール!JBR3","v":0},{"$f":"推定用途置換ルール!JBS3","v":0},{"$f":"推定用途置換ルール!JBT3","v":0},{"$f":"推定用途置換ルール!JBU3","v":0},{"$f":"推定用途置換ルール!JBV3","v":0},{"$f":"推定用途置換ルール!JBW3","v":0},{"$f":"推定用途置換ルール!JBX3","v":0},{"$f":"推定用途置換ルール!JBY3","v":0},{"$f":"推定用途置換ルール!JBZ3","v":0},{"$f":"推定用途置換ルール!JCA3","v":0},{"$f":"推定用途置換ルール!JCB3","v":0},{"$f":"推定用途置換ルール!JCC3","v":0},{"$f":"推定用途置換ルール!JCD3","v":0},{"$f":"推定用途置換ルール!JCE3","v":0},{"$f":"推定用途置換ルール!JCF3","v":0},{"$f":"推定用途置換ルール!JCG3","v":0},{"$f":"推定用途置換ルール!JCH3","v":0},{"$f":"推定用途置換ルール!JCI3","v":0},{"$f":"推定用途置換ルール!JCJ3","v":0},{"$f":"推定用途置換ルール!JCK3","v":0},{"$f":"推定用途置換ルール!JCL3","v":0},{"$f":"推定用途置換ルール!JCM3","v":0},{"$f":"推定用途置換ルール!JCN3","v":0},{"$f":"推定用途置換ルール!JCO3","v":0},{"$f":"推定用途置換ルール!JCP3","v":0},{"$f":"推定用途置換ルール!JCQ3","v":0},{"$f":"推定用途置換ルール!JCR3","v":0},{"$f":"推定用途置換ルール!JCS3","v":0},{"$f":"推定用途置換ルール!JCT3","v":0},{"$f":"推定用途置換ルール!JCU3","v":0},{"$f":"推定用途置換ルール!JCV3","v":0},{"$f":"推定用途置換ルール!JCW3","v":0},{"$f":"推定用途置換ルール!JCX3","v":0},{"$f":"推定用途置換ルール!JCY3","v":0},{"$f":"推定用途置換ルール!JCZ3","v":0},{"$f":"推定用途置換ルール!JDA3","v":0},{"$f":"推定用途置換ルール!JDB3","v":0},{"$f":"推定用途置換ルール!JDC3","v":0},{"$f":"推定用途置換ルール!JDD3","v":0},{"$f":"推定用途置換ルール!JDE3","v":0},{"$f":"推定用途置換ルール!JDF3","v":0},{"$f":"推定用途置換ルール!JDG3","v":0},{"$f":"推定用途置換ルール!JDH3","v":0},{"$f":"推定用途置換ルール!JDI3","v":0},{"$f":"推定用途置換ルール!JDJ3","v":0},{"$f":"推定用途置換ルール!JDK3","v":0},{"$f":"推定用途置換ルール!JDL3","v":0},{"$f":"推定用途置換ルール!JDM3","v":0},{"$f":"推定用途置換ルール!JDN3","v":0},{"$f":"推定用途置換ルール!JDO3","v":0},{"$f":"推定用途置換ルール!JDP3","v":0},{"$f":"推定用途置換ルール!JDQ3","v":0},{"$f":"推定用途置換ルール!JDR3","v":0},{"$f":"推定用途置換ルール!JDS3","v":0},{"$f":"推定用途置換ルール!JDT3","v":0},{"$f":"推定用途置換ルール!JDU3","v":0},{"$f":"推定用途置換ルール!JDV3","v":0},{"$f":"推定用途置換ルール!JDW3","v":0},{"$f":"推定用途置換ルール!JDX3","v":0},{"$f":"推定用途置換ルール!JDY3","v":0},{"$f":"推定用途置換ルール!JDZ3","v":0},{"$f":"推定用途置換ルール!JEA3","v":0},{"$f":"推定用途置換ルール!JEB3","v":0},{"$f":"推定用途置換ルール!JEC3","v":0},{"$f":"推定用途置換ルール!JED3","v":0},{"$f":"推定用途置換ルール!JEE3","v":0},{"$f":"推定用途置換ルール!JEF3","v":0},{"$f":"推定用途置換ルール!JEG3","v":0},{"$f":"推定用途置換ルール!JEH3","v":0},{"$f":"推定用途置換ルール!JEI3","v":0},{"$f":"推定用途置換ルール!JEJ3","v":0},{"$f":"推定用途置換ルール!JEK3","v":0},{"$f":"推定用途置換ルール!JEL3","v":0},{"$f":"推定用途置換ルール!JEM3","v":0},{"$f":"推定用途置換ルール!JEN3","v":0},{"$f":"推定用途置換ルール!JEO3","v":0},{"$f":"推定用途置換ルール!JEP3","v":0},{"$f":"推定用途置換ルール!JEQ3","v":0},{"$f":"推定用途置換ルール!JER3","v":0},{"$f":"推定用途置換ルール!JES3","v":0},{"$f":"推定用途置換ルール!JET3","v":0},{"$f":"推定用途置換ルール!JEU3","v":0},{"$f":"推定用途置換ルール!JEV3","v":0},{"$f":"推定用途置換ルール!JEW3","v":0},{"$f":"推定用途置換ルール!JEX3","v":0},{"$f":"推定用途置換ルール!JEY3","v":0},{"$f":"推定用途置換ルール!JEZ3","v":0},{"$f":"推定用途置換ルール!JFA3","v":0},{"$f":"推定用途置換ルール!JFB3","v":0},{"$f":"推定用途置換ルール!JFC3","v":0},{"$f":"推定用途置換ルール!JFD3","v":0},{"$f":"推定用途置換ルール!JFE3","v":0},{"$f":"推定用途置換ルール!JFF3","v":0},{"$f":"推定用途置換ルール!JFG3","v":0},{"$f":"推定用途置換ルール!JFH3","v":0},{"$f":"推定用途置換ルール!JFI3","v":0},{"$f":"推定用途置換ルール!JFJ3","v":0},{"$f":"推定用途置換ルール!JFK3","v":0},{"$f":"推定用途置換ルール!JFL3","v":0},{"$f":"推定用途置換ルール!JFM3","v":0},{"$f":"推定用途置換ルール!JFN3","v":0},{"$f":"推定用途置換ルール!JFO3","v":0},{"$f":"推定用途置換ルール!JFP3","v":0},{"$f":"推定用途置換ルール!JFQ3","v":0},{"$f":"推定用途置換ルール!JFR3","v":0},{"$f":"推定用途置換ルール!JFS3","v":0},{"$f":"推定用途置換ルール!JFT3","v":0},{"$f":"推定用途置換ルール!JFU3","v":0},{"$f":"推定用途置換ルール!JFV3","v":0},{"$f":"推定用途置換ルール!JFW3","v":0},{"$f":"推定用途置換ルール!JFX3","v":0},{"$f":"推定用途置換ルール!JFY3","v":0},{"$f":"推定用途置換ルール!JFZ3","v":0},{"$f":"推定用途置換ルール!JGA3","v":0},{"$f":"推定用途置換ルール!JGB3","v":0},{"$f":"推定用途置換ルール!JGC3","v":0},{"$f":"推定用途置換ルール!JGD3","v":0},{"$f":"推定用途置換ルール!JGE3","v":0},{"$f":"推定用途置換ルール!JGF3","v":0},{"$f":"推定用途置換ルール!JGG3","v":0},{"$f":"推定用途置換ルール!JGH3","v":0},{"$f":"推定用途置換ルール!JGI3","v":0},{"$f":"推定用途置換ルール!JGJ3","v":0},{"$f":"推定用途置換ルール!JGK3","v":0},{"$f":"推定用途置換ルール!JGL3","v":0},{"$f":"推定用途置換ルール!JGM3","v":0},{"$f":"推定用途置換ルール!JGN3","v":0},{"$f":"推定用途置換ルール!JGO3","v":0},{"$f":"推定用途置換ルール!JGP3","v":0},{"$f":"推定用途置換ルール!JGQ3","v":0},{"$f":"推定用途置換ルール!JGR3","v":0},{"$f":"推定用途置換ルール!JGS3","v":0},{"$f":"推定用途置換ルール!JGT3","v":0},{"$f":"推定用途置換ルール!JGU3","v":0},{"$f":"推定用途置換ルール!JGV3","v":0},{"$f":"推定用途置換ルール!JGW3","v":0},{"$f":"推定用途置換ルール!JGX3","v":0},{"$f":"推定用途置換ルール!JGY3","v":0},{"$f":"推定用途置換ルール!JGZ3","v":0},{"$f":"推定用途置換ルール!JHA3","v":0},{"$f":"推定用途置換ルール!JHB3","v":0},{"$f":"推定用途置換ルール!JHC3","v":0},{"$f":"推定用途置換ルール!JHD3","v":0},{"$f":"推定用途置換ルール!JHE3","v":0},{"$f":"推定用途置換ルール!JHF3","v":0},{"$f":"推定用途置換ルール!JHG3","v":0},{"$f":"推定用途置換ルール!JHH3","v":0},{"$f":"推定用途置換ルール!JHI3","v":0},{"$f":"推定用途置換ルール!JHJ3","v":0},{"$f":"推定用途置換ルール!JHK3","v":0},{"$f":"推定用途置換ルール!JHL3","v":0},{"$f":"推定用途置換ルール!JHM3","v":0},{"$f":"推定用途置換ルール!JHN3","v":0},{"$f":"推定用途置換ルール!JHO3","v":0},{"$f":"推定用途置換ルール!JHP3","v":0},{"$f":"推定用途置換ルール!JHQ3","v":0},{"$f":"推定用途置換ルール!JHR3","v":0},{"$f":"推定用途置換ルール!JHS3","v":0},{"$f":"推定用途置換ルール!JHT3","v":0},{"$f":"推定用途置換ルール!JHU3","v":0},{"$f":"推定用途置換ルール!JHV3","v":0},{"$f":"推定用途置換ルール!JHW3","v":0},{"$f":"推定用途置換ルール!JHX3","v":0},{"$f":"推定用途置換ルール!JHY3","v":0},{"$f":"推定用途置換ルール!JHZ3","v":0},{"$f":"推定用途置換ルール!JIA3","v":0},{"$f":"推定用途置換ルール!JIB3","v":0},{"$f":"推定用途置換ルール!JIC3","v":0},{"$f":"推定用途置換ルール!JID3","v":0},{"$f":"推定用途置換ルール!JIE3","v":0},{"$f":"推定用途置換ルール!JIF3","v":0},{"$f":"推定用途置換ルール!JIG3","v":0},{"$f":"推定用途置換ルール!JIH3","v":0},{"$f":"推定用途置換ルール!JII3","v":0},{"$f":"推定用途置換ルール!JIJ3","v":0},{"$f":"推定用途置換ルール!JIK3","v":0},{"$f":"推定用途置換ルール!JIL3","v":0},{"$f":"推定用途置換ルール!JIM3","v":0},{"$f":"推定用途置換ルール!JIN3","v":0},{"$f":"推定用途置換ルール!JIO3","v":0},{"$f":"推定用途置換ルール!JIP3","v":0},{"$f":"推定用途置換ルール!JIQ3","v":0},{"$f":"推定用途置換ルール!JIR3","v":0},{"$f":"推定用途置換ルール!JIS3","v":0},{"$f":"推定用途置換ルール!JIT3","v":0},{"$f":"推定用途置換ルール!JIU3","v":0},{"$f":"推定用途置換ルール!JIV3","v":0},{"$f":"推定用途置換ルール!JIW3","v":0},{"$f":"推定用途置換ルール!JIX3","v":0},{"$f":"推定用途置換ルール!JIY3","v":0},{"$f":"推定用途置換ルール!JIZ3","v":0},{"$f":"推定用途置換ルール!JJA3","v":0},{"$f":"推定用途置換ルール!JJB3","v":0},{"$f":"推定用途置換ルール!JJC3","v":0},{"$f":"推定用途置換ルール!JJD3","v":0},{"$f":"推定用途置換ルール!JJE3","v":0},{"$f":"推定用途置換ルール!JJF3","v":0},{"$f":"推定用途置換ルール!JJG3","v":0},{"$f":"推定用途置換ルール!JJH3","v":0},{"$f":"推定用途置換ルール!JJI3","v":0},{"$f":"推定用途置換ルール!JJJ3","v":0},{"$f":"推定用途置換ルール!JJK3","v":0},{"$f":"推定用途置換ルール!JJL3","v":0},{"$f":"推定用途置換ルール!JJM3","v":0},{"$f":"推定用途置換ルール!JJN3","v":0},{"$f":"推定用途置換ルール!JJO3","v":0},{"$f":"推定用途置換ルール!JJP3","v":0},{"$f":"推定用途置換ルール!JJQ3","v":0},{"$f":"推定用途置換ルール!JJR3","v":0},{"$f":"推定用途置換ルール!JJS3","v":0},{"$f":"推定用途置換ルール!JJT3","v":0},{"$f":"推定用途置換ルール!JJU3","v":0},{"$f":"推定用途置換ルール!JJV3","v":0},{"$f":"推定用途置換ルール!JJW3","v":0},{"$f":"推定用途置換ルール!JJX3","v":0},{"$f":"推定用途置換ルール!JJY3","v":0},{"$f":"推定用途置換ルール!JJZ3","v":0},{"$f":"推定用途置換ルール!JKA3","v":0},{"$f":"推定用途置換ルール!JKB3","v":0},{"$f":"推定用途置換ルール!JKC3","v":0},{"$f":"推定用途置換ルール!JKD3","v":0},{"$f":"推定用途置換ルール!JKE3","v":0},{"$f":"推定用途置換ルール!JKF3","v":0},{"$f":"推定用途置換ルール!JKG3","v":0},{"$f":"推定用途置換ルール!JKH3","v":0},{"$f":"推定用途置換ルール!JKI3","v":0},{"$f":"推定用途置換ルール!JKJ3","v":0},{"$f":"推定用途置換ルール!JKK3","v":0},{"$f":"推定用途置換ルール!JKL3","v":0},{"$f":"推定用途置換ルール!JKM3","v":0},{"$f":"推定用途置換ルール!JKN3","v":0},{"$f":"推定用途置換ルール!JKO3","v":0},{"$f":"推定用途置換ルール!JKP3","v":0},{"$f":"推定用途置換ルール!JKQ3","v":0},{"$f":"推定用途置換ルール!JKR3","v":0},{"$f":"推定用途置換ルール!JKS3","v":0},{"$f":"推定用途置換ルール!JKT3","v":0},{"$f":"推定用途置換ルール!JKU3","v":0},{"$f":"推定用途置換ルール!JKV3","v":0},{"$f":"推定用途置換ルール!JKW3","v":0},{"$f":"推定用途置換ルール!JKX3","v":0},{"$f":"推定用途置換ルール!JKY3","v":0},{"$f":"推定用途置換ルール!JKZ3","v":0},{"$f":"推定用途置換ルール!JLA3","v":0},{"$f":"推定用途置換ルール!JLB3","v":0},{"$f":"推定用途置換ルール!JLC3","v":0},{"$f":"推定用途置換ルール!JLD3","v":0},{"$f":"推定用途置換ルール!JLE3","v":0},{"$f":"推定用途置換ルール!JLF3","v":0},{"$f":"推定用途置換ルール!JLG3","v":0},{"$f":"推定用途置換ルール!JLH3","v":0},{"$f":"推定用途置換ルール!JLI3","v":0},{"$f":"推定用途置換ルール!JLJ3","v":0},{"$f":"推定用途置換ルール!JLK3","v":0},{"$f":"推定用途置換ルール!JLL3","v":0},{"$f":"推定用途置換ルール!JLM3","v":0},{"$f":"推定用途置換ルール!JLN3","v":0},{"$f":"推定用途置換ルール!JLO3","v":0},{"$f":"推定用途置換ルール!JLP3","v":0},{"$f":"推定用途置換ルール!JLQ3","v":0},{"$f":"推定用途置換ルール!JLR3","v":0},{"$f":"推定用途置換ルール!JLS3","v":0},{"$f":"推定用途置換ルール!JLT3","v":0},{"$f":"推定用途置換ルール!JLU3","v":0},{"$f":"推定用途置換ルール!JLV3","v":0},{"$f":"推定用途置換ルール!JLW3","v":0},{"$f":"推定用途置換ルール!JLX3","v":0},{"$f":"推定用途置換ルール!JLY3","v":0},{"$f":"推定用途置換ルール!JLZ3","v":0},{"$f":"推定用途置換ルール!JMA3","v":0},{"$f":"推定用途置換ルール!JMB3","v":0},{"$f":"推定用途置換ルール!JMC3","v":0},{"$f":"推定用途置換ルール!JMD3","v":0},{"$f":"推定用途置換ルール!JME3","v":0},{"$f":"推定用途置換ルール!JMF3","v":0},{"$f":"推定用途置換ルール!JMG3","v":0},{"$f":"推定用途置換ルール!JMH3","v":0},{"$f":"推定用途置換ルール!JMI3","v":0},{"$f":"推定用途置換ルール!JMJ3","v":0},{"$f":"推定用途置換ルール!JMK3","v":0},{"$f":"推定用途置換ルール!JML3","v":0},{"$f":"推定用途置換ルール!JMM3","v":0},{"$f":"推定用途置換ルール!JMN3","v":0},{"$f":"推定用途置換ルール!JMO3","v":0},{"$f":"推定用途置換ルール!JMP3","v":0},{"$f":"推定用途置換ルール!JMQ3","v":0},{"$f":"推定用途置換ルール!JMR3","v":0},{"$f":"推定用途置換ルール!JMS3","v":0},{"$f":"推定用途置換ルール!JMT3","v":0},{"$f":"推定用途置換ルール!JMU3","v":0},{"$f":"推定用途置換ルール!JMV3","v":0},{"$f":"推定用途置換ルール!JMW3","v":0},{"$f":"推定用途置換ルール!JMX3","v":0},{"$f":"推定用途置換ルール!JMY3","v":0},{"$f":"推定用途置換ルール!JMZ3","v":0},{"$f":"推定用途置換ルール!JNA3","v":0},{"$f":"推定用途置換ルール!JNB3","v":0},{"$f":"推定用途置換ルール!JNC3","v":0},{"$f":"推定用途置換ルール!JND3","v":0},{"$f":"推定用途置換ルール!JNE3","v":0},{"$f":"推定用途置換ルール!JNF3","v":0},{"$f":"推定用途置換ルール!JNG3","v":0},{"$f":"推定用途置換ルール!JNH3","v":0},{"$f":"推定用途置換ルール!JNI3","v":0},{"$f":"推定用途置換ルール!JNJ3","v":0},{"$f":"推定用途置換ルール!JNK3","v":0},{"$f":"推定用途置換ルール!JNL3","v":0},{"$f":"推定用途置換ルール!JNM3","v":0},{"$f":"推定用途置換ルール!JNN3","v":0},{"$f":"推定用途置換ルール!JNO3","v":0},{"$f":"推定用途置換ルール!JNP3","v":0},{"$f":"推定用途置換ルール!JNQ3","v":0},{"$f":"推定用途置換ルール!JNR3","v":0},{"$f":"推定用途置換ルール!JNS3","v":0},{"$f":"推定用途置換ルール!JNT3","v":0},{"$f":"推定用途置換ルール!JNU3","v":0},{"$f":"推定用途置換ルール!JNV3","v":0},{"$f":"推定用途置換ルール!JNW3","v":0},{"$f":"推定用途置換ルール!JNX3","v":0},{"$f":"推定用途置換ルール!JNY3","v":0},{"$f":"推定用途置換ルール!JNZ3","v":0},{"$f":"推定用途置換ルール!JOA3","v":0},{"$f":"推定用途置換ルール!JOB3","v":0},{"$f":"推定用途置換ルール!JOC3","v":0},{"$f":"推定用途置換ルール!JOD3","v":0},{"$f":"推定用途置換ルール!JOE3","v":0},{"$f":"推定用途置換ルール!JOF3","v":0},{"$f":"推定用途置換ルール!JOG3","v":0},{"$f":"推定用途置換ルール!JOH3","v":0},{"$f":"推定用途置換ルール!JOI3","v":0},{"$f":"推定用途置換ルール!JOJ3","v":0},{"$f":"推定用途置換ルール!JOK3","v":0},{"$f":"推定用途置換ルール!JOL3","v":0},{"$f":"推定用途置換ルール!JOM3","v":0},{"$f":"推定用途置換ルール!JON3","v":0},{"$f":"推定用途置換ルール!JOO3","v":0},{"$f":"推定用途置換ルール!JOP3","v":0},{"$f":"推定用途置換ルール!JOQ3","v":0},{"$f":"推定用途置換ルール!JOR3","v":0},{"$f":"推定用途置換ルール!JOS3","v":0},{"$f":"推定用途置換ルール!JOT3","v":0},{"$f":"推定用途置換ルール!JOU3","v":0},{"$f":"推定用途置換ルール!JOV3","v":0},{"$f":"推定用途置換ルール!JOW3","v":0},{"$f":"推定用途置換ルール!JOX3","v":0},{"$f":"推定用途置換ルール!JOY3","v":0},{"$f":"推定用途置換ルール!JOZ3","v":0},{"$f":"推定用途置換ルール!JPA3","v":0},{"$f":"推定用途置換ルール!JPB3","v":0},{"$f":"推定用途置換ルール!JPC3","v":0},{"$f":"推定用途置換ルール!JPD3","v":0},{"$f":"推定用途置換ルール!JPE3","v":0},{"$f":"推定用途置換ルール!JPF3","v":0},{"$f":"推定用途置換ルール!JPG3","v":0},{"$f":"推定用途置換ルール!JPH3","v":0},{"$f":"推定用途置換ルール!JPI3","v":0},{"$f":"推定用途置換ルール!JPJ3","v":0},{"$f":"推定用途置換ルール!JPK3","v":0},{"$f":"推定用途置換ルール!JPL3","v":0},{"$f":"推定用途置換ルール!JPM3","v":0},{"$f":"推定用途置換ルール!JPN3","v":0},{"$f":"推定用途置換ルール!JPO3","v":0},{"$f":"推定用途置換ルール!JPP3","v":0},{"$f":"推定用途置換ルール!JPQ3","v":0},{"$f":"推定用途置換ルール!JPR3","v":0},{"$f":"推定用途置換ルール!JPS3","v":0},{"$f":"推定用途置換ルール!JPT3","v":0},{"$f":"推定用途置換ルール!JPU3","v":0},{"$f":"推定用途置換ルール!JPV3","v":0},{"$f":"推定用途置換ルール!JPW3","v":0},{"$f":"推定用途置換ルール!JPX3","v":0},{"$f":"推定用途置換ルール!JPY3","v":0},{"$f":"推定用途置換ルール!JPZ3","v":0},{"$f":"推定用途置換ルール!JQA3","v":0},{"$f":"推定用途置換ルール!JQB3","v":0},{"$f":"推定用途置換ルール!JQC3","v":0},{"$f":"推定用途置換ルール!JQD3","v":0},{"$f":"推定用途置換ルール!JQE3","v":0},{"$f":"推定用途置換ルール!JQF3","v":0},{"$f":"推定用途置換ルール!JQG3","v":0},{"$f":"推定用途置換ルール!JQH3","v":0},{"$f":"推定用途置換ルール!JQI3","v":0},{"$f":"推定用途置換ルール!JQJ3","v":0},{"$f":"推定用途置換ルール!JQK3","v":0},{"$f":"推定用途置換ルール!JQL3","v":0},{"$f":"推定用途置換ルール!JQM3","v":0},{"$f":"推定用途置換ルール!JQN3","v":0},{"$f":"推定用途置換ルール!JQO3","v":0},{"$f":"推定用途置換ルール!JQP3","v":0},{"$f":"推定用途置換ルール!JQQ3","v":0},{"$f":"推定用途置換ルール!JQR3","v":0},{"$f":"推定用途置換ルール!JQS3","v":0},{"$f":"推定用途置換ルール!JQT3","v":0},{"$f":"推定用途置換ルール!JQU3","v":0},{"$f":"推定用途置換ルール!JQV3","v":0},{"$f":"推定用途置換ルール!JQW3","v":0},{"$f":"推定用途置換ルール!JQX3","v":0},{"$f":"推定用途置換ルール!JQY3","v":0},{"$f":"推定用途置換ルール!JQZ3","v":0},{"$f":"推定用途置換ルール!JRA3","v":0},{"$f":"推定用途置換ルール!JRB3","v":0},{"$f":"推定用途置換ルール!JRC3","v":0},{"$f":"推定用途置換ルール!JRD3","v":0},{"$f":"推定用途置換ルール!JRE3","v":0},{"$f":"推定用途置換ルール!JRF3","v":0},{"$f":"推定用途置換ルール!JRG3","v":0},{"$f":"推定用途置換ルール!JRH3","v":0},{"$f":"推定用途置換ルール!JRI3","v":0},{"$f":"推定用途置換ルール!JRJ3","v":0},{"$f":"推定用途置換ルール!JRK3","v":0},{"$f":"推定用途置換ルール!JRL3","v":0},{"$f":"推定用途置換ルール!JRM3","v":0},{"$f":"推定用途置換ルール!JRN3","v":0},{"$f":"推定用途置換ルール!JRO3","v":0},{"$f":"推定用途置換ルール!JRP3","v":0},{"$f":"推定用途置換ルール!JRQ3","v":0},{"$f":"推定用途置換ルール!JRR3","v":0},{"$f":"推定用途置換ルール!JRS3","v":0},{"$f":"推定用途置換ルール!JRT3","v":0},{"$f":"推定用途置換ルール!JRU3","v":0},{"$f":"推定用途置換ルール!JRV3","v":0},{"$f":"推定用途置換ルール!JRW3","v":0},{"$f":"推定用途置換ルール!JRX3","v":0},{"$f":"推定用途置換ルール!JRY3","v":0},{"$f":"推定用途置換ルール!JRZ3","v":0},{"$f":"推定用途置換ルール!JSA3","v":0},{"$f":"推定用途置換ルール!JSB3","v":0},{"$f":"推定用途置換ルール!JSC3","v":0},{"$f":"推定用途置換ルール!JSD3","v":0},{"$f":"推定用途置換ルール!JSE3","v":0},{"$f":"推定用途置換ルール!JSF3","v":0},{"$f":"推定用途置換ルール!JSG3","v":0},{"$f":"推定用途置換ルール!JSH3","v":0},{"$f":"推定用途置換ルール!JSI3","v":0},{"$f":"推定用途置換ルール!JSJ3","v":0},{"$f":"推定用途置換ルール!JSK3","v":0},{"$f":"推定用途置換ルール!JSL3","v":0},{"$f":"推定用途置換ルール!JSM3","v":0},{"$f":"推定用途置換ルール!JSN3","v":0},{"$f":"推定用途置換ルール!JSO3","v":0},{"$f":"推定用途置換ルール!JSP3","v":0},{"$f":"推定用途置換ルール!JSQ3","v":0},{"$f":"推定用途置換ルール!JSR3","v":0},{"$f":"推定用途置換ルール!JSS3","v":0},{"$f":"推定用途置換ルール!JST3","v":0},{"$f":"推定用途置換ルール!JSU3","v":0},{"$f":"推定用途置換ルール!JSV3","v":0},{"$f":"推定用途置換ルール!JSW3","v":0},{"$f":"推定用途置換ルール!JSX3","v":0},{"$f":"推定用途置換ルール!JSY3","v":0},{"$f":"推定用途置換ルール!JSZ3","v":0},{"$f":"推定用途置換ルール!JTA3","v":0},{"$f":"推定用途置換ルール!JTB3","v":0},{"$f":"推定用途置換ルール!JTC3","v":0},{"$f":"推定用途置換ルール!JTD3","v":0},{"$f":"推定用途置換ルール!JTE3","v":0},{"$f":"推定用途置換ルール!JTF3","v":0},{"$f":"推定用途置換ルール!JTG3","v":0},{"$f":"推定用途置換ルール!JTH3","v":0},{"$f":"推定用途置換ルール!JTI3","v":0},{"$f":"推定用途置換ルール!JTJ3","v":0},{"$f":"推定用途置換ルール!JTK3","v":0},{"$f":"推定用途置換ルール!JTL3","v":0},{"$f":"推定用途置換ルール!JTM3","v":0},{"$f":"推定用途置換ルール!JTN3","v":0},{"$f":"推定用途置換ルール!JTO3","v":0},{"$f":"推定用途置換ルール!JTP3","v":0},{"$f":"推定用途置換ルール!JTQ3","v":0},{"$f":"推定用途置換ルール!JTR3","v":0},{"$f":"推定用途置換ルール!JTS3","v":0},{"$f":"推定用途置換ルール!JTT3","v":0},{"$f":"推定用途置換ルール!JTU3","v":0},{"$f":"推定用途置換ルール!JTV3","v":0},{"$f":"推定用途置換ルール!JTW3","v":0},{"$f":"推定用途置換ルール!JTX3","v":0},{"$f":"推定用途置換ルール!JTY3","v":0},{"$f":"推定用途置換ルール!JTZ3","v":0},{"$f":"推定用途置換ルール!JUA3","v":0},{"$f":"推定用途置換ルール!JUB3","v":0},{"$f":"推定用途置換ルール!JUC3","v":0},{"$f":"推定用途置換ルール!JUD3","v":0},{"$f":"推定用途置換ルール!JUE3","v":0},{"$f":"推定用途置換ルール!JUF3","v":0},{"$f":"推定用途置換ルール!JUG3","v":0},{"$f":"推定用途置換ルール!JUH3","v":0},{"$f":"推定用途置換ルール!JUI3","v":0},{"$f":"推定用途置換ルール!JUJ3","v":0},{"$f":"推定用途置換ルール!JUK3","v":0},{"$f":"推定用途置換ルール!JUL3","v":0},{"$f":"推定用途置換ルール!JUM3","v":0},{"$f":"推定用途置換ルール!JUN3","v":0},{"$f":"推定用途置換ルール!JUO3","v":0},{"$f":"推定用途置換ルール!JUP3","v":0},{"$f":"推定用途置換ルール!JUQ3","v":0},{"$f":"推定用途置換ルール!JUR3","v":0},{"$f":"推定用途置換ルール!JUS3","v":0},{"$f":"推定用途置換ルール!JUT3","v":0},{"$f":"推定用途置換ルール!JUU3","v":0},{"$f":"推定用途置換ルール!JUV3","v":0},{"$f":"推定用途置換ルール!JUW3","v":0},{"$f":"推定用途置換ルール!JUX3","v":0},{"$f":"推定用途置換ルール!JUY3","v":0},{"$f":"推定用途置換ルール!JUZ3","v":0},{"$f":"推定用途置換ルール!JVA3","v":0},{"$f":"推定用途置換ルール!JVB3","v":0},{"$f":"推定用途置換ルール!JVC3","v":0},{"$f":"推定用途置換ルール!JVD3","v":0},{"$f":"推定用途置換ルール!JVE3","v":0},{"$f":"推定用途置換ルール!JVF3","v":0},{"$f":"推定用途置換ルール!JVG3","v":0},{"$f":"推定用途置換ルール!JVH3","v":0},{"$f":"推定用途置換ルール!JVI3","v":0},{"$f":"推定用途置換ルール!JVJ3","v":0},{"$f":"推定用途置換ルール!JVK3","v":0},{"$f":"推定用途置換ルール!JVL3","v":0},{"$f":"推定用途置換ルール!JVM3","v":0},{"$f":"推定用途置換ルール!JVN3","v":0},{"$f":"推定用途置換ルール!JVO3","v":0},{"$f":"推定用途置換ルール!JVP3","v":0},{"$f":"推定用途置換ルール!JVQ3","v":0},{"$f":"推定用途置換ルール!JVR3","v":0},{"$f":"推定用途置換ルール!JVS3","v":0},{"$f":"推定用途置換ルール!JVT3","v":0},{"$f":"推定用途置換ルール!JVU3","v":0},{"$f":"推定用途置換ルール!JVV3","v":0},{"$f":"推定用途置換ルール!JVW3","v":0},{"$f":"推定用途置換ルール!JVX3","v":0},{"$f":"推定用途置換ルール!JVY3","v":0},{"$f":"推定用途置換ルール!JVZ3","v":0},{"$f":"推定用途置換ルール!JWA3","v":0},{"$f":"推定用途置換ルール!JWB3","v":0},{"$f":"推定用途置換ルール!JWC3","v":0},{"$f":"推定用途置換ルール!JWD3","v":0},{"$f":"推定用途置換ルール!JWE3","v":0},{"$f":"推定用途置換ルール!JWF3","v":0},{"$f":"推定用途置換ルール!JWG3","v":0},{"$f":"推定用途置換ルール!JWH3","v":0},{"$f":"推定用途置換ルール!JWI3","v":0},{"$f":"推定用途置換ルール!JWJ3","v":0},{"$f":"推定用途置換ルール!JWK3","v":0},{"$f":"推定用途置換ルール!JWL3","v":0},{"$f":"推定用途置換ルール!JWM3","v":0},{"$f":"推定用途置換ルール!JWN3","v":0},{"$f":"推定用途置換ルール!JWO3","v":0},{"$f":"推定用途置換ルール!JWP3","v":0},{"$f":"推定用途置換ルール!JWQ3","v":0},{"$f":"推定用途置換ルール!JWR3","v":0},{"$f":"推定用途置換ルール!JWS3","v":0},{"$f":"推定用途置換ルール!JWT3","v":0},{"$f":"推定用途置換ルール!JWU3","v":0},{"$f":"推定用途置換ルール!JWV3","v":0},{"$f":"推定用途置換ルール!JWW3","v":0},{"$f":"推定用途置換ルール!JWX3","v":0},{"$f":"推定用途置換ルール!JWY3","v":0},{"$f":"推定用途置換ルール!JWZ3","v":0},{"$f":"推定用途置換ルール!JXA3","v":0},{"$f":"推定用途置換ルール!JXB3","v":0},{"$f":"推定用途置換ルール!JXC3","v":0},{"$f":"推定用途置換ルール!JXD3","v":0},{"$f":"推定用途置換ルール!JXE3","v":0},{"$f":"推定用途置換ルール!JXF3","v":0},{"$f":"推定用途置換ルール!JXG3","v":0},{"$f":"推定用途置換ルール!JXH3","v":0},{"$f":"推定用途置換ルール!JXI3","v":0},{"$f":"推定用途置換ルール!JXJ3","v":0},{"$f":"推定用途置換ルール!JXK3","v":0},{"$f":"推定用途置換ルール!JXL3","v":0},{"$f":"推定用途置換ルール!JXM3","v":0},{"$f":"推定用途置換ルール!JXN3","v":0},{"$f":"推定用途置換ルール!JXO3","v":0},{"$f":"推定用途置換ルール!JXP3","v":0},{"$f":"推定用途置換ルール!JXQ3","v":0},{"$f":"推定用途置換ルール!JXR3","v":0},{"$f":"推定用途置換ルール!JXS3","v":0},{"$f":"推定用途置換ルール!JXT3","v":0},{"$f":"推定用途置換ルール!JXU3","v":0},{"$f":"推定用途置換ルール!JXV3","v":0},{"$f":"推定用途置換ルール!JXW3","v":0},{"$f":"推定用途置換ルール!JXX3","v":0},{"$f":"推定用途置換ルール!JXY3","v":0},{"$f":"推定用途置換ルール!JXZ3","v":0},{"$f":"推定用途置換ルール!JYA3","v":0},{"$f":"推定用途置換ルール!JYB3","v":0},{"$f":"推定用途置換ルール!JYC3","v":0},{"$f":"推定用途置換ルール!JYD3","v":0},{"$f":"推定用途置換ルール!JYE3","v":0},{"$f":"推定用途置換ルール!JYF3","v":0},{"$f":"推定用途置換ルール!JYG3","v":0},{"$f":"推定用途置換ルール!JYH3","v":0},{"$f":"推定用途置換ルール!JYI3","v":0},{"$f":"推定用途置換ルール!JYJ3","v":0},{"$f":"推定用途置換ルール!JYK3","v":0},{"$f":"推定用途置換ルール!JYL3","v":0},{"$f":"推定用途置換ルール!JYM3","v":0},{"$f":"推定用途置換ルール!JYN3","v":0},{"$f":"推定用途置換ルール!JYO3","v":0},{"$f":"推定用途置換ルール!JYP3","v":0},{"$f":"推定用途置換ルール!JYQ3","v":0},{"$f":"推定用途置換ルール!JYR3","v":0},{"$f":"推定用途置換ルール!JYS3","v":0},{"$f":"推定用途置換ルール!JYT3","v":0},{"$f":"推定用途置換ルール!JYU3","v":0},{"$f":"推定用途置換ルール!JYV3","v":0},{"$f":"推定用途置換ルール!JYW3","v":0},{"$f":"推定用途置換ルール!JYX3","v":0},{"$f":"推定用途置換ルール!JYY3","v":0},{"$f":"推定用途置換ルール!JYZ3","v":0},{"$f":"推定用途置換ルール!JZA3","v":0},{"$f":"推定用途置換ルール!JZB3","v":0},{"$f":"推定用途置換ルール!JZC3","v":0},{"$f":"推定用途置換ルール!JZD3","v":0},{"$f":"推定用途置換ルール!JZE3","v":0},{"$f":"推定用途置換ルール!JZF3","v":0},{"$f":"推定用途置換ルール!JZG3","v":0},{"$f":"推定用途置換ルール!JZH3","v":0},{"$f":"推定用途置換ルール!JZI3","v":0},{"$f":"推定用途置換ルール!JZJ3","v":0},{"$f":"推定用途置換ルール!JZK3","v":0},{"$f":"推定用途置換ルール!JZL3","v":0},{"$f":"推定用途置換ルール!JZM3","v":0},{"$f":"推定用途置換ルール!JZN3","v":0},{"$f":"推定用途置換ルール!JZO3","v":0},{"$f":"推定用途置換ルール!JZP3","v":0},{"$f":"推定用途置換ルール!JZQ3","v":0},{"$f":"推定用途置換ルール!JZR3","v":0},{"$f":"推定用途置換ルール!JZS3","v":0},{"$f":"推定用途置換ルール!JZT3","v":0},{"$f":"推定用途置換ルール!JZU3","v":0},{"$f":"推定用途置換ルール!JZV3","v":0},{"$f":"推定用途置換ルール!JZW3","v":0},{"$f":"推定用途置換ルール!JZX3","v":0},{"$f":"推定用途置換ルール!JZY3","v":0},{"$f":"推定用途置換ルール!JZZ3","v":0},{"$f":"推定用途置換ルール!KAA3","v":0},{"$f":"推定用途置換ルール!KAB3","v":0},{"$f":"推定用途置換ルール!KAC3","v":0},{"$f":"推定用途置換ルール!KAD3","v":0},{"$f":"推定用途置換ルール!KAE3","v":0},{"$f":"推定用途置換ルール!KAF3","v":0},{"$f":"推定用途置換ルール!KAG3","v":0},{"$f":"推定用途置換ルール!KAH3","v":0},{"$f":"推定用途置換ルール!KAI3","v":0},{"$f":"推定用途置換ルール!KAJ3","v":0},{"$f":"推定用途置換ルール!KAK3","v":0},{"$f":"推定用途置換ルール!KAL3","v":0},{"$f":"推定用途置換ルール!KAM3","v":0},{"$f":"推定用途置換ルール!KAN3","v":0},{"$f":"推定用途置換ルール!KAO3","v":0},{"$f":"推定用途置換ルール!KAP3","v":0},{"$f":"推定用途置換ルール!KAQ3","v":0},{"$f":"推定用途置換ルール!KAR3","v":0},{"$f":"推定用途置換ルール!KAS3","v":0},{"$f":"推定用途置換ルール!KAT3","v":0},{"$f":"推定用途置換ルール!KAU3","v":0},{"$f":"推定用途置換ルール!KAV3","v":0},{"$f":"推定用途置換ルール!KAW3","v":0},{"$f":"推定用途置換ルール!KAX3","v":0},{"$f":"推定用途置換ルール!KAY3","v":0},{"$f":"推定用途置換ルール!KAZ3","v":0},{"$f":"推定用途置換ルール!KBA3","v":0},{"$f":"推定用途置換ルール!KBB3","v":0},{"$f":"推定用途置換ルール!KBC3","v":0},{"$f":"推定用途置換ルール!KBD3","v":0},{"$f":"推定用途置換ルール!KBE3","v":0},{"$f":"推定用途置換ルール!KBF3","v":0},{"$f":"推定用途置換ルール!KBG3","v":0},{"$f":"推定用途置換ルール!KBH3","v":0},{"$f":"推定用途置換ルール!KBI3","v":0},{"$f":"推定用途置換ルール!KBJ3","v":0},{"$f":"推定用途置換ルール!KBK3","v":0},{"$f":"推定用途置換ルール!KBL3","v":0},{"$f":"推定用途置換ルール!KBM3","v":0},{"$f":"推定用途置換ルール!KBN3","v":0},{"$f":"推定用途置換ルール!KBO3","v":0},{"$f":"推定用途置換ルール!KBP3","v":0},{"$f":"推定用途置換ルール!KBQ3","v":0},{"$f":"推定用途置換ルール!KBR3","v":0},{"$f":"推定用途置換ルール!KBS3","v":0},{"$f":"推定用途置換ルール!KBT3","v":0},{"$f":"推定用途置換ルール!KBU3","v":0},{"$f":"推定用途置換ルール!KBV3","v":0},{"$f":"推定用途置換ルール!KBW3","v":0},{"$f":"推定用途置換ルール!KBX3","v":0},{"$f":"推定用途置換ルール!KBY3","v":0},{"$f":"推定用途置換ルール!KBZ3","v":0},{"$f":"推定用途置換ルール!KCA3","v":0},{"$f":"推定用途置換ルール!KCB3","v":0},{"$f":"推定用途置換ルール!KCC3","v":0},{"$f":"推定用途置換ルール!KCD3","v":0},{"$f":"推定用途置換ルール!KCE3","v":0},{"$f":"推定用途置換ルール!KCF3","v":0},{"$f":"推定用途置換ルール!KCG3","v":0},{"$f":"推定用途置換ルール!KCH3","v":0},{"$f":"推定用途置換ルール!KCI3","v":0},{"$f":"推定用途置換ルール!KCJ3","v":0},{"$f":"推定用途置換ルール!KCK3","v":0},{"$f":"推定用途置換ルール!KCL3","v":0},{"$f":"推定用途置換ルール!KCM3","v":0},{"$f":"推定用途置換ルール!KCN3","v":0},{"$f":"推定用途置換ルール!KCO3","v":0},{"$f":"推定用途置換ルール!KCP3","v":0},{"$f":"推定用途置換ルール!KCQ3","v":0},{"$f":"推定用途置換ルール!KCR3","v":0},{"$f":"推定用途置換ルール!KCS3","v":0},{"$f":"推定用途置換ルール!KCT3","v":0},{"$f":"推定用途置換ルール!KCU3","v":0},{"$f":"推定用途置換ルール!KCV3","v":0},{"$f":"推定用途置換ルール!KCW3","v":0},{"$f":"推定用途置換ルール!KCX3","v":0},{"$f":"推定用途置換ルール!KCY3","v":0},{"$f":"推定用途置換ルール!KCZ3","v":0},{"$f":"推定用途置換ルール!KDA3","v":0},{"$f":"推定用途置換ルール!KDB3","v":0},{"$f":"推定用途置換ルール!KDC3","v":0},{"$f":"推定用途置換ルール!KDD3","v":0},{"$f":"推定用途置換ルール!KDE3","v":0},{"$f":"推定用途置換ルール!KDF3","v":0},{"$f":"推定用途置換ルール!KDG3","v":0},{"$f":"推定用途置換ルール!KDH3","v":0},{"$f":"推定用途置換ルール!KDI3","v":0},{"$f":"推定用途置換ルール!KDJ3","v":0},{"$f":"推定用途置換ルール!KDK3","v":0},{"$f":"推定用途置換ルール!KDL3","v":0},{"$f":"推定用途置換ルール!KDM3","v":0},{"$f":"推定用途置換ルール!KDN3","v":0},{"$f":"推定用途置換ルール!KDO3","v":0},{"$f":"推定用途置換ルール!KDP3","v":0},{"$f":"推定用途置換ルール!KDQ3","v":0},{"$f":"推定用途置換ルール!KDR3","v":0},{"$f":"推定用途置換ルール!KDS3","v":0},{"$f":"推定用途置換ルール!KDT3","v":0},{"$f":"推定用途置換ルール!KDU3","v":0},{"$f":"推定用途置換ルール!KDV3","v":0},{"$f":"推定用途置換ルール!KDW3","v":0},{"$f":"推定用途置換ルール!KDX3","v":0},{"$f":"推定用途置換ルール!KDY3","v":0},{"$f":"推定用途置換ルール!KDZ3","v":0},{"$f":"推定用途置換ルール!KEA3","v":0},{"$f":"推定用途置換ルール!KEB3","v":0},{"$f":"推定用途置換ルール!KEC3","v":0},{"$f":"推定用途置換ルール!KED3","v":0},{"$f":"推定用途置換ルール!KEE3","v":0},{"$f":"推定用途置換ルール!KEF3","v":0},{"$f":"推定用途置換ルール!KEG3","v":0},{"$f":"推定用途置換ルール!KEH3","v":0},{"$f":"推定用途置換ルール!KEI3","v":0},{"$f":"推定用途置換ルール!KEJ3","v":0},{"$f":"推定用途置換ルール!KEK3","v":0},{"$f":"推定用途置換ルール!KEL3","v":0},{"$f":"推定用途置換ルール!KEM3","v":0},{"$f":"推定用途置換ルール!KEN3","v":0},{"$f":"推定用途置換ルール!KEO3","v":0},{"$f":"推定用途置換ルール!KEP3","v":0},{"$f":"推定用途置換ルール!KEQ3","v":0},{"$f":"推定用途置換ルール!KER3","v":0},{"$f":"推定用途置換ルール!KES3","v":0},{"$f":"推定用途置換ルール!KET3","v":0},{"$f":"推定用途置換ルール!KEU3","v":0},{"$f":"推定用途置換ルール!KEV3","v":0},{"$f":"推定用途置換ルール!KEW3","v":0},{"$f":"推定用途置換ルール!KEX3","v":0},{"$f":"推定用途置換ルール!KEY3","v":0},{"$f":"推定用途置換ルール!KEZ3","v":0},{"$f":"推定用途置換ルール!KFA3","v":0},{"$f":"推定用途置換ルール!KFB3","v":0},{"$f":"推定用途置換ルール!KFC3","v":0},{"$f":"推定用途置換ルール!KFD3","v":0},{"$f":"推定用途置換ルール!KFE3","v":0},{"$f":"推定用途置換ルール!KFF3","v":0},{"$f":"推定用途置換ルール!KFG3","v":0},{"$f":"推定用途置換ルール!KFH3","v":0},{"$f":"推定用途置換ルール!KFI3","v":0},{"$f":"推定用途置換ルール!KFJ3","v":0},{"$f":"推定用途置換ルール!KFK3","v":0},{"$f":"推定用途置換ルール!KFL3","v":0},{"$f":"推定用途置換ルール!KFM3","v":0},{"$f":"推定用途置換ルール!KFN3","v":0},{"$f":"推定用途置換ルール!KFO3","v":0},{"$f":"推定用途置換ルール!KFP3","v":0},{"$f":"推定用途置換ルール!KFQ3","v":0},{"$f":"推定用途置換ルール!KFR3","v":0},{"$f":"推定用途置換ルール!KFS3","v":0},{"$f":"推定用途置換ルール!KFT3","v":0},{"$f":"推定用途置換ルール!KFU3","v":0},{"$f":"推定用途置換ルール!KFV3","v":0},{"$f":"推定用途置換ルール!KFW3","v":0},{"$f":"推定用途置換ルール!KFX3","v":0},{"$f":"推定用途置換ルール!KFY3","v":0},{"$f":"推定用途置換ルール!KFZ3","v":0},{"$f":"推定用途置換ルール!KGA3","v":0},{"$f":"推定用途置換ルール!KGB3","v":0},{"$f":"推定用途置換ルール!KGC3","v":0},{"$f":"推定用途置換ルール!KGD3","v":0},{"$f":"推定用途置換ルール!KGE3","v":0},{"$f":"推定用途置換ルール!KGF3","v":0},{"$f":"推定用途置換ルール!KGG3","v":0},{"$f":"推定用途置換ルール!KGH3","v":0},{"$f":"推定用途置換ルール!KGI3","v":0},{"$f":"推定用途置換ルール!KGJ3","v":0},{"$f":"推定用途置換ルール!KGK3","v":0},{"$f":"推定用途置換ルール!KGL3","v":0},{"$f":"推定用途置換ルール!KGM3","v":0},{"$f":"推定用途置換ルール!KGN3","v":0},{"$f":"推定用途置換ルール!KGO3","v":0},{"$f":"推定用途置換ルール!KGP3","v":0},{"$f":"推定用途置換ルール!KGQ3","v":0},{"$f":"推定用途置換ルール!KGR3","v":0},{"$f":"推定用途置換ルール!KGS3","v":0},{"$f":"推定用途置換ルール!KGT3","v":0},{"$f":"推定用途置換ルール!KGU3","v":0},{"$f":"推定用途置換ルール!KGV3","v":0},{"$f":"推定用途置換ルール!KGW3","v":0},{"$f":"推定用途置換ルール!KGX3","v":0},{"$f":"推定用途置換ルール!KGY3","v":0},{"$f":"推定用途置換ルール!KGZ3","v":0},{"$f":"推定用途置換ルール!KHA3","v":0},{"$f":"推定用途置換ルール!KHB3","v":0},{"$f":"推定用途置換ルール!KHC3","v":0},{"$f":"推定用途置換ルール!KHD3","v":0},{"$f":"推定用途置換ルール!KHE3","v":0},{"$f":"推定用途置換ルール!KHF3","v":0},{"$f":"推定用途置換ルール!KHG3","v":0},{"$f":"推定用途置換ルール!KHH3","v":0},{"$f":"推定用途置換ルール!KHI3","v":0},{"$f":"推定用途置換ルール!KHJ3","v":0},{"$f":"推定用途置換ルール!KHK3","v":0},{"$f":"推定用途置換ルール!KHL3","v":0},{"$f":"推定用途置換ルール!KHM3","v":0},{"$f":"推定用途置換ルール!KHN3","v":0},{"$f":"推定用途置換ルール!KHO3","v":0},{"$f":"推定用途置換ルール!KHP3","v":0},{"$f":"推定用途置換ルール!KHQ3","v":0},{"$f":"推定用途置換ルール!KHR3","v":0},{"$f":"推定用途置換ルール!KHS3","v":0},{"$f":"推定用途置換ルール!KHT3","v":0},{"$f":"推定用途置換ルール!KHU3","v":0},{"$f":"推定用途置換ルール!KHV3","v":0},{"$f":"推定用途置換ルール!KHW3","v":0},{"$f":"推定用途置換ルール!KHX3","v":0},{"$f":"推定用途置換ルール!KHY3","v":0},{"$f":"推定用途置換ルール!KHZ3","v":0},{"$f":"推定用途置換ルール!KIA3","v":0},{"$f":"推定用途置換ルール!KIB3","v":0},{"$f":"推定用途置換ルール!KIC3","v":0},{"$f":"推定用途置換ルール!KID3","v":0},{"$f":"推定用途置換ルール!KIE3","v":0},{"$f":"推定用途置換ルール!KIF3","v":0},{"$f":"推定用途置換ルール!KIG3","v":0},{"$f":"推定用途置換ルール!KIH3","v":0},{"$f":"推定用途置換ルール!KII3","v":0},{"$f":"推定用途置換ルール!KIJ3","v":0},{"$f":"推定用途置換ルール!KIK3","v":0},{"$f":"推定用途置換ルール!KIL3","v":0},{"$f":"推定用途置換ルール!KIM3","v":0},{"$f":"推定用途置換ルール!KIN3","v":0},{"$f":"推定用途置換ルール!KIO3","v":0},{"$f":"推定用途置換ルール!KIP3","v":0},{"$f":"推定用途置換ルール!KIQ3","v":0},{"$f":"推定用途置換ルール!KIR3","v":0},{"$f":"推定用途置換ルール!KIS3","v":0},{"$f":"推定用途置換ルール!KIT3","v":0},{"$f":"推定用途置換ルール!KIU3","v":0},{"$f":"推定用途置換ルール!KIV3","v":0},{"$f":"推定用途置換ルール!KIW3","v":0},{"$f":"推定用途置換ルール!KIX3","v":0},{"$f":"推定用途置換ルール!KIY3","v":0},{"$f":"推定用途置換ルール!KIZ3","v":0},{"$f":"推定用途置換ルール!KJA3","v":0},{"$f":"推定用途置換ルール!KJB3","v":0},{"$f":"推定用途置換ルール!KJC3","v":0},{"$f":"推定用途置換ルール!KJD3","v":0},{"$f":"推定用途置換ルール!KJE3","v":0},{"$f":"推定用途置換ルール!KJF3","v":0},{"$f":"推定用途置換ルール!KJG3","v":0},{"$f":"推定用途置換ルール!KJH3","v":0},{"$f":"推定用途置換ルール!KJI3","v":0},{"$f":"推定用途置換ルール!KJJ3","v":0},{"$f":"推定用途置換ルール!KJK3","v":0},{"$f":"推定用途置換ルール!KJL3","v":0},{"$f":"推定用途置換ルール!KJM3","v":0},{"$f":"推定用途置換ルール!KJN3","v":0},{"$f":"推定用途置換ルール!KJO3","v":0},{"$f":"推定用途置換ルール!KJP3","v":0},{"$f":"推定用途置換ルール!KJQ3","v":0},{"$f":"推定用途置換ルール!KJR3","v":0},{"$f":"推定用途置換ルール!KJS3","v":0},{"$f":"推定用途置換ルール!KJT3","v":0},{"$f":"推定用途置換ルール!KJU3","v":0},{"$f":"推定用途置換ルール!KJV3","v":0},{"$f":"推定用途置換ルール!KJW3","v":0},{"$f":"推定用途置換ルール!KJX3","v":0},{"$f":"推定用途置換ルール!KJY3","v":0},{"$f":"推定用途置換ルール!KJZ3","v":0},{"$f":"推定用途置換ルール!KKA3","v":0},{"$f":"推定用途置換ルール!KKB3","v":0},{"$f":"推定用途置換ルール!KKC3","v":0},{"$f":"推定用途置換ルール!KKD3","v":0},{"$f":"推定用途置換ルール!KKE3","v":0},{"$f":"推定用途置換ルール!KKF3","v":0},{"$f":"推定用途置換ルール!KKG3","v":0},{"$f":"推定用途置換ルール!KKH3","v":0},{"$f":"推定用途置換ルール!KKI3","v":0},{"$f":"推定用途置換ルール!KKJ3","v":0},{"$f":"推定用途置換ルール!KKK3","v":0},{"$f":"推定用途置換ルール!KKL3","v":0},{"$f":"推定用途置換ルール!KKM3","v":0},{"$f":"推定用途置換ルール!KKN3","v":0},{"$f":"推定用途置換ルール!KKO3","v":0},{"$f":"推定用途置換ルール!KKP3","v":0},{"$f":"推定用途置換ルール!KKQ3","v":0},{"$f":"推定用途置換ルール!KKR3","v":0},{"$f":"推定用途置換ルール!KKS3","v":0},{"$f":"推定用途置換ルール!KKT3","v":0},{"$f":"推定用途置換ルール!KKU3","v":0},{"$f":"推定用途置換ルール!KKV3","v":0},{"$f":"推定用途置換ルール!KKW3","v":0},{"$f":"推定用途置換ルール!KKX3","v":0},{"$f":"推定用途置換ルール!KKY3","v":0},{"$f":"推定用途置換ルール!KKZ3","v":0},{"$f":"推定用途置換ルール!KLA3","v":0},{"$f":"推定用途置換ルール!KLB3","v":0},{"$f":"推定用途置換ルール!KLC3","v":0},{"$f":"推定用途置換ルール!KLD3","v":0},{"$f":"推定用途置換ルール!KLE3","v":0},{"$f":"推定用途置換ルール!KLF3","v":0},{"$f":"推定用途置換ルール!KLG3","v":0},{"$f":"推定用途置換ルール!KLH3","v":0},{"$f":"推定用途置換ルール!KLI3","v":0},{"$f":"推定用途置換ルール!KLJ3","v":0},{"$f":"推定用途置換ルール!KLK3","v":0},{"$f":"推定用途置換ルール!KLL3","v":0},{"$f":"推定用途置換ルール!KLM3","v":0},{"$f":"推定用途置換ルール!KLN3","v":0},{"$f":"推定用途置換ルール!KLO3","v":0},{"$f":"推定用途置換ルール!KLP3","v":0},{"$f":"推定用途置換ルール!KLQ3","v":0},{"$f":"推定用途置換ルール!KLR3","v":0},{"$f":"推定用途置換ルール!KLS3","v":0},{"$f":"推定用途置換ルール!KLT3","v":0},{"$f":"推定用途置換ルール!KLU3","v":0},{"$f":"推定用途置換ルール!KLV3","v":0},{"$f":"推定用途置換ルール!KLW3","v":0},{"$f":"推定用途置換ルール!KLX3","v":0},{"$f":"推定用途置換ルール!KLY3","v":0},{"$f":"推定用途置換ルール!KLZ3","v":0},{"$f":"推定用途置換ルール!KMA3","v":0},{"$f":"推定用途置換ルール!KMB3","v":0},{"$f":"推定用途置換ルール!KMC3","v":0},{"$f":"推定用途置換ルール!KMD3","v":0},{"$f":"推定用途置換ルール!KME3","v":0},{"$f":"推定用途置換ルール!KMF3","v":0},{"$f":"推定用途置換ルール!KMG3","v":0},{"$f":"推定用途置換ルール!KMH3","v":0},{"$f":"推定用途置換ルール!KMI3","v":0},{"$f":"推定用途置換ルール!KMJ3","v":0},{"$f":"推定用途置換ルール!KMK3","v":0},{"$f":"推定用途置換ルール!KML3","v":0},{"$f":"推定用途置換ルール!KMM3","v":0},{"$f":"推定用途置換ルール!KMN3","v":0},{"$f":"推定用途置換ルール!KMO3","v":0},{"$f":"推定用途置換ルール!KMP3","v":0},{"$f":"推定用途置換ルール!KMQ3","v":0},{"$f":"推定用途置換ルール!KMR3","v":0},{"$f":"推定用途置換ルール!KMS3","v":0},{"$f":"推定用途置換ルール!KMT3","v":0},{"$f":"推定用途置換ルール!KMU3","v":0},{"$f":"推定用途置換ルール!KMV3","v":0},{"$f":"推定用途置換ルール!KMW3","v":0},{"$f":"推定用途置換ルール!KMX3","v":0},{"$f":"推定用途置換ルール!KMY3","v":0},{"$f":"推定用途置換ルール!KMZ3","v":0},{"$f":"推定用途置換ルール!KNA3","v":0},{"$f":"推定用途置換ルール!KNB3","v":0},{"$f":"推定用途置換ルール!KNC3","v":0},{"$f":"推定用途置換ルール!KND3","v":0},{"$f":"推定用途置換ルール!KNE3","v":0},{"$f":"推定用途置換ルール!KNF3","v":0},{"$f":"推定用途置換ルール!KNG3","v":0},{"$f":"推定用途置換ルール!KNH3","v":0},{"$f":"推定用途置換ルール!KNI3","v":0},{"$f":"推定用途置換ルール!KNJ3","v":0},{"$f":"推定用途置換ルール!KNK3","v":0},{"$f":"推定用途置換ルール!KNL3","v":0},{"$f":"推定用途置換ルール!KNM3","v":0},{"$f":"推定用途置換ルール!KNN3","v":0},{"$f":"推定用途置換ルール!KNO3","v":0},{"$f":"推定用途置換ルール!KNP3","v":0},{"$f":"推定用途置換ルール!KNQ3","v":0},{"$f":"推定用途置換ルール!KNR3","v":0},{"$f":"推定用途置換ルール!KNS3","v":0},{"$f":"推定用途置換ルール!KNT3","v":0},{"$f":"推定用途置換ルール!KNU3","v":0},{"$f":"推定用途置換ルール!KNV3","v":0},{"$f":"推定用途置換ルール!KNW3","v":0},{"$f":"推定用途置換ルール!KNX3","v":0},{"$f":"推定用途置換ルール!KNY3","v":0},{"$f":"推定用途置換ルール!KNZ3","v":0},{"$f":"推定用途置換ルール!KOA3","v":0},{"$f":"推定用途置換ルール!KOB3","v":0},{"$f":"推定用途置換ルール!KOC3","v":0},{"$f":"推定用途置換ルール!KOD3","v":0},{"$f":"推定用途置換ルール!KOE3","v":0},{"$f":"推定用途置換ルール!KOF3","v":0},{"$f":"推定用途置換ルール!KOG3","v":0},{"$f":"推定用途置換ルール!KOH3","v":0},{"$f":"推定用途置換ルール!KOI3","v":0},{"$f":"推定用途置換ルール!KOJ3","v":0},{"$f":"推定用途置換ルール!KOK3","v":0},{"$f":"推定用途置換ルール!KOL3","v":0},{"$f":"推定用途置換ルール!KOM3","v":0},{"$f":"推定用途置換ルール!KON3","v":0},{"$f":"推定用途置換ルール!KOO3","v":0},{"$f":"推定用途置換ルール!KOP3","v":0},{"$f":"推定用途置換ルール!KOQ3","v":0},{"$f":"推定用途置換ルール!KOR3","v":0},{"$f":"推定用途置換ルール!KOS3","v":0},{"$f":"推定用途置換ルール!KOT3","v":0},{"$f":"推定用途置換ルール!KOU3","v":0},{"$f":"推定用途置換ルール!KOV3","v":0},{"$f":"推定用途置換ルール!KOW3","v":0},{"$f":"推定用途置換ルール!KOX3","v":0},{"$f":"推定用途置換ルール!KOY3","v":0},{"$f":"推定用途置換ルール!KOZ3","v":0},{"$f":"推定用途置換ルール!KPA3","v":0},{"$f":"推定用途置換ルール!KPB3","v":0},{"$f":"推定用途置換ルール!KPC3","v":0},{"$f":"推定用途置換ルール!KPD3","v":0},{"$f":"推定用途置換ルール!KPE3","v":0},{"$f":"推定用途置換ルール!KPF3","v":0},{"$f":"推定用途置換ルール!KPG3","v":0},{"$f":"推定用途置換ルール!KPH3","v":0},{"$f":"推定用途置換ルール!KPI3","v":0},{"$f":"推定用途置換ルール!KPJ3","v":0},{"$f":"推定用途置換ルール!KPK3","v":0},{"$f":"推定用途置換ルール!KPL3","v":0},{"$f":"推定用途置換ルール!KPM3","v":0},{"$f":"推定用途置換ルール!KPN3","v":0},{"$f":"推定用途置換ルール!KPO3","v":0},{"$f":"推定用途置換ルール!KPP3","v":0},{"$f":"推定用途置換ルール!KPQ3","v":0},{"$f":"推定用途置換ルール!KPR3","v":0},{"$f":"推定用途置換ルール!KPS3","v":0},{"$f":"推定用途置換ルール!KPT3","v":0},{"$f":"推定用途置換ルール!KPU3","v":0},{"$f":"推定用途置換ルール!KPV3","v":0},{"$f":"推定用途置換ルール!KPW3","v":0},{"$f":"推定用途置換ルール!KPX3","v":0},{"$f":"推定用途置換ルール!KPY3","v":0},{"$f":"推定用途置換ルール!KPZ3","v":0},{"$f":"推定用途置換ルール!KQA3","v":0},{"$f":"推定用途置換ルール!KQB3","v":0},{"$f":"推定用途置換ルール!KQC3","v":0},{"$f":"推定用途置換ルール!KQD3","v":0},{"$f":"推定用途置換ルール!KQE3","v":0},{"$f":"推定用途置換ルール!KQF3","v":0},{"$f":"推定用途置換ルール!KQG3","v":0},{"$f":"推定用途置換ルール!KQH3","v":0},{"$f":"推定用途置換ルール!KQI3","v":0},{"$f":"推定用途置換ルール!KQJ3","v":0},{"$f":"推定用途置換ルール!KQK3","v":0},{"$f":"推定用途置換ルール!KQL3","v":0},{"$f":"推定用途置換ルール!KQM3","v":0},{"$f":"推定用途置換ルール!KQN3","v":0},{"$f":"推定用途置換ルール!KQO3","v":0},{"$f":"推定用途置換ルール!KQP3","v":0},{"$f":"推定用途置換ルール!KQQ3","v":0},{"$f":"推定用途置換ルール!KQR3","v":0},{"$f":"推定用途置換ルール!KQS3","v":0},{"$f":"推定用途置換ルール!KQT3","v":0},{"$f":"推定用途置換ルール!KQU3","v":0},{"$f":"推定用途置換ルール!KQV3","v":0},{"$f":"推定用途置換ルール!KQW3","v":0},{"$f":"推定用途置換ルール!KQX3","v":0},{"$f":"推定用途置換ルール!KQY3","v":0},{"$f":"推定用途置換ルール!KQZ3","v":0},{"$f":"推定用途置換ルール!KRA3","v":0},{"$f":"推定用途置換ルール!KRB3","v":0},{"$f":"推定用途置換ルール!KRC3","v":0},{"$f":"推定用途置換ルール!KRD3","v":0},{"$f":"推定用途置換ルール!KRE3","v":0},{"$f":"推定用途置換ルール!KRF3","v":0},{"$f":"推定用途置換ルール!KRG3","v":0},{"$f":"推定用途置換ルール!KRH3","v":0},{"$f":"推定用途置換ルール!KRI3","v":0},{"$f":"推定用途置換ルール!KRJ3","v":0},{"$f":"推定用途置換ルール!KRK3","v":0},{"$f":"推定用途置換ルール!KRL3","v":0},{"$f":"推定用途置換ルール!KRM3","v":0},{"$f":"推定用途置換ルール!KRN3","v":0},{"$f":"推定用途置換ルール!KRO3","v":0},{"$f":"推定用途置換ルール!KRP3","v":0},{"$f":"推定用途置換ルール!KRQ3","v":0},{"$f":"推定用途置換ルール!KRR3","v":0},{"$f":"推定用途置換ルール!KRS3","v":0},{"$f":"推定用途置換ルール!KRT3","v":0},{"$f":"推定用途置換ルール!KRU3","v":0},{"$f":"推定用途置換ルール!KRV3","v":0},{"$f":"推定用途置換ルール!KRW3","v":0},{"$f":"推定用途置換ルール!KRX3","v":0},{"$f":"推定用途置換ルール!KRY3","v":0},{"$f":"推定用途置換ルール!KRZ3","v":0},{"$f":"推定用途置換ルール!KSA3","v":0},{"$f":"推定用途置換ルール!KSB3","v":0},{"$f":"推定用途置換ルール!KSC3","v":0},{"$f":"推定用途置換ルール!KSD3","v":0},{"$f":"推定用途置換ルール!KSE3","v":0},{"$f":"推定用途置換ルール!KSF3","v":0},{"$f":"推定用途置換ルール!KSG3","v":0},{"$f":"推定用途置換ルール!KSH3","v":0},{"$f":"推定用途置換ルール!KSI3","v":0},{"$f":"推定用途置換ルール!KSJ3","v":0},{"$f":"推定用途置換ルール!KSK3","v":0},{"$f":"推定用途置換ルール!KSL3","v":0},{"$f":"推定用途置換ルール!KSM3","v":0},{"$f":"推定用途置換ルール!KSN3","v":0},{"$f":"推定用途置換ルール!KSO3","v":0},{"$f":"推定用途置換ルール!KSP3","v":0},{"$f":"推定用途置換ルール!KSQ3","v":0},{"$f":"推定用途置換ルール!KSR3","v":0},{"$f":"推定用途置換ルール!KSS3","v":0},{"$f":"推定用途置換ルール!KST3","v":0},{"$f":"推定用途置換ルール!KSU3","v":0},{"$f":"推定用途置換ルール!KSV3","v":0},{"$f":"推定用途置換ルール!KSW3","v":0},{"$f":"推定用途置換ルール!KSX3","v":0},{"$f":"推定用途置換ルール!KSY3","v":0},{"$f":"推定用途置換ルール!KSZ3","v":0},{"$f":"推定用途置換ルール!KTA3","v":0},{"$f":"推定用途置換ルール!KTB3","v":0},{"$f":"推定用途置換ルール!KTC3","v":0},{"$f":"推定用途置換ルール!KTD3","v":0},{"$f":"推定用途置換ルール!KTE3","v":0},{"$f":"推定用途置換ルール!KTF3","v":0},{"$f":"推定用途置換ルール!KTG3","v":0},{"$f":"推定用途置換ルール!KTH3","v":0},{"$f":"推定用途置換ルール!KTI3","v":0},{"$f":"推定用途置換ルール!KTJ3","v":0},{"$f":"推定用途置換ルール!KTK3","v":0},{"$f":"推定用途置換ルール!KTL3","v":0},{"$f":"推定用途置換ルール!KTM3","v":0},{"$f":"推定用途置換ルール!KTN3","v":0},{"$f":"推定用途置換ルール!KTO3","v":0},{"$f":"推定用途置換ルール!KTP3","v":0},{"$f":"推定用途置換ルール!KTQ3","v":0},{"$f":"推定用途置換ルール!KTR3","v":0},{"$f":"推定用途置換ルール!KTS3","v":0},{"$f":"推定用途置換ルール!KTT3","v":0},{"$f":"推定用途置換ルール!KTU3","v":0},{"$f":"推定用途置換ルール!KTV3","v":0},{"$f":"推定用途置換ルール!KTW3","v":0},{"$f":"推定用途置換ルール!KTX3","v":0},{"$f":"推定用途置換ルール!KTY3","v":0},{"$f":"推定用途置換ルール!KTZ3","v":0},{"$f":"推定用途置換ルール!KUA3","v":0},{"$f":"推定用途置換ルール!KUB3","v":0},{"$f":"推定用途置換ルール!KUC3","v":0},{"$f":"推定用途置換ルール!KUD3","v":0},{"$f":"推定用途置換ルール!KUE3","v":0},{"$f":"推定用途置換ルール!KUF3","v":0},{"$f":"推定用途置換ルール!KUG3","v":0},{"$f":"推定用途置換ルール!KUH3","v":0},{"$f":"推定用途置換ルール!KUI3","v":0},{"$f":"推定用途置換ルール!KUJ3","v":0},{"$f":"推定用途置換ルール!KUK3","v":0},{"$f":"推定用途置換ルール!KUL3","v":0},{"$f":"推定用途置換ルール!KUM3","v":0},{"$f":"推定用途置換ルール!KUN3","v":0},{"$f":"推定用途置換ルール!KUO3","v":0},{"$f":"推定用途置換ルール!KUP3","v":0},{"$f":"推定用途置換ルール!KUQ3","v":0},{"$f":"推定用途置換ルール!KUR3","v":0},{"$f":"推定用途置換ルール!KUS3","v":0},{"$f":"推定用途置換ルール!KUT3","v":0},{"$f":"推定用途置換ルール!KUU3","v":0},{"$f":"推定用途置換ルール!KUV3","v":0},{"$f":"推定用途置換ルール!KUW3","v":0},{"$f":"推定用途置換ルール!KUX3","v":0},{"$f":"推定用途置換ルール!KUY3","v":0},{"$f":"推定用途置換ルール!KUZ3","v":0},{"$f":"推定用途置換ルール!KVA3","v":0},{"$f":"推定用途置換ルール!KVB3","v":0},{"$f":"推定用途置換ルール!KVC3","v":0},{"$f":"推定用途置換ルール!KVD3","v":0},{"$f":"推定用途置換ルール!KVE3","v":0},{"$f":"推定用途置換ルール!KVF3","v":0},{"$f":"推定用途置換ルール!KVG3","v":0},{"$f":"推定用途置換ルール!KVH3","v":0},{"$f":"推定用途置換ルール!KVI3","v":0},{"$f":"推定用途置換ルール!KVJ3","v":0},{"$f":"推定用途置換ルール!KVK3","v":0},{"$f":"推定用途置換ルール!KVL3","v":0},{"$f":"推定用途置換ルール!KVM3","v":0},{"$f":"推定用途置換ルール!KVN3","v":0},{"$f":"推定用途置換ルール!KVO3","v":0},{"$f":"推定用途置換ルール!KVP3","v":0},{"$f":"推定用途置換ルール!KVQ3","v":0},{"$f":"推定用途置換ルール!KVR3","v":0},{"$f":"推定用途置換ルール!KVS3","v":0},{"$f":"推定用途置換ルール!KVT3","v":0},{"$f":"推定用途置換ルール!KVU3","v":0},{"$f":"推定用途置換ルール!KVV3","v":0},{"$f":"推定用途置換ルール!KVW3","v":0},{"$f":"推定用途置換ルール!KVX3","v":0},{"$f":"推定用途置換ルール!KVY3","v":0},{"$f":"推定用途置換ルール!KVZ3","v":0},{"$f":"推定用途置換ルール!KWA3","v":0},{"$f":"推定用途置換ルール!KWB3","v":0},{"$f":"推定用途置換ルール!KWC3","v":0},{"$f":"推定用途置換ルール!KWD3","v":0},{"$f":"推定用途置換ルール!KWE3","v":0},{"$f":"推定用途置換ルール!KWF3","v":0},{"$f":"推定用途置換ルール!KWG3","v":0},{"$f":"推定用途置換ルール!KWH3","v":0},{"$f":"推定用途置換ルール!KWI3","v":0},{"$f":"推定用途置換ルール!KWJ3","v":0},{"$f":"推定用途置換ルール!KWK3","v":0},{"$f":"推定用途置換ルール!KWL3","v":0},{"$f":"推定用途置換ルール!KWM3","v":0},{"$f":"推定用途置換ルール!KWN3","v":0},{"$f":"推定用途置換ルール!KWO3","v":0},{"$f":"推定用途置換ルール!KWP3","v":0},{"$f":"推定用途置換ルール!KWQ3","v":0},{"$f":"推定用途置換ルール!KWR3","v":0},{"$f":"推定用途置換ルール!KWS3","v":0},{"$f":"推定用途置換ルール!KWT3","v":0},{"$f":"推定用途置換ルール!KWU3","v":0},{"$f":"推定用途置換ルール!KWV3","v":0},{"$f":"推定用途置換ルール!KWW3","v":0},{"$f":"推定用途置換ルール!KWX3","v":0},{"$f":"推定用途置換ルール!KWY3","v":0},{"$f":"推定用途置換ルール!KWZ3","v":0},{"$f":"推定用途置換ルール!KXA3","v":0},{"$f":"推定用途置換ルール!KXB3","v":0},{"$f":"推定用途置換ルール!KXC3","v":0},{"$f":"推定用途置換ルール!KXD3","v":0},{"$f":"推定用途置換ルール!KXE3","v":0},{"$f":"推定用途置換ルール!KXF3","v":0},{"$f":"推定用途置換ルール!KXG3","v":0},{"$f":"推定用途置換ルール!KXH3","v":0},{"$f":"推定用途置換ルール!KXI3","v":0},{"$f":"推定用途置換ルール!KXJ3","v":0},{"$f":"推定用途置換ルール!KXK3","v":0},{"$f":"推定用途置換ルール!KXL3","v":0},{"$f":"推定用途置換ルール!KXM3","v":0},{"$f":"推定用途置換ルール!KXN3","v":0},{"$f":"推定用途置換ルール!KXO3","v":0},{"$f":"推定用途置換ルール!KXP3","v":0},{"$f":"推定用途置換ルール!KXQ3","v":0},{"$f":"推定用途置換ルール!KXR3","v":0},{"$f":"推定用途置換ルール!KXS3","v":0},{"$f":"推定用途置換ルール!KXT3","v":0},{"$f":"推定用途置換ルール!KXU3","v":0},{"$f":"推定用途置換ルール!KXV3","v":0},{"$f":"推定用途置換ルール!KXW3","v":0},{"$f":"推定用途置換ルール!KXX3","v":0},{"$f":"推定用途置換ルール!KXY3","v":0},{"$f":"推定用途置換ルール!KXZ3","v":0},{"$f":"推定用途置換ルール!KYA3","v":0},{"$f":"推定用途置換ルール!KYB3","v":0},{"$f":"推定用途置換ルール!KYC3","v":0},{"$f":"推定用途置換ルール!KYD3","v":0},{"$f":"推定用途置換ルール!KYE3","v":0},{"$f":"推定用途置換ルール!KYF3","v":0},{"$f":"推定用途置換ルール!KYG3","v":0},{"$f":"推定用途置換ルール!KYH3","v":0},{"$f":"推定用途置換ルール!KYI3","v":0},{"$f":"推定用途置換ルール!KYJ3","v":0},{"$f":"推定用途置換ルール!KYK3","v":0},{"$f":"推定用途置換ルール!KYL3","v":0},{"$f":"推定用途置換ルール!KYM3","v":0},{"$f":"推定用途置換ルール!KYN3","v":0},{"$f":"推定用途置換ルール!KYO3","v":0},{"$f":"推定用途置換ルール!KYP3","v":0},{"$f":"推定用途置換ルール!KYQ3","v":0},{"$f":"推定用途置換ルール!KYR3","v":0},{"$f":"推定用途置換ルール!KYS3","v":0},{"$f":"推定用途置換ルール!KYT3","v":0},{"$f":"推定用途置換ルール!KYU3","v":0},{"$f":"推定用途置換ルール!KYV3","v":0},{"$f":"推定用途置換ルール!KYW3","v":0},{"$f":"推定用途置換ルール!KYX3","v":0},{"$f":"推定用途置換ルール!KYY3","v":0},{"$f":"推定用途置換ルール!KYZ3","v":0},{"$f":"推定用途置換ルール!KZA3","v":0},{"$f":"推定用途置換ルール!KZB3","v":0},{"$f":"推定用途置換ルール!KZC3","v":0},{"$f":"推定用途置換ルール!KZD3","v":0},{"$f":"推定用途置換ルール!KZE3","v":0},{"$f":"推定用途置換ルール!KZF3","v":0},{"$f":"推定用途置換ルール!KZG3","v":0},{"$f":"推定用途置換ルール!KZH3","v":0},{"$f":"推定用途置換ルール!KZI3","v":0},{"$f":"推定用途置換ルール!KZJ3","v":0},{"$f":"推定用途置換ルール!KZK3","v":0},{"$f":"推定用途置換ルール!KZL3","v":0},{"$f":"推定用途置換ルール!KZM3","v":0},{"$f":"推定用途置換ルール!KZN3","v":0},{"$f":"推定用途置換ルール!KZO3","v":0},{"$f":"推定用途置換ルール!KZP3","v":0},{"$f":"推定用途置換ルール!KZQ3","v":0},{"$f":"推定用途置換ルール!KZR3","v":0},{"$f":"推定用途置換ルール!KZS3","v":0},{"$f":"推定用途置換ルール!KZT3","v":0},{"$f":"推定用途置換ルール!KZU3","v":0},{"$f":"推定用途置換ルール!KZV3","v":0},{"$f":"推定用途置換ルール!KZW3","v":0},{"$f":"推定用途置換ルール!KZX3","v":0},{"$f":"推定用途置換ルール!KZY3","v":0},{"$f":"推定用途置換ルール!KZZ3","v":0},{"$f":"推定用途置換ルール!LAA3","v":0},{"$f":"推定用途置換ルール!LAB3","v":0},{"$f":"推定用途置換ルール!LAC3","v":0},{"$f":"推定用途置換ルール!LAD3","v":0},{"$f":"推定用途置換ルール!LAE3","v":0},{"$f":"推定用途置換ルール!LAF3","v":0},{"$f":"推定用途置換ルール!LAG3","v":0},{"$f":"推定用途置換ルール!LAH3","v":0},{"$f":"推定用途置換ルール!LAI3","v":0},{"$f":"推定用途置換ルール!LAJ3","v":0},{"$f":"推定用途置換ルール!LAK3","v":0},{"$f":"推定用途置換ルール!LAL3","v":0},{"$f":"推定用途置換ルール!LAM3","v":0},{"$f":"推定用途置換ルール!LAN3","v":0},{"$f":"推定用途置換ルール!LAO3","v":0},{"$f":"推定用途置換ルール!LAP3","v":0},{"$f":"推定用途置換ルール!LAQ3","v":0},{"$f":"推定用途置換ルール!LAR3","v":0},{"$f":"推定用途置換ルール!LAS3","v":0},{"$f":"推定用途置換ルール!LAT3","v":0},{"$f":"推定用途置換ルール!LAU3","v":0},{"$f":"推定用途置換ルール!LAV3","v":0},{"$f":"推定用途置換ルール!LAW3","v":0},{"$f":"推定用途置換ルール!LAX3","v":0},{"$f":"推定用途置換ルール!LAY3","v":0},{"$f":"推定用途置換ルール!LAZ3","v":0},{"$f":"推定用途置換ルール!LBA3","v":0},{"$f":"推定用途置換ルール!LBB3","v":0},{"$f":"推定用途置換ルール!LBC3","v":0},{"$f":"推定用途置換ルール!LBD3","v":0},{"$f":"推定用途置換ルール!LBE3","v":0},{"$f":"推定用途置換ルール!LBF3","v":0},{"$f":"推定用途置換ルール!LBG3","v":0},{"$f":"推定用途置換ルール!LBH3","v":0},{"$f":"推定用途置換ルール!LBI3","v":0},{"$f":"推定用途置換ルール!LBJ3","v":0},{"$f":"推定用途置換ルール!LBK3","v":0},{"$f":"推定用途置換ルール!LBL3","v":0},{"$f":"推定用途置換ルール!LBM3","v":0},{"$f":"推定用途置換ルール!LBN3","v":0},{"$f":"推定用途置換ルール!LBO3","v":0},{"$f":"推定用途置換ルール!LBP3","v":0},{"$f":"推定用途置換ルール!LBQ3","v":0},{"$f":"推定用途置換ルール!LBR3","v":0},{"$f":"推定用途置換ルール!LBS3","v":0},{"$f":"推定用途置換ルール!LBT3","v":0},{"$f":"推定用途置換ルール!LBU3","v":0},{"$f":"推定用途置換ルール!LBV3","v":0},{"$f":"推定用途置換ルール!LBW3","v":0},{"$f":"推定用途置換ルール!LBX3","v":0},{"$f":"推定用途置換ルール!LBY3","v":0},{"$f":"推定用途置換ルール!LBZ3","v":0},{"$f":"推定用途置換ルール!LCA3","v":0},{"$f":"推定用途置換ルール!LCB3","v":0},{"$f":"推定用途置換ルール!LCC3","v":0},{"$f":"推定用途置換ルール!LCD3","v":0},{"$f":"推定用途置換ルール!LCE3","v":0},{"$f":"推定用途置換ルール!LCF3","v":0},{"$f":"推定用途置換ルール!LCG3","v":0},{"$f":"推定用途置換ルール!LCH3","v":0},{"$f":"推定用途置換ルール!LCI3","v":0},{"$f":"推定用途置換ルール!LCJ3","v":0},{"$f":"推定用途置換ルール!LCK3","v":0},{"$f":"推定用途置換ルール!LCL3","v":0},{"$f":"推定用途置換ルール!LCM3","v":0},{"$f":"推定用途置換ルール!LCN3","v":0},{"$f":"推定用途置換ルール!LCO3","v":0},{"$f":"推定用途置換ルール!LCP3","v":0},{"$f":"推定用途置換ルール!LCQ3","v":0},{"$f":"推定用途置換ルール!LCR3","v":0},{"$f":"推定用途置換ルール!LCS3","v":0},{"$f":"推定用途置換ルール!LCT3","v":0},{"$f":"推定用途置換ルール!LCU3","v":0},{"$f":"推定用途置換ルール!LCV3","v":0},{"$f":"推定用途置換ルール!LCW3","v":0},{"$f":"推定用途置換ルール!LCX3","v":0},{"$f":"推定用途置換ルール!LCY3","v":0},{"$f":"推定用途置換ルール!LCZ3","v":0},{"$f":"推定用途置換ルール!LDA3","v":0},{"$f":"推定用途置換ルール!LDB3","v":0},{"$f":"推定用途置換ルール!LDC3","v":0},{"$f":"推定用途置換ルール!LDD3","v":0},{"$f":"推定用途置換ルール!LDE3","v":0},{"$f":"推定用途置換ルール!LDF3","v":0},{"$f":"推定用途置換ルール!LDG3","v":0},{"$f":"推定用途置換ルール!LDH3","v":0},{"$f":"推定用途置換ルール!LDI3","v":0},{"$f":"推定用途置換ルール!LDJ3","v":0},{"$f":"推定用途置換ルール!LDK3","v":0},{"$f":"推定用途置換ルール!LDL3","v":0},{"$f":"推定用途置換ルール!LDM3","v":0},{"$f":"推定用途置換ルール!LDN3","v":0},{"$f":"推定用途置換ルール!LDO3","v":0},{"$f":"推定用途置換ルール!LDP3","v":0},{"$f":"推定用途置換ルール!LDQ3","v":0},{"$f":"推定用途置換ルール!LDR3","v":0},{"$f":"推定用途置換ルール!LDS3","v":0},{"$f":"推定用途置換ルール!LDT3","v":0},{"$f":"推定用途置換ルール!LDU3","v":0},{"$f":"推定用途置換ルール!LDV3","v":0},{"$f":"推定用途置換ルール!LDW3","v":0},{"$f":"推定用途置換ルール!LDX3","v":0},{"$f":"推定用途置換ルール!LDY3","v":0},{"$f":"推定用途置換ルール!LDZ3","v":0},{"$f":"推定用途置換ルール!LEA3","v":0},{"$f":"推定用途置換ルール!LEB3","v":0},{"$f":"推定用途置換ルール!LEC3","v":0},{"$f":"推定用途置換ルール!LED3","v":0},{"$f":"推定用途置換ルール!LEE3","v":0},{"$f":"推定用途置換ルール!LEF3","v":0},{"$f":"推定用途置換ルール!LEG3","v":0},{"$f":"推定用途置換ルール!LEH3","v":0},{"$f":"推定用途置換ルール!LEI3","v":0},{"$f":"推定用途置換ルール!LEJ3","v":0},{"$f":"推定用途置換ルール!LEK3","v":0},{"$f":"推定用途置換ルール!LEL3","v":0},{"$f":"推定用途置換ルール!LEM3","v":0},{"$f":"推定用途置換ルール!LEN3","v":0},{"$f":"推定用途置換ルール!LEO3","v":0},{"$f":"推定用途置換ルール!LEP3","v":0},{"$f":"推定用途置換ルール!LEQ3","v":0},{"$f":"推定用途置換ルール!LER3","v":0},{"$f":"推定用途置換ルール!LES3","v":0},{"$f":"推定用途置換ルール!LET3","v":0},{"$f":"推定用途置換ルール!LEU3","v":0},{"$f":"推定用途置換ルール!LEV3","v":0},{"$f":"推定用途置換ルール!LEW3","v":0},{"$f":"推定用途置換ルール!LEX3","v":0},{"$f":"推定用途置換ルール!LEY3","v":0},{"$f":"推定用途置換ルール!LEZ3","v":0},{"$f":"推定用途置換ルール!LFA3","v":0},{"$f":"推定用途置換ルール!LFB3","v":0},{"$f":"推定用途置換ルール!LFC3","v":0},{"$f":"推定用途置換ルール!LFD3","v":0},{"$f":"推定用途置換ルール!LFE3","v":0},{"$f":"推定用途置換ルール!LFF3","v":0},{"$f":"推定用途置換ルール!LFG3","v":0},{"$f":"推定用途置換ルール!LFH3","v":0},{"$f":"推定用途置換ルール!LFI3","v":0},{"$f":"推定用途置換ルール!LFJ3","v":0},{"$f":"推定用途置換ルール!LFK3","v":0},{"$f":"推定用途置換ルール!LFL3","v":0},{"$f":"推定用途置換ルール!LFM3","v":0},{"$f":"推定用途置換ルール!LFN3","v":0},{"$f":"推定用途置換ルール!LFO3","v":0},{"$f":"推定用途置換ルール!LFP3","v":0},{"$f":"推定用途置換ルール!LFQ3","v":0},{"$f":"推定用途置換ルール!LFR3","v":0},{"$f":"推定用途置換ルール!LFS3","v":0},{"$f":"推定用途置換ルール!LFT3","v":0},{"$f":"推定用途置換ルール!LFU3","v":0},{"$f":"推定用途置換ルール!LFV3","v":0},{"$f":"推定用途置換ルール!LFW3","v":0},{"$f":"推定用途置換ルール!LFX3","v":0},{"$f":"推定用途置換ルール!LFY3","v":0},{"$f":"推定用途置換ルール!LFZ3","v":0},{"$f":"推定用途置換ルール!LGA3","v":0},{"$f":"推定用途置換ルール!LGB3","v":0},{"$f":"推定用途置換ルール!LGC3","v":0},{"$f":"推定用途置換ルール!LGD3","v":0},{"$f":"推定用途置換ルール!LGE3","v":0},{"$f":"推定用途置換ルール!LGF3","v":0},{"$f":"推定用途置換ルール!LGG3","v":0},{"$f":"推定用途置換ルール!LGH3","v":0},{"$f":"推定用途置換ルール!LGI3","v":0},{"$f":"推定用途置換ルール!LGJ3","v":0},{"$f":"推定用途置換ルール!LGK3","v":0},{"$f":"推定用途置換ルール!LGL3","v":0},{"$f":"推定用途置換ルール!LGM3","v":0},{"$f":"推定用途置換ルール!LGN3","v":0},{"$f":"推定用途置換ルール!LGO3","v":0},{"$f":"推定用途置換ルール!LGP3","v":0},{"$f":"推定用途置換ルール!LGQ3","v":0},{"$f":"推定用途置換ルール!LGR3","v":0},{"$f":"推定用途置換ルール!LGS3","v":0},{"$f":"推定用途置換ルール!LGT3","v":0},{"$f":"推定用途置換ルール!LGU3","v":0},{"$f":"推定用途置換ルール!LGV3","v":0},{"$f":"推定用途置換ルール!LGW3","v":0},{"$f":"推定用途置換ルール!LGX3","v":0},{"$f":"推定用途置換ルール!LGY3","v":0},{"$f":"推定用途置換ルール!LGZ3","v":0},{"$f":"推定用途置換ルール!LHA3","v":0},{"$f":"推定用途置換ルール!LHB3","v":0},{"$f":"推定用途置換ルール!LHC3","v":0},{"$f":"推定用途置換ルール!LHD3","v":0},{"$f":"推定用途置換ルール!LHE3","v":0},{"$f":"推定用途置換ルール!LHF3","v":0},{"$f":"推定用途置換ルール!LHG3","v":0},{"$f":"推定用途置換ルール!LHH3","v":0},{"$f":"推定用途置換ルール!LHI3","v":0},{"$f":"推定用途置換ルール!LHJ3","v":0},{"$f":"推定用途置換ルール!LHK3","v":0},{"$f":"推定用途置換ルール!LHL3","v":0},{"$f":"推定用途置換ルール!LHM3","v":0},{"$f":"推定用途置換ルール!LHN3","v":0},{"$f":"推定用途置換ルール!LHO3","v":0},{"$f":"推定用途置換ルール!LHP3","v":0},{"$f":"推定用途置換ルール!LHQ3","v":0},{"$f":"推定用途置換ルール!LHR3","v":0},{"$f":"推定用途置換ルール!LHS3","v":0},{"$f":"推定用途置換ルール!LHT3","v":0},{"$f":"推定用途置換ルール!LHU3","v":0},{"$f":"推定用途置換ルール!LHV3","v":0},{"$f":"推定用途置換ルール!LHW3","v":0},{"$f":"推定用途置換ルール!LHX3","v":0},{"$f":"推定用途置換ルール!LHY3","v":0},{"$f":"推定用途置換ルール!LHZ3","v":0},{"$f":"推定用途置換ルール!LIA3","v":0},{"$f":"推定用途置換ルール!LIB3","v":0},{"$f":"推定用途置換ルール!LIC3","v":0},{"$f":"推定用途置換ルール!LID3","v":0},{"$f":"推定用途置換ルール!LIE3","v":0},{"$f":"推定用途置換ルール!LIF3","v":0},{"$f":"推定用途置換ルール!LIG3","v":0},{"$f":"推定用途置換ルール!LIH3","v":0},{"$f":"推定用途置換ルール!LII3","v":0},{"$f":"推定用途置換ルール!LIJ3","v":0},{"$f":"推定用途置換ルール!LIK3","v":0},{"$f":"推定用途置換ルール!LIL3","v":0},{"$f":"推定用途置換ルール!LIM3","v":0},{"$f":"推定用途置換ルール!LIN3","v":0},{"$f":"推定用途置換ルール!LIO3","v":0},{"$f":"推定用途置換ルール!LIP3","v":0},{"$f":"推定用途置換ルール!LIQ3","v":0},{"$f":"推定用途置換ルール!LIR3","v":0},{"$f":"推定用途置換ルール!LIS3","v":0},{"$f":"推定用途置換ルール!LIT3","v":0},{"$f":"推定用途置換ルール!LIU3","v":0},{"$f":"推定用途置換ルール!LIV3","v":0},{"$f":"推定用途置換ルール!LIW3","v":0},{"$f":"推定用途置換ルール!LIX3","v":0},{"$f":"推定用途置換ルール!LIY3","v":0},{"$f":"推定用途置換ルール!LIZ3","v":0},{"$f":"推定用途置換ルール!LJA3","v":0},{"$f":"推定用途置換ルール!LJB3","v":0},{"$f":"推定用途置換ルール!LJC3","v":0},{"$f":"推定用途置換ルール!LJD3","v":0},{"$f":"推定用途置換ルール!LJE3","v":0},{"$f":"推定用途置換ルール!LJF3","v":0},{"$f":"推定用途置換ルール!LJG3","v":0},{"$f":"推定用途置換ルール!LJH3","v":0},{"$f":"推定用途置換ルール!LJI3","v":0},{"$f":"推定用途置換ルール!LJJ3","v":0},{"$f":"推定用途置換ルール!LJK3","v":0},{"$f":"推定用途置換ルール!LJL3","v":0},{"$f":"推定用途置換ルール!LJM3","v":0},{"$f":"推定用途置換ルール!LJN3","v":0},{"$f":"推定用途置換ルール!LJO3","v":0},{"$f":"推定用途置換ルール!LJP3","v":0},{"$f":"推定用途置換ルール!LJQ3","v":0},{"$f":"推定用途置換ルール!LJR3","v":0},{"$f":"推定用途置換ルール!LJS3","v":0},{"$f":"推定用途置換ルール!LJT3","v":0},{"$f":"推定用途置換ルール!LJU3","v":0},{"$f":"推定用途置換ルール!LJV3","v":0},{"$f":"推定用途置換ルール!LJW3","v":0},{"$f":"推定用途置換ルール!LJX3","v":0},{"$f":"推定用途置換ルール!LJY3","v":0},{"$f":"推定用途置換ルール!LJZ3","v":0},{"$f":"推定用途置換ルール!LKA3","v":0},{"$f":"推定用途置換ルール!LKB3","v":0},{"$f":"推定用途置換ルール!LKC3","v":0},{"$f":"推定用途置換ルール!LKD3","v":0},{"$f":"推定用途置換ルール!LKE3","v":0},{"$f":"推定用途置換ルール!LKF3","v":0},{"$f":"推定用途置換ルール!LKG3","v":0},{"$f":"推定用途置換ルール!LKH3","v":0},{"$f":"推定用途置換ルール!LKI3","v":0},{"$f":"推定用途置換ルール!LKJ3","v":0},{"$f":"推定用途置換ルール!LKK3","v":0},{"$f":"推定用途置換ルール!LKL3","v":0},{"$f":"推定用途置換ルール!LKM3","v":0},{"$f":"推定用途置換ルール!LKN3","v":0},{"$f":"推定用途置換ルール!LKO3","v":0},{"$f":"推定用途置換ルール!LKP3","v":0},{"$f":"推定用途置換ルール!LKQ3","v":0},{"$f":"推定用途置換ルール!LKR3","v":0},{"$f":"推定用途置換ルール!LKS3","v":0},{"$f":"推定用途置換ルール!LKT3","v":0},{"$f":"推定用途置換ルール!LKU3","v":0},{"$f":"推定用途置換ルール!LKV3","v":0},{"$f":"推定用途置換ルール!LKW3","v":0},{"$f":"推定用途置換ルール!LKX3","v":0},{"$f":"推定用途置換ルール!LKY3","v":0},{"$f":"推定用途置換ルール!LKZ3","v":0},{"$f":"推定用途置換ルール!LLA3","v":0},{"$f":"推定用途置換ルール!LLB3","v":0},{"$f":"推定用途置換ルール!LLC3","v":0},{"$f":"推定用途置換ルール!LLD3","v":0},{"$f":"推定用途置換ルール!LLE3","v":0},{"$f":"推定用途置換ルール!LLF3","v":0},{"$f":"推定用途置換ルール!LLG3","v":0},{"$f":"推定用途置換ルール!LLH3","v":0},{"$f":"推定用途置換ルール!LLI3","v":0},{"$f":"推定用途置換ルール!LLJ3","v":0},{"$f":"推定用途置換ルール!LLK3","v":0},{"$f":"推定用途置換ルール!LLL3","v":0},{"$f":"推定用途置換ルール!LLM3","v":0},{"$f":"推定用途置換ルール!LLN3","v":0},{"$f":"推定用途置換ルール!LLO3","v":0},{"$f":"推定用途置換ルール!LLP3","v":0},{"$f":"推定用途置換ルール!LLQ3","v":0},{"$f":"推定用途置換ルール!LLR3","v":0},{"$f":"推定用途置換ルール!LLS3","v":0},{"$f":"推定用途置換ルール!LLT3","v":0},{"$f":"推定用途置換ルール!LLU3","v":0},{"$f":"推定用途置換ルール!LLV3","v":0},{"$f":"推定用途置換ルール!LLW3","v":0},{"$f":"推定用途置換ルール!LLX3","v":0},{"$f":"推定用途置換ルール!LLY3","v":0},{"$f":"推定用途置換ルール!LLZ3","v":0},{"$f":"推定用途置換ルール!LMA3","v":0},{"$f":"推定用途置換ルール!LMB3","v":0},{"$f":"推定用途置換ルール!LMC3","v":0},{"$f":"推定用途置換ルール!LMD3","v":0},{"$f":"推定用途置換ルール!LME3","v":0},{"$f":"推定用途置換ルール!LMF3","v":0},{"$f":"推定用途置換ルール!LMG3","v":0},{"$f":"推定用途置換ルール!LMH3","v":0},{"$f":"推定用途置換ルール!LMI3","v":0},{"$f":"推定用途置換ルール!LMJ3","v":0},{"$f":"推定用途置換ルール!LMK3","v":0},{"$f":"推定用途置換ルール!LML3","v":0},{"$f":"推定用途置換ルール!LMM3","v":0},{"$f":"推定用途置換ルール!LMN3","v":0},{"$f":"推定用途置換ルール!LMO3","v":0},{"$f":"推定用途置換ルール!LMP3","v":0},{"$f":"推定用途置換ルール!LMQ3","v":0},{"$f":"推定用途置換ルール!LMR3","v":0},{"$f":"推定用途置換ルール!LMS3","v":0},{"$f":"推定用途置換ルール!LMT3","v":0},{"$f":"推定用途置換ルール!LMU3","v":0},{"$f":"推定用途置換ルール!LMV3","v":0},{"$f":"推定用途置換ルール!LMW3","v":0},{"$f":"推定用途置換ルール!LMX3","v":0},{"$f":"推定用途置換ルール!LMY3","v":0},{"$f":"推定用途置換ルール!LMZ3","v":0},{"$f":"推定用途置換ルール!LNA3","v":0},{"$f":"推定用途置換ルール!LNB3","v":0},{"$f":"推定用途置換ルール!LNC3","v":0},{"$f":"推定用途置換ルール!LND3","v":0},{"$f":"推定用途置換ルール!LNE3","v":0},{"$f":"推定用途置換ルール!LNF3","v":0},{"$f":"推定用途置換ルール!LNG3","v":0},{"$f":"推定用途置換ルール!LNH3","v":0},{"$f":"推定用途置換ルール!LNI3","v":0},{"$f":"推定用途置換ルール!LNJ3","v":0},{"$f":"推定用途置換ルール!LNK3","v":0},{"$f":"推定用途置換ルール!LNL3","v":0},{"$f":"推定用途置換ルール!LNM3","v":0},{"$f":"推定用途置換ルール!LNN3","v":0},{"$f":"推定用途置換ルール!LNO3","v":0},{"$f":"推定用途置換ルール!LNP3","v":0},{"$f":"推定用途置換ルール!LNQ3","v":0},{"$f":"推定用途置換ルール!LNR3","v":0},{"$f":"推定用途置換ルール!LNS3","v":0},{"$f":"推定用途置換ルール!LNT3","v":0},{"$f":"推定用途置換ルール!LNU3","v":0},{"$f":"推定用途置換ルール!LNV3","v":0},{"$f":"推定用途置換ルール!LNW3","v":0},{"$f":"推定用途置換ルール!LNX3","v":0},{"$f":"推定用途置換ルール!LNY3","v":0},{"$f":"推定用途置換ルール!LNZ3","v":0},{"$f":"推定用途置換ルール!LOA3","v":0},{"$f":"推定用途置換ルール!LOB3","v":0},{"$f":"推定用途置換ルール!LOC3","v":0},{"$f":"推定用途置換ルール!LOD3","v":0},{"$f":"推定用途置換ルール!LOE3","v":0},{"$f":"推定用途置換ルール!LOF3","v":0},{"$f":"推定用途置換ルール!LOG3","v":0},{"$f":"推定用途置換ルール!LOH3","v":0},{"$f":"推定用途置換ルール!LOI3","v":0},{"$f":"推定用途置換ルール!LOJ3","v":0},{"$f":"推定用途置換ルール!LOK3","v":0},{"$f":"推定用途置換ルール!LOL3","v":0},{"$f":"推定用途置換ルール!LOM3","v":0},{"$f":"推定用途置換ルール!LON3","v":0},{"$f":"推定用途置換ルール!LOO3","v":0},{"$f":"推定用途置換ルール!LOP3","v":0},{"$f":"推定用途置換ルール!LOQ3","v":0},{"$f":"推定用途置換ルール!LOR3","v":0},{"$f":"推定用途置換ルール!LOS3","v":0},{"$f":"推定用途置換ルール!LOT3","v":0},{"$f":"推定用途置換ルール!LOU3","v":0},{"$f":"推定用途置換ルール!LOV3","v":0},{"$f":"推定用途置換ルール!LOW3","v":0},{"$f":"推定用途置換ルール!LOX3","v":0},{"$f":"推定用途置換ルール!LOY3","v":0},{"$f":"推定用途置換ルール!LOZ3","v":0},{"$f":"推定用途置換ルール!LPA3","v":0},{"$f":"推定用途置換ルール!LPB3","v":0},{"$f":"推定用途置換ルール!LPC3","v":0},{"$f":"推定用途置換ルール!LPD3","v":0},{"$f":"推定用途置換ルール!LPE3","v":0},{"$f":"推定用途置換ルール!LPF3","v":0},{"$f":"推定用途置換ルール!LPG3","v":0},{"$f":"推定用途置換ルール!LPH3","v":0},{"$f":"推定用途置換ルール!LPI3","v":0},{"$f":"推定用途置換ルール!LPJ3","v":0},{"$f":"推定用途置換ルール!LPK3","v":0},{"$f":"推定用途置換ルール!LPL3","v":0},{"$f":"推定用途置換ルール!LPM3","v":0},{"$f":"推定用途置換ルール!LPN3","v":0},{"$f":"推定用途置換ルール!LPO3","v":0},{"$f":"推定用途置換ルール!LPP3","v":0},{"$f":"推定用途置換ルール!LPQ3","v":0},{"$f":"推定用途置換ルール!LPR3","v":0},{"$f":"推定用途置換ルール!LPS3","v":0},{"$f":"推定用途置換ルール!LPT3","v":0},{"$f":"推定用途置換ルール!LPU3","v":0},{"$f":"推定用途置換ルール!LPV3","v":0},{"$f":"推定用途置換ルール!LPW3","v":0},{"$f":"推定用途置換ルール!LPX3","v":0},{"$f":"推定用途置換ルール!LPY3","v":0},{"$f":"推定用途置換ルール!LPZ3","v":0},{"$f":"推定用途置換ルール!LQA3","v":0},{"$f":"推定用途置換ルール!LQB3","v":0},{"$f":"推定用途置換ルール!LQC3","v":0},{"$f":"推定用途置換ルール!LQD3","v":0},{"$f":"推定用途置換ルール!LQE3","v":0},{"$f":"推定用途置換ルール!LQF3","v":0},{"$f":"推定用途置換ルール!LQG3","v":0},{"$f":"推定用途置換ルール!LQH3","v":0},{"$f":"推定用途置換ルール!LQI3","v":0},{"$f":"推定用途置換ルール!LQJ3","v":0},{"$f":"推定用途置換ルール!LQK3","v":0},{"$f":"推定用途置換ルール!LQL3","v":0},{"$f":"推定用途置換ルール!LQM3","v":0},{"$f":"推定用途置換ルール!LQN3","v":0},{"$f":"推定用途置換ルール!LQO3","v":0},{"$f":"推定用途置換ルール!LQP3","v":0},{"$f":"推定用途置換ルール!LQQ3","v":0},{"$f":"推定用途置換ルール!LQR3","v":0},{"$f":"推定用途置換ルール!LQS3","v":0},{"$f":"推定用途置換ルール!LQT3","v":0},{"$f":"推定用途置換ルール!LQU3","v":0},{"$f":"推定用途置換ルール!LQV3","v":0},{"$f":"推定用途置換ルール!LQW3","v":0},{"$f":"推定用途置換ルール!LQX3","v":0},{"$f":"推定用途置換ルール!LQY3","v":0},{"$f":"推定用途置換ルール!LQZ3","v":0},{"$f":"推定用途置換ルール!LRA3","v":0},{"$f":"推定用途置換ルール!LRB3","v":0},{"$f":"推定用途置換ルール!LRC3","v":0},{"$f":"推定用途置換ルール!LRD3","v":0},{"$f":"推定用途置換ルール!LRE3","v":0},{"$f":"推定用途置換ルール!LRF3","v":0},{"$f":"推定用途置換ルール!LRG3","v":0},{"$f":"推定用途置換ルール!LRH3","v":0},{"$f":"推定用途置換ルール!LRI3","v":0},{"$f":"推定用途置換ルール!LRJ3","v":0},{"$f":"推定用途置換ルール!LRK3","v":0},{"$f":"推定用途置換ルール!LRL3","v":0},{"$f":"推定用途置換ルール!LRM3","v":0},{"$f":"推定用途置換ルール!LRN3","v":0},{"$f":"推定用途置換ルール!LRO3","v":0},{"$f":"推定用途置換ルール!LRP3","v":0},{"$f":"推定用途置換ルール!LRQ3","v":0},{"$f":"推定用途置換ルール!LRR3","v":0},{"$f":"推定用途置換ルール!LRS3","v":0},{"$f":"推定用途置換ルール!LRT3","v":0},{"$f":"推定用途置換ルール!LRU3","v":0},{"$f":"推定用途置換ルール!LRV3","v":0},{"$f":"推定用途置換ルール!LRW3","v":0},{"$f":"推定用途置換ルール!LRX3","v":0},{"$f":"推定用途置換ルール!LRY3","v":0},{"$f":"推定用途置換ルール!LRZ3","v":0},{"$f":"推定用途置換ルール!LSA3","v":0},{"$f":"推定用途置換ルール!LSB3","v":0},{"$f":"推定用途置換ルール!LSC3","v":0},{"$f":"推定用途置換ルール!LSD3","v":0},{"$f":"推定用途置換ルール!LSE3","v":0},{"$f":"推定用途置換ルール!LSF3","v":0},{"$f":"推定用途置換ルール!LSG3","v":0},{"$f":"推定用途置換ルール!LSH3","v":0},{"$f":"推定用途置換ルール!LSI3","v":0},{"$f":"推定用途置換ルール!LSJ3","v":0},{"$f":"推定用途置換ルール!LSK3","v":0},{"$f":"推定用途置換ルール!LSL3","v":0},{"$f":"推定用途置換ルール!LSM3","v":0},{"$f":"推定用途置換ルール!LSN3","v":0},{"$f":"推定用途置換ルール!LSO3","v":0},{"$f":"推定用途置換ルール!LSP3","v":0},{"$f":"推定用途置換ルール!LSQ3","v":0},{"$f":"推定用途置換ルール!LSR3","v":0},{"$f":"推定用途置換ルール!LSS3","v":0},{"$f":"推定用途置換ルール!LST3","v":0},{"$f":"推定用途置換ルール!LSU3","v":0},{"$f":"推定用途置換ルール!LSV3","v":0},{"$f":"推定用途置換ルール!LSW3","v":0},{"$f":"推定用途置換ルール!LSX3","v":0},{"$f":"推定用途置換ルール!LSY3","v":0},{"$f":"推定用途置換ルール!LSZ3","v":0},{"$f":"推定用途置換ルール!LTA3","v":0},{"$f":"推定用途置換ルール!LTB3","v":0},{"$f":"推定用途置換ルール!LTC3","v":0},{"$f":"推定用途置換ルール!LTD3","v":0},{"$f":"推定用途置換ルール!LTE3","v":0},{"$f":"推定用途置換ルール!LTF3","v":0},{"$f":"推定用途置換ルール!LTG3","v":0},{"$f":"推定用途置換ルール!LTH3","v":0},{"$f":"推定用途置換ルール!LTI3","v":0},{"$f":"推定用途置換ルール!LTJ3","v":0},{"$f":"推定用途置換ルール!LTK3","v":0},{"$f":"推定用途置換ルール!LTL3","v":0},{"$f":"推定用途置換ルール!LTM3","v":0},{"$f":"推定用途置換ルール!LTN3","v":0},{"$f":"推定用途置換ルール!LTO3","v":0},{"$f":"推定用途置換ルール!LTP3","v":0},{"$f":"推定用途置換ルール!LTQ3","v":0},{"$f":"推定用途置換ルール!LTR3","v":0},{"$f":"推定用途置換ルール!LTS3","v":0},{"$f":"推定用途置換ルール!LTT3","v":0},{"$f":"推定用途置換ルール!LTU3","v":0},{"$f":"推定用途置換ルール!LTV3","v":0},{"$f":"推定用途置換ルール!LTW3","v":0},{"$f":"推定用途置換ルール!LTX3","v":0},{"$f":"推定用途置換ルール!LTY3","v":0},{"$f":"推定用途置換ルール!LTZ3","v":0},{"$f":"推定用途置換ルール!LUA3","v":0},{"$f":"推定用途置換ルール!LUB3","v":0},{"$f":"推定用途置換ルール!LUC3","v":0},{"$f":"推定用途置換ルール!LUD3","v":0},{"$f":"推定用途置換ルール!LUE3","v":0},{"$f":"推定用途置換ルール!LUF3","v":0},{"$f":"推定用途置換ルール!LUG3","v":0},{"$f":"推定用途置換ルール!LUH3","v":0},{"$f":"推定用途置換ルール!LUI3","v":0},{"$f":"推定用途置換ルール!LUJ3","v":0},{"$f":"推定用途置換ルール!LUK3","v":0},{"$f":"推定用途置換ルール!LUL3","v":0},{"$f":"推定用途置換ルール!LUM3","v":0},{"$f":"推定用途置換ルール!LUN3","v":0},{"$f":"推定用途置換ルール!LUO3","v":0},{"$f":"推定用途置換ルール!LUP3","v":0},{"$f":"推定用途置換ルール!LUQ3","v":0},{"$f":"推定用途置換ルール!LUR3","v":0},{"$f":"推定用途置換ルール!LUS3","v":0},{"$f":"推定用途置換ルール!LUT3","v":0},{"$f":"推定用途置換ルール!LUU3","v":0},{"$f":"推定用途置換ルール!LUV3","v":0},{"$f":"推定用途置換ルール!LUW3","v":0},{"$f":"推定用途置換ルール!LUX3","v":0},{"$f":"推定用途置換ルール!LUY3","v":0},{"$f":"推定用途置換ルール!LUZ3","v":0},{"$f":"推定用途置換ルール!LVA3","v":0},{"$f":"推定用途置換ルール!LVB3","v":0},{"$f":"推定用途置換ルール!LVC3","v":0},{"$f":"推定用途置換ルール!LVD3","v":0},{"$f":"推定用途置換ルール!LVE3","v":0},{"$f":"推定用途置換ルール!LVF3","v":0},{"$f":"推定用途置換ルール!LVG3","v":0},{"$f":"推定用途置換ルール!LVH3","v":0},{"$f":"推定用途置換ルール!LVI3","v":0},{"$f":"推定用途置換ルール!LVJ3","v":0},{"$f":"推定用途置換ルール!LVK3","v":0},{"$f":"推定用途置換ルール!LVL3","v":0},{"$f":"推定用途置換ルール!LVM3","v":0},{"$f":"推定用途置換ルール!LVN3","v":0},{"$f":"推定用途置換ルール!LVO3","v":0},{"$f":"推定用途置換ルール!LVP3","v":0},{"$f":"推定用途置換ルール!LVQ3","v":0},{"$f":"推定用途置換ルール!LVR3","v":0},{"$f":"推定用途置換ルール!LVS3","v":0},{"$f":"推定用途置換ルール!LVT3","v":0},{"$f":"推定用途置換ルール!LVU3","v":0},{"$f":"推定用途置換ルール!LVV3","v":0},{"$f":"推定用途置換ルール!LVW3","v":0},{"$f":"推定用途置換ルール!LVX3","v":0},{"$f":"推定用途置換ルール!LVY3","v":0},{"$f":"推定用途置換ルール!LVZ3","v":0},{"$f":"推定用途置換ルール!LWA3","v":0},{"$f":"推定用途置換ルール!LWB3","v":0},{"$f":"推定用途置換ルール!LWC3","v":0},{"$f":"推定用途置換ルール!LWD3","v":0},{"$f":"推定用途置換ルール!LWE3","v":0},{"$f":"推定用途置換ルール!LWF3","v":0},{"$f":"推定用途置換ルール!LWG3","v":0},{"$f":"推定用途置換ルール!LWH3","v":0},{"$f":"推定用途置換ルール!LWI3","v":0},{"$f":"推定用途置換ルール!LWJ3","v":0},{"$f":"推定用途置換ルール!LWK3","v":0},{"$f":"推定用途置換ルール!LWL3","v":0},{"$f":"推定用途置換ルール!LWM3","v":0},{"$f":"推定用途置換ルール!LWN3","v":0},{"$f":"推定用途置換ルール!LWO3","v":0},{"$f":"推定用途置換ルール!LWP3","v":0},{"$f":"推定用途置換ルール!LWQ3","v":0},{"$f":"推定用途置換ルール!LWR3","v":0},{"$f":"推定用途置換ルール!LWS3","v":0},{"$f":"推定用途置換ルール!LWT3","v":0},{"$f":"推定用途置換ルール!LWU3","v":0},{"$f":"推定用途置換ルール!LWV3","v":0},{"$f":"推定用途置換ルール!LWW3","v":0},{"$f":"推定用途置換ルール!LWX3","v":0},{"$f":"推定用途置換ルール!LWY3","v":0},{"$f":"推定用途置換ルール!LWZ3","v":0},{"$f":"推定用途置換ルール!LXA3","v":0},{"$f":"推定用途置換ルール!LXB3","v":0},{"$f":"推定用途置換ルール!LXC3","v":0},{"$f":"推定用途置換ルール!LXD3","v":0},{"$f":"推定用途置換ルール!LXE3","v":0},{"$f":"推定用途置換ルール!LXF3","v":0},{"$f":"推定用途置換ルール!LXG3","v":0},{"$f":"推定用途置換ルール!LXH3","v":0},{"$f":"推定用途置換ルール!LXI3","v":0},{"$f":"推定用途置換ルール!LXJ3","v":0},{"$f":"推定用途置換ルール!LXK3","v":0},{"$f":"推定用途置換ルール!LXL3","v":0},{"$f":"推定用途置換ルール!LXM3","v":0},{"$f":"推定用途置換ルール!LXN3","v":0},{"$f":"推定用途置換ルール!LXO3","v":0},{"$f":"推定用途置換ルール!LXP3","v":0},{"$f":"推定用途置換ルール!LXQ3","v":0},{"$f":"推定用途置換ルール!LXR3","v":0},{"$f":"推定用途置換ルール!LXS3","v":0},{"$f":"推定用途置換ルール!LXT3","v":0},{"$f":"推定用途置換ルール!LXU3","v":0},{"$f":"推定用途置換ルール!LXV3","v":0},{"$f":"推定用途置換ルール!LXW3","v":0},{"$f":"推定用途置換ルール!LXX3","v":0},{"$f":"推定用途置換ルール!LXY3","v":0},{"$f":"推定用途置換ルール!LXZ3","v":0},{"$f":"推定用途置換ルール!LYA3","v":0},{"$f":"推定用途置換ルール!LYB3","v":0},{"$f":"推定用途置換ルール!LYC3","v":0},{"$f":"推定用途置換ルール!LYD3","v":0},{"$f":"推定用途置換ルール!LYE3","v":0},{"$f":"推定用途置換ルール!LYF3","v":0},{"$f":"推定用途置換ルール!LYG3","v":0},{"$f":"推定用途置換ルール!LYH3","v":0},{"$f":"推定用途置換ルール!LYI3","v":0},{"$f":"推定用途置換ルール!LYJ3","v":0},{"$f":"推定用途置換ルール!LYK3","v":0},{"$f":"推定用途置換ルール!LYL3","v":0},{"$f":"推定用途置換ルール!LYM3","v":0},{"$f":"推定用途置換ルール!LYN3","v":0},{"$f":"推定用途置換ルール!LYO3","v":0},{"$f":"推定用途置換ルール!LYP3","v":0},{"$f":"推定用途置換ルール!LYQ3","v":0},{"$f":"推定用途置換ルール!LYR3","v":0},{"$f":"推定用途置換ルール!LYS3","v":0},{"$f":"推定用途置換ルール!LYT3","v":0},{"$f":"推定用途置換ルール!LYU3","v":0},{"$f":"推定用途置換ルール!LYV3","v":0},{"$f":"推定用途置換ルール!LYW3","v":0},{"$f":"推定用途置換ルール!LYX3","v":0},{"$f":"推定用途置換ルール!LYY3","v":0},{"$f":"推定用途置換ルール!LYZ3","v":0},{"$f":"推定用途置換ルール!LZA3","v":0},{"$f":"推定用途置換ルール!LZB3","v":0},{"$f":"推定用途置換ルール!LZC3","v":0},{"$f":"推定用途置換ルール!LZD3","v":0},{"$f":"推定用途置換ルール!LZE3","v":0},{"$f":"推定用途置換ルール!LZF3","v":0},{"$f":"推定用途置換ルール!LZG3","v":0},{"$f":"推定用途置換ルール!LZH3","v":0},{"$f":"推定用途置換ルール!LZI3","v":0},{"$f":"推定用途置換ルール!LZJ3","v":0},{"$f":"推定用途置換ルール!LZK3","v":0},{"$f":"推定用途置換ルール!LZL3","v":0},{"$f":"推定用途置換ルール!LZM3","v":0},{"$f":"推定用途置換ルール!LZN3","v":0},{"$f":"推定用途置換ルール!LZO3","v":0},{"$f":"推定用途置換ルール!LZP3","v":0},{"$f":"推定用途置換ルール!LZQ3","v":0},{"$f":"推定用途置換ルール!LZR3","v":0},{"$f":"推定用途置換ルール!LZS3","v":0},{"$f":"推定用途置換ルール!LZT3","v":0},{"$f":"推定用途置換ルール!LZU3","v":0},{"$f":"推定用途置換ルール!LZV3","v":0},{"$f":"推定用途置換ルール!LZW3","v":0},{"$f":"推定用途置換ルール!LZX3","v":0},{"$f":"推定用途置換ルール!LZY3","v":0},{"$f":"推定用途置換ルール!LZZ3","v":0},{"$f":"推定用途置換ルール!MAA3","v":0},{"$f":"推定用途置換ルール!MAB3","v":0},{"$f":"推定用途置換ルール!MAC3","v":0},{"$f":"推定用途置換ルール!MAD3","v":0},{"$f":"推定用途置換ルール!MAE3","v":0},{"$f":"推定用途置換ルール!MAF3","v":0},{"$f":"推定用途置換ルール!MAG3","v":0},{"$f":"推定用途置換ルール!MAH3","v":0},{"$f":"推定用途置換ルール!MAI3","v":0},{"$f":"推定用途置換ルール!MAJ3","v":0},{"$f":"推定用途置換ルール!MAK3","v":0},{"$f":"推定用途置換ルール!MAL3","v":0},{"$f":"推定用途置換ルール!MAM3","v":0},{"$f":"推定用途置換ルール!MAN3","v":0},{"$f":"推定用途置換ルール!MAO3","v":0},{"$f":"推定用途置換ルール!MAP3","v":0},{"$f":"推定用途置換ルール!MAQ3","v":0},{"$f":"推定用途置換ルール!MAR3","v":0},{"$f":"推定用途置換ルール!MAS3","v":0},{"$f":"推定用途置換ルール!MAT3","v":0},{"$f":"推定用途置換ルール!MAU3","v":0},{"$f":"推定用途置換ルール!MAV3","v":0},{"$f":"推定用途置換ルール!MAW3","v":0},{"$f":"推定用途置換ルール!MAX3","v":0},{"$f":"推定用途置換ルール!MAY3","v":0},{"$f":"推定用途置換ルール!MAZ3","v":0},{"$f":"推定用途置換ルール!MBA3","v":0},{"$f":"推定用途置換ルール!MBB3","v":0},{"$f":"推定用途置換ルール!MBC3","v":0},{"$f":"推定用途置換ルール!MBD3","v":0},{"$f":"推定用途置換ルール!MBE3","v":0},{"$f":"推定用途置換ルール!MBF3","v":0},{"$f":"推定用途置換ルール!MBG3","v":0},{"$f":"推定用途置換ルール!MBH3","v":0},{"$f":"推定用途置換ルール!MBI3","v":0},{"$f":"推定用途置換ルール!MBJ3","v":0},{"$f":"推定用途置換ルール!MBK3","v":0},{"$f":"推定用途置換ルール!MBL3","v":0},{"$f":"推定用途置換ルール!MBM3","v":0},{"$f":"推定用途置換ルール!MBN3","v":0},{"$f":"推定用途置換ルール!MBO3","v":0},{"$f":"推定用途置換ルール!MBP3","v":0},{"$f":"推定用途置換ルール!MBQ3","v":0},{"$f":"推定用途置換ルール!MBR3","v":0},{"$f":"推定用途置換ルール!MBS3","v":0},{"$f":"推定用途置換ルール!MBT3","v":0},{"$f":"推定用途置換ルール!MBU3","v":0},{"$f":"推定用途置換ルール!MBV3","v":0},{"$f":"推定用途置換ルール!MBW3","v":0},{"$f":"推定用途置換ルール!MBX3","v":0},{"$f":"推定用途置換ルール!MBY3","v":0},{"$f":"推定用途置換ルール!MBZ3","v":0},{"$f":"推定用途置換ルール!MCA3","v":0},{"$f":"推定用途置換ルール!MCB3","v":0},{"$f":"推定用途置換ルール!MCC3","v":0},{"$f":"推定用途置換ルール!MCD3","v":0},{"$f":"推定用途置換ルール!MCE3","v":0},{"$f":"推定用途置換ルール!MCF3","v":0},{"$f":"推定用途置換ルール!MCG3","v":0},{"$f":"推定用途置換ルール!MCH3","v":0},{"$f":"推定用途置換ルール!MCI3","v":0},{"$f":"推定用途置換ルール!MCJ3","v":0},{"$f":"推定用途置換ルール!MCK3","v":0},{"$f":"推定用途置換ルール!MCL3","v":0},{"$f":"推定用途置換ルール!MCM3","v":0},{"$f":"推定用途置換ルール!MCN3","v":0},{"$f":"推定用途置換ルール!MCO3","v":0},{"$f":"推定用途置換ルール!MCP3","v":0},{"$f":"推定用途置換ルール!MCQ3","v":0},{"$f":"推定用途置換ルール!MCR3","v":0},{"$f":"推定用途置換ルール!MCS3","v":0},{"$f":"推定用途置換ルール!MCT3","v":0},{"$f":"推定用途置換ルール!MCU3","v":0},{"$f":"推定用途置換ルール!MCV3","v":0},{"$f":"推定用途置換ルール!MCW3","v":0},{"$f":"推定用途置換ルール!MCX3","v":0},{"$f":"推定用途置換ルール!MCY3","v":0},{"$f":"推定用途置換ルール!MCZ3","v":0},{"$f":"推定用途置換ルール!MDA3","v":0},{"$f":"推定用途置換ルール!MDB3","v":0},{"$f":"推定用途置換ルール!MDC3","v":0},{"$f":"推定用途置換ルール!MDD3","v":0},{"$f":"推定用途置換ルール!MDE3","v":0},{"$f":"推定用途置換ルール!MDF3","v":0},{"$f":"推定用途置換ルール!MDG3","v":0},{"$f":"推定用途置換ルール!MDH3","v":0},{"$f":"推定用途置換ルール!MDI3","v":0},{"$f":"推定用途置換ルール!MDJ3","v":0},{"$f":"推定用途置換ルール!MDK3","v":0},{"$f":"推定用途置換ルール!MDL3","v":0},{"$f":"推定用途置換ルール!MDM3","v":0},{"$f":"推定用途置換ルール!MDN3","v":0},{"$f":"推定用途置換ルール!MDO3","v":0},{"$f":"推定用途置換ルール!MDP3","v":0},{"$f":"推定用途置換ルール!MDQ3","v":0},{"$f":"推定用途置換ルール!MDR3","v":0},{"$f":"推定用途置換ルール!MDS3","v":0},{"$f":"推定用途置換ルール!MDT3","v":0},{"$f":"推定用途置換ルール!MDU3","v":0},{"$f":"推定用途置換ルール!MDV3","v":0},{"$f":"推定用途置換ルール!MDW3","v":0},{"$f":"推定用途置換ルール!MDX3","v":0},{"$f":"推定用途置換ルール!MDY3","v":0},{"$f":"推定用途置換ルール!MDZ3","v":0},{"$f":"推定用途置換ルール!MEA3","v":0},{"$f":"推定用途置換ルール!MEB3","v":0},{"$f":"推定用途置換ルール!MEC3","v":0},{"$f":"推定用途置換ルール!MED3","v":0},{"$f":"推定用途置換ルール!MEE3","v":0},{"$f":"推定用途置換ルール!MEF3","v":0},{"$f":"推定用途置換ルール!MEG3","v":0},{"$f":"推定用途置換ルール!MEH3","v":0},{"$f":"推定用途置換ルール!MEI3","v":0},{"$f":"推定用途置換ルール!MEJ3","v":0},{"$f":"推定用途置換ルール!MEK3","v":0},{"$f":"推定用途置換ルール!MEL3","v":0},{"$f":"推定用途置換ルール!MEM3","v":0},{"$f":"推定用途置換ルール!MEN3","v":0},{"$f":"推定用途置換ルール!MEO3","v":0},{"$f":"推定用途置換ルール!MEP3","v":0},{"$f":"推定用途置換ルール!MEQ3","v":0},{"$f":"推定用途置換ルール!MER3","v":0},{"$f":"推定用途置換ルール!MES3","v":0},{"$f":"推定用途置換ルール!MET3","v":0},{"$f":"推定用途置換ルール!MEU3","v":0},{"$f":"推定用途置換ルール!MEV3","v":0},{"$f":"推定用途置換ルール!MEW3","v":0},{"$f":"推定用途置換ルール!MEX3","v":0},{"$f":"推定用途置換ルール!MEY3","v":0},{"$f":"推定用途置換ルール!MEZ3","v":0},{"$f":"推定用途置換ルール!MFA3","v":0},{"$f":"推定用途置換ルール!MFB3","v":0},{"$f":"推定用途置換ルール!MFC3","v":0},{"$f":"推定用途置換ルール!MFD3","v":0},{"$f":"推定用途置換ルール!MFE3","v":0},{"$f":"推定用途置換ルール!MFF3","v":0},{"$f":"推定用途置換ルール!MFG3","v":0},{"$f":"推定用途置換ルール!MFH3","v":0},{"$f":"推定用途置換ルール!MFI3","v":0},{"$f":"推定用途置換ルール!MFJ3","v":0},{"$f":"推定用途置換ルール!MFK3","v":0},{"$f":"推定用途置換ルール!MFL3","v":0},{"$f":"推定用途置換ルール!MFM3","v":0},{"$f":"推定用途置換ルール!MFN3","v":0},{"$f":"推定用途置換ルール!MFO3","v":0},{"$f":"推定用途置換ルール!MFP3","v":0},{"$f":"推定用途置換ルール!MFQ3","v":0},{"$f":"推定用途置換ルール!MFR3","v":0},{"$f":"推定用途置換ルール!MFS3","v":0},{"$f":"推定用途置換ルール!MFT3","v":0},{"$f":"推定用途置換ルール!MFU3","v":0},{"$f":"推定用途置換ルール!MFV3","v":0},{"$f":"推定用途置換ルール!MFW3","v":0},{"$f":"推定用途置換ルール!MFX3","v":0},{"$f":"推定用途置換ルール!MFY3","v":0},{"$f":"推定用途置換ルール!MFZ3","v":0},{"$f":"推定用途置換ルール!MGA3","v":0},{"$f":"推定用途置換ルール!MGB3","v":0},{"$f":"推定用途置換ルール!MGC3","v":0},{"$f":"推定用途置換ルール!MGD3","v":0},{"$f":"推定用途置換ルール!MGE3","v":0},{"$f":"推定用途置換ルール!MGF3","v":0},{"$f":"推定用途置換ルール!MGG3","v":0},{"$f":"推定用途置換ルール!MGH3","v":0},{"$f":"推定用途置換ルール!MGI3","v":0},{"$f":"推定用途置換ルール!MGJ3","v":0},{"$f":"推定用途置換ルール!MGK3","v":0},{"$f":"推定用途置換ルール!MGL3","v":0},{"$f":"推定用途置換ルール!MGM3","v":0},{"$f":"推定用途置換ルール!MGN3","v":0},{"$f":"推定用途置換ルール!MGO3","v":0},{"$f":"推定用途置換ルール!MGP3","v":0},{"$f":"推定用途置換ルール!MGQ3","v":0},{"$f":"推定用途置換ルール!MGR3","v":0},{"$f":"推定用途置換ルール!MGS3","v":0},{"$f":"推定用途置換ルール!MGT3","v":0},{"$f":"推定用途置換ルール!MGU3","v":0},{"$f":"推定用途置換ルール!MGV3","v":0},{"$f":"推定用途置換ルール!MGW3","v":0},{"$f":"推定用途置換ルール!MGX3","v":0},{"$f":"推定用途置換ルール!MGY3","v":0},{"$f":"推定用途置換ルール!MGZ3","v":0},{"$f":"推定用途置換ルール!MHA3","v":0},{"$f":"推定用途置換ルール!MHB3","v":0},{"$f":"推定用途置換ルール!MHC3","v":0},{"$f":"推定用途置換ルール!MHD3","v":0},{"$f":"推定用途置換ルール!MHE3","v":0},{"$f":"推定用途置換ルール!MHF3","v":0},{"$f":"推定用途置換ルール!MHG3","v":0},{"$f":"推定用途置換ルール!MHH3","v":0},{"$f":"推定用途置換ルール!MHI3","v":0},{"$f":"推定用途置換ルール!MHJ3","v":0},{"$f":"推定用途置換ルール!MHK3","v":0},{"$f":"推定用途置換ルール!MHL3","v":0},{"$f":"推定用途置換ルール!MHM3","v":0},{"$f":"推定用途置換ルール!MHN3","v":0},{"$f":"推定用途置換ルール!MHO3","v":0},{"$f":"推定用途置換ルール!MHP3","v":0},{"$f":"推定用途置換ルール!MHQ3","v":0},{"$f":"推定用途置換ルール!MHR3","v":0},{"$f":"推定用途置換ルール!MHS3","v":0},{"$f":"推定用途置換ルール!MHT3","v":0},{"$f":"推定用途置換ルール!MHU3","v":0},{"$f":"推定用途置換ルール!MHV3","v":0},{"$f":"推定用途置換ルール!MHW3","v":0},{"$f":"推定用途置換ルール!MHX3","v":0},{"$f":"推定用途置換ルール!MHY3","v":0},{"$f":"推定用途置換ルール!MHZ3","v":0},{"$f":"推定用途置換ルール!MIA3","v":0},{"$f":"推定用途置換ルール!MIB3","v":0},{"$f":"推定用途置換ルール!MIC3","v":0},{"$f":"推定用途置換ルール!MID3","v":0},{"$f":"推定用途置換ルール!MIE3","v":0},{"$f":"推定用途置換ルール!MIF3","v":0},{"$f":"推定用途置換ルール!MIG3","v":0},{"$f":"推定用途置換ルール!MIH3","v":0},{"$f":"推定用途置換ルール!MII3","v":0},{"$f":"推定用途置換ルール!MIJ3","v":0},{"$f":"推定用途置換ルール!MIK3","v":0},{"$f":"推定用途置換ルール!MIL3","v":0},{"$f":"推定用途置換ルール!MIM3","v":0},{"$f":"推定用途置換ルール!MIN3","v":0},{"$f":"推定用途置換ルール!MIO3","v":0},{"$f":"推定用途置換ルール!MIP3","v":0},{"$f":"推定用途置換ルール!MIQ3","v":0},{"$f":"推定用途置換ルール!MIR3","v":0},{"$f":"推定用途置換ルール!MIS3","v":0},{"$f":"推定用途置換ルール!MIT3","v":0},{"$f":"推定用途置換ルール!MIU3","v":0},{"$f":"推定用途置換ルール!MIV3","v":0},{"$f":"推定用途置換ルール!MIW3","v":0},{"$f":"推定用途置換ルール!MIX3","v":0},{"$f":"推定用途置換ルール!MIY3","v":0},{"$f":"推定用途置換ルール!MIZ3","v":0},{"$f":"推定用途置換ルール!MJA3","v":0},{"$f":"推定用途置換ルール!MJB3","v":0},{"$f":"推定用途置換ルール!MJC3","v":0},{"$f":"推定用途置換ルール!MJD3","v":0},{"$f":"推定用途置換ルール!MJE3","v":0},{"$f":"推定用途置換ルール!MJF3","v":0},{"$f":"推定用途置換ルール!MJG3","v":0},{"$f":"推定用途置換ルール!MJH3","v":0},{"$f":"推定用途置換ルール!MJI3","v":0},{"$f":"推定用途置換ルール!MJJ3","v":0},{"$f":"推定用途置換ルール!MJK3","v":0},{"$f":"推定用途置換ルール!MJL3","v":0},{"$f":"推定用途置換ルール!MJM3","v":0},{"$f":"推定用途置換ルール!MJN3","v":0},{"$f":"推定用途置換ルール!MJO3","v":0},{"$f":"推定用途置換ルール!MJP3","v":0},{"$f":"推定用途置換ルール!MJQ3","v":0},{"$f":"推定用途置換ルール!MJR3","v":0},{"$f":"推定用途置換ルール!MJS3","v":0},{"$f":"推定用途置換ルール!MJT3","v":0},{"$f":"推定用途置換ルール!MJU3","v":0},{"$f":"推定用途置換ルール!MJV3","v":0},{"$f":"推定用途置換ルール!MJW3","v":0},{"$f":"推定用途置換ルール!MJX3","v":0},{"$f":"推定用途置換ルール!MJY3","v":0},{"$f":"推定用途置換ルール!MJZ3","v":0},{"$f":"推定用途置換ルール!MKA3","v":0},{"$f":"推定用途置換ルール!MKB3","v":0},{"$f":"推定用途置換ルール!MKC3","v":0},{"$f":"推定用途置換ルール!MKD3","v":0},{"$f":"推定用途置換ルール!MKE3","v":0},{"$f":"推定用途置換ルール!MKF3","v":0},{"$f":"推定用途置換ルール!MKG3","v":0},{"$f":"推定用途置換ルール!MKH3","v":0},{"$f":"推定用途置換ルール!MKI3","v":0},{"$f":"推定用途置換ルール!MKJ3","v":0},{"$f":"推定用途置換ルール!MKK3","v":0},{"$f":"推定用途置換ルール!MKL3","v":0},{"$f":"推定用途置換ルール!MKM3","v":0},{"$f":"推定用途置換ルール!MKN3","v":0},{"$f":"推定用途置換ルール!MKO3","v":0},{"$f":"推定用途置換ルール!MKP3","v":0},{"$f":"推定用途置換ルール!MKQ3","v":0},{"$f":"推定用途置換ルール!MKR3","v":0},{"$f":"推定用途置換ルール!MKS3","v":0},{"$f":"推定用途置換ルール!MKT3","v":0},{"$f":"推定用途置換ルール!MKU3","v":0},{"$f":"推定用途置換ルール!MKV3","v":0},{"$f":"推定用途置換ルール!MKW3","v":0},{"$f":"推定用途置換ルール!MKX3","v":0},{"$f":"推定用途置換ルール!MKY3","v":0},{"$f":"推定用途置換ルール!MKZ3","v":0},{"$f":"推定用途置換ルール!MLA3","v":0},{"$f":"推定用途置換ルール!MLB3","v":0},{"$f":"推定用途置換ルール!MLC3","v":0},{"$f":"推定用途置換ルール!MLD3","v":0},{"$f":"推定用途置換ルール!MLE3","v":0},{"$f":"推定用途置換ルール!MLF3","v":0},{"$f":"推定用途置換ルール!MLG3","v":0},{"$f":"推定用途置換ルール!MLH3","v":0},{"$f":"推定用途置換ルール!MLI3","v":0},{"$f":"推定用途置換ルール!MLJ3","v":0},{"$f":"推定用途置換ルール!MLK3","v":0},{"$f":"推定用途置換ルール!MLL3","v":0},{"$f":"推定用途置換ルール!MLM3","v":0},{"$f":"推定用途置換ルール!MLN3","v":0},{"$f":"推定用途置換ルール!MLO3","v":0},{"$f":"推定用途置換ルール!MLP3","v":0},{"$f":"推定用途置換ルール!MLQ3","v":0},{"$f":"推定用途置換ルール!MLR3","v":0},{"$f":"推定用途置換ルール!MLS3","v":0},{"$f":"推定用途置換ルール!MLT3","v":0},{"$f":"推定用途置換ルール!MLU3","v":0},{"$f":"推定用途置換ルール!MLV3","v":0},{"$f":"推定用途置換ルール!MLW3","v":0},{"$f":"推定用途置換ルール!MLX3","v":0},{"$f":"推定用途置換ルール!MLY3","v":0},{"$f":"推定用途置換ルール!MLZ3","v":0},{"$f":"推定用途置換ルール!MMA3","v":0},{"$f":"推定用途置換ルール!MMB3","v":0},{"$f":"推定用途置換ルール!MMC3","v":0},{"$f":"推定用途置換ルール!MMD3","v":0},{"$f":"推定用途置換ルール!MME3","v":0},{"$f":"推定用途置換ルール!MMF3","v":0},{"$f":"推定用途置換ルール!MMG3","v":0},{"$f":"推定用途置換ルール!MMH3","v":0},{"$f":"推定用途置換ルール!MMI3","v":0},{"$f":"推定用途置換ルール!MMJ3","v":0},{"$f":"推定用途置換ルール!MMK3","v":0},{"$f":"推定用途置換ルール!MML3","v":0},{"$f":"推定用途置換ルール!MMM3","v":0},{"$f":"推定用途置換ルール!MMN3","v":0},{"$f":"推定用途置換ルール!MMO3","v":0},{"$f":"推定用途置換ルール!MMP3","v":0},{"$f":"推定用途置換ルール!MMQ3","v":0},{"$f":"推定用途置換ルール!MMR3","v":0},{"$f":"推定用途置換ルール!MMS3","v":0},{"$f":"推定用途置換ルール!MMT3","v":0},{"$f":"推定用途置換ルール!MMU3","v":0},{"$f":"推定用途置換ルール!MMV3","v":0},{"$f":"推定用途置換ルール!MMW3","v":0},{"$f":"推定用途置換ルール!MMX3","v":0},{"$f":"推定用途置換ルール!MMY3","v":0},{"$f":"推定用途置換ルール!MMZ3","v":0},{"$f":"推定用途置換ルール!MNA3","v":0},{"$f":"推定用途置換ルール!MNB3","v":0},{"$f":"推定用途置換ルール!MNC3","v":0},{"$f":"推定用途置換ルール!MND3","v":0},{"$f":"推定用途置換ルール!MNE3","v":0},{"$f":"推定用途置換ルール!MNF3","v":0},{"$f":"推定用途置換ルール!MNG3","v":0},{"$f":"推定用途置換ルール!MNH3","v":0},{"$f":"推定用途置換ルール!MNI3","v":0},{"$f":"推定用途置換ルール!MNJ3","v":0},{"$f":"推定用途置換ルール!MNK3","v":0},{"$f":"推定用途置換ルール!MNL3","v":0},{"$f":"推定用途置換ルール!MNM3","v":0},{"$f":"推定用途置換ルール!MNN3","v":0},{"$f":"推定用途置換ルール!MNO3","v":0},{"$f":"推定用途置換ルール!MNP3","v":0},{"$f":"推定用途置換ルール!MNQ3","v":0},{"$f":"推定用途置換ルール!MNR3","v":0},{"$f":"推定用途置換ルール!MNS3","v":0},{"$f":"推定用途置換ルール!MNT3","v":0},{"$f":"推定用途置換ルール!MNU3","v":0},{"$f":"推定用途置換ルール!MNV3","v":0},{"$f":"推定用途置換ルール!MNW3","v":0},{"$f":"推定用途置換ルール!MNX3","v":0},{"$f":"推定用途置換ルール!MNY3","v":0},{"$f":"推定用途置換ルール!MNZ3","v":0},{"$f":"推定用途置換ルール!MOA3","v":0},{"$f":"推定用途置換ルール!MOB3","v":0},{"$f":"推定用途置換ルール!MOC3","v":0},{"$f":"推定用途置換ルール!MOD3","v":0},{"$f":"推定用途置換ルール!MOE3","v":0},{"$f":"推定用途置換ルール!MOF3","v":0},{"$f":"推定用途置換ルール!MOG3","v":0},{"$f":"推定用途置換ルール!MOH3","v":0},{"$f":"推定用途置換ルール!MOI3","v":0},{"$f":"推定用途置換ルール!MOJ3","v":0},{"$f":"推定用途置換ルール!MOK3","v":0},{"$f":"推定用途置換ルール!MOL3","v":0},{"$f":"推定用途置換ルール!MOM3","v":0},{"$f":"推定用途置換ルール!MON3","v":0},{"$f":"推定用途置換ルール!MOO3","v":0},{"$f":"推定用途置換ルール!MOP3","v":0},{"$f":"推定用途置換ルール!MOQ3","v":0},{"$f":"推定用途置換ルール!MOR3","v":0},{"$f":"推定用途置換ルール!MOS3","v":0},{"$f":"推定用途置換ルール!MOT3","v":0},{"$f":"推定用途置換ルール!MOU3","v":0},{"$f":"推定用途置換ルール!MOV3","v":0},{"$f":"推定用途置換ルール!MOW3","v":0},{"$f":"推定用途置換ルール!MOX3","v":0},{"$f":"推定用途置換ルール!MOY3","v":0},{"$f":"推定用途置換ルール!MOZ3","v":0},{"$f":"推定用途置換ルール!MPA3","v":0},{"$f":"推定用途置換ルール!MPB3","v":0},{"$f":"推定用途置換ルール!MPC3","v":0},{"$f":"推定用途置換ルール!MPD3","v":0},{"$f":"推定用途置換ルール!MPE3","v":0},{"$f":"推定用途置換ルール!MPF3","v":0},{"$f":"推定用途置換ルール!MPG3","v":0},{"$f":"推定用途置換ルール!MPH3","v":0},{"$f":"推定用途置換ルール!MPI3","v":0},{"$f":"推定用途置換ルール!MPJ3","v":0},{"$f":"推定用途置換ルール!MPK3","v":0},{"$f":"推定用途置換ルール!MPL3","v":0},{"$f":"推定用途置換ルール!MPM3","v":0},{"$f":"推定用途置換ルール!MPN3","v":0},{"$f":"推定用途置換ルール!MPO3","v":0},{"$f":"推定用途置換ルール!MPP3","v":0},{"$f":"推定用途置換ルール!MPQ3","v":0},{"$f":"推定用途置換ルール!MPR3","v":0},{"$f":"推定用途置換ルール!MPS3","v":0},{"$f":"推定用途置換ルール!MPT3","v":0},{"$f":"推定用途置換ルール!MPU3","v":0},{"$f":"推定用途置換ルール!MPV3","v":0},{"$f":"推定用途置換ルール!MPW3","v":0},{"$f":"推定用途置換ルール!MPX3","v":0},{"$f":"推定用途置換ルール!MPY3","v":0},{"$f":"推定用途置換ルール!MPZ3","v":0},{"$f":"推定用途置換ルール!MQA3","v":0},{"$f":"推定用途置換ルール!MQB3","v":0},{"$f":"推定用途置換ルール!MQC3","v":0},{"$f":"推定用途置換ルール!MQD3","v":0},{"$f":"推定用途置換ルール!MQE3","v":0},{"$f":"推定用途置換ルール!MQF3","v":0},{"$f":"推定用途置換ルール!MQG3","v":0},{"$f":"推定用途置換ルール!MQH3","v":0},{"$f":"推定用途置換ルール!MQI3","v":0},{"$f":"推定用途置換ルール!MQJ3","v":0},{"$f":"推定用途置換ルール!MQK3","v":0},{"$f":"推定用途置換ルール!MQL3","v":0},{"$f":"推定用途置換ルール!MQM3","v":0},{"$f":"推定用途置換ルール!MQN3","v":0},{"$f":"推定用途置換ルール!MQO3","v":0},{"$f":"推定用途置換ルール!MQP3","v":0},{"$f":"推定用途置換ルール!MQQ3","v":0},{"$f":"推定用途置換ルール!MQR3","v":0},{"$f":"推定用途置換ルール!MQS3","v":0},{"$f":"推定用途置換ルール!MQT3","v":0},{"$f":"推定用途置換ルール!MQU3","v":0},{"$f":"推定用途置換ルール!MQV3","v":0},{"$f":"推定用途置換ルール!MQW3","v":0},{"$f":"推定用途置換ルール!MQX3","v":0},{"$f":"推定用途置換ルール!MQY3","v":0},{"$f":"推定用途置換ルール!MQZ3","v":0},{"$f":"推定用途置換ルール!MRA3","v":0},{"$f":"推定用途置換ルール!MRB3","v":0},{"$f":"推定用途置換ルール!MRC3","v":0},{"$f":"推定用途置換ルール!MRD3","v":0},{"$f":"推定用途置換ルール!MRE3","v":0},{"$f":"推定用途置換ルール!MRF3","v":0},{"$f":"推定用途置換ルール!MRG3","v":0},{"$f":"推定用途置換ルール!MRH3","v":0},{"$f":"推定用途置換ルール!MRI3","v":0},{"$f":"推定用途置換ルール!MRJ3","v":0},{"$f":"推定用途置換ルール!MRK3","v":0},{"$f":"推定用途置換ルール!MRL3","v":0},{"$f":"推定用途置換ルール!MRM3","v":0},{"$f":"推定用途置換ルール!MRN3","v":0},{"$f":"推定用途置換ルール!MRO3","v":0},{"$f":"推定用途置換ルール!MRP3","v":0},{"$f":"推定用途置換ルール!MRQ3","v":0},{"$f":"推定用途置換ルール!MRR3","v":0},{"$f":"推定用途置換ルール!MRS3","v":0},{"$f":"推定用途置換ルール!MRT3","v":0},{"$f":"推定用途置換ルール!MRU3","v":0},{"$f":"推定用途置換ルール!MRV3","v":0},{"$f":"推定用途置換ルール!MRW3","v":0},{"$f":"推定用途置換ルール!MRX3","v":0},{"$f":"推定用途置換ルール!MRY3","v":0},{"$f":"推定用途置換ルール!MRZ3","v":0},{"$f":"推定用途置換ルール!MSA3","v":0},{"$f":"推定用途置換ルール!MSB3","v":0},{"$f":"推定用途置換ルール!MSC3","v":0},{"$f":"推定用途置換ルール!MSD3","v":0},{"$f":"推定用途置換ルール!MSE3","v":0},{"$f":"推定用途置換ルール!MSF3","v":0},{"$f":"推定用途置換ルール!MSG3","v":0},{"$f":"推定用途置換ルール!MSH3","v":0},{"$f":"推定用途置換ルール!MSI3","v":0},{"$f":"推定用途置換ルール!MSJ3","v":0},{"$f":"推定用途置換ルール!MSK3","v":0},{"$f":"推定用途置換ルール!MSL3","v":0},{"$f":"推定用途置換ルール!MSM3","v":0},{"$f":"推定用途置換ルール!MSN3","v":0},{"$f":"推定用途置換ルール!MSO3","v":0},{"$f":"推定用途置換ルール!MSP3","v":0},{"$f":"推定用途置換ルール!MSQ3","v":0},{"$f":"推定用途置換ルール!MSR3","v":0},{"$f":"推定用途置換ルール!MSS3","v":0},{"$f":"推定用途置換ルール!MST3","v":0},{"$f":"推定用途置換ルール!MSU3","v":0},{"$f":"推定用途置換ルール!MSV3","v":0},{"$f":"推定用途置換ルール!MSW3","v":0},{"$f":"推定用途置換ルール!MSX3","v":0},{"$f":"推定用途置換ルール!MSY3","v":0},{"$f":"推定用途置換ルール!MSZ3","v":0},{"$f":"推定用途置換ルール!MTA3","v":0},{"$f":"推定用途置換ルール!MTB3","v":0},{"$f":"推定用途置換ルール!MTC3","v":0},{"$f":"推定用途置換ルール!MTD3","v":0},{"$f":"推定用途置換ルール!MTE3","v":0},{"$f":"推定用途置換ルール!MTF3","v":0},{"$f":"推定用途置換ルール!MTG3","v":0},{"$f":"推定用途置換ルール!MTH3","v":0},{"$f":"推定用途置換ルール!MTI3","v":0},{"$f":"推定用途置換ルール!MTJ3","v":0},{"$f":"推定用途置換ルール!MTK3","v":0},{"$f":"推定用途置換ルール!MTL3","v":0},{"$f":"推定用途置換ルール!MTM3","v":0},{"$f":"推定用途置換ルール!MTN3","v":0},{"$f":"推定用途置換ルール!MTO3","v":0},{"$f":"推定用途置換ルール!MTP3","v":0},{"$f":"推定用途置換ルール!MTQ3","v":0},{"$f":"推定用途置換ルール!MTR3","v":0},{"$f":"推定用途置換ルール!MTS3","v":0},{"$f":"推定用途置換ルール!MTT3","v":0},{"$f":"推定用途置換ルール!MTU3","v":0},{"$f":"推定用途置換ルール!MTV3","v":0},{"$f":"推定用途置換ルール!MTW3","v":0},{"$f":"推定用途置換ルール!MTX3","v":0},{"$f":"推定用途置換ルール!MTY3","v":0},{"$f":"推定用途置換ルール!MTZ3","v":0},{"$f":"推定用途置換ルール!MUA3","v":0},{"$f":"推定用途置換ルール!MUB3","v":0},{"$f":"推定用途置換ルール!MUC3","v":0},{"$f":"推定用途置換ルール!MUD3","v":0},{"$f":"推定用途置換ルール!MUE3","v":0},{"$f":"推定用途置換ルール!MUF3","v":0},{"$f":"推定用途置換ルール!MUG3","v":0},{"$f":"推定用途置換ルール!MUH3","v":0},{"$f":"推定用途置換ルール!MUI3","v":0},{"$f":"推定用途置換ルール!MUJ3","v":0},{"$f":"推定用途置換ルール!MUK3","v":0},{"$f":"推定用途置換ルール!MUL3","v":0},{"$f":"推定用途置換ルール!MUM3","v":0},{"$f":"推定用途置換ルール!MUN3","v":0},{"$f":"推定用途置換ルール!MUO3","v":0},{"$f":"推定用途置換ルール!MUP3","v":0},{"$f":"推定用途置換ルール!MUQ3","v":0},{"$f":"推定用途置換ルール!MUR3","v":0},{"$f":"推定用途置換ルール!MUS3","v":0},{"$f":"推定用途置換ルール!MUT3","v":0},{"$f":"推定用途置換ルール!MUU3","v":0},{"$f":"推定用途置換ルール!MUV3","v":0},{"$f":"推定用途置換ルール!MUW3","v":0},{"$f":"推定用途置換ルール!MUX3","v":0},{"$f":"推定用途置換ルール!MUY3","v":0},{"$f":"推定用途置換ルール!MUZ3","v":0},{"$f":"推定用途置換ルール!MVA3","v":0},{"$f":"推定用途置換ルール!MVB3","v":0},{"$f":"推定用途置換ルール!MVC3","v":0},{"$f":"推定用途置換ルール!MVD3","v":0},{"$f":"推定用途置換ルール!MVE3","v":0},{"$f":"推定用途置換ルール!MVF3","v":0},{"$f":"推定用途置換ルール!MVG3","v":0},{"$f":"推定用途置換ルール!MVH3","v":0},{"$f":"推定用途置換ルール!MVI3","v":0},{"$f":"推定用途置換ルール!MVJ3","v":0},{"$f":"推定用途置換ルール!MVK3","v":0},{"$f":"推定用途置換ルール!MVL3","v":0},{"$f":"推定用途置換ルール!MVM3","v":0},{"$f":"推定用途置換ルール!MVN3","v":0},{"$f":"推定用途置換ルール!MVO3","v":0},{"$f":"推定用途置換ルール!MVP3","v":0},{"$f":"推定用途置換ルール!MVQ3","v":0},{"$f":"推定用途置換ルール!MVR3","v":0},{"$f":"推定用途置換ルール!MVS3","v":0},{"$f":"推定用途置換ルール!MVT3","v":0},{"$f":"推定用途置換ルール!MVU3","v":0},{"$f":"推定用途置換ルール!MVV3","v":0},{"$f":"推定用途置換ルール!MVW3","v":0},{"$f":"推定用途置換ルール!MVX3","v":0},{"$f":"推定用途置換ルール!MVY3","v":0},{"$f":"推定用途置換ルール!MVZ3","v":0},{"$f":"推定用途置換ルール!MWA3","v":0},{"$f":"推定用途置換ルール!MWB3","v":0},{"$f":"推定用途置換ルール!MWC3","v":0},{"$f":"推定用途置換ルール!MWD3","v":0},{"$f":"推定用途置換ルール!MWE3","v":0},{"$f":"推定用途置換ルール!MWF3","v":0},{"$f":"推定用途置換ルール!MWG3","v":0},{"$f":"推定用途置換ルール!MWH3","v":0},{"$f":"推定用途置換ルール!MWI3","v":0},{"$f":"推定用途置換ルール!MWJ3","v":0},{"$f":"推定用途置換ルール!MWK3","v":0},{"$f":"推定用途置換ルール!MWL3","v":0},{"$f":"推定用途置換ルール!MWM3","v":0},{"$f":"推定用途置換ルール!MWN3","v":0},{"$f":"推定用途置換ルール!MWO3","v":0},{"$f":"推定用途置換ルール!MWP3","v":0},{"$f":"推定用途置換ルール!MWQ3","v":0},{"$f":"推定用途置換ルール!MWR3","v":0},{"$f":"推定用途置換ルール!MWS3","v":0},{"$f":"推定用途置換ルール!MWT3","v":0},{"$f":"推定用途置換ルール!MWU3","v":0},{"$f":"推定用途置換ルール!MWV3","v":0},{"$f":"推定用途置換ルール!MWW3","v":0},{"$f":"推定用途置換ルール!MWX3","v":0},{"$f":"推定用途置換ルール!MWY3","v":0},{"$f":"推定用途置換ルール!MWZ3","v":0},{"$f":"推定用途置換ルール!MXA3","v":0},{"$f":"推定用途置換ルール!MXB3","v":0},{"$f":"推定用途置換ルール!MXC3","v":0},{"$f":"推定用途置換ルール!MXD3","v":0},{"$f":"推定用途置換ルール!MXE3","v":0},{"$f":"推定用途置換ルール!MXF3","v":0},{"$f":"推定用途置換ルール!MXG3","v":0},{"$f":"推定用途置換ルール!MXH3","v":0},{"$f":"推定用途置換ルール!MXI3","v":0},{"$f":"推定用途置換ルール!MXJ3","v":0},{"$f":"推定用途置換ルール!MXK3","v":0},{"$f":"推定用途置換ルール!MXL3","v":0},{"$f":"推定用途置換ルール!MXM3","v":0},{"$f":"推定用途置換ルール!MXN3","v":0},{"$f":"推定用途置換ルール!MXO3","v":0},{"$f":"推定用途置換ルール!MXP3","v":0},{"$f":"推定用途置換ルール!MXQ3","v":0},{"$f":"推定用途置換ルール!MXR3","v":0},{"$f":"推定用途置換ルール!MXS3","v":0},{"$f":"推定用途置換ルール!MXT3","v":0},{"$f":"推定用途置換ルール!MXU3","v":0},{"$f":"推定用途置換ルール!MXV3","v":0},{"$f":"推定用途置換ルール!MXW3","v":0},{"$f":"推定用途置換ルール!MXX3","v":0},{"$f":"推定用途置換ルール!MXY3","v":0},{"$f":"推定用途置換ルール!MXZ3","v":0},{"$f":"推定用途置換ルール!MYA3","v":0},{"$f":"推定用途置換ルール!MYB3","v":0},{"$f":"推定用途置換ルール!MYC3","v":0},{"$f":"推定用途置換ルール!MYD3","v":0},{"$f":"推定用途置換ルール!MYE3","v":0},{"$f":"推定用途置換ルール!MYF3","v":0},{"$f":"推定用途置換ルール!MYG3","v":0},{"$f":"推定用途置換ルール!MYH3","v":0},{"$f":"推定用途置換ルール!MYI3","v":0},{"$f":"推定用途置換ルール!MYJ3","v":0},{"$f":"推定用途置換ルール!MYK3","v":0},{"$f":"推定用途置換ルール!MYL3","v":0},{"$f":"推定用途置換ルール!MYM3","v":0},{"$f":"推定用途置換ルール!MYN3","v":0},{"$f":"推定用途置換ルール!MYO3","v":0},{"$f":"推定用途置換ルール!MYP3","v":0},{"$f":"推定用途置換ルール!MYQ3","v":0},{"$f":"推定用途置換ルール!MYR3","v":0},{"$f":"推定用途置換ルール!MYS3","v":0},{"$f":"推定用途置換ルール!MYT3","v":0},{"$f":"推定用途置換ルール!MYU3","v":0},{"$f":"推定用途置換ルール!MYV3","v":0},{"$f":"推定用途置換ルール!MYW3","v":0},{"$f":"推定用途置換ルール!MYX3","v":0},{"$f":"推定用途置換ルール!MYY3","v":0},{"$f":"推定用途置換ルール!MYZ3","v":0},{"$f":"推定用途置換ルール!MZA3","v":0},{"$f":"推定用途置換ルール!MZB3","v":0},{"$f":"推定用途置換ルール!MZC3","v":0},{"$f":"推定用途置換ルール!MZD3","v":0},{"$f":"推定用途置換ルール!MZE3","v":0},{"$f":"推定用途置換ルール!MZF3","v":0},{"$f":"推定用途置換ルール!MZG3","v":0},{"$f":"推定用途置換ルール!MZH3","v":0},{"$f":"推定用途置換ルール!MZI3","v":0},{"$f":"推定用途置換ルール!MZJ3","v":0},{"$f":"推定用途置換ルール!MZK3","v":0},{"$f":"推定用途置換ルール!MZL3","v":0},{"$f":"推定用途置換ルール!MZM3","v":0},{"$f":"推定用途置換ルール!MZN3","v":0},{"$f":"推定用途置換ルール!MZO3","v":0},{"$f":"推定用途置換ルール!MZP3","v":0},{"$f":"推定用途置換ルール!MZQ3","v":0},{"$f":"推定用途置換ルール!MZR3","v":0},{"$f":"推定用途置換ルール!MZS3","v":0},{"$f":"推定用途置換ルール!MZT3","v":0},{"$f":"推定用途置換ルール!MZU3","v":0},{"$f":"推定用途置換ルール!MZV3","v":0},{"$f":"推定用途置換ルール!MZW3","v":0},{"$f":"推定用途置換ルール!MZX3","v":0},{"$f":"推定用途置換ルール!MZY3","v":0},{"$f":"推定用途置換ルール!MZZ3","v":0},{"$f":"推定用途置換ルール!NAA3","v":0},{"$f":"推定用途置換ルール!NAB3","v":0},{"$f":"推定用途置換ルール!NAC3","v":0},{"$f":"推定用途置換ルール!NAD3","v":0},{"$f":"推定用途置換ルール!NAE3","v":0},{"$f":"推定用途置換ルール!NAF3","v":0},{"$f":"推定用途置換ルール!NAG3","v":0},{"$f":"推定用途置換ルール!NAH3","v":0},{"$f":"推定用途置換ルール!NAI3","v":0},{"$f":"推定用途置換ルール!NAJ3","v":0},{"$f":"推定用途置換ルール!NAK3","v":0},{"$f":"推定用途置換ルール!NAL3","v":0},{"$f":"推定用途置換ルール!NAM3","v":0},{"$f":"推定用途置換ルール!NAN3","v":0},{"$f":"推定用途置換ルール!NAO3","v":0},{"$f":"推定用途置換ルール!NAP3","v":0},{"$f":"推定用途置換ルール!NAQ3","v":0},{"$f":"推定用途置換ルール!NAR3","v":0},{"$f":"推定用途置換ルール!NAS3","v":0},{"$f":"推定用途置換ルール!NAT3","v":0},{"$f":"推定用途置換ルール!NAU3","v":0},{"$f":"推定用途置換ルール!NAV3","v":0},{"$f":"推定用途置換ルール!NAW3","v":0},{"$f":"推定用途置換ルール!NAX3","v":0},{"$f":"推定用途置換ルール!NAY3","v":0},{"$f":"推定用途置換ルール!NAZ3","v":0},{"$f":"推定用途置換ルール!NBA3","v":0},{"$f":"推定用途置換ルール!NBB3","v":0},{"$f":"推定用途置換ルール!NBC3","v":0},{"$f":"推定用途置換ルール!NBD3","v":0},{"$f":"推定用途置換ルール!NBE3","v":0},{"$f":"推定用途置換ルール!NBF3","v":0},{"$f":"推定用途置換ルール!NBG3","v":0},{"$f":"推定用途置換ルール!NBH3","v":0},{"$f":"推定用途置換ルール!NBI3","v":0},{"$f":"推定用途置換ルール!NBJ3","v":0},{"$f":"推定用途置換ルール!NBK3","v":0},{"$f":"推定用途置換ルール!NBL3","v":0},{"$f":"推定用途置換ルール!NBM3","v":0},{"$f":"推定用途置換ルール!NBN3","v":0},{"$f":"推定用途置換ルール!NBO3","v":0},{"$f":"推定用途置換ルール!NBP3","v":0},{"$f":"推定用途置換ルール!NBQ3","v":0},{"$f":"推定用途置換ルール!NBR3","v":0},{"$f":"推定用途置換ルール!NBS3","v":0},{"$f":"推定用途置換ルール!NBT3","v":0},{"$f":"推定用途置換ルール!NBU3","v":0},{"$f":"推定用途置換ルール!NBV3","v":0},{"$f":"推定用途置換ルール!NBW3","v":0},{"$f":"推定用途置換ルール!NBX3","v":0},{"$f":"推定用途置換ルール!NBY3","v":0},{"$f":"推定用途置換ルール!NBZ3","v":0},{"$f":"推定用途置換ルール!NCA3","v":0},{"$f":"推定用途置換ルール!NCB3","v":0},{"$f":"推定用途置換ルール!NCC3","v":0},{"$f":"推定用途置換ルール!NCD3","v":0},{"$f":"推定用途置換ルール!NCE3","v":0},{"$f":"推定用途置換ルール!NCF3","v":0},{"$f":"推定用途置換ルール!NCG3","v":0},{"$f":"推定用途置換ルール!NCH3","v":0},{"$f":"推定用途置換ルール!NCI3","v":0},{"$f":"推定用途置換ルール!NCJ3","v":0},{"$f":"推定用途置換ルール!NCK3","v":0},{"$f":"推定用途置換ルール!NCL3","v":0},{"$f":"推定用途置換ルール!NCM3","v":0},{"$f":"推定用途置換ルール!NCN3","v":0},{"$f":"推定用途置換ルール!NCO3","v":0},{"$f":"推定用途置換ルール!NCP3","v":0},{"$f":"推定用途置換ルール!NCQ3","v":0},{"$f":"推定用途置換ルール!NCR3","v":0},{"$f":"推定用途置換ルール!NCS3","v":0},{"$f":"推定用途置換ルール!NCT3","v":0},{"$f":"推定用途置換ルール!NCU3","v":0},{"$f":"推定用途置換ルール!NCV3","v":0},{"$f":"推定用途置換ルール!NCW3","v":0},{"$f":"推定用途置換ルール!NCX3","v":0},{"$f":"推定用途置換ルール!NCY3","v":0},{"$f":"推定用途置換ルール!NCZ3","v":0},{"$f":"推定用途置換ルール!NDA3","v":0},{"$f":"推定用途置換ルール!NDB3","v":0},{"$f":"推定用途置換ルール!NDC3","v":0},{"$f":"推定用途置換ルール!NDD3","v":0},{"$f":"推定用途置換ルール!NDE3","v":0},{"$f":"推定用途置換ルール!NDF3","v":0},{"$f":"推定用途置換ルール!NDG3","v":0},{"$f":"推定用途置換ルール!NDH3","v":0},{"$f":"推定用途置換ルール!NDI3","v":0},{"$f":"推定用途置換ルール!NDJ3","v":0},{"$f":"推定用途置換ルール!NDK3","v":0},{"$f":"推定用途置換ルール!NDL3","v":0},{"$f":"推定用途置換ルール!NDM3","v":0},{"$f":"推定用途置換ルール!NDN3","v":0},{"$f":"推定用途置換ルール!NDO3","v":0},{"$f":"推定用途置換ルール!NDP3","v":0},{"$f":"推定用途置換ルール!NDQ3","v":0},{"$f":"推定用途置換ルール!NDR3","v":0},{"$f":"推定用途置換ルール!NDS3","v":0},{"$f":"推定用途置換ルール!NDT3","v":0},{"$f":"推定用途置換ルール!NDU3","v":0},{"$f":"推定用途置換ルール!NDV3","v":0},{"$f":"推定用途置換ルール!NDW3","v":0},{"$f":"推定用途置換ルール!NDX3","v":0},{"$f":"推定用途置換ルール!NDY3","v":0},{"$f":"推定用途置換ルール!NDZ3","v":0},{"$f":"推定用途置換ルール!NEA3","v":0},{"$f":"推定用途置換ルール!NEB3","v":0},{"$f":"推定用途置換ルール!NEC3","v":0},{"$f":"推定用途置換ルール!NED3","v":0},{"$f":"推定用途置換ルール!NEE3","v":0},{"$f":"推定用途置換ルール!NEF3","v":0},{"$f":"推定用途置換ルール!NEG3","v":0},{"$f":"推定用途置換ルール!NEH3","v":0},{"$f":"推定用途置換ルール!NEI3","v":0},{"$f":"推定用途置換ルール!NEJ3","v":0},{"$f":"推定用途置換ルール!NEK3","v":0},{"$f":"推定用途置換ルール!NEL3","v":0},{"$f":"推定用途置換ルール!NEM3","v":0},{"$f":"推定用途置換ルール!NEN3","v":0},{"$f":"推定用途置換ルール!NEO3","v":0},{"$f":"推定用途置換ルール!NEP3","v":0},{"$f":"推定用途置換ルール!NEQ3","v":0},{"$f":"推定用途置換ルール!NER3","v":0},{"$f":"推定用途置換ルール!NES3","v":0},{"$f":"推定用途置換ルール!NET3","v":0},{"$f":"推定用途置換ルール!NEU3","v":0},{"$f":"推定用途置換ルール!NEV3","v":0},{"$f":"推定用途置換ルール!NEW3","v":0},{"$f":"推定用途置換ルール!NEX3","v":0},{"$f":"推定用途置換ルール!NEY3","v":0},{"$f":"推定用途置換ルール!NEZ3","v":0},{"$f":"推定用途置換ルール!NFA3","v":0},{"$f":"推定用途置換ルール!NFB3","v":0},{"$f":"推定用途置換ルール!NFC3","v":0},{"$f":"推定用途置換ルール!NFD3","v":0},{"$f":"推定用途置換ルール!NFE3","v":0},{"$f":"推定用途置換ルール!NFF3","v":0},{"$f":"推定用途置換ルール!NFG3","v":0},{"$f":"推定用途置換ルール!NFH3","v":0},{"$f":"推定用途置換ルール!NFI3","v":0},{"$f":"推定用途置換ルール!NFJ3","v":0},{"$f":"推定用途置換ルール!NFK3","v":0},{"$f":"推定用途置換ルール!NFL3","v":0},{"$f":"推定用途置換ルール!NFM3","v":0},{"$f":"推定用途置換ルール!NFN3","v":0},{"$f":"推定用途置換ルール!NFO3","v":0},{"$f":"推定用途置換ルール!NFP3","v":0},{"$f":"推定用途置換ルール!NFQ3","v":0},{"$f":"推定用途置換ルール!NFR3","v":0},{"$f":"推定用途置換ルール!NFS3","v":0},{"$f":"推定用途置換ルール!NFT3","v":0},{"$f":"推定用途置換ルール!NFU3","v":0},{"$f":"推定用途置換ルール!NFV3","v":0},{"$f":"推定用途置換ルール!NFW3","v":0},{"$f":"推定用途置換ルール!NFX3","v":0},{"$f":"推定用途置換ルール!NFY3","v":0},{"$f":"推定用途置換ルール!NFZ3","v":0},{"$f":"推定用途置換ルール!NGA3","v":0},{"$f":"推定用途置換ルール!NGB3","v":0},{"$f":"推定用途置換ルール!NGC3","v":0},{"$f":"推定用途置換ルール!NGD3","v":0},{"$f":"推定用途置換ルール!NGE3","v":0},{"$f":"推定用途置換ルール!NGF3","v":0},{"$f":"推定用途置換ルール!NGG3","v":0},{"$f":"推定用途置換ルール!NGH3","v":0},{"$f":"推定用途置換ルール!NGI3","v":0},{"$f":"推定用途置換ルール!NGJ3","v":0},{"$f":"推定用途置換ルール!NGK3","v":0},{"$f":"推定用途置換ルール!NGL3","v":0},{"$f":"推定用途置換ルール!NGM3","v":0},{"$f":"推定用途置換ルール!NGN3","v":0},{"$f":"推定用途置換ルール!NGO3","v":0},{"$f":"推定用途置換ルール!NGP3","v":0},{"$f":"推定用途置換ルール!NGQ3","v":0},{"$f":"推定用途置換ルール!NGR3","v":0},{"$f":"推定用途置換ルール!NGS3","v":0},{"$f":"推定用途置換ルール!NGT3","v":0},{"$f":"推定用途置換ルール!NGU3","v":0},{"$f":"推定用途置換ルール!NGV3","v":0},{"$f":"推定用途置換ルール!NGW3","v":0},{"$f":"推定用途置換ルール!NGX3","v":0},{"$f":"推定用途置換ルール!NGY3","v":0},{"$f":"推定用途置換ルール!NGZ3","v":0},{"$f":"推定用途置換ルール!NHA3","v":0},{"$f":"推定用途置換ルール!NHB3","v":0},{"$f":"推定用途置換ルール!NHC3","v":0},{"$f":"推定用途置換ルール!NHD3","v":0},{"$f":"推定用途置換ルール!NHE3","v":0},{"$f":"推定用途置換ルール!NHF3","v":0},{"$f":"推定用途置換ルール!NHG3","v":0},{"$f":"推定用途置換ルール!NHH3","v":0},{"$f":"推定用途置換ルール!NHI3","v":0},{"$f":"推定用途置換ルール!NHJ3","v":0},{"$f":"推定用途置換ルール!NHK3","v":0},{"$f":"推定用途置換ルール!NHL3","v":0},{"$f":"推定用途置換ルール!NHM3","v":0},{"$f":"推定用途置換ルール!NHN3","v":0},{"$f":"推定用途置換ルール!NHO3","v":0},{"$f":"推定用途置換ルール!NHP3","v":0},{"$f":"推定用途置換ルール!NHQ3","v":0},{"$f":"推定用途置換ルール!NHR3","v":0},{"$f":"推定用途置換ルール!NHS3","v":0},{"$f":"推定用途置換ルール!NHT3","v":0},{"$f":"推定用途置換ルール!NHU3","v":0},{"$f":"推定用途置換ルール!NHV3","v":0},{"$f":"推定用途置換ルール!NHW3","v":0},{"$f":"推定用途置換ルール!NHX3","v":0},{"$f":"推定用途置換ルール!NHY3","v":0},{"$f":"推定用途置換ルール!NHZ3","v":0},{"$f":"推定用途置換ルール!NIA3","v":0},{"$f":"推定用途置換ルール!NIB3","v":0},{"$f":"推定用途置換ルール!NIC3","v":0},{"$f":"推定用途置換ルール!NID3","v":0},{"$f":"推定用途置換ルール!NIE3","v":0},{"$f":"推定用途置換ルール!NIF3","v":0},{"$f":"推定用途置換ルール!NIG3","v":0},{"$f":"推定用途置換ルール!NIH3","v":0},{"$f":"推定用途置換ルール!NII3","v":0},{"$f":"推定用途置換ルール!NIJ3","v":0},{"$f":"推定用途置換ルール!NIK3","v":0},{"$f":"推定用途置換ルール!NIL3","v":0},{"$f":"推定用途置換ルール!NIM3","v":0},{"$f":"推定用途置換ルール!NIN3","v":0},{"$f":"推定用途置換ルール!NIO3","v":0},{"$f":"推定用途置換ルール!NIP3","v":0},{"$f":"推定用途置換ルール!NIQ3","v":0},{"$f":"推定用途置換ルール!NIR3","v":0},{"$f":"推定用途置換ルール!NIS3","v":0},{"$f":"推定用途置換ルール!NIT3","v":0},{"$f":"推定用途置換ルール!NIU3","v":0},{"$f":"推定用途置換ルール!NIV3","v":0},{"$f":"推定用途置換ルール!NIW3","v":0},{"$f":"推定用途置換ルール!NIX3","v":0},{"$f":"推定用途置換ルール!NIY3","v":0},{"$f":"推定用途置換ルール!NIZ3","v":0},{"$f":"推定用途置換ルール!NJA3","v":0},{"$f":"推定用途置換ルール!NJB3","v":0},{"$f":"推定用途置換ルール!NJC3","v":0},{"$f":"推定用途置換ルール!NJD3","v":0},{"$f":"推定用途置換ルール!NJE3","v":0},{"$f":"推定用途置換ルール!NJF3","v":0},{"$f":"推定用途置換ルール!NJG3","v":0},{"$f":"推定用途置換ルール!NJH3","v":0},{"$f":"推定用途置換ルール!NJI3","v":0},{"$f":"推定用途置換ルール!NJJ3","v":0},{"$f":"推定用途置換ルール!NJK3","v":0},{"$f":"推定用途置換ルール!NJL3","v":0},{"$f":"推定用途置換ルール!NJM3","v":0},{"$f":"推定用途置換ルール!NJN3","v":0},{"$f":"推定用途置換ルール!NJO3","v":0},{"$f":"推定用途置換ルール!NJP3","v":0},{"$f":"推定用途置換ルール!NJQ3","v":0},{"$f":"推定用途置換ルール!NJR3","v":0},{"$f":"推定用途置換ルール!NJS3","v":0},{"$f":"推定用途置換ルール!NJT3","v":0},{"$f":"推定用途置換ルール!NJU3","v":0},{"$f":"推定用途置換ルール!NJV3","v":0},{"$f":"推定用途置換ルール!NJW3","v":0},{"$f":"推定用途置換ルール!NJX3","v":0},{"$f":"推定用途置換ルール!NJY3","v":0},{"$f":"推定用途置換ルール!NJZ3","v":0},{"$f":"推定用途置換ルール!NKA3","v":0},{"$f":"推定用途置換ルール!NKB3","v":0},{"$f":"推定用途置換ルール!NKC3","v":0},{"$f":"推定用途置換ルール!NKD3","v":0},{"$f":"推定用途置換ルール!NKE3","v":0},{"$f":"推定用途置換ルール!NKF3","v":0},{"$f":"推定用途置換ルール!NKG3","v":0},{"$f":"推定用途置換ルール!NKH3","v":0},{"$f":"推定用途置換ルール!NKI3","v":0},{"$f":"推定用途置換ルール!NKJ3","v":0},{"$f":"推定用途置換ルール!NKK3","v":0},{"$f":"推定用途置換ルール!NKL3","v":0},{"$f":"推定用途置換ルール!NKM3","v":0},{"$f":"推定用途置換ルール!NKN3","v":0},{"$f":"推定用途置換ルール!NKO3","v":0},{"$f":"推定用途置換ルール!NKP3","v":0},{"$f":"推定用途置換ルール!NKQ3","v":0},{"$f":"推定用途置換ルール!NKR3","v":0},{"$f":"推定用途置換ルール!NKS3","v":0},{"$f":"推定用途置換ルール!NKT3","v":0},{"$f":"推定用途置換ルール!NKU3","v":0},{"$f":"推定用途置換ルール!NKV3","v":0},{"$f":"推定用途置換ルール!NKW3","v":0},{"$f":"推定用途置換ルール!NKX3","v":0},{"$f":"推定用途置換ルール!NKY3","v":0},{"$f":"推定用途置換ルール!NKZ3","v":0},{"$f":"推定用途置換ルール!NLA3","v":0},{"$f":"推定用途置換ルール!NLB3","v":0},{"$f":"推定用途置換ルール!NLC3","v":0},{"$f":"推定用途置換ルール!NLD3","v":0},{"$f":"推定用途置換ルール!NLE3","v":0},{"$f":"推定用途置換ルール!NLF3","v":0},{"$f":"推定用途置換ルール!NLG3","v":0},{"$f":"推定用途置換ルール!NLH3","v":0},{"$f":"推定用途置換ルール!NLI3","v":0},{"$f":"推定用途置換ルール!NLJ3","v":0},{"$f":"推定用途置換ルール!NLK3","v":0},{"$f":"推定用途置換ルール!NLL3","v":0},{"$f":"推定用途置換ルール!NLM3","v":0},{"$f":"推定用途置換ルール!NLN3","v":0},{"$f":"推定用途置換ルール!NLO3","v":0},{"$f":"推定用途置換ルール!NLP3","v":0},{"$f":"推定用途置換ルール!NLQ3","v":0},{"$f":"推定用途置換ルール!NLR3","v":0},{"$f":"推定用途置換ルール!NLS3","v":0},{"$f":"推定用途置換ルール!NLT3","v":0},{"$f":"推定用途置換ルール!NLU3","v":0},{"$f":"推定用途置換ルール!NLV3","v":0},{"$f":"推定用途置換ルール!NLW3","v":0},{"$f":"推定用途置換ルール!NLX3","v":0},{"$f":"推定用途置換ルール!NLY3","v":0},{"$f":"推定用途置換ルール!NLZ3","v":0},{"$f":"推定用途置換ルール!NMA3","v":0},{"$f":"推定用途置換ルール!NMB3","v":0},{"$f":"推定用途置換ルール!NMC3","v":0},{"$f":"推定用途置換ルール!NMD3","v":0},{"$f":"推定用途置換ルール!NME3","v":0},{"$f":"推定用途置換ルール!NMF3","v":0},{"$f":"推定用途置換ルール!NMG3","v":0},{"$f":"推定用途置換ルール!NMH3","v":0},{"$f":"推定用途置換ルール!NMI3","v":0},{"$f":"推定用途置換ルール!NMJ3","v":0},{"$f":"推定用途置換ルール!NMK3","v":0},{"$f":"推定用途置換ルール!NML3","v":0},{"$f":"推定用途置換ルール!NMM3","v":0},{"$f":"推定用途置換ルール!NMN3","v":0},{"$f":"推定用途置換ルール!NMO3","v":0},{"$f":"推定用途置換ルール!NMP3","v":0},{"$f":"推定用途置換ルール!NMQ3","v":0},{"$f":"推定用途置換ルール!NMR3","v":0},{"$f":"推定用途置換ルール!NMS3","v":0},{"$f":"推定用途置換ルール!NMT3","v":0},{"$f":"推定用途置換ルール!NMU3","v":0},{"$f":"推定用途置換ルール!NMV3","v":0},{"$f":"推定用途置換ルール!NMW3","v":0},{"$f":"推定用途置換ルール!NMX3","v":0},{"$f":"推定用途置換ルール!NMY3","v":0},{"$f":"推定用途置換ルール!NMZ3","v":0},{"$f":"推定用途置換ルール!NNA3","v":0},{"$f":"推定用途置換ルール!NNB3","v":0},{"$f":"推定用途置換ルール!NNC3","v":0},{"$f":"推定用途置換ルール!NND3","v":0},{"$f":"推定用途置換ルール!NNE3","v":0},{"$f":"推定用途置換ルール!NNF3","v":0},{"$f":"推定用途置換ルール!NNG3","v":0},{"$f":"推定用途置換ルール!NNH3","v":0},{"$f":"推定用途置換ルール!NNI3","v":0},{"$f":"推定用途置換ルール!NNJ3","v":0},{"$f":"推定用途置換ルール!NNK3","v":0},{"$f":"推定用途置換ルール!NNL3","v":0},{"$f":"推定用途置換ルール!NNM3","v":0},{"$f":"推定用途置換ルール!NNN3","v":0},{"$f":"推定用途置換ルール!NNO3","v":0},{"$f":"推定用途置換ルール!NNP3","v":0},{"$f":"推定用途置換ルール!NNQ3","v":0},{"$f":"推定用途置換ルール!NNR3","v":0},{"$f":"推定用途置換ルール!NNS3","v":0},{"$f":"推定用途置換ルール!NNT3","v":0},{"$f":"推定用途置換ルール!NNU3","v":0},{"$f":"推定用途置換ルール!NNV3","v":0},{"$f":"推定用途置換ルール!NNW3","v":0},{"$f":"推定用途置換ルール!NNX3","v":0},{"$f":"推定用途置換ルール!NNY3","v":0},{"$f":"推定用途置換ルール!NNZ3","v":0},{"$f":"推定用途置換ルール!NOA3","v":0},{"$f":"推定用途置換ルール!NOB3","v":0},{"$f":"推定用途置換ルール!NOC3","v":0},{"$f":"推定用途置換ルール!NOD3","v":0},{"$f":"推定用途置換ルール!NOE3","v":0},{"$f":"推定用途置換ルール!NOF3","v":0},{"$f":"推定用途置換ルール!NOG3","v":0},{"$f":"推定用途置換ルール!NOH3","v":0},{"$f":"推定用途置換ルール!NOI3","v":0},{"$f":"推定用途置換ルール!NOJ3","v":0},{"$f":"推定用途置換ルール!NOK3","v":0},{"$f":"推定用途置換ルール!NOL3","v":0},{"$f":"推定用途置換ルール!NOM3","v":0},{"$f":"推定用途置換ルール!NON3","v":0},{"$f":"推定用途置換ルール!NOO3","v":0},{"$f":"推定用途置換ルール!NOP3","v":0},{"$f":"推定用途置換ルール!NOQ3","v":0},{"$f":"推定用途置換ルール!NOR3","v":0},{"$f":"推定用途置換ルール!NOS3","v":0},{"$f":"推定用途置換ルール!NOT3","v":0},{"$f":"推定用途置換ルール!NOU3","v":0},{"$f":"推定用途置換ルール!NOV3","v":0},{"$f":"推定用途置換ルール!NOW3","v":0},{"$f":"推定用途置換ルール!NOX3","v":0},{"$f":"推定用途置換ルール!NOY3","v":0},{"$f":"推定用途置換ルール!NOZ3","v":0},{"$f":"推定用途置換ルール!NPA3","v":0},{"$f":"推定用途置換ルール!NPB3","v":0},{"$f":"推定用途置換ルール!NPC3","v":0},{"$f":"推定用途置換ルール!NPD3","v":0},{"$f":"推定用途置換ルール!NPE3","v":0},{"$f":"推定用途置換ルール!NPF3","v":0},{"$f":"推定用途置換ルール!NPG3","v":0},{"$f":"推定用途置換ルール!NPH3","v":0},{"$f":"推定用途置換ルール!NPI3","v":0},{"$f":"推定用途置換ルール!NPJ3","v":0},{"$f":"推定用途置換ルール!NPK3","v":0},{"$f":"推定用途置換ルール!NPL3","v":0},{"$f":"推定用途置換ルール!NPM3","v":0},{"$f":"推定用途置換ルール!NPN3","v":0},{"$f":"推定用途置換ルール!NPO3","v":0},{"$f":"推定用途置換ルール!NPP3","v":0},{"$f":"推定用途置換ルール!NPQ3","v":0},{"$f":"推定用途置換ルール!NPR3","v":0},{"$f":"推定用途置換ルール!NPS3","v":0},{"$f":"推定用途置換ルール!NPT3","v":0},{"$f":"推定用途置換ルール!NPU3","v":0},{"$f":"推定用途置換ルール!NPV3","v":0},{"$f":"推定用途置換ルール!NPW3","v":0},{"$f":"推定用途置換ルール!NPX3","v":0},{"$f":"推定用途置換ルール!NPY3","v":0},{"$f":"推定用途置換ルール!NPZ3","v":0},{"$f":"推定用途置換ルール!NQA3","v":0},{"$f":"推定用途置換ルール!NQB3","v":0},{"$f":"推定用途置換ルール!NQC3","v":0},{"$f":"推定用途置換ルール!NQD3","v":0},{"$f":"推定用途置換ルール!NQE3","v":0},{"$f":"推定用途置換ルール!NQF3","v":0},{"$f":"推定用途置換ルール!NQG3","v":0},{"$f":"推定用途置換ルール!NQH3","v":0},{"$f":"推定用途置換ルール!NQI3","v":0},{"$f":"推定用途置換ルール!NQJ3","v":0},{"$f":"推定用途置換ルール!NQK3","v":0},{"$f":"推定用途置換ルール!NQL3","v":0},{"$f":"推定用途置換ルール!NQM3","v":0},{"$f":"推定用途置換ルール!NQN3","v":0},{"$f":"推定用途置換ルール!NQO3","v":0},{"$f":"推定用途置換ルール!NQP3","v":0},{"$f":"推定用途置換ルール!NQQ3","v":0},{"$f":"推定用途置換ルール!NQR3","v":0},{"$f":"推定用途置換ルール!NQS3","v":0},{"$f":"推定用途置換ルール!NQT3","v":0},{"$f":"推定用途置換ルール!NQU3","v":0},{"$f":"推定用途置換ルール!NQV3","v":0},{"$f":"推定用途置換ルール!NQW3","v":0},{"$f":"推定用途置換ルール!NQX3","v":0},{"$f":"推定用途置換ルール!NQY3","v":0},{"$f":"推定用途置換ルール!NQZ3","v":0},{"$f":"推定用途置換ルール!NRA3","v":0},{"$f":"推定用途置換ルール!NRB3","v":0},{"$f":"推定用途置換ルール!NRC3","v":0},{"$f":"推定用途置換ルール!NRD3","v":0},{"$f":"推定用途置換ルール!NRE3","v":0},{"$f":"推定用途置換ルール!NRF3","v":0},{"$f":"推定用途置換ルール!NRG3","v":0},{"$f":"推定用途置換ルール!NRH3","v":0},{"$f":"推定用途置換ルール!NRI3","v":0},{"$f":"推定用途置換ルール!NRJ3","v":0},{"$f":"推定用途置換ルール!NRK3","v":0},{"$f":"推定用途置換ルール!NRL3","v":0},{"$f":"推定用途置換ルール!NRM3","v":0},{"$f":"推定用途置換ルール!NRN3","v":0},{"$f":"推定用途置換ルール!NRO3","v":0},{"$f":"推定用途置換ルール!NRP3","v":0},{"$f":"推定用途置換ルール!NRQ3","v":0},{"$f":"推定用途置換ルール!NRR3","v":0},{"$f":"推定用途置換ルール!NRS3","v":0},{"$f":"推定用途置換ルール!NRT3","v":0},{"$f":"推定用途置換ルール!NRU3","v":0},{"$f":"推定用途置換ルール!NRV3","v":0},{"$f":"推定用途置換ルール!NRW3","v":0},{"$f":"推定用途置換ルール!NRX3","v":0},{"$f":"推定用途置換ルール!NRY3","v":0},{"$f":"推定用途置換ルール!NRZ3","v":0},{"$f":"推定用途置換ルール!NSA3","v":0},{"$f":"推定用途置換ルール!NSB3","v":0},{"$f":"推定用途置換ルール!NSC3","v":0},{"$f":"推定用途置換ルール!NSD3","v":0},{"$f":"推定用途置換ルール!NSE3","v":0},{"$f":"推定用途置換ルール!NSF3","v":0},{"$f":"推定用途置換ルール!NSG3","v":0},{"$f":"推定用途置換ルール!NSH3","v":0},{"$f":"推定用途置換ルール!NSI3","v":0},{"$f":"推定用途置換ルール!NSJ3","v":0},{"$f":"推定用途置換ルール!NSK3","v":0},{"$f":"推定用途置換ルール!NSL3","v":0},{"$f":"推定用途置換ルール!NSM3","v":0},{"$f":"推定用途置換ルール!NSN3","v":0},{"$f":"推定用途置換ルール!NSO3","v":0},{"$f":"推定用途置換ルール!NSP3","v":0},{"$f":"推定用途置換ルール!NSQ3","v":0},{"$f":"推定用途置換ルール!NSR3","v":0},{"$f":"推定用途置換ルール!NSS3","v":0},{"$f":"推定用途置換ルール!NST3","v":0},{"$f":"推定用途置換ルール!NSU3","v":0},{"$f":"推定用途置換ルール!NSV3","v":0},{"$f":"推定用途置換ルール!NSW3","v":0},{"$f":"推定用途置換ルール!NSX3","v":0},{"$f":"推定用途置換ルール!NSY3","v":0},{"$f":"推定用途置換ルール!NSZ3","v":0},{"$f":"推定用途置換ルール!NTA3","v":0},{"$f":"推定用途置換ルール!NTB3","v":0},{"$f":"推定用途置換ルール!NTC3","v":0},{"$f":"推定用途置換ルール!NTD3","v":0},{"$f":"推定用途置換ルール!NTE3","v":0},{"$f":"推定用途置換ルール!NTF3","v":0},{"$f":"推定用途置換ルール!NTG3","v":0},{"$f":"推定用途置換ルール!NTH3","v":0},{"$f":"推定用途置換ルール!NTI3","v":0},{"$f":"推定用途置換ルール!NTJ3","v":0},{"$f":"推定用途置換ルール!NTK3","v":0},{"$f":"推定用途置換ルール!NTL3","v":0},{"$f":"推定用途置換ルール!NTM3","v":0},{"$f":"推定用途置換ルール!NTN3","v":0},{"$f":"推定用途置換ルール!NTO3","v":0},{"$f":"推定用途置換ルール!NTP3","v":0},{"$f":"推定用途置換ルール!NTQ3","v":0},{"$f":"推定用途置換ルール!NTR3","v":0},{"$f":"推定用途置換ルール!NTS3","v":0},{"$f":"推定用途置換ルール!NTT3","v":0},{"$f":"推定用途置換ルール!NTU3","v":0},{"$f":"推定用途置換ルール!NTV3","v":0},{"$f":"推定用途置換ルール!NTW3","v":0},{"$f":"推定用途置換ルール!NTX3","v":0},{"$f":"推定用途置換ルール!NTY3","v":0},{"$f":"推定用途置換ルール!NTZ3","v":0},{"$f":"推定用途置換ルール!NUA3","v":0},{"$f":"推定用途置換ルール!NUB3","v":0},{"$f":"推定用途置換ルール!NUC3","v":0},{"$f":"推定用途置換ルール!NUD3","v":0},{"$f":"推定用途置換ルール!NUE3","v":0},{"$f":"推定用途置換ルール!NUF3","v":0},{"$f":"推定用途置換ルール!NUG3","v":0},{"$f":"推定用途置換ルール!NUH3","v":0},{"$f":"推定用途置換ルール!NUI3","v":0},{"$f":"推定用途置換ルール!NUJ3","v":0},{"$f":"推定用途置換ルール!NUK3","v":0},{"$f":"推定用途置換ルール!NUL3","v":0},{"$f":"推定用途置換ルール!NUM3","v":0},{"$f":"推定用途置換ルール!NUN3","v":0},{"$f":"推定用途置換ルール!NUO3","v":0},{"$f":"推定用途置換ルール!NUP3","v":0},{"$f":"推定用途置換ルール!NUQ3","v":0},{"$f":"推定用途置換ルール!NUR3","v":0},{"$f":"推定用途置換ルール!NUS3","v":0},{"$f":"推定用途置換ルール!NUT3","v":0},{"$f":"推定用途置換ルール!NUU3","v":0},{"$f":"推定用途置換ルール!NUV3","v":0},{"$f":"推定用途置換ルール!NUW3","v":0},{"$f":"推定用途置換ルール!NUX3","v":0},{"$f":"推定用途置換ルール!NUY3","v":0},{"$f":"推定用途置換ルール!NUZ3","v":0},{"$f":"推定用途置換ルール!NVA3","v":0},{"$f":"推定用途置換ルール!NVB3","v":0},{"$f":"推定用途置換ルール!NVC3","v":0},{"$f":"推定用途置換ルール!NVD3","v":0},{"$f":"推定用途置換ルール!NVE3","v":0},{"$f":"推定用途置換ルール!NVF3","v":0},{"$f":"推定用途置換ルール!NVG3","v":0},{"$f":"推定用途置換ルール!NVH3","v":0},{"$f":"推定用途置換ルール!NVI3","v":0},{"$f":"推定用途置換ルール!NVJ3","v":0},{"$f":"推定用途置換ルール!NVK3","v":0},{"$f":"推定用途置換ルール!NVL3","v":0},{"$f":"推定用途置換ルール!NVM3","v":0},{"$f":"推定用途置換ルール!NVN3","v":0},{"$f":"推定用途置換ルール!NVO3","v":0},{"$f":"推定用途置換ルール!NVP3","v":0},{"$f":"推定用途置換ルール!NVQ3","v":0},{"$f":"推定用途置換ルール!NVR3","v":0},{"$f":"推定用途置換ルール!NVS3","v":0},{"$f":"推定用途置換ルール!NVT3","v":0},{"$f":"推定用途置換ルール!NVU3","v":0},{"$f":"推定用途置換ルール!NVV3","v":0},{"$f":"推定用途置換ルール!NVW3","v":0},{"$f":"推定用途置換ルール!NVX3","v":0},{"$f":"推定用途置換ルール!NVY3","v":0},{"$f":"推定用途置換ルール!NVZ3","v":0},{"$f":"推定用途置換ルール!NWA3","v":0},{"$f":"推定用途置換ルール!NWB3","v":0},{"$f":"推定用途置換ルール!NWC3","v":0},{"$f":"推定用途置換ルール!NWD3","v":0},{"$f":"推定用途置換ルール!NWE3","v":0},{"$f":"推定用途置換ルール!NWF3","v":0},{"$f":"推定用途置換ルール!NWG3","v":0},{"$f":"推定用途置換ルール!NWH3","v":0},{"$f":"推定用途置換ルール!NWI3","v":0},{"$f":"推定用途置換ルール!NWJ3","v":0},{"$f":"推定用途置換ルール!NWK3","v":0},{"$f":"推定用途置換ルール!NWL3","v":0},{"$f":"推定用途置換ルール!NWM3","v":0},{"$f":"推定用途置換ルール!NWN3","v":0},{"$f":"推定用途置換ルール!NWO3","v":0},{"$f":"推定用途置換ルール!NWP3","v":0},{"$f":"推定用途置換ルール!NWQ3","v":0},{"$f":"推定用途置換ルール!NWR3","v":0},{"$f":"推定用途置換ルール!NWS3","v":0},{"$f":"推定用途置換ルール!NWT3","v":0},{"$f":"推定用途置換ルール!NWU3","v":0},{"$f":"推定用途置換ルール!NWV3","v":0},{"$f":"推定用途置換ルール!NWW3","v":0},{"$f":"推定用途置換ルール!NWX3","v":0},{"$f":"推定用途置換ルール!NWY3","v":0},{"$f":"推定用途置換ルール!NWZ3","v":0},{"$f":"推定用途置換ルール!NXA3","v":0},{"$f":"推定用途置換ルール!NXB3","v":0},{"$f":"推定用途置換ルール!NXC3","v":0},{"$f":"推定用途置換ルール!NXD3","v":0},{"$f":"推定用途置換ルール!NXE3","v":0},{"$f":"推定用途置換ルール!NXF3","v":0},{"$f":"推定用途置換ルール!NXG3","v":0},{"$f":"推定用途置換ルール!NXH3","v":0},{"$f":"推定用途置換ルール!NXI3","v":0},{"$f":"推定用途置換ルール!NXJ3","v":0},{"$f":"推定用途置換ルール!NXK3","v":0},{"$f":"推定用途置換ルール!NXL3","v":0},{"$f":"推定用途置換ルール!NXM3","v":0},{"$f":"推定用途置換ルール!NXN3","v":0},{"$f":"推定用途置換ルール!NXO3","v":0},{"$f":"推定用途置換ルール!NXP3","v":0},{"$f":"推定用途置換ルール!NXQ3","v":0},{"$f":"推定用途置換ルール!NXR3","v":0},{"$f":"推定用途置換ルール!NXS3","v":0},{"$f":"推定用途置換ルール!NXT3","v":0},{"$f":"推定用途置換ルール!NXU3","v":0},{"$f":"推定用途置換ルール!NXV3","v":0},{"$f":"推定用途置換ルール!NXW3","v":0},{"$f":"推定用途置換ルール!NXX3","v":0},{"$f":"推定用途置換ルール!NXY3","v":0},{"$f":"推定用途置換ルール!NXZ3","v":0},{"$f":"推定用途置換ルール!NYA3","v":0},{"$f":"推定用途置換ルール!NYB3","v":0},{"$f":"推定用途置換ルール!NYC3","v":0},{"$f":"推定用途置換ルール!NYD3","v":0},{"$f":"推定用途置換ルール!NYE3","v":0},{"$f":"推定用途置換ルール!NYF3","v":0},{"$f":"推定用途置換ルール!NYG3","v":0},{"$f":"推定用途置換ルール!NYH3","v":0},{"$f":"推定用途置換ルール!NYI3","v":0},{"$f":"推定用途置換ルール!NYJ3","v":0},{"$f":"推定用途置換ルール!NYK3","v":0},{"$f":"推定用途置換ルール!NYL3","v":0},{"$f":"推定用途置換ルール!NYM3","v":0},{"$f":"推定用途置換ルール!NYN3","v":0},{"$f":"推定用途置換ルール!NYO3","v":0},{"$f":"推定用途置換ルール!NYP3","v":0},{"$f":"推定用途置換ルール!NYQ3","v":0},{"$f":"推定用途置換ルール!NYR3","v":0},{"$f":"推定用途置換ルール!NYS3","v":0},{"$f":"推定用途置換ルール!NYT3","v":0},{"$f":"推定用途置換ルール!NYU3","v":0},{"$f":"推定用途置換ルール!NYV3","v":0},{"$f":"推定用途置換ルール!NYW3","v":0},{"$f":"推定用途置換ルール!NYX3","v":0},{"$f":"推定用途置換ルール!NYY3","v":0},{"$f":"推定用途置換ルール!NYZ3","v":0},{"$f":"推定用途置換ルール!NZA3","v":0},{"$f":"推定用途置換ルール!NZB3","v":0},{"$f":"推定用途置換ルール!NZC3","v":0},{"$f":"推定用途置換ルール!NZD3","v":0},{"$f":"推定用途置換ルール!NZE3","v":0},{"$f":"推定用途置換ルール!NZF3","v":0},{"$f":"推定用途置換ルール!NZG3","v":0},{"$f":"推定用途置換ルール!NZH3","v":0},{"$f":"推定用途置換ルール!NZI3","v":0},{"$f":"推定用途置換ルール!NZJ3","v":0},{"$f":"推定用途置換ルール!NZK3","v":0},{"$f":"推定用途置換ルール!NZL3","v":0},{"$f":"推定用途置換ルール!NZM3","v":0},{"$f":"推定用途置換ルール!NZN3","v":0},{"$f":"推定用途置換ルール!NZO3","v":0},{"$f":"推定用途置換ルール!NZP3","v":0},{"$f":"推定用途置換ルール!NZQ3","v":0},{"$f":"推定用途置換ルール!NZR3","v":0},{"$f":"推定用途置換ルール!NZS3","v":0},{"$f":"推定用途置換ルール!NZT3","v":0},{"$f":"推定用途置換ルール!NZU3","v":0},{"$f":"推定用途置換ルール!NZV3","v":0},{"$f":"推定用途置換ルール!NZW3","v":0},{"$f":"推定用途置換ルール!NZX3","v":0},{"$f":"推定用途置換ルール!NZY3","v":0},{"$f":"推定用途置換ルール!NZZ3","v":0},{"$f":"推定用途置換ルール!OAA3","v":0},{"$f":"推定用途置換ルール!OAB3","v":0},{"$f":"推定用途置換ルール!OAC3","v":0},{"$f":"推定用途置換ルール!OAD3","v":0},{"$f":"推定用途置換ルール!OAE3","v":0},{"$f":"推定用途置換ルール!OAF3","v":0},{"$f":"推定用途置換ルール!OAG3","v":0},{"$f":"推定用途置換ルール!OAH3","v":0},{"$f":"推定用途置換ルール!OAI3","v":0},{"$f":"推定用途置換ルール!OAJ3","v":0},{"$f":"推定用途置換ルール!OAK3","v":0},{"$f":"推定用途置換ルール!OAL3","v":0},{"$f":"推定用途置換ルール!OAM3","v":0},{"$f":"推定用途置換ルール!OAN3","v":0},{"$f":"推定用途置換ルール!OAO3","v":0},{"$f":"推定用途置換ルール!OAP3","v":0},{"$f":"推定用途置換ルール!OAQ3","v":0},{"$f":"推定用途置換ルール!OAR3","v":0},{"$f":"推定用途置換ルール!OAS3","v":0},{"$f":"推定用途置換ルール!OAT3","v":0},{"$f":"推定用途置換ルール!OAU3","v":0},{"$f":"推定用途置換ルール!OAV3","v":0},{"$f":"推定用途置換ルール!OAW3","v":0},{"$f":"推定用途置換ルール!OAX3","v":0},{"$f":"推定用途置換ルール!OAY3","v":0},{"$f":"推定用途置換ルール!OAZ3","v":0},{"$f":"推定用途置換ルール!OBA3","v":0},{"$f":"推定用途置換ルール!OBB3","v":0},{"$f":"推定用途置換ルール!OBC3","v":0},{"$f":"推定用途置換ルール!OBD3","v":0},{"$f":"推定用途置換ルール!OBE3","v":0},{"$f":"推定用途置換ルール!OBF3","v":0},{"$f":"推定用途置換ルール!OBG3","v":0},{"$f":"推定用途置換ルール!OBH3","v":0},{"$f":"推定用途置換ルール!OBI3","v":0},{"$f":"推定用途置換ルール!OBJ3","v":0},{"$f":"推定用途置換ルール!OBK3","v":0},{"$f":"推定用途置換ルール!OBL3","v":0},{"$f":"推定用途置換ルール!OBM3","v":0},{"$f":"推定用途置換ルール!OBN3","v":0},{"$f":"推定用途置換ルール!OBO3","v":0},{"$f":"推定用途置換ルール!OBP3","v":0},{"$f":"推定用途置換ルール!OBQ3","v":0},{"$f":"推定用途置換ルール!OBR3","v":0},{"$f":"推定用途置換ルール!OBS3","v":0},{"$f":"推定用途置換ルール!OBT3","v":0},{"$f":"推定用途置換ルール!OBU3","v":0},{"$f":"推定用途置換ルール!OBV3","v":0},{"$f":"推定用途置換ルール!OBW3","v":0},{"$f":"推定用途置換ルール!OBX3","v":0},{"$f":"推定用途置換ルール!OBY3","v":0},{"$f":"推定用途置換ルール!OBZ3","v":0},{"$f":"推定用途置換ルール!OCA3","v":0},{"$f":"推定用途置換ルール!OCB3","v":0},{"$f":"推定用途置換ルール!OCC3","v":0},{"$f":"推定用途置換ルール!OCD3","v":0},{"$f":"推定用途置換ルール!OCE3","v":0},{"$f":"推定用途置換ルール!OCF3","v":0},{"$f":"推定用途置換ルール!OCG3","v":0},{"$f":"推定用途置換ルール!OCH3","v":0},{"$f":"推定用途置換ルール!OCI3","v":0},{"$f":"推定用途置換ルール!OCJ3","v":0},{"$f":"推定用途置換ルール!OCK3","v":0},{"$f":"推定用途置換ルール!OCL3","v":0},{"$f":"推定用途置換ルール!OCM3","v":0},{"$f":"推定用途置換ルール!OCN3","v":0},{"$f":"推定用途置換ルール!OCO3","v":0},{"$f":"推定用途置換ルール!OCP3","v":0},{"$f":"推定用途置換ルール!OCQ3","v":0},{"$f":"推定用途置換ルール!OCR3","v":0},{"$f":"推定用途置換ルール!OCS3","v":0},{"$f":"推定用途置換ルール!OCT3","v":0},{"$f":"推定用途置換ルール!OCU3","v":0},{"$f":"推定用途置換ルール!OCV3","v":0},{"$f":"推定用途置換ルール!OCW3","v":0},{"$f":"推定用途置換ルール!OCX3","v":0},{"$f":"推定用途置換ルール!OCY3","v":0},{"$f":"推定用途置換ルール!OCZ3","v":0},{"$f":"推定用途置換ルール!ODA3","v":0},{"$f":"推定用途置換ルール!ODB3","v":0},{"$f":"推定用途置換ルール!ODC3","v":0},{"$f":"推定用途置換ルール!ODD3","v":0},{"$f":"推定用途置換ルール!ODE3","v":0},{"$f":"推定用途置換ルール!ODF3","v":0},{"$f":"推定用途置換ルール!ODG3","v":0},{"$f":"推定用途置換ルール!ODH3","v":0},{"$f":"推定用途置換ルール!ODI3","v":0},{"$f":"推定用途置換ルール!ODJ3","v":0},{"$f":"推定用途置換ルール!ODK3","v":0},{"$f":"推定用途置換ルール!ODL3","v":0},{"$f":"推定用途置換ルール!ODM3","v":0},{"$f":"推定用途置換ルール!ODN3","v":0},{"$f":"推定用途置換ルール!ODO3","v":0},{"$f":"推定用途置換ルール!ODP3","v":0},{"$f":"推定用途置換ルール!ODQ3","v":0},{"$f":"推定用途置換ルール!ODR3","v":0},{"$f":"推定用途置換ルール!ODS3","v":0},{"$f":"推定用途置換ルール!ODT3","v":0},{"$f":"推定用途置換ルール!ODU3","v":0},{"$f":"推定用途置換ルール!ODV3","v":0},{"$f":"推定用途置換ルール!ODW3","v":0},{"$f":"推定用途置換ルール!ODX3","v":0},{"$f":"推定用途置換ルール!ODY3","v":0},{"$f":"推定用途置換ルール!ODZ3","v":0},{"$f":"推定用途置換ルール!OEA3","v":0},{"$f":"推定用途置換ルール!OEB3","v":0},{"$f":"推定用途置換ルール!OEC3","v":0},{"$f":"推定用途置換ルール!OED3","v":0},{"$f":"推定用途置換ルール!OEE3","v":0},{"$f":"推定用途置換ルール!OEF3","v":0},{"$f":"推定用途置換ルール!OEG3","v":0},{"$f":"推定用途置換ルール!OEH3","v":0},{"$f":"推定用途置換ルール!OEI3","v":0},{"$f":"推定用途置換ルール!OEJ3","v":0},{"$f":"推定用途置換ルール!OEK3","v":0},{"$f":"推定用途置換ルール!OEL3","v":0},{"$f":"推定用途置換ルール!OEM3","v":0},{"$f":"推定用途置換ルール!OEN3","v":0},{"$f":"推定用途置換ルール!OEO3","v":0},{"$f":"推定用途置換ルール!OEP3","v":0},{"$f":"推定用途置換ルール!OEQ3","v":0},{"$f":"推定用途置換ルール!OER3","v":0},{"$f":"推定用途置換ルール!OES3","v":0},{"$f":"推定用途置換ルール!OET3","v":0},{"$f":"推定用途置換ルール!OEU3","v":0},{"$f":"推定用途置換ルール!OEV3","v":0},{"$f":"推定用途置換ルール!OEW3","v":0},{"$f":"推定用途置換ルール!OEX3","v":0},{"$f":"推定用途置換ルール!OEY3","v":0},{"$f":"推定用途置換ルール!OEZ3","v":0},{"$f":"推定用途置換ルール!OFA3","v":0},{"$f":"推定用途置換ルール!OFB3","v":0},{"$f":"推定用途置換ルール!OFC3","v":0},{"$f":"推定用途置換ルール!OFD3","v":0},{"$f":"推定用途置換ルール!OFE3","v":0},{"$f":"推定用途置換ルール!OFF3","v":0},{"$f":"推定用途置換ルール!OFG3","v":0},{"$f":"推定用途置換ルール!OFH3","v":0},{"$f":"推定用途置換ルール!OFI3","v":0},{"$f":"推定用途置換ルール!OFJ3","v":0},{"$f":"推定用途置換ルール!OFK3","v":0},{"$f":"推定用途置換ルール!OFL3","v":0},{"$f":"推定用途置換ルール!OFM3","v":0},{"$f":"推定用途置換ルール!OFN3","v":0},{"$f":"推定用途置換ルール!OFO3","v":0},{"$f":"推定用途置換ルール!OFP3","v":0},{"$f":"推定用途置換ルール!OFQ3","v":0},{"$f":"推定用途置換ルール!OFR3","v":0},{"$f":"推定用途置換ルール!OFS3","v":0},{"$f":"推定用途置換ルール!OFT3","v":0},{"$f":"推定用途置換ルール!OFU3","v":0},{"$f":"推定用途置換ルール!OFV3","v":0},{"$f":"推定用途置換ルール!OFW3","v":0},{"$f":"推定用途置換ルール!OFX3","v":0},{"$f":"推定用途置換ルール!OFY3","v":0},{"$f":"推定用途置換ルール!OFZ3","v":0},{"$f":"推定用途置換ルール!OGA3","v":0},{"$f":"推定用途置換ルール!OGB3","v":0},{"$f":"推定用途置換ルール!OGC3","v":0},{"$f":"推定用途置換ルール!OGD3","v":0},{"$f":"推定用途置換ルール!OGE3","v":0},{"$f":"推定用途置換ルール!OGF3","v":0},{"$f":"推定用途置換ルール!OGG3","v":0},{"$f":"推定用途置換ルール!OGH3","v":0},{"$f":"推定用途置換ルール!OGI3","v":0},{"$f":"推定用途置換ルール!OGJ3","v":0},{"$f":"推定用途置換ルール!OGK3","v":0},{"$f":"推定用途置換ルール!OGL3","v":0},{"$f":"推定用途置換ルール!OGM3","v":0},{"$f":"推定用途置換ルール!OGN3","v":0},{"$f":"推定用途置換ルール!OGO3","v":0},{"$f":"推定用途置換ルール!OGP3","v":0},{"$f":"推定用途置換ルール!OGQ3","v":0},{"$f":"推定用途置換ルール!OGR3","v":0},{"$f":"推定用途置換ルール!OGS3","v":0},{"$f":"推定用途置換ルール!OGT3","v":0},{"$f":"推定用途置換ルール!OGU3","v":0},{"$f":"推定用途置換ルール!OGV3","v":0},{"$f":"推定用途置換ルール!OGW3","v":0},{"$f":"推定用途置換ルール!OGX3","v":0},{"$f":"推定用途置換ルール!OGY3","v":0},{"$f":"推定用途置換ルール!OGZ3","v":0},{"$f":"推定用途置換ルール!OHA3","v":0},{"$f":"推定用途置換ルール!OHB3","v":0},{"$f":"推定用途置換ルール!OHC3","v":0},{"$f":"推定用途置換ルール!OHD3","v":0},{"$f":"推定用途置換ルール!OHE3","v":0},{"$f":"推定用途置換ルール!OHF3","v":0},{"$f":"推定用途置換ルール!OHG3","v":0},{"$f":"推定用途置換ルール!OHH3","v":0},{"$f":"推定用途置換ルール!OHI3","v":0},{"$f":"推定用途置換ルール!OHJ3","v":0},{"$f":"推定用途置換ルール!OHK3","v":0},{"$f":"推定用途置換ルール!OHL3","v":0},{"$f":"推定用途置換ルール!OHM3","v":0},{"$f":"推定用途置換ルール!OHN3","v":0},{"$f":"推定用途置換ルール!OHO3","v":0},{"$f":"推定用途置換ルール!OHP3","v":0},{"$f":"推定用途置換ルール!OHQ3","v":0},{"$f":"推定用途置換ルール!OHR3","v":0},{"$f":"推定用途置換ルール!OHS3","v":0},{"$f":"推定用途置換ルール!OHT3","v":0},{"$f":"推定用途置換ルール!OHU3","v":0},{"$f":"推定用途置換ルール!OHV3","v":0},{"$f":"推定用途置換ルール!OHW3","v":0},{"$f":"推定用途置換ルール!OHX3","v":0},{"$f":"推定用途置換ルール!OHY3","v":0},{"$f":"推定用途置換ルール!OHZ3","v":0},{"$f":"推定用途置換ルール!OIA3","v":0},{"$f":"推定用途置換ルール!OIB3","v":0},{"$f":"推定用途置換ルール!OIC3","v":0},{"$f":"推定用途置換ルール!OID3","v":0},{"$f":"推定用途置換ルール!OIE3","v":0},{"$f":"推定用途置換ルール!OIF3","v":0},{"$f":"推定用途置換ルール!OIG3","v":0},{"$f":"推定用途置換ルール!OIH3","v":0},{"$f":"推定用途置換ルール!OII3","v":0},{"$f":"推定用途置換ルール!OIJ3","v":0},{"$f":"推定用途置換ルール!OIK3","v":0},{"$f":"推定用途置換ルール!OIL3","v":0},{"$f":"推定用途置換ルール!OIM3","v":0},{"$f":"推定用途置換ルール!OIN3","v":0},{"$f":"推定用途置換ルール!OIO3","v":0},{"$f":"推定用途置換ルール!OIP3","v":0},{"$f":"推定用途置換ルール!OIQ3","v":0},{"$f":"推定用途置換ルール!OIR3","v":0},{"$f":"推定用途置換ルール!OIS3","v":0},{"$f":"推定用途置換ルール!OIT3","v":0},{"$f":"推定用途置換ルール!OIU3","v":0},{"$f":"推定用途置換ルール!OIV3","v":0},{"$f":"推定用途置換ルール!OIW3","v":0},{"$f":"推定用途置換ルール!OIX3","v":0},{"$f":"推定用途置換ルール!OIY3","v":0},{"$f":"推定用途置換ルール!OIZ3","v":0},{"$f":"推定用途置換ルール!OJA3","v":0},{"$f":"推定用途置換ルール!OJB3","v":0},{"$f":"推定用途置換ルール!OJC3","v":0},{"$f":"推定用途置換ルール!OJD3","v":0},{"$f":"推定用途置換ルール!OJE3","v":0},{"$f":"推定用途置換ルール!OJF3","v":0},{"$f":"推定用途置換ルール!OJG3","v":0},{"$f":"推定用途置換ルール!OJH3","v":0},{"$f":"推定用途置換ルール!OJI3","v":0},{"$f":"推定用途置換ルール!OJJ3","v":0},{"$f":"推定用途置換ルール!OJK3","v":0},{"$f":"推定用途置換ルール!OJL3","v":0},{"$f":"推定用途置換ルール!OJM3","v":0},{"$f":"推定用途置換ルール!OJN3","v":0},{"$f":"推定用途置換ルール!OJO3","v":0},{"$f":"推定用途置換ルール!OJP3","v":0},{"$f":"推定用途置換ルール!OJQ3","v":0},{"$f":"推定用途置換ルール!OJR3","v":0},{"$f":"推定用途置換ルール!OJS3","v":0},{"$f":"推定用途置換ルール!OJT3","v":0},{"$f":"推定用途置換ルール!OJU3","v":0},{"$f":"推定用途置換ルール!OJV3","v":0},{"$f":"推定用途置換ルール!OJW3","v":0},{"$f":"推定用途置換ルール!OJX3","v":0},{"$f":"推定用途置換ルール!OJY3","v":0},{"$f":"推定用途置換ルール!OJZ3","v":0},{"$f":"推定用途置換ルール!OKA3","v":0},{"$f":"推定用途置換ルール!OKB3","v":0},{"$f":"推定用途置換ルール!OKC3","v":0},{"$f":"推定用途置換ルール!OKD3","v":0},{"$f":"推定用途置換ルール!OKE3","v":0},{"$f":"推定用途置換ルール!OKF3","v":0},{"$f":"推定用途置換ルール!OKG3","v":0},{"$f":"推定用途置換ルール!OKH3","v":0},{"$f":"推定用途置換ルール!OKI3","v":0},{"$f":"推定用途置換ルール!OKJ3","v":0},{"$f":"推定用途置換ルール!OKK3","v":0},{"$f":"推定用途置換ルール!OKL3","v":0},{"$f":"推定用途置換ルール!OKM3","v":0},{"$f":"推定用途置換ルール!OKN3","v":0},{"$f":"推定用途置換ルール!OKO3","v":0},{"$f":"推定用途置換ルール!OKP3","v":0},{"$f":"推定用途置換ルール!OKQ3","v":0},{"$f":"推定用途置換ルール!OKR3","v":0},{"$f":"推定用途置換ルール!OKS3","v":0},{"$f":"推定用途置換ルール!OKT3","v":0},{"$f":"推定用途置換ルール!OKU3","v":0},{"$f":"推定用途置換ルール!OKV3","v":0},{"$f":"推定用途置換ルール!OKW3","v":0},{"$f":"推定用途置換ルール!OKX3","v":0},{"$f":"推定用途置換ルール!OKY3","v":0},{"$f":"推定用途置換ルール!OKZ3","v":0},{"$f":"推定用途置換ルール!OLA3","v":0},{"$f":"推定用途置換ルール!OLB3","v":0},{"$f":"推定用途置換ルール!OLC3","v":0},{"$f":"推定用途置換ルール!OLD3","v":0},{"$f":"推定用途置換ルール!OLE3","v":0},{"$f":"推定用途置換ルール!OLF3","v":0},{"$f":"推定用途置換ルール!OLG3","v":0},{"$f":"推定用途置換ルール!OLH3","v":0},{"$f":"推定用途置換ルール!OLI3","v":0},{"$f":"推定用途置換ルール!OLJ3","v":0},{"$f":"推定用途置換ルール!OLK3","v":0},{"$f":"推定用途置換ルール!OLL3","v":0},{"$f":"推定用途置換ルール!OLM3","v":0},{"$f":"推定用途置換ルール!OLN3","v":0},{"$f":"推定用途置換ルール!OLO3","v":0},{"$f":"推定用途置換ルール!OLP3","v":0},{"$f":"推定用途置換ルール!OLQ3","v":0},{"$f":"推定用途置換ルール!OLR3","v":0},{"$f":"推定用途置換ルール!OLS3","v":0},{"$f":"推定用途置換ルール!OLT3","v":0},{"$f":"推定用途置換ルール!OLU3","v":0},{"$f":"推定用途置換ルール!OLV3","v":0},{"$f":"推定用途置換ルール!OLW3","v":0},{"$f":"推定用途置換ルール!OLX3","v":0},{"$f":"推定用途置換ルール!OLY3","v":0},{"$f":"推定用途置換ルール!OLZ3","v":0},{"$f":"推定用途置換ルール!OMA3","v":0},{"$f":"推定用途置換ルール!OMB3","v":0},{"$f":"推定用途置換ルール!OMC3","v":0},{"$f":"推定用途置換ルール!OMD3","v":0},{"$f":"推定用途置換ルール!OME3","v":0},{"$f":"推定用途置換ルール!OMF3","v":0},{"$f":"推定用途置換ルール!OMG3","v":0},{"$f":"推定用途置換ルール!OMH3","v":0},{"$f":"推定用途置換ルール!OMI3","v":0},{"$f":"推定用途置換ルール!OMJ3","v":0},{"$f":"推定用途置換ルール!OMK3","v":0},{"$f":"推定用途置換ルール!OML3","v":0},{"$f":"推定用途置換ルール!OMM3","v":0},{"$f":"推定用途置換ルール!OMN3","v":0},{"$f":"推定用途置換ルール!OMO3","v":0},{"$f":"推定用途置換ルール!OMP3","v":0},{"$f":"推定用途置換ルール!OMQ3","v":0},{"$f":"推定用途置換ルール!OMR3","v":0},{"$f":"推定用途置換ルール!OMS3","v":0},{"$f":"推定用途置換ルール!OMT3","v":0},{"$f":"推定用途置換ルール!OMU3","v":0},{"$f":"推定用途置換ルール!OMV3","v":0},{"$f":"推定用途置換ルール!OMW3","v":0},{"$f":"推定用途置換ルール!OMX3","v":0},{"$f":"推定用途置換ルール!OMY3","v":0},{"$f":"推定用途置換ルール!OMZ3","v":0},{"$f":"推定用途置換ルール!ONA3","v":0},{"$f":"推定用途置換ルール!ONB3","v":0},{"$f":"推定用途置換ルール!ONC3","v":0},{"$f":"推定用途置換ルール!OND3","v":0},{"$f":"推定用途置換ルール!ONE3","v":0},{"$f":"推定用途置換ルール!ONF3","v":0},{"$f":"推定用途置換ルール!ONG3","v":0},{"$f":"推定用途置換ルール!ONH3","v":0},{"$f":"推定用途置換ルール!ONI3","v":0},{"$f":"推定用途置換ルール!ONJ3","v":0},{"$f":"推定用途置換ルール!ONK3","v":0},{"$f":"推定用途置換ルール!ONL3","v":0},{"$f":"推定用途置換ルール!ONM3","v":0},{"$f":"推定用途置換ルール!ONN3","v":0},{"$f":"推定用途置換ルール!ONO3","v":0},{"$f":"推定用途置換ルール!ONP3","v":0},{"$f":"推定用途置換ルール!ONQ3","v":0},{"$f":"推定用途置換ルール!ONR3","v":0},{"$f":"推定用途置換ルール!ONS3","v":0},{"$f":"推定用途置換ルール!ONT3","v":0},{"$f":"推定用途置換ルール!ONU3","v":0},{"$f":"推定用途置換ルール!ONV3","v":0},{"$f":"推定用途置換ルール!ONW3","v":0},{"$f":"推定用途置換ルール!ONX3","v":0},{"$f":"推定用途置換ルール!ONY3","v":0},{"$f":"推定用途置換ルール!ONZ3","v":0},{"$f":"推定用途置換ルール!OOA3","v":0},{"$f":"推定用途置換ルール!OOB3","v":0},{"$f":"推定用途置換ルール!OOC3","v":0},{"$f":"推定用途置換ルール!OOD3","v":0},{"$f":"推定用途置換ルール!OOE3","v":0},{"$f":"推定用途置換ルール!OOF3","v":0},{"$f":"推定用途置換ルール!OOG3","v":0},{"$f":"推定用途置換ルール!OOH3","v":0},{"$f":"推定用途置換ルール!OOI3","v":0},{"$f":"推定用途置換ルール!OOJ3","v":0},{"$f":"推定用途置換ルール!OOK3","v":0},{"$f":"推定用途置換ルール!OOL3","v":0},{"$f":"推定用途置換ルール!OOM3","v":0},{"$f":"推定用途置換ルール!OON3","v":0},{"$f":"推定用途置換ルール!OOO3","v":0},{"$f":"推定用途置換ルール!OOP3","v":0},{"$f":"推定用途置換ルール!OOQ3","v":0},{"$f":"推定用途置換ルール!OOR3","v":0},{"$f":"推定用途置換ルール!OOS3","v":0},{"$f":"推定用途置換ルール!OOT3","v":0},{"$f":"推定用途置換ルール!OOU3","v":0},{"$f":"推定用途置換ルール!OOV3","v":0},{"$f":"推定用途置換ルール!OOW3","v":0},{"$f":"推定用途置換ルール!OOX3","v":0},{"$f":"推定用途置換ルール!OOY3","v":0},{"$f":"推定用途置換ルール!OOZ3","v":0},{"$f":"推定用途置換ルール!OPA3","v":0},{"$f":"推定用途置換ルール!OPB3","v":0},{"$f":"推定用途置換ルール!OPC3","v":0},{"$f":"推定用途置換ルール!OPD3","v":0},{"$f":"推定用途置換ルール!OPE3","v":0},{"$f":"推定用途置換ルール!OPF3","v":0},{"$f":"推定用途置換ルール!OPG3","v":0},{"$f":"推定用途置換ルール!OPH3","v":0},{"$f":"推定用途置換ルール!OPI3","v":0},{"$f":"推定用途置換ルール!OPJ3","v":0},{"$f":"推定用途置換ルール!OPK3","v":0},{"$f":"推定用途置換ルール!OPL3","v":0},{"$f":"推定用途置換ルール!OPM3","v":0},{"$f":"推定用途置換ルール!OPN3","v":0},{"$f":"推定用途置換ルール!OPO3","v":0},{"$f":"推定用途置換ルール!OPP3","v":0},{"$f":"推定用途置換ルール!OPQ3","v":0},{"$f":"推定用途置換ルール!OPR3","v":0},{"$f":"推定用途置換ルール!OPS3","v":0},{"$f":"推定用途置換ルール!OPT3","v":0},{"$f":"推定用途置換ルール!OPU3","v":0},{"$f":"推定用途置換ルール!OPV3","v":0},{"$f":"推定用途置換ルール!OPW3","v":0},{"$f":"推定用途置換ルール!OPX3","v":0},{"$f":"推定用途置換ルール!OPY3","v":0},{"$f":"推定用途置換ルール!OPZ3","v":0},{"$f":"推定用途置換ルール!OQA3","v":0},{"$f":"推定用途置換ルール!OQB3","v":0},{"$f":"推定用途置換ルール!OQC3","v":0},{"$f":"推定用途置換ルール!OQD3","v":0},{"$f":"推定用途置換ルール!OQE3","v":0},{"$f":"推定用途置換ルール!OQF3","v":0},{"$f":"推定用途置換ルール!OQG3","v":0},{"$f":"推定用途置換ルール!OQH3","v":0},{"$f":"推定用途置換ルール!OQI3","v":0},{"$f":"推定用途置換ルール!OQJ3","v":0},{"$f":"推定用途置換ルール!OQK3","v":0},{"$f":"推定用途置換ルール!OQL3","v":0},{"$f":"推定用途置換ルール!OQM3","v":0},{"$f":"推定用途置換ルール!OQN3","v":0},{"$f":"推定用途置換ルール!OQO3","v":0},{"$f":"推定用途置換ルール!OQP3","v":0},{"$f":"推定用途置換ルール!OQQ3","v":0},{"$f":"推定用途置換ルール!OQR3","v":0},{"$f":"推定用途置換ルール!OQS3","v":0},{"$f":"推定用途置換ルール!OQT3","v":0},{"$f":"推定用途置換ルール!OQU3","v":0},{"$f":"推定用途置換ルール!OQV3","v":0},{"$f":"推定用途置換ルール!OQW3","v":0},{"$f":"推定用途置換ルール!OQX3","v":0},{"$f":"推定用途置換ルール!OQY3","v":0},{"$f":"推定用途置換ルール!OQZ3","v":0},{"$f":"推定用途置換ルール!ORA3","v":0},{"$f":"推定用途置換ルール!ORB3","v":0},{"$f":"推定用途置換ルール!ORC3","v":0},{"$f":"推定用途置換ルール!ORD3","v":0},{"$f":"推定用途置換ルール!ORE3","v":0},{"$f":"推定用途置換ルール!ORF3","v":0},{"$f":"推定用途置換ルール!ORG3","v":0},{"$f":"推定用途置換ルール!ORH3","v":0},{"$f":"推定用途置換ルール!ORI3","v":0},{"$f":"推定用途置換ルール!ORJ3","v":0},{"$f":"推定用途置換ルール!ORK3","v":0},{"$f":"推定用途置換ルール!ORL3","v":0},{"$f":"推定用途置換ルール!ORM3","v":0},{"$f":"推定用途置換ルール!ORN3","v":0},{"$f":"推定用途置換ルール!ORO3","v":0},{"$f":"推定用途置換ルール!ORP3","v":0},{"$f":"推定用途置換ルール!ORQ3","v":0},{"$f":"推定用途置換ルール!ORR3","v":0},{"$f":"推定用途置換ルール!ORS3","v":0},{"$f":"推定用途置換ルール!ORT3","v":0},{"$f":"推定用途置換ルール!ORU3","v":0},{"$f":"推定用途置換ルール!ORV3","v":0},{"$f":"推定用途置換ルール!ORW3","v":0},{"$f":"推定用途置換ルール!ORX3","v":0},{"$f":"推定用途置換ルール!ORY3","v":0},{"$f":"推定用途置換ルール!ORZ3","v":0},{"$f":"推定用途置換ルール!OSA3","v":0},{"$f":"推定用途置換ルール!OSB3","v":0},{"$f":"推定用途置換ルール!OSC3","v":0},{"$f":"推定用途置換ルール!OSD3","v":0},{"$f":"推定用途置換ルール!OSE3","v":0},{"$f":"推定用途置換ルール!OSF3","v":0},{"$f":"推定用途置換ルール!OSG3","v":0},{"$f":"推定用途置換ルール!OSH3","v":0},{"$f":"推定用途置換ルール!OSI3","v":0},{"$f":"推定用途置換ルール!OSJ3","v":0},{"$f":"推定用途置換ルール!OSK3","v":0},{"$f":"推定用途置換ルール!OSL3","v":0},{"$f":"推定用途置換ルール!OSM3","v":0},{"$f":"推定用途置換ルール!OSN3","v":0},{"$f":"推定用途置換ルール!OSO3","v":0},{"$f":"推定用途置換ルール!OSP3","v":0},{"$f":"推定用途置換ルール!OSQ3","v":0},{"$f":"推定用途置換ルール!OSR3","v":0},{"$f":"推定用途置換ルール!OSS3","v":0},{"$f":"推定用途置換ルール!OST3","v":0},{"$f":"推定用途置換ルール!OSU3","v":0},{"$f":"推定用途置換ルール!OSV3","v":0},{"$f":"推定用途置換ルール!OSW3","v":0},{"$f":"推定用途置換ルール!OSX3","v":0},{"$f":"推定用途置換ルール!OSY3","v":0},{"$f":"推定用途置換ルール!OSZ3","v":0},{"$f":"推定用途置換ルール!OTA3","v":0},{"$f":"推定用途置換ルール!OTB3","v":0},{"$f":"推定用途置換ルール!OTC3","v":0},{"$f":"推定用途置換ルール!OTD3","v":0},{"$f":"推定用途置換ルール!OTE3","v":0},{"$f":"推定用途置換ルール!OTF3","v":0},{"$f":"推定用途置換ルール!OTG3","v":0},{"$f":"推定用途置換ルール!OTH3","v":0},{"$f":"推定用途置換ルール!OTI3","v":0},{"$f":"推定用途置換ルール!OTJ3","v":0},{"$f":"推定用途置換ルール!OTK3","v":0},{"$f":"推定用途置換ルール!OTL3","v":0},{"$f":"推定用途置換ルール!OTM3","v":0},{"$f":"推定用途置換ルール!OTN3","v":0},{"$f":"推定用途置換ルール!OTO3","v":0},{"$f":"推定用途置換ルール!OTP3","v":0},{"$f":"推定用途置換ルール!OTQ3","v":0},{"$f":"推定用途置換ルール!OTR3","v":0},{"$f":"推定用途置換ルール!OTS3","v":0},{"$f":"推定用途置換ルール!OTT3","v":0},{"$f":"推定用途置換ルール!OTU3","v":0},{"$f":"推定用途置換ルール!OTV3","v":0},{"$f":"推定用途置換ルール!OTW3","v":0},{"$f":"推定用途置換ルール!OTX3","v":0},{"$f":"推定用途置換ルール!OTY3","v":0},{"$f":"推定用途置換ルール!OTZ3","v":0},{"$f":"推定用途置換ルール!OUA3","v":0},{"$f":"推定用途置換ルール!OUB3","v":0},{"$f":"推定用途置換ルール!OUC3","v":0},{"$f":"推定用途置換ルール!OUD3","v":0},{"$f":"推定用途置換ルール!OUE3","v":0},{"$f":"推定用途置換ルール!OUF3","v":0},{"$f":"推定用途置換ルール!OUG3","v":0},{"$f":"推定用途置換ルール!OUH3","v":0},{"$f":"推定用途置換ルール!OUI3","v":0},{"$f":"推定用途置換ルール!OUJ3","v":0},{"$f":"推定用途置換ルール!OUK3","v":0},{"$f":"推定用途置換ルール!OUL3","v":0},{"$f":"推定用途置換ルール!OUM3","v":0},{"$f":"推定用途置換ルール!OUN3","v":0},{"$f":"推定用途置換ルール!OUO3","v":0},{"$f":"推定用途置換ルール!OUP3","v":0},{"$f":"推定用途置換ルール!OUQ3","v":0},{"$f":"推定用途置換ルール!OUR3","v":0},{"$f":"推定用途置換ルール!OUS3","v":0},{"$f":"推定用途置換ルール!OUT3","v":0},{"$f":"推定用途置換ルール!OUU3","v":0},{"$f":"推定用途置換ルール!OUV3","v":0},{"$f":"推定用途置換ルール!OUW3","v":0},{"$f":"推定用途置換ルール!OUX3","v":0},{"$f":"推定用途置換ルール!OUY3","v":0},{"$f":"推定用途置換ルール!OUZ3","v":0},{"$f":"推定用途置換ルール!OVA3","v":0},{"$f":"推定用途置換ルール!OVB3","v":0},{"$f":"推定用途置換ルール!OVC3","v":0},{"$f":"推定用途置換ルール!OVD3","v":0},{"$f":"推定用途置換ルール!OVE3","v":0},{"$f":"推定用途置換ルール!OVF3","v":0},{"$f":"推定用途置換ルール!OVG3","v":0},{"$f":"推定用途置換ルール!OVH3","v":0},{"$f":"推定用途置換ルール!OVI3","v":0},{"$f":"推定用途置換ルール!OVJ3","v":0},{"$f":"推定用途置換ルール!OVK3","v":0},{"$f":"推定用途置換ルール!OVL3","v":0},{"$f":"推定用途置換ルール!OVM3","v":0},{"$f":"推定用途置換ルール!OVN3","v":0},{"$f":"推定用途置換ルール!OVO3","v":0},{"$f":"推定用途置換ルール!OVP3","v":0},{"$f":"推定用途置換ルール!OVQ3","v":0},{"$f":"推定用途置換ルール!OVR3","v":0},{"$f":"推定用途置換ルール!OVS3","v":0},{"$f":"推定用途置換ルール!OVT3","v":0},{"$f":"推定用途置換ルール!OVU3","v":0},{"$f":"推定用途置換ルール!OVV3","v":0},{"$f":"推定用途置換ルール!OVW3","v":0},{"$f":"推定用途置換ルール!OVX3","v":0},{"$f":"推定用途置換ルール!OVY3","v":0},{"$f":"推定用途置換ルール!OVZ3","v":0},{"$f":"推定用途置換ルール!OWA3","v":0},{"$f":"推定用途置換ルール!OWB3","v":0},{"$f":"推定用途置換ルール!OWC3","v":0},{"$f":"推定用途置換ルール!OWD3","v":0},{"$f":"推定用途置換ルール!OWE3","v":0},{"$f":"推定用途置換ルール!OWF3","v":0},{"$f":"推定用途置換ルール!OWG3","v":0},{"$f":"推定用途置換ルール!OWH3","v":0},{"$f":"推定用途置換ルール!OWI3","v":0},{"$f":"推定用途置換ルール!OWJ3","v":0},{"$f":"推定用途置換ルール!OWK3","v":0},{"$f":"推定用途置換ルール!OWL3","v":0},{"$f":"推定用途置換ルール!OWM3","v":0},{"$f":"推定用途置換ルール!OWN3","v":0},{"$f":"推定用途置換ルール!OWO3","v":0},{"$f":"推定用途置換ルール!OWP3","v":0},{"$f":"推定用途置換ルール!OWQ3","v":0},{"$f":"推定用途置換ルール!OWR3","v":0},{"$f":"推定用途置換ルール!OWS3","v":0},{"$f":"推定用途置換ルール!OWT3","v":0},{"$f":"推定用途置換ルール!OWU3","v":0},{"$f":"推定用途置換ルール!OWV3","v":0},{"$f":"推定用途置換ルール!OWW3","v":0},{"$f":"推定用途置換ルール!OWX3","v":0},{"$f":"推定用途置換ルール!OWY3","v":0},{"$f":"推定用途置換ルール!OWZ3","v":0},{"$f":"推定用途置換ルール!OXA3","v":0},{"$f":"推定用途置換ルール!OXB3","v":0},{"$f":"推定用途置換ルール!OXC3","v":0},{"$f":"推定用途置換ルール!OXD3","v":0},{"$f":"推定用途置換ルール!OXE3","v":0},{"$f":"推定用途置換ルール!OXF3","v":0},{"$f":"推定用途置換ルール!OXG3","v":0},{"$f":"推定用途置換ルール!OXH3","v":0},{"$f":"推定用途置換ルール!OXI3","v":0},{"$f":"推定用途置換ルール!OXJ3","v":0},{"$f":"推定用途置換ルール!OXK3","v":0},{"$f":"推定用途置換ルール!OXL3","v":0},{"$f":"推定用途置換ルール!OXM3","v":0},{"$f":"推定用途置換ルール!OXN3","v":0},{"$f":"推定用途置換ルール!OXO3","v":0},{"$f":"推定用途置換ルール!OXP3","v":0},{"$f":"推定用途置換ルール!OXQ3","v":0},{"$f":"推定用途置換ルール!OXR3","v":0},{"$f":"推定用途置換ルール!OXS3","v":0},{"$f":"推定用途置換ルール!OXT3","v":0},{"$f":"推定用途置換ルール!OXU3","v":0},{"$f":"推定用途置換ルール!OXV3","v":0},{"$f":"推定用途置換ルール!OXW3","v":0},{"$f":"推定用途置換ルール!OXX3","v":0},{"$f":"推定用途置換ルール!OXY3","v":0},{"$f":"推定用途置換ルール!OXZ3","v":0},{"$f":"推定用途置換ルール!OYA3","v":0},{"$f":"推定用途置換ルール!OYB3","v":0},{"$f":"推定用途置換ルール!OYC3","v":0},{"$f":"推定用途置換ルール!OYD3","v":0},{"$f":"推定用途置換ルール!OYE3","v":0},{"$f":"推定用途置換ルール!OYF3","v":0},{"$f":"推定用途置換ルール!OYG3","v":0},{"$f":"推定用途置換ルール!OYH3","v":0},{"$f":"推定用途置換ルール!OYI3","v":0},{"$f":"推定用途置換ルール!OYJ3","v":0},{"$f":"推定用途置換ルール!OYK3","v":0},{"$f":"推定用途置換ルール!OYL3","v":0},{"$f":"推定用途置換ルール!OYM3","v":0},{"$f":"推定用途置換ルール!OYN3","v":0},{"$f":"推定用途置換ルール!OYO3","v":0},{"$f":"推定用途置換ルール!OYP3","v":0},{"$f":"推定用途置換ルール!OYQ3","v":0},{"$f":"推定用途置換ルール!OYR3","v":0},{"$f":"推定用途置換ルール!OYS3","v":0},{"$f":"推定用途置換ルール!OYT3","v":0},{"$f":"推定用途置換ルール!OYU3","v":0},{"$f":"推定用途置換ルール!OYV3","v":0},{"$f":"推定用途置換ルール!OYW3","v":0},{"$f":"推定用途置換ルール!OYX3","v":0},{"$f":"推定用途置換ルール!OYY3","v":0},{"$f":"推定用途置換ルール!OYZ3","v":0},{"$f":"推定用途置換ルール!OZA3","v":0},{"$f":"推定用途置換ルール!OZB3","v":0},{"$f":"推定用途置換ルール!OZC3","v":0},{"$f":"推定用途置換ルール!OZD3","v":0},{"$f":"推定用途置換ルール!OZE3","v":0},{"$f":"推定用途置換ルール!OZF3","v":0},{"$f":"推定用途置換ルール!OZG3","v":0},{"$f":"推定用途置換ルール!OZH3","v":0},{"$f":"推定用途置換ルール!OZI3","v":0},{"$f":"推定用途置換ルール!OZJ3","v":0},{"$f":"推定用途置換ルール!OZK3","v":0},{"$f":"推定用途置換ルール!OZL3","v":0},{"$f":"推定用途置換ルール!OZM3","v":0},{"$f":"推定用途置換ルール!OZN3","v":0},{"$f":"推定用途置換ルール!OZO3","v":0},{"$f":"推定用途置換ルール!OZP3","v":0},{"$f":"推定用途置換ルール!OZQ3","v":0},{"$f":"推定用途置換ルール!OZR3","v":0},{"$f":"推定用途置換ルール!OZS3","v":0},{"$f":"推定用途置換ルール!OZT3","v":0},{"$f":"推定用途置換ルール!OZU3","v":0},{"$f":"推定用途置換ルール!OZV3","v":0},{"$f":"推定用途置換ルール!OZW3","v":0},{"$f":"推定用途置換ルール!OZX3","v":0},{"$f":"推定用途置換ルール!OZY3","v":0},{"$f":"推定用途置換ルール!OZZ3","v":0},{"$f":"推定用途置換ルール!PAA3","v":0},{"$f":"推定用途置換ルール!PAB3","v":0},{"$f":"推定用途置換ルール!PAC3","v":0},{"$f":"推定用途置換ルール!PAD3","v":0},{"$f":"推定用途置換ルール!PAE3","v":0},{"$f":"推定用途置換ルール!PAF3","v":0},{"$f":"推定用途置換ルール!PAG3","v":0},{"$f":"推定用途置換ルール!PAH3","v":0},{"$f":"推定用途置換ルール!PAI3","v":0},{"$f":"推定用途置換ルール!PAJ3","v":0},{"$f":"推定用途置換ルール!PAK3","v":0},{"$f":"推定用途置換ルール!PAL3","v":0},{"$f":"推定用途置換ルール!PAM3","v":0},{"$f":"推定用途置換ルール!PAN3","v":0},{"$f":"推定用途置換ルール!PAO3","v":0},{"$f":"推定用途置換ルール!PAP3","v":0},{"$f":"推定用途置換ルール!PAQ3","v":0},{"$f":"推定用途置換ルール!PAR3","v":0},{"$f":"推定用途置換ルール!PAS3","v":0},{"$f":"推定用途置換ルール!PAT3","v":0},{"$f":"推定用途置換ルール!PAU3","v":0},{"$f":"推定用途置換ルール!PAV3","v":0},{"$f":"推定用途置換ルール!PAW3","v":0},{"$f":"推定用途置換ルール!PAX3","v":0},{"$f":"推定用途置換ルール!PAY3","v":0},{"$f":"推定用途置換ルール!PAZ3","v":0},{"$f":"推定用途置換ルール!PBA3","v":0},{"$f":"推定用途置換ルール!PBB3","v":0},{"$f":"推定用途置換ルール!PBC3","v":0},{"$f":"推定用途置換ルール!PBD3","v":0},{"$f":"推定用途置換ルール!PBE3","v":0},{"$f":"推定用途置換ルール!PBF3","v":0},{"$f":"推定用途置換ルール!PBG3","v":0},{"$f":"推定用途置換ルール!PBH3","v":0},{"$f":"推定用途置換ルール!PBI3","v":0},{"$f":"推定用途置換ルール!PBJ3","v":0},{"$f":"推定用途置換ルール!PBK3","v":0},{"$f":"推定用途置換ルール!PBL3","v":0},{"$f":"推定用途置換ルール!PBM3","v":0},{"$f":"推定用途置換ルール!PBN3","v":0},{"$f":"推定用途置換ルール!PBO3","v":0},{"$f":"推定用途置換ルール!PBP3","v":0},{"$f":"推定用途置換ルール!PBQ3","v":0},{"$f":"推定用途置換ルール!PBR3","v":0},{"$f":"推定用途置換ルール!PBS3","v":0},{"$f":"推定用途置換ルール!PBT3","v":0},{"$f":"推定用途置換ルール!PBU3","v":0},{"$f":"推定用途置換ルール!PBV3","v":0},{"$f":"推定用途置換ルール!PBW3","v":0},{"$f":"推定用途置換ルール!PBX3","v":0},{"$f":"推定用途置換ルール!PBY3","v":0},{"$f":"推定用途置換ルール!PBZ3","v":0},{"$f":"推定用途置換ルール!PCA3","v":0},{"$f":"推定用途置換ルール!PCB3","v":0},{"$f":"推定用途置換ルール!PCC3","v":0},{"$f":"推定用途置換ルール!PCD3","v":0},{"$f":"推定用途置換ルール!PCE3","v":0},{"$f":"推定用途置換ルール!PCF3","v":0},{"$f":"推定用途置換ルール!PCG3","v":0},{"$f":"推定用途置換ルール!PCH3","v":0},{"$f":"推定用途置換ルール!PCI3","v":0},{"$f":"推定用途置換ルール!PCJ3","v":0},{"$f":"推定用途置換ルール!PCK3","v":0},{"$f":"推定用途置換ルール!PCL3","v":0},{"$f":"推定用途置換ルール!PCM3","v":0},{"$f":"推定用途置換ルール!PCN3","v":0},{"$f":"推定用途置換ルール!PCO3","v":0},{"$f":"推定用途置換ルール!PCP3","v":0},{"$f":"推定用途置換ルール!PCQ3","v":0},{"$f":"推定用途置換ルール!PCR3","v":0},{"$f":"推定用途置換ルール!PCS3","v":0},{"$f":"推定用途置換ルール!PCT3","v":0},{"$f":"推定用途置換ルール!PCU3","v":0},{"$f":"推定用途置換ルール!PCV3","v":0},{"$f":"推定用途置換ルール!PCW3","v":0},{"$f":"推定用途置換ルール!PCX3","v":0},{"$f":"推定用途置換ルール!PCY3","v":0},{"$f":"推定用途置換ルール!PCZ3","v":0},{"$f":"推定用途置換ルール!PDA3","v":0},{"$f":"推定用途置換ルール!PDB3","v":0},{"$f":"推定用途置換ルール!PDC3","v":0},{"$f":"推定用途置換ルール!PDD3","v":0},{"$f":"推定用途置換ルール!PDE3","v":0},{"$f":"推定用途置換ルール!PDF3","v":0},{"$f":"推定用途置換ルール!PDG3","v":0},{"$f":"推定用途置換ルール!PDH3","v":0},{"$f":"推定用途置換ルール!PDI3","v":0},{"$f":"推定用途置換ルール!PDJ3","v":0},{"$f":"推定用途置換ルール!PDK3","v":0},{"$f":"推定用途置換ルール!PDL3","v":0},{"$f":"推定用途置換ルール!PDM3","v":0},{"$f":"推定用途置換ルール!PDN3","v":0},{"$f":"推定用途置換ルール!PDO3","v":0},{"$f":"推定用途置換ルール!PDP3","v":0},{"$f":"推定用途置換ルール!PDQ3","v":0},{"$f":"推定用途置換ルール!PDR3","v":0},{"$f":"推定用途置換ルール!PDS3","v":0},{"$f":"推定用途置換ルール!PDT3","v":0},{"$f":"推定用途置換ルール!PDU3","v":0},{"$f":"推定用途置換ルール!PDV3","v":0},{"$f":"推定用途置換ルール!PDW3","v":0},{"$f":"推定用途置換ルール!PDX3","v":0},{"$f":"推定用途置換ルール!PDY3","v":0},{"$f":"推定用途置換ルール!PDZ3","v":0},{"$f":"推定用途置換ルール!PEA3","v":0},{"$f":"推定用途置換ルール!PEB3","v":0},{"$f":"推定用途置換ルール!PEC3","v":0},{"$f":"推定用途置換ルール!PED3","v":0},{"$f":"推定用途置換ルール!PEE3","v":0},{"$f":"推定用途置換ルール!PEF3","v":0},{"$f":"推定用途置換ルール!PEG3","v":0},{"$f":"推定用途置換ルール!PEH3","v":0},{"$f":"推定用途置換ルール!PEI3","v":0},{"$f":"推定用途置換ルール!PEJ3","v":0},{"$f":"推定用途置換ルール!PEK3","v":0},{"$f":"推定用途置換ルール!PEL3","v":0},{"$f":"推定用途置換ルール!PEM3","v":0},{"$f":"推定用途置換ルール!PEN3","v":0},{"$f":"推定用途置換ルール!PEO3","v":0},{"$f":"推定用途置換ルール!PEP3","v":0},{"$f":"推定用途置換ルール!PEQ3","v":0},{"$f":"推定用途置換ルール!PER3","v":0},{"$f":"推定用途置換ルール!PES3","v":0},{"$f":"推定用途置換ルール!PET3","v":0},{"$f":"推定用途置換ルール!PEU3","v":0},{"$f":"推定用途置換ルール!PEV3","v":0},{"$f":"推定用途置換ルール!PEW3","v":0},{"$f":"推定用途置換ルール!PEX3","v":0},{"$f":"推定用途置換ルール!PEY3","v":0},{"$f":"推定用途置換ルール!PEZ3","v":0},{"$f":"推定用途置換ルール!PFA3","v":0},{"$f":"推定用途置換ルール!PFB3","v":0},{"$f":"推定用途置換ルール!PFC3","v":0},{"$f":"推定用途置換ルール!PFD3","v":0},{"$f":"推定用途置換ルール!PFE3","v":0},{"$f":"推定用途置換ルール!PFF3","v":0},{"$f":"推定用途置換ルール!PFG3","v":0},{"$f":"推定用途置換ルール!PFH3","v":0},{"$f":"推定用途置換ルール!PFI3","v":0},{"$f":"推定用途置換ルール!PFJ3","v":0},{"$f":"推定用途置換ルール!PFK3","v":0},{"$f":"推定用途置換ルール!PFL3","v":0},{"$f":"推定用途置換ルール!PFM3","v":0},{"$f":"推定用途置換ルール!PFN3","v":0},{"$f":"推定用途置換ルール!PFO3","v":0},{"$f":"推定用途置換ルール!PFP3","v":0},{"$f":"推定用途置換ルール!PFQ3","v":0},{"$f":"推定用途置換ルール!PFR3","v":0},{"$f":"推定用途置換ルール!PFS3","v":0},{"$f":"推定用途置換ルール!PFT3","v":0},{"$f":"推定用途置換ルール!PFU3","v":0},{"$f":"推定用途置換ルール!PFV3","v":0},{"$f":"推定用途置換ルール!PFW3","v":0},{"$f":"推定用途置換ルール!PFX3","v":0},{"$f":"推定用途置換ルール!PFY3","v":0},{"$f":"推定用途置換ルール!PFZ3","v":0},{"$f":"推定用途置換ルール!PGA3","v":0},{"$f":"推定用途置換ルール!PGB3","v":0},{"$f":"推定用途置換ルール!PGC3","v":0},{"$f":"推定用途置換ルール!PGD3","v":0},{"$f":"推定用途置換ルール!PGE3","v":0},{"$f":"推定用途置換ルール!PGF3","v":0},{"$f":"推定用途置換ルール!PGG3","v":0},{"$f":"推定用途置換ルール!PGH3","v":0},{"$f":"推定用途置換ルール!PGI3","v":0},{"$f":"推定用途置換ルール!PGJ3","v":0},{"$f":"推定用途置換ルール!PGK3","v":0},{"$f":"推定用途置換ルール!PGL3","v":0},{"$f":"推定用途置換ルール!PGM3","v":0},{"$f":"推定用途置換ルール!PGN3","v":0},{"$f":"推定用途置換ルール!PGO3","v":0},{"$f":"推定用途置換ルール!PGP3","v":0},{"$f":"推定用途置換ルール!PGQ3","v":0},{"$f":"推定用途置換ルール!PGR3","v":0},{"$f":"推定用途置換ルール!PGS3","v":0},{"$f":"推定用途置換ルール!PGT3","v":0},{"$f":"推定用途置換ルール!PGU3","v":0},{"$f":"推定用途置換ルール!PGV3","v":0},{"$f":"推定用途置換ルール!PGW3","v":0},{"$f":"推定用途置換ルール!PGX3","v":0},{"$f":"推定用途置換ルール!PGY3","v":0},{"$f":"推定用途置換ルール!PGZ3","v":0},{"$f":"推定用途置換ルール!PHA3","v":0},{"$f":"推定用途置換ルール!PHB3","v":0},{"$f":"推定用途置換ルール!PHC3","v":0},{"$f":"推定用途置換ルール!PHD3","v":0},{"$f":"推定用途置換ルール!PHE3","v":0},{"$f":"推定用途置換ルール!PHF3","v":0},{"$f":"推定用途置換ルール!PHG3","v":0},{"$f":"推定用途置換ルール!PHH3","v":0},{"$f":"推定用途置換ルール!PHI3","v":0},{"$f":"推定用途置換ルール!PHJ3","v":0},{"$f":"推定用途置換ルール!PHK3","v":0},{"$f":"推定用途置換ルール!PHL3","v":0},{"$f":"推定用途置換ルール!PHM3","v":0},{"$f":"推定用途置換ルール!PHN3","v":0},{"$f":"推定用途置換ルール!PHO3","v":0},{"$f":"推定用途置換ルール!PHP3","v":0},{"$f":"推定用途置換ルール!PHQ3","v":0},{"$f":"推定用途置換ルール!PHR3","v":0},{"$f":"推定用途置換ルール!PHS3","v":0},{"$f":"推定用途置換ルール!PHT3","v":0},{"$f":"推定用途置換ルール!PHU3","v":0},{"$f":"推定用途置換ルール!PHV3","v":0},{"$f":"推定用途置換ルール!PHW3","v":0},{"$f":"推定用途置換ルール!PHX3","v":0},{"$f":"推定用途置換ルール!PHY3","v":0},{"$f":"推定用途置換ルール!PHZ3","v":0},{"$f":"推定用途置換ルール!PIA3","v":0},{"$f":"推定用途置換ルール!PIB3","v":0},{"$f":"推定用途置換ルール!PIC3","v":0},{"$f":"推定用途置換ルール!PID3","v":0},{"$f":"推定用途置換ルール!PIE3","v":0},{"$f":"推定用途置換ルール!PIF3","v":0},{"$f":"推定用途置換ルール!PIG3","v":0},{"$f":"推定用途置換ルール!PIH3","v":0},{"$f":"推定用途置換ルール!PII3","v":0},{"$f":"推定用途置換ルール!PIJ3","v":0},{"$f":"推定用途置換ルール!PIK3","v":0},{"$f":"推定用途置換ルール!PIL3","v":0},{"$f":"推定用途置換ルール!PIM3","v":0},{"$f":"推定用途置換ルール!PIN3","v":0},{"$f":"推定用途置換ルール!PIO3","v":0},{"$f":"推定用途置換ルール!PIP3","v":0},{"$f":"推定用途置換ルール!PIQ3","v":0},{"$f":"推定用途置換ルール!PIR3","v":0},{"$f":"推定用途置換ルール!PIS3","v":0},{"$f":"推定用途置換ルール!PIT3","v":0},{"$f":"推定用途置換ルール!PIU3","v":0},{"$f":"推定用途置換ルール!PIV3","v":0},{"$f":"推定用途置換ルール!PIW3","v":0},{"$f":"推定用途置換ルール!PIX3","v":0},{"$f":"推定用途置換ルール!PIY3","v":0},{"$f":"推定用途置換ルール!PIZ3","v":0},{"$f":"推定用途置換ルール!PJA3","v":0},{"$f":"推定用途置換ルール!PJB3","v":0},{"$f":"推定用途置換ルール!PJC3","v":0},{"$f":"推定用途置換ルール!PJD3","v":0},{"$f":"推定用途置換ルール!PJE3","v":0},{"$f":"推定用途置換ルール!PJF3","v":0},{"$f":"推定用途置換ルール!PJG3","v":0},{"$f":"推定用途置換ルール!PJH3","v":0},{"$f":"推定用途置換ルール!PJI3","v":0},{"$f":"推定用途置換ルール!PJJ3","v":0},{"$f":"推定用途置換ルール!PJK3","v":0},{"$f":"推定用途置換ルール!PJL3","v":0},{"$f":"推定用途置換ルール!PJM3","v":0},{"$f":"推定用途置換ルール!PJN3","v":0},{"$f":"推定用途置換ルール!PJO3","v":0},{"$f":"推定用途置換ルール!PJP3","v":0},{"$f":"推定用途置換ルール!PJQ3","v":0},{"$f":"推定用途置換ルール!PJR3","v":0},{"$f":"推定用途置換ルール!PJS3","v":0},{"$f":"推定用途置換ルール!PJT3","v":0},{"$f":"推定用途置換ルール!PJU3","v":0},{"$f":"推定用途置換ルール!PJV3","v":0},{"$f":"推定用途置換ルール!PJW3","v":0},{"$f":"推定用途置換ルール!PJX3","v":0},{"$f":"推定用途置換ルール!PJY3","v":0},{"$f":"推定用途置換ルール!PJZ3","v":0},{"$f":"推定用途置換ルール!PKA3","v":0},{"$f":"推定用途置換ルール!PKB3","v":0},{"$f":"推定用途置換ルール!PKC3","v":0},{"$f":"推定用途置換ルール!PKD3","v":0},{"$f":"推定用途置換ルール!PKE3","v":0},{"$f":"推定用途置換ルール!PKF3","v":0},{"$f":"推定用途置換ルール!PKG3","v":0},{"$f":"推定用途置換ルール!PKH3","v":0},{"$f":"推定用途置換ルール!PKI3","v":0},{"$f":"推定用途置換ルール!PKJ3","v":0},{"$f":"推定用途置換ルール!PKK3","v":0},{"$f":"推定用途置換ルール!PKL3","v":0},{"$f":"推定用途置換ルール!PKM3","v":0},{"$f":"推定用途置換ルール!PKN3","v":0},{"$f":"推定用途置換ルール!PKO3","v":0},{"$f":"推定用途置換ルール!PKP3","v":0},{"$f":"推定用途置換ルール!PKQ3","v":0},{"$f":"推定用途置換ルール!PKR3","v":0},{"$f":"推定用途置換ルール!PKS3","v":0},{"$f":"推定用途置換ルール!PKT3","v":0},{"$f":"推定用途置換ルール!PKU3","v":0},{"$f":"推定用途置換ルール!PKV3","v":0},{"$f":"推定用途置換ルール!PKW3","v":0},{"$f":"推定用途置換ルール!PKX3","v":0},{"$f":"推定用途置換ルール!PKY3","v":0},{"$f":"推定用途置換ルール!PKZ3","v":0},{"$f":"推定用途置換ルール!PLA3","v":0},{"$f":"推定用途置換ルール!PLB3","v":0},{"$f":"推定用途置換ルール!PLC3","v":0},{"$f":"推定用途置換ルール!PLD3","v":0},{"$f":"推定用途置換ルール!PLE3","v":0},{"$f":"推定用途置換ルール!PLF3","v":0},{"$f":"推定用途置換ルール!PLG3","v":0},{"$f":"推定用途置換ルール!PLH3","v":0},{"$f":"推定用途置換ルール!PLI3","v":0},{"$f":"推定用途置換ルール!PLJ3","v":0},{"$f":"推定用途置換ルール!PLK3","v":0},{"$f":"推定用途置換ルール!PLL3","v":0},{"$f":"推定用途置換ルール!PLM3","v":0},{"$f":"推定用途置換ルール!PLN3","v":0},{"$f":"推定用途置換ルール!PLO3","v":0},{"$f":"推定用途置換ルール!PLP3","v":0},{"$f":"推定用途置換ルール!PLQ3","v":0},{"$f":"推定用途置換ルール!PLR3","v":0},{"$f":"推定用途置換ルール!PLS3","v":0},{"$f":"推定用途置換ルール!PLT3","v":0},{"$f":"推定用途置換ルール!PLU3","v":0},{"$f":"推定用途置換ルール!PLV3","v":0},{"$f":"推定用途置換ルール!PLW3","v":0},{"$f":"推定用途置換ルール!PLX3","v":0},{"$f":"推定用途置換ルール!PLY3","v":0},{"$f":"推定用途置換ルール!PLZ3","v":0},{"$f":"推定用途置換ルール!PMA3","v":0},{"$f":"推定用途置換ルール!PMB3","v":0},{"$f":"推定用途置換ルール!PMC3","v":0},{"$f":"推定用途置換ルール!PMD3","v":0},{"$f":"推定用途置換ルール!PME3","v":0},{"$f":"推定用途置換ルール!PMF3","v":0},{"$f":"推定用途置換ルール!PMG3","v":0},{"$f":"推定用途置換ルール!PMH3","v":0},{"$f":"推定用途置換ルール!PMI3","v":0},{"$f":"推定用途置換ルール!PMJ3","v":0},{"$f":"推定用途置換ルール!PMK3","v":0},{"$f":"推定用途置換ルール!PML3","v":0},{"$f":"推定用途置換ルール!PMM3","v":0},{"$f":"推定用途置換ルール!PMN3","v":0},{"$f":"推定用途置換ルール!PMO3","v":0},{"$f":"推定用途置換ルール!PMP3","v":0},{"$f":"推定用途置換ルール!PMQ3","v":0},{"$f":"推定用途置換ルール!PMR3","v":0},{"$f":"推定用途置換ルール!PMS3","v":0},{"$f":"推定用途置換ルール!PMT3","v":0},{"$f":"推定用途置換ルール!PMU3","v":0},{"$f":"推定用途置換ルール!PMV3","v":0},{"$f":"推定用途置換ルール!PMW3","v":0},{"$f":"推定用途置換ルール!PMX3","v":0},{"$f":"推定用途置換ルール!PMY3","v":0},{"$f":"推定用途置換ルール!PMZ3","v":0},{"$f":"推定用途置換ルール!PNA3","v":0},{"$f":"推定用途置換ルール!PNB3","v":0},{"$f":"推定用途置換ルール!PNC3","v":0},{"$f":"推定用途置換ルール!PND3","v":0},{"$f":"推定用途置換ルール!PNE3","v":0},{"$f":"推定用途置換ルール!PNF3","v":0},{"$f":"推定用途置換ルール!PNG3","v":0},{"$f":"推定用途置換ルール!PNH3","v":0},{"$f":"推定用途置換ルール!PNI3","v":0},{"$f":"推定用途置換ルール!PNJ3","v":0},{"$f":"推定用途置換ルール!PNK3","v":0},{"$f":"推定用途置換ルール!PNL3","v":0},{"$f":"推定用途置換ルール!PNM3","v":0},{"$f":"推定用途置換ルール!PNN3","v":0},{"$f":"推定用途置換ルール!PNO3","v":0},{"$f":"推定用途置換ルール!PNP3","v":0},{"$f":"推定用途置換ルール!PNQ3","v":0},{"$f":"推定用途置換ルール!PNR3","v":0},{"$f":"推定用途置換ルール!PNS3","v":0},{"$f":"推定用途置換ルール!PNT3","v":0},{"$f":"推定用途置換ルール!PNU3","v":0},{"$f":"推定用途置換ルール!PNV3","v":0},{"$f":"推定用途置換ルール!PNW3","v":0},{"$f":"推定用途置換ルール!PNX3","v":0},{"$f":"推定用途置換ルール!PNY3","v":0},{"$f":"推定用途置換ルール!PNZ3","v":0},{"$f":"推定用途置換ルール!POA3","v":0},{"$f":"推定用途置換ルール!POB3","v":0},{"$f":"推定用途置換ルール!POC3","v":0},{"$f":"推定用途置換ルール!POD3","v":0},{"$f":"推定用途置換ルール!POE3","v":0},{"$f":"推定用途置換ルール!POF3","v":0},{"$f":"推定用途置換ルール!POG3","v":0},{"$f":"推定用途置換ルール!POH3","v":0},{"$f":"推定用途置換ルール!POI3","v":0},{"$f":"推定用途置換ルール!POJ3","v":0},{"$f":"推定用途置換ルール!POK3","v":0},{"$f":"推定用途置換ルール!POL3","v":0},{"$f":"推定用途置換ルール!POM3","v":0},{"$f":"推定用途置換ルール!PON3","v":0},{"$f":"推定用途置換ルール!POO3","v":0},{"$f":"推定用途置換ルール!POP3","v":0},{"$f":"推定用途置換ルール!POQ3","v":0},{"$f":"推定用途置換ルール!POR3","v":0},{"$f":"推定用途置換ルール!POS3","v":0},{"$f":"推定用途置換ルール!POT3","v":0},{"$f":"推定用途置換ルール!POU3","v":0},{"$f":"推定用途置換ルール!POV3","v":0},{"$f":"推定用途置換ルール!POW3","v":0},{"$f":"推定用途置換ルール!POX3","v":0},{"$f":"推定用途置換ルール!POY3","v":0},{"$f":"推定用途置換ルール!POZ3","v":0},{"$f":"推定用途置換ルール!PPA3","v":0},{"$f":"推定用途置換ルール!PPB3","v":0},{"$f":"推定用途置換ルール!PPC3","v":0},{"$f":"推定用途置換ルール!PPD3","v":0},{"$f":"推定用途置換ルール!PPE3","v":0},{"$f":"推定用途置換ルール!PPF3","v":0},{"$f":"推定用途置換ルール!PPG3","v":0},{"$f":"推定用途置換ルール!PPH3","v":0},{"$f":"推定用途置換ルール!PPI3","v":0},{"$f":"推定用途置換ルール!PPJ3","v":0},{"$f":"推定用途置換ルール!PPK3","v":0},{"$f":"推定用途置換ルール!PPL3","v":0},{"$f":"推定用途置換ルール!PPM3","v":0},{"$f":"推定用途置換ルール!PPN3","v":0},{"$f":"推定用途置換ルール!PPO3","v":0},{"$f":"推定用途置換ルール!PPP3","v":0},{"$f":"推定用途置換ルール!PPQ3","v":0},{"$f":"推定用途置換ルール!PPR3","v":0},{"$f":"推定用途置換ルール!PPS3","v":0},{"$f":"推定用途置換ルール!PPT3","v":0},{"$f":"推定用途置換ルール!PPU3","v":0},{"$f":"推定用途置換ルール!PPV3","v":0},{"$f":"推定用途置換ルール!PPW3","v":0},{"$f":"推定用途置換ルール!PPX3","v":0},{"$f":"推定用途置換ルール!PPY3","v":0},{"$f":"推定用途置換ルール!PPZ3","v":0},{"$f":"推定用途置換ルール!PQA3","v":0},{"$f":"推定用途置換ルール!PQB3","v":0},{"$f":"推定用途置換ルール!PQC3","v":0},{"$f":"推定用途置換ルール!PQD3","v":0},{"$f":"推定用途置換ルール!PQE3","v":0},{"$f":"推定用途置換ルール!PQF3","v":0},{"$f":"推定用途置換ルール!PQG3","v":0},{"$f":"推定用途置換ルール!PQH3","v":0},{"$f":"推定用途置換ルール!PQI3","v":0},{"$f":"推定用途置換ルール!PQJ3","v":0},{"$f":"推定用途置換ルール!PQK3","v":0},{"$f":"推定用途置換ルール!PQL3","v":0},{"$f":"推定用途置換ルール!PQM3","v":0},{"$f":"推定用途置換ルール!PQN3","v":0},{"$f":"推定用途置換ルール!PQO3","v":0},{"$f":"推定用途置換ルール!PQP3","v":0},{"$f":"推定用途置換ルール!PQQ3","v":0},{"$f":"推定用途置換ルール!PQR3","v":0},{"$f":"推定用途置換ルール!PQS3","v":0},{"$f":"推定用途置換ルール!PQT3","v":0},{"$f":"推定用途置換ルール!PQU3","v":0},{"$f":"推定用途置換ルール!PQV3","v":0},{"$f":"推定用途置換ルール!PQW3","v":0},{"$f":"推定用途置換ルール!PQX3","v":0},{"$f":"推定用途置換ルール!PQY3","v":0},{"$f":"推定用途置換ルール!PQZ3","v":0},{"$f":"推定用途置換ルール!PRA3","v":0},{"$f":"推定用途置換ルール!PRB3","v":0},{"$f":"推定用途置換ルール!PRC3","v":0},{"$f":"推定用途置換ルール!PRD3","v":0},{"$f":"推定用途置換ルール!PRE3","v":0},{"$f":"推定用途置換ルール!PRF3","v":0},{"$f":"推定用途置換ルール!PRG3","v":0},{"$f":"推定用途置換ルール!PRH3","v":0},{"$f":"推定用途置換ルール!PRI3","v":0},{"$f":"推定用途置換ルール!PRJ3","v":0},{"$f":"推定用途置換ルール!PRK3","v":0},{"$f":"推定用途置換ルール!PRL3","v":0},{"$f":"推定用途置換ルール!PRM3","v":0},{"$f":"推定用途置換ルール!PRN3","v":0},{"$f":"推定用途置換ルール!PRO3","v":0},{"$f":"推定用途置換ルール!PRP3","v":0},{"$f":"推定用途置換ルール!PRQ3","v":0},{"$f":"推定用途置換ルール!PRR3","v":0},{"$f":"推定用途置換ルール!PRS3","v":0},{"$f":"推定用途置換ルール!PRT3","v":0},{"$f":"推定用途置換ルール!PRU3","v":0},{"$f":"推定用途置換ルール!PRV3","v":0},{"$f":"推定用途置換ルール!PRW3","v":0},{"$f":"推定用途置換ルール!PRX3","v":0},{"$f":"推定用途置換ルール!PRY3","v":0},{"$f":"推定用途置換ルール!PRZ3","v":0},{"$f":"推定用途置換ルール!PSA3","v":0},{"$f":"推定用途置換ルール!PSB3","v":0},{"$f":"推定用途置換ルール!PSC3","v":0},{"$f":"推定用途置換ルール!PSD3","v":0},{"$f":"推定用途置換ルール!PSE3","v":0},{"$f":"推定用途置換ルール!PSF3","v":0},{"$f":"推定用途置換ルール!PSG3","v":0},{"$f":"推定用途置換ルール!PSH3","v":0},{"$f":"推定用途置換ルール!PSI3","v":0},{"$f":"推定用途置換ルール!PSJ3","v":0},{"$f":"推定用途置換ルール!PSK3","v":0},{"$f":"推定用途置換ルール!PSL3","v":0},{"$f":"推定用途置換ルール!PSM3","v":0},{"$f":"推定用途置換ルール!PSN3","v":0},{"$f":"推定用途置換ルール!PSO3","v":0},{"$f":"推定用途置換ルール!PSP3","v":0},{"$f":"推定用途置換ルール!PSQ3","v":0},{"$f":"推定用途置換ルール!PSR3","v":0},{"$f":"推定用途置換ルール!PSS3","v":0},{"$f":"推定用途置換ルール!PST3","v":0},{"$f":"推定用途置換ルール!PSU3","v":0},{"$f":"推定用途置換ルール!PSV3","v":0},{"$f":"推定用途置換ルール!PSW3","v":0},{"$f":"推定用途置換ルール!PSX3","v":0},{"$f":"推定用途置換ルール!PSY3","v":0},{"$f":"推定用途置換ルール!PSZ3","v":0},{"$f":"推定用途置換ルール!PTA3","v":0},{"$f":"推定用途置換ルール!PTB3","v":0},{"$f":"推定用途置換ルール!PTC3","v":0},{"$f":"推定用途置換ルール!PTD3","v":0},{"$f":"推定用途置換ルール!PTE3","v":0},{"$f":"推定用途置換ルール!PTF3","v":0},{"$f":"推定用途置換ルール!PTG3","v":0},{"$f":"推定用途置換ルール!PTH3","v":0},{"$f":"推定用途置換ルール!PTI3","v":0},{"$f":"推定用途置換ルール!PTJ3","v":0},{"$f":"推定用途置換ルール!PTK3","v":0},{"$f":"推定用途置換ルール!PTL3","v":0},{"$f":"推定用途置換ルール!PTM3","v":0},{"$f":"推定用途置換ルール!PTN3","v":0},{"$f":"推定用途置換ルール!PTO3","v":0},{"$f":"推定用途置換ルール!PTP3","v":0},{"$f":"推定用途置換ルール!PTQ3","v":0},{"$f":"推定用途置換ルール!PTR3","v":0},{"$f":"推定用途置換ルール!PTS3","v":0},{"$f":"推定用途置換ルール!PTT3","v":0},{"$f":"推定用途置換ルール!PTU3","v":0},{"$f":"推定用途置換ルール!PTV3","v":0},{"$f":"推定用途置換ルール!PTW3","v":0},{"$f":"推定用途置換ルール!PTX3","v":0},{"$f":"推定用途置換ルール!PTY3","v":0},{"$f":"推定用途置換ルール!PTZ3","v":0},{"$f":"推定用途置換ルール!PUA3","v":0},{"$f":"推定用途置換ルール!PUB3","v":0},{"$f":"推定用途置換ルール!PUC3","v":0},{"$f":"推定用途置換ルール!PUD3","v":0},{"$f":"推定用途置換ルール!PUE3","v":0},{"$f":"推定用途置換ルール!PUF3","v":0},{"$f":"推定用途置換ルール!PUG3","v":0},{"$f":"推定用途置換ルール!PUH3","v":0},{"$f":"推定用途置換ルール!PUI3","v":0},{"$f":"推定用途置換ルール!PUJ3","v":0},{"$f":"推定用途置換ルール!PUK3","v":0},{"$f":"推定用途置換ルール!PUL3","v":0},{"$f":"推定用途置換ルール!PUM3","v":0},{"$f":"推定用途置換ルール!PUN3","v":0},{"$f":"推定用途置換ルール!PUO3","v":0},{"$f":"推定用途置換ルール!PUP3","v":0},{"$f":"推定用途置換ルール!PUQ3","v":0},{"$f":"推定用途置換ルール!PUR3","v":0},{"$f":"推定用途置換ルール!PUS3","v":0},{"$f":"推定用途置換ルール!PUT3","v":0},{"$f":"推定用途置換ルール!PUU3","v":0},{"$f":"推定用途置換ルール!PUV3","v":0},{"$f":"推定用途置換ルール!PUW3","v":0},{"$f":"推定用途置換ルール!PUX3","v":0},{"$f":"推定用途置換ルール!PUY3","v":0},{"$f":"推定用途置換ルール!PUZ3","v":0},{"$f":"推定用途置換ルール!PVA3","v":0},{"$f":"推定用途置換ルール!PVB3","v":0},{"$f":"推定用途置換ルール!PVC3","v":0},{"$f":"推定用途置換ルール!PVD3","v":0},{"$f":"推定用途置換ルール!PVE3","v":0},{"$f":"推定用途置換ルール!PVF3","v":0},{"$f":"推定用途置換ルール!PVG3","v":0},{"$f":"推定用途置換ルール!PVH3","v":0},{"$f":"推定用途置換ルール!PVI3","v":0},{"$f":"推定用途置換ルール!PVJ3","v":0},{"$f":"推定用途置換ルール!PVK3","v":0},{"$f":"推定用途置換ルール!PVL3","v":0},{"$f":"推定用途置換ルール!PVM3","v":0},{"$f":"推定用途置換ルール!PVN3","v":0},{"$f":"推定用途置換ルール!PVO3","v":0},{"$f":"推定用途置換ルール!PVP3","v":0},{"$f":"推定用途置換ルール!PVQ3","v":0},{"$f":"推定用途置換ルール!PVR3","v":0},{"$f":"推定用途置換ルール!PVS3","v":0},{"$f":"推定用途置換ルール!PVT3","v":0},{"$f":"推定用途置換ルール!PVU3","v":0},{"$f":"推定用途置換ルール!PVV3","v":0},{"$f":"推定用途置換ルール!PVW3","v":0},{"$f":"推定用途置換ルール!PVX3","v":0},{"$f":"推定用途置換ルール!PVY3","v":0},{"$f":"推定用途置換ルール!PVZ3","v":0},{"$f":"推定用途置換ルール!PWA3","v":0},{"$f":"推定用途置換ルール!PWB3","v":0},{"$f":"推定用途置換ルール!PWC3","v":0},{"$f":"推定用途置換ルール!PWD3","v":0},{"$f":"推定用途置換ルール!PWE3","v":0},{"$f":"推定用途置換ルール!PWF3","v":0},{"$f":"推定用途置換ルール!PWG3","v":0},{"$f":"推定用途置換ルール!PWH3","v":0},{"$f":"推定用途置換ルール!PWI3","v":0},{"$f":"推定用途置換ルール!PWJ3","v":0},{"$f":"推定用途置換ルール!PWK3","v":0},{"$f":"推定用途置換ルール!PWL3","v":0},{"$f":"推定用途置換ルール!PWM3","v":0},{"$f":"推定用途置換ルール!PWN3","v":0},{"$f":"推定用途置換ルール!PWO3","v":0},{"$f":"推定用途置換ルール!PWP3","v":0},{"$f":"推定用途置換ルール!PWQ3","v":0},{"$f":"推定用途置換ルール!PWR3","v":0},{"$f":"推定用途置換ルール!PWS3","v":0},{"$f":"推定用途置換ルール!PWT3","v":0},{"$f":"推定用途置換ルール!PWU3","v":0},{"$f":"推定用途置換ルール!PWV3","v":0},{"$f":"推定用途置換ルール!PWW3","v":0},{"$f":"推定用途置換ルール!PWX3","v":0},{"$f":"推定用途置換ルール!PWY3","v":0},{"$f":"推定用途置換ルール!PWZ3","v":0},{"$f":"推定用途置換ルール!PXA3","v":0},{"$f":"推定用途置換ルール!PXB3","v":0},{"$f":"推定用途置換ルール!PXC3","v":0},{"$f":"推定用途置換ルール!PXD3","v":0},{"$f":"推定用途置換ルール!PXE3","v":0},{"$f":"推定用途置換ルール!PXF3","v":0},{"$f":"推定用途置換ルール!PXG3","v":0},{"$f":"推定用途置換ルール!PXH3","v":0},{"$f":"推定用途置換ルール!PXI3","v":0},{"$f":"推定用途置換ルール!PXJ3","v":0},{"$f":"推定用途置換ルール!PXK3","v":0},{"$f":"推定用途置換ルール!PXL3","v":0},{"$f":"推定用途置換ルール!PXM3","v":0},{"$f":"推定用途置換ルール!PXN3","v":0},{"$f":"推定用途置換ルール!PXO3","v":0},{"$f":"推定用途置換ルール!PXP3","v":0},{"$f":"推定用途置換ルール!PXQ3","v":0},{"$f":"推定用途置換ルール!PXR3","v":0},{"$f":"推定用途置換ルール!PXS3","v":0},{"$f":"推定用途置換ルール!PXT3","v":0},{"$f":"推定用途置換ルール!PXU3","v":0},{"$f":"推定用途置換ルール!PXV3","v":0},{"$f":"推定用途置換ルール!PXW3","v":0},{"$f":"推定用途置換ルール!PXX3","v":0},{"$f":"推定用途置換ルール!PXY3","v":0},{"$f":"推定用途置換ルール!PXZ3","v":0},{"$f":"推定用途置換ルール!PYA3","v":0},{"$f":"推定用途置換ルール!PYB3","v":0},{"$f":"推定用途置換ルール!PYC3","v":0},{"$f":"推定用途置換ルール!PYD3","v":0},{"$f":"推定用途置換ルール!PYE3","v":0},{"$f":"推定用途置換ルール!PYF3","v":0},{"$f":"推定用途置換ルール!PYG3","v":0},{"$f":"推定用途置換ルール!PYH3","v":0},{"$f":"推定用途置換ルール!PYI3","v":0},{"$f":"推定用途置換ルール!PYJ3","v":0},{"$f":"推定用途置換ルール!PYK3","v":0},{"$f":"推定用途置換ルール!PYL3","v":0},{"$f":"推定用途置換ルール!PYM3","v":0},{"$f":"推定用途置換ルール!PYN3","v":0},{"$f":"推定用途置換ルール!PYO3","v":0},{"$f":"推定用途置換ルール!PYP3","v":0},{"$f":"推定用途置換ルール!PYQ3","v":0},{"$f":"推定用途置換ルール!PYR3","v":0},{"$f":"推定用途置換ルール!PYS3","v":0},{"$f":"推定用途置換ルール!PYT3","v":0},{"$f":"推定用途置換ルール!PYU3","v":0},{"$f":"推定用途置換ルール!PYV3","v":0},{"$f":"推定用途置換ルール!PYW3","v":0},{"$f":"推定用途置換ルール!PYX3","v":0},{"$f":"推定用途置換ルール!PYY3","v":0},{"$f":"推定用途置換ルール!PYZ3","v":0},{"$f":"推定用途置換ルール!PZA3","v":0},{"$f":"推定用途置換ルール!PZB3","v":0},{"$f":"推定用途置換ルール!PZC3","v":0},{"$f":"推定用途置換ルール!PZD3","v":0},{"$f":"推定用途置換ルール!PZE3","v":0},{"$f":"推定用途置換ルール!PZF3","v":0},{"$f":"推定用途置換ルール!PZG3","v":0},{"$f":"推定用途置換ルール!PZH3","v":0},{"$f":"推定用途置換ルール!PZI3","v":0},{"$f":"推定用途置換ルール!PZJ3","v":0},{"$f":"推定用途置換ルール!PZK3","v":0},{"$f":"推定用途置換ルール!PZL3","v":0},{"$f":"推定用途置換ルール!PZM3","v":0},{"$f":"推定用途置換ルール!PZN3","v":0},{"$f":"推定用途置換ルール!PZO3","v":0},{"$f":"推定用途置換ルール!PZP3","v":0},{"$f":"推定用途置換ルール!PZQ3","v":0},{"$f":"推定用途置換ルール!PZR3","v":0},{"$f":"推定用途置換ルール!PZS3","v":0},{"$f":"推定用途置換ルール!PZT3","v":0},{"$f":"推定用途置換ルール!PZU3","v":0},{"$f":"推定用途置換ルール!PZV3","v":0},{"$f":"推定用途置換ルール!PZW3","v":0},{"$f":"推定用途置換ルール!PZX3","v":0},{"$f":"推定用途置換ルール!PZY3","v":0},{"$f":"推定用途置換ルール!PZZ3","v":0},{"$f":"推定用途置換ルール!QAA3","v":0},{"$f":"推定用途置換ルール!QAB3","v":0},{"$f":"推定用途置換ルール!QAC3","v":0},{"$f":"推定用途置換ルール!QAD3","v":0},{"$f":"推定用途置換ルール!QAE3","v":0},{"$f":"推定用途置換ルール!QAF3","v":0},{"$f":"推定用途置換ルール!QAG3","v":0},{"$f":"推定用途置換ルール!QAH3","v":0},{"$f":"推定用途置換ルール!QAI3","v":0},{"$f":"推定用途置換ルール!QAJ3","v":0},{"$f":"推定用途置換ルール!QAK3","v":0},{"$f":"推定用途置換ルール!QAL3","v":0},{"$f":"推定用途置換ルール!QAM3","v":0},{"$f":"推定用途置換ルール!QAN3","v":0},{"$f":"推定用途置換ルール!QAO3","v":0},{"$f":"推定用途置換ルール!QAP3","v":0},{"$f":"推定用途置換ルール!QAQ3","v":0},{"$f":"推定用途置換ルール!QAR3","v":0},{"$f":"推定用途置換ルール!QAS3","v":0},{"$f":"推定用途置換ルール!QAT3","v":0},{"$f":"推定用途置換ルール!QAU3","v":0},{"$f":"推定用途置換ルール!QAV3","v":0},{"$f":"推定用途置換ルール!QAW3","v":0},{"$f":"推定用途置換ルール!QAX3","v":0},{"$f":"推定用途置換ルール!QAY3","v":0},{"$f":"推定用途置換ルール!QAZ3","v":0},{"$f":"推定用途置換ルール!QBA3","v":0},{"$f":"推定用途置換ルール!QBB3","v":0},{"$f":"推定用途置換ルール!QBC3","v":0},{"$f":"推定用途置換ルール!QBD3","v":0},{"$f":"推定用途置換ルール!QBE3","v":0},{"$f":"推定用途置換ルール!QBF3","v":0},{"$f":"推定用途置換ルール!QBG3","v":0},{"$f":"推定用途置換ルール!QBH3","v":0},{"$f":"推定用途置換ルール!QBI3","v":0},{"$f":"推定用途置換ルール!QBJ3","v":0},{"$f":"推定用途置換ルール!QBK3","v":0},{"$f":"推定用途置換ルール!QBL3","v":0},{"$f":"推定用途置換ルール!QBM3","v":0},{"$f":"推定用途置換ルール!QBN3","v":0},{"$f":"推定用途置換ルール!QBO3","v":0},{"$f":"推定用途置換ルール!QBP3","v":0},{"$f":"推定用途置換ルール!QBQ3","v":0},{"$f":"推定用途置換ルール!QBR3","v":0},{"$f":"推定用途置換ルール!QBS3","v":0},{"$f":"推定用途置換ルール!QBT3","v":0},{"$f":"推定用途置換ルール!QBU3","v":0},{"$f":"推定用途置換ルール!QBV3","v":0},{"$f":"推定用途置換ルール!QBW3","v":0},{"$f":"推定用途置換ルール!QBX3","v":0},{"$f":"推定用途置換ルール!QBY3","v":0},{"$f":"推定用途置換ルール!QBZ3","v":0},{"$f":"推定用途置換ルール!QCA3","v":0},{"$f":"推定用途置換ルール!QCB3","v":0},{"$f":"推定用途置換ルール!QCC3","v":0},{"$f":"推定用途置換ルール!QCD3","v":0},{"$f":"推定用途置換ルール!QCE3","v":0},{"$f":"推定用途置換ルール!QCF3","v":0},{"$f":"推定用途置換ルール!QCG3","v":0},{"$f":"推定用途置換ルール!QCH3","v":0},{"$f":"推定用途置換ルール!QCI3","v":0},{"$f":"推定用途置換ルール!QCJ3","v":0},{"$f":"推定用途置換ルール!QCK3","v":0},{"$f":"推定用途置換ルール!QCL3","v":0},{"$f":"推定用途置換ルール!QCM3","v":0},{"$f":"推定用途置換ルール!QCN3","v":0},{"$f":"推定用途置換ルール!QCO3","v":0},{"$f":"推定用途置換ルール!QCP3","v":0},{"$f":"推定用途置換ルール!QCQ3","v":0},{"$f":"推定用途置換ルール!QCR3","v":0},{"$f":"推定用途置換ルール!QCS3","v":0},{"$f":"推定用途置換ルール!QCT3","v":0},{"$f":"推定用途置換ルール!QCU3","v":0},{"$f":"推定用途置換ルール!QCV3","v":0},{"$f":"推定用途置換ルール!QCW3","v":0},{"$f":"推定用途置換ルール!QCX3","v":0},{"$f":"推定用途置換ルール!QCY3","v":0},{"$f":"推定用途置換ルール!QCZ3","v":0},{"$f":"推定用途置換ルール!QDA3","v":0},{"$f":"推定用途置換ルール!QDB3","v":0},{"$f":"推定用途置換ルール!QDC3","v":0},{"$f":"推定用途置換ルール!QDD3","v":0},{"$f":"推定用途置換ルール!QDE3","v":0},{"$f":"推定用途置換ルール!QDF3","v":0},{"$f":"推定用途置換ルール!QDG3","v":0},{"$f":"推定用途置換ルール!QDH3","v":0},{"$f":"推定用途置換ルール!QDI3","v":0},{"$f":"推定用途置換ルール!QDJ3","v":0},{"$f":"推定用途置換ルール!QDK3","v":0},{"$f":"推定用途置換ルール!QDL3","v":0},{"$f":"推定用途置換ルール!QDM3","v":0},{"$f":"推定用途置換ルール!QDN3","v":0},{"$f":"推定用途置換ルール!QDO3","v":0},{"$f":"推定用途置換ルール!QDP3","v":0},{"$f":"推定用途置換ルール!QDQ3","v":0},{"$f":"推定用途置換ルール!QDR3","v":0},{"$f":"推定用途置換ルール!QDS3","v":0},{"$f":"推定用途置換ルール!QDT3","v":0},{"$f":"推定用途置換ルール!QDU3","v":0},{"$f":"推定用途置換ルール!QDV3","v":0},{"$f":"推定用途置換ルール!QDW3","v":0},{"$f":"推定用途置換ルール!QDX3","v":0},{"$f":"推定用途置換ルール!QDY3","v":0},{"$f":"推定用途置換ルール!QDZ3","v":0},{"$f":"推定用途置換ルール!QEA3","v":0},{"$f":"推定用途置換ルール!QEB3","v":0},{"$f":"推定用途置換ルール!QEC3","v":0},{"$f":"推定用途置換ルール!QED3","v":0},{"$f":"推定用途置換ルール!QEE3","v":0},{"$f":"推定用途置換ルール!QEF3","v":0},{"$f":"推定用途置換ルール!QEG3","v":0},{"$f":"推定用途置換ルール!QEH3","v":0},{"$f":"推定用途置換ルール!QEI3","v":0},{"$f":"推定用途置換ルール!QEJ3","v":0},{"$f":"推定用途置換ルール!QEK3","v":0},{"$f":"推定用途置換ルール!QEL3","v":0},{"$f":"推定用途置換ルール!QEM3","v":0},{"$f":"推定用途置換ルール!QEN3","v":0},{"$f":"推定用途置換ルール!QEO3","v":0},{"$f":"推定用途置換ルール!QEP3","v":0},{"$f":"推定用途置換ルール!QEQ3","v":0},{"$f":"推定用途置換ルール!QER3","v":0},{"$f":"推定用途置換ルール!QES3","v":0},{"$f":"推定用途置換ルール!QET3","v":0},{"$f":"推定用途置換ルール!QEU3","v":0},{"$f":"推定用途置換ルール!QEV3","v":0},{"$f":"推定用途置換ルール!QEW3","v":0},{"$f":"推定用途置換ルール!QEX3","v":0},{"$f":"推定用途置換ルール!QEY3","v":0},{"$f":"推定用途置換ルール!QEZ3","v":0},{"$f":"推定用途置換ルール!QFA3","v":0},{"$f":"推定用途置換ルール!QFB3","v":0},{"$f":"推定用途置換ルール!QFC3","v":0},{"$f":"推定用途置換ルール!QFD3","v":0},{"$f":"推定用途置換ルール!QFE3","v":0},{"$f":"推定用途置換ルール!QFF3","v":0},{"$f":"推定用途置換ルール!QFG3","v":0},{"$f":"推定用途置換ルール!QFH3","v":0},{"$f":"推定用途置換ルール!QFI3","v":0},{"$f":"推定用途置換ルール!QFJ3","v":0},{"$f":"推定用途置換ルール!QFK3","v":0},{"$f":"推定用途置換ルール!QFL3","v":0},{"$f":"推定用途置換ルール!QFM3","v":0},{"$f":"推定用途置換ルール!QFN3","v":0},{"$f":"推定用途置換ルール!QFO3","v":0},{"$f":"推定用途置換ルール!QFP3","v":0},{"$f":"推定用途置換ルール!QFQ3","v":0},{"$f":"推定用途置換ルール!QFR3","v":0},{"$f":"推定用途置換ルール!QFS3","v":0},{"$f":"推定用途置換ルール!QFT3","v":0},{"$f":"推定用途置換ルール!QFU3","v":0},{"$f":"推定用途置換ルール!QFV3","v":0},{"$f":"推定用途置換ルール!QFW3","v":0},{"$f":"推定用途置換ルール!QFX3","v":0},{"$f":"推定用途置換ルール!QFY3","v":0},{"$f":"推定用途置換ルール!QFZ3","v":0},{"$f":"推定用途置換ルール!QGA3","v":0},{"$f":"推定用途置換ルール!QGB3","v":0},{"$f":"推定用途置換ルール!QGC3","v":0},{"$f":"推定用途置換ルール!QGD3","v":0},{"$f":"推定用途置換ルール!QGE3","v":0},{"$f":"推定用途置換ルール!QGF3","v":0},{"$f":"推定用途置換ルール!QGG3","v":0},{"$f":"推定用途置換ルール!QGH3","v":0},{"$f":"推定用途置換ルール!QGI3","v":0},{"$f":"推定用途置換ルール!QGJ3","v":0},{"$f":"推定用途置換ルール!QGK3","v":0},{"$f":"推定用途置換ルール!QGL3","v":0},{"$f":"推定用途置換ルール!QGM3","v":0},{"$f":"推定用途置換ルール!QGN3","v":0},{"$f":"推定用途置換ルール!QGO3","v":0},{"$f":"推定用途置換ルール!QGP3","v":0},{"$f":"推定用途置換ルール!QGQ3","v":0},{"$f":"推定用途置換ルール!QGR3","v":0},{"$f":"推定用途置換ルール!QGS3","v":0},{"$f":"推定用途置換ルール!QGT3","v":0},{"$f":"推定用途置換ルール!QGU3","v":0},{"$f":"推定用途置換ルール!QGV3","v":0},{"$f":"推定用途置換ルール!QGW3","v":0},{"$f":"推定用途置換ルール!QGX3","v":0},{"$f":"推定用途置換ルール!QGY3","v":0},{"$f":"推定用途置換ルール!QGZ3","v":0},{"$f":"推定用途置換ルール!QHA3","v":0},{"$f":"推定用途置換ルール!QHB3","v":0},{"$f":"推定用途置換ルール!QHC3","v":0},{"$f":"推定用途置換ルール!QHD3","v":0},{"$f":"推定用途置換ルール!QHE3","v":0},{"$f":"推定用途置換ルール!QHF3","v":0},{"$f":"推定用途置換ルール!QHG3","v":0},{"$f":"推定用途置換ルール!QHH3","v":0},{"$f":"推定用途置換ルール!QHI3","v":0},{"$f":"推定用途置換ルール!QHJ3","v":0},{"$f":"推定用途置換ルール!QHK3","v":0},{"$f":"推定用途置換ルール!QHL3","v":0},{"$f":"推定用途置換ルール!QHM3","v":0},{"$f":"推定用途置換ルール!QHN3","v":0},{"$f":"推定用途置換ルール!QHO3","v":0},{"$f":"推定用途置換ルール!QHP3","v":0},{"$f":"推定用途置換ルール!QHQ3","v":0},{"$f":"推定用途置換ルール!QHR3","v":0},{"$f":"推定用途置換ルール!QHS3","v":0},{"$f":"推定用途置換ルール!QHT3","v":0},{"$f":"推定用途置換ルール!QHU3","v":0},{"$f":"推定用途置換ルール!QHV3","v":0},{"$f":"推定用途置換ルール!QHW3","v":0},{"$f":"推定用途置換ルール!QHX3","v":0},{"$f":"推定用途置換ルール!QHY3","v":0},{"$f":"推定用途置換ルール!QHZ3","v":0},{"$f":"推定用途置換ルール!QIA3","v":0},{"$f":"推定用途置換ルール!QIB3","v":0},{"$f":"推定用途置換ルール!QIC3","v":0},{"$f":"推定用途置換ルール!QID3","v":0},{"$f":"推定用途置換ルール!QIE3","v":0},{"$f":"推定用途置換ルール!QIF3","v":0},{"$f":"推定用途置換ルール!QIG3","v":0},{"$f":"推定用途置換ルール!QIH3","v":0},{"$f":"推定用途置換ルール!QII3","v":0},{"$f":"推定用途置換ルール!QIJ3","v":0},{"$f":"推定用途置換ルール!QIK3","v":0},{"$f":"推定用途置換ルール!QIL3","v":0},{"$f":"推定用途置換ルール!QIM3","v":0},{"$f":"推定用途置換ルール!QIN3","v":0},{"$f":"推定用途置換ルール!QIO3","v":0},{"$f":"推定用途置換ルール!QIP3","v":0},{"$f":"推定用途置換ルール!QIQ3","v":0},{"$f":"推定用途置換ルール!QIR3","v":0},{"$f":"推定用途置換ルール!QIS3","v":0},{"$f":"推定用途置換ルール!QIT3","v":0},{"$f":"推定用途置換ルール!QIU3","v":0},{"$f":"推定用途置換ルール!QIV3","v":0},{"$f":"推定用途置換ルール!QIW3","v":0},{"$f":"推定用途置換ルール!QIX3","v":0},{"$f":"推定用途置換ルール!QIY3","v":0},{"$f":"推定用途置換ルール!QIZ3","v":0},{"$f":"推定用途置換ルール!QJA3","v":0},{"$f":"推定用途置換ルール!QJB3","v":0},{"$f":"推定用途置換ルール!QJC3","v":0},{"$f":"推定用途置換ルール!QJD3","v":0},{"$f":"推定用途置換ルール!QJE3","v":0},{"$f":"推定用途置換ルール!QJF3","v":0},{"$f":"推定用途置換ルール!QJG3","v":0},{"$f":"推定用途置換ルール!QJH3","v":0},{"$f":"推定用途置換ルール!QJI3","v":0},{"$f":"推定用途置換ルール!QJJ3","v":0},{"$f":"推定用途置換ルール!QJK3","v":0},{"$f":"推定用途置換ルール!QJL3","v":0},{"$f":"推定用途置換ルール!QJM3","v":0},{"$f":"推定用途置換ルール!QJN3","v":0},{"$f":"推定用途置換ルール!QJO3","v":0},{"$f":"推定用途置換ルール!QJP3","v":0},{"$f":"推定用途置換ルール!QJQ3","v":0},{"$f":"推定用途置換ルール!QJR3","v":0},{"$f":"推定用途置換ルール!QJS3","v":0},{"$f":"推定用途置換ルール!QJT3","v":0},{"$f":"推定用途置換ルール!QJU3","v":0},{"$f":"推定用途置換ルール!QJV3","v":0},{"$f":"推定用途置換ルール!QJW3","v":0},{"$f":"推定用途置換ルール!QJX3","v":0},{"$f":"推定用途置換ルール!QJY3","v":0},{"$f":"推定用途置換ルール!QJZ3","v":0},{"$f":"推定用途置換ルール!QKA3","v":0},{"$f":"推定用途置換ルール!QKB3","v":0},{"$f":"推定用途置換ルール!QKC3","v":0},{"$f":"推定用途置換ルール!QKD3","v":0},{"$f":"推定用途置換ルール!QKE3","v":0},{"$f":"推定用途置換ルール!QKF3","v":0},{"$f":"推定用途置換ルール!QKG3","v":0},{"$f":"推定用途置換ルール!QKH3","v":0},{"$f":"推定用途置換ルール!QKI3","v":0},{"$f":"推定用途置換ルール!QKJ3","v":0},{"$f":"推定用途置換ルール!QKK3","v":0},{"$f":"推定用途置換ルール!QKL3","v":0},{"$f":"推定用途置換ルール!QKM3","v":0},{"$f":"推定用途置換ルール!QKN3","v":0},{"$f":"推定用途置換ルール!QKO3","v":0},{"$f":"推定用途置換ルール!QKP3","v":0},{"$f":"推定用途置換ルール!QKQ3","v":0},{"$f":"推定用途置換ルール!QKR3","v":0},{"$f":"推定用途置換ルール!QKS3","v":0},{"$f":"推定用途置換ルール!QKT3","v":0},{"$f":"推定用途置換ルール!QKU3","v":0},{"$f":"推定用途置換ルール!QKV3","v":0},{"$f":"推定用途置換ルール!QKW3","v":0},{"$f":"推定用途置換ルール!QKX3","v":0},{"$f":"推定用途置換ルール!QKY3","v":0},{"$f":"推定用途置換ルール!QKZ3","v":0},{"$f":"推定用途置換ルール!QLA3","v":0},{"$f":"推定用途置換ルール!QLB3","v":0},{"$f":"推定用途置換ルール!QLC3","v":0},{"$f":"推定用途置換ルール!QLD3","v":0},{"$f":"推定用途置換ルール!QLE3","v":0},{"$f":"推定用途置換ルール!QLF3","v":0},{"$f":"推定用途置換ルール!QLG3","v":0},{"$f":"推定用途置換ルール!QLH3","v":0},{"$f":"推定用途置換ルール!QLI3","v":0},{"$f":"推定用途置換ルール!QLJ3","v":0},{"$f":"推定用途置換ルール!QLK3","v":0},{"$f":"推定用途置換ルール!QLL3","v":0},{"$f":"推定用途置換ルール!QLM3","v":0},{"$f":"推定用途置換ルール!QLN3","v":0},{"$f":"推定用途置換ルール!QLO3","v":0},{"$f":"推定用途置換ルール!QLP3","v":0},{"$f":"推定用途置換ルール!QLQ3","v":0},{"$f":"推定用途置換ルール!QLR3","v":0},{"$f":"推定用途置換ルール!QLS3","v":0},{"$f":"推定用途置換ルール!QLT3","v":0},{"$f":"推定用途置換ルール!QLU3","v":0},{"$f":"推定用途置換ルール!QLV3","v":0},{"$f":"推定用途置換ルール!QLW3","v":0},{"$f":"推定用途置換ルール!QLX3","v":0},{"$f":"推定用途置換ルール!QLY3","v":0},{"$f":"推定用途置換ルール!QLZ3","v":0},{"$f":"推定用途置換ルール!QMA3","v":0},{"$f":"推定用途置換ルール!QMB3","v":0},{"$f":"推定用途置換ルール!QMC3","v":0},{"$f":"推定用途置換ルール!QMD3","v":0},{"$f":"推定用途置換ルール!QME3","v":0},{"$f":"推定用途置換ルール!QMF3","v":0},{"$f":"推定用途置換ルール!QMG3","v":0},{"$f":"推定用途置換ルール!QMH3","v":0},{"$f":"推定用途置換ルール!QMI3","v":0},{"$f":"推定用途置換ルール!QMJ3","v":0},{"$f":"推定用途置換ルール!QMK3","v":0},{"$f":"推定用途置換ルール!QML3","v":0},{"$f":"推定用途置換ルール!QMM3","v":0},{"$f":"推定用途置換ルール!QMN3","v":0},{"$f":"推定用途置換ルール!QMO3","v":0},{"$f":"推定用途置換ルール!QMP3","v":0},{"$f":"推定用途置換ルール!QMQ3","v":0},{"$f":"推定用途置換ルール!QMR3","v":0},{"$f":"推定用途置換ルール!QMS3","v":0},{"$f":"推定用途置換ルール!QMT3","v":0},{"$f":"推定用途置換ルール!QMU3","v":0},{"$f":"推定用途置換ルール!QMV3","v":0},{"$f":"推定用途置換ルール!QMW3","v":0},{"$f":"推定用途置換ルール!QMX3","v":0},{"$f":"推定用途置換ルール!QMY3","v":0},{"$f":"推定用途置換ルール!QMZ3","v":0},{"$f":"推定用途置換ルール!QNA3","v":0},{"$f":"推定用途置換ルール!QNB3","v":0},{"$f":"推定用途置換ルール!QNC3","v":0},{"$f":"推定用途置換ルール!QND3","v":0},{"$f":"推定用途置換ルール!QNE3","v":0},{"$f":"推定用途置換ルール!QNF3","v":0},{"$f":"推定用途置換ルール!QNG3","v":0},{"$f":"推定用途置換ルール!QNH3","v":0},{"$f":"推定用途置換ルール!QNI3","v":0},{"$f":"推定用途置換ルール!QNJ3","v":0},{"$f":"推定用途置換ルール!QNK3","v":0},{"$f":"推定用途置換ルール!QNL3","v":0},{"$f":"推定用途置換ルール!QNM3","v":0},{"$f":"推定用途置換ルール!QNN3","v":0},{"$f":"推定用途置換ルール!QNO3","v":0},{"$f":"推定用途置換ルール!QNP3","v":0},{"$f":"推定用途置換ルール!QNQ3","v":0},{"$f":"推定用途置換ルール!QNR3","v":0},{"$f":"推定用途置換ルール!QNS3","v":0},{"$f":"推定用途置換ルール!QNT3","v":0},{"$f":"推定用途置換ルール!QNU3","v":0},{"$f":"推定用途置換ルール!QNV3","v":0},{"$f":"推定用途置換ルール!QNW3","v":0},{"$f":"推定用途置換ルール!QNX3","v":0},{"$f":"推定用途置換ルール!QNY3","v":0},{"$f":"推定用途置換ルール!QNZ3","v":0},{"$f":"推定用途置換ルール!QOA3","v":0},{"$f":"推定用途置換ルール!QOB3","v":0},{"$f":"推定用途置換ルール!QOC3","v":0},{"$f":"推定用途置換ルール!QOD3","v":0},{"$f":"推定用途置換ルール!QOE3","v":0},{"$f":"推定用途置換ルール!QOF3","v":0},{"$f":"推定用途置換ルール!QOG3","v":0},{"$f":"推定用途置換ルール!QOH3","v":0},{"$f":"推定用途置換ルール!QOI3","v":0},{"$f":"推定用途置換ルール!QOJ3","v":0},{"$f":"推定用途置換ルール!QOK3","v":0},{"$f":"推定用途置換ルール!QOL3","v":0},{"$f":"推定用途置換ルール!QOM3","v":0},{"$f":"推定用途置換ルール!QON3","v":0},{"$f":"推定用途置換ルール!QOO3","v":0},{"$f":"推定用途置換ルール!QOP3","v":0},{"$f":"推定用途置換ルール!QOQ3","v":0},{"$f":"推定用途置換ルール!QOR3","v":0},{"$f":"推定用途置換ルール!QOS3","v":0},{"$f":"推定用途置換ルール!QOT3","v":0},{"$f":"推定用途置換ルール!QOU3","v":0},{"$f":"推定用途置換ルール!QOV3","v":0},{"$f":"推定用途置換ルール!QOW3","v":0},{"$f":"推定用途置換ルール!QOX3","v":0},{"$f":"推定用途置換ルール!QOY3","v":0},{"$f":"推定用途置換ルール!QOZ3","v":0},{"$f":"推定用途置換ルール!QPA3","v":0},{"$f":"推定用途置換ルール!QPB3","v":0},{"$f":"推定用途置換ルール!QPC3","v":0},{"$f":"推定用途置換ルール!QPD3","v":0},{"$f":"推定用途置換ルール!QPE3","v":0},{"$f":"推定用途置換ルール!QPF3","v":0},{"$f":"推定用途置換ルール!QPG3","v":0},{"$f":"推定用途置換ルール!QPH3","v":0},{"$f":"推定用途置換ルール!QPI3","v":0},{"$f":"推定用途置換ルール!QPJ3","v":0},{"$f":"推定用途置換ルール!QPK3","v":0},{"$f":"推定用途置換ルール!QPL3","v":0},{"$f":"推定用途置換ルール!QPM3","v":0},{"$f":"推定用途置換ルール!QPN3","v":0},{"$f":"推定用途置換ルール!QPO3","v":0},{"$f":"推定用途置換ルール!QPP3","v":0},{"$f":"推定用途置換ルール!QPQ3","v":0},{"$f":"推定用途置換ルール!QPR3","v":0},{"$f":"推定用途置換ルール!QPS3","v":0},{"$f":"推定用途置換ルール!QPT3","v":0},{"$f":"推定用途置換ルール!QPU3","v":0},{"$f":"推定用途置換ルール!QPV3","v":0},{"$f":"推定用途置換ルール!QPW3","v":0},{"$f":"推定用途置換ルール!QPX3","v":0},{"$f":"推定用途置換ルール!QPY3","v":0},{"$f":"推定用途置換ルール!QPZ3","v":0},{"$f":"推定用途置換ルール!QQA3","v":0},{"$f":"推定用途置換ルール!QQB3","v":0},{"$f":"推定用途置換ルール!QQC3","v":0},{"$f":"推定用途置換ルール!QQD3","v":0},{"$f":"推定用途置換ルール!QQE3","v":0},{"$f":"推定用途置換ルール!QQF3","v":0},{"$f":"推定用途置換ルール!QQG3","v":0},{"$f":"推定用途置換ルール!QQH3","v":0},{"$f":"推定用途置換ルール!QQI3","v":0},{"$f":"推定用途置換ルール!QQJ3","v":0},{"$f":"推定用途置換ルール!QQK3","v":0},{"$f":"推定用途置換ルール!QQL3","v":0},{"$f":"推定用途置換ルール!QQM3","v":0},{"$f":"推定用途置換ルール!QQN3","v":0},{"$f":"推定用途置換ルール!QQO3","v":0},{"$f":"推定用途置換ルール!QQP3","v":0},{"$f":"推定用途置換ルール!QQQ3","v":0},{"$f":"推定用途置換ルール!QQR3","v":0},{"$f":"推定用途置換ルール!QQS3","v":0},{"$f":"推定用途置換ルール!QQT3","v":0},{"$f":"推定用途置換ルール!QQU3","v":0},{"$f":"推定用途置換ルール!QQV3","v":0},{"$f":"推定用途置換ルール!QQW3","v":0},{"$f":"推定用途置換ルール!QQX3","v":0},{"$f":"推定用途置換ルール!QQY3","v":0},{"$f":"推定用途置換ルール!QQZ3","v":0},{"$f":"推定用途置換ルール!QRA3","v":0},{"$f":"推定用途置換ルール!QRB3","v":0},{"$f":"推定用途置換ルール!QRC3","v":0},{"$f":"推定用途置換ルール!QRD3","v":0},{"$f":"推定用途置換ルール!QRE3","v":0},{"$f":"推定用途置換ルール!QRF3","v":0},{"$f":"推定用途置換ルール!QRG3","v":0},{"$f":"推定用途置換ルール!QRH3","v":0},{"$f":"推定用途置換ルール!QRI3","v":0},{"$f":"推定用途置換ルール!QRJ3","v":0},{"$f":"推定用途置換ルール!QRK3","v":0},{"$f":"推定用途置換ルール!QRL3","v":0},{"$f":"推定用途置換ルール!QRM3","v":0},{"$f":"推定用途置換ルール!QRN3","v":0},{"$f":"推定用途置換ルール!QRO3","v":0},{"$f":"推定用途置換ルール!QRP3","v":0},{"$f":"推定用途置換ルール!QRQ3","v":0},{"$f":"推定用途置換ルール!QRR3","v":0},{"$f":"推定用途置換ルール!QRS3","v":0},{"$f":"推定用途置換ルール!QRT3","v":0},{"$f":"推定用途置換ルール!QRU3","v":0},{"$f":"推定用途置換ルール!QRV3","v":0},{"$f":"推定用途置換ルール!QRW3","v":0},{"$f":"推定用途置換ルール!QRX3","v":0},{"$f":"推定用途置換ルール!QRY3","v":0},{"$f":"推定用途置換ルール!QRZ3","v":0},{"$f":"推定用途置換ルール!QSA3","v":0},{"$f":"推定用途置換ルール!QSB3","v":0},{"$f":"推定用途置換ルール!QSC3","v":0},{"$f":"推定用途置換ルール!QSD3","v":0},{"$f":"推定用途置換ルール!QSE3","v":0},{"$f":"推定用途置換ルール!QSF3","v":0},{"$f":"推定用途置換ルール!QSG3","v":0},{"$f":"推定用途置換ルール!QSH3","v":0},{"$f":"推定用途置換ルール!QSI3","v":0},{"$f":"推定用途置換ルール!QSJ3","v":0},{"$f":"推定用途置換ルール!QSK3","v":0},{"$f":"推定用途置換ルール!QSL3","v":0},{"$f":"推定用途置換ルール!QSM3","v":0},{"$f":"推定用途置換ルール!QSN3","v":0},{"$f":"推定用途置換ルール!QSO3","v":0},{"$f":"推定用途置換ルール!QSP3","v":0},{"$f":"推定用途置換ルール!QSQ3","v":0},{"$f":"推定用途置換ルール!QSR3","v":0},{"$f":"推定用途置換ルール!QSS3","v":0},{"$f":"推定用途置換ルール!QST3","v":0},{"$f":"推定用途置換ルール!QSU3","v":0},{"$f":"推定用途置換ルール!QSV3","v":0},{"$f":"推定用途置換ルール!QSW3","v":0},{"$f":"推定用途置換ルール!QSX3","v":0},{"$f":"推定用途置換ルール!QSY3","v":0},{"$f":"推定用途置換ルール!QSZ3","v":0},{"$f":"推定用途置換ルール!QTA3","v":0},{"$f":"推定用途置換ルール!QTB3","v":0},{"$f":"推定用途置換ルール!QTC3","v":0},{"$f":"推定用途置換ルール!QTD3","v":0},{"$f":"推定用途置換ルール!QTE3","v":0},{"$f":"推定用途置換ルール!QTF3","v":0},{"$f":"推定用途置換ルール!QTG3","v":0},{"$f":"推定用途置換ルール!QTH3","v":0},{"$f":"推定用途置換ルール!QTI3","v":0},{"$f":"推定用途置換ルール!QTJ3","v":0},{"$f":"推定用途置換ルール!QTK3","v":0},{"$f":"推定用途置換ルール!QTL3","v":0},{"$f":"推定用途置換ルール!QTM3","v":0},{"$f":"推定用途置換ルール!QTN3","v":0},{"$f":"推定用途置換ルール!QTO3","v":0},{"$f":"推定用途置換ルール!QTP3","v":0},{"$f":"推定用途置換ルール!QTQ3","v":0},{"$f":"推定用途置換ルール!QTR3","v":0},{"$f":"推定用途置換ルール!QTS3","v":0},{"$f":"推定用途置換ルール!QTT3","v":0},{"$f":"推定用途置換ルール!QTU3","v":0},{"$f":"推定用途置換ルール!QTV3","v":0},{"$f":"推定用途置換ルール!QTW3","v":0},{"$f":"推定用途置換ルール!QTX3","v":0},{"$f":"推定用途置換ルール!QTY3","v":0},{"$f":"推定用途置換ルール!QTZ3","v":0},{"$f":"推定用途置換ルール!QUA3","v":0},{"$f":"推定用途置換ルール!QUB3","v":0},{"$f":"推定用途置換ルール!QUC3","v":0},{"$f":"推定用途置換ルール!QUD3","v":0},{"$f":"推定用途置換ルール!QUE3","v":0},{"$f":"推定用途置換ルール!QUF3","v":0},{"$f":"推定用途置換ルール!QUG3","v":0},{"$f":"推定用途置換ルール!QUH3","v":0},{"$f":"推定用途置換ルール!QUI3","v":0},{"$f":"推定用途置換ルール!QUJ3","v":0},{"$f":"推定用途置換ルール!QUK3","v":0},{"$f":"推定用途置換ルール!QUL3","v":0},{"$f":"推定用途置換ルール!QUM3","v":0},{"$f":"推定用途置換ルール!QUN3","v":0},{"$f":"推定用途置換ルール!QUO3","v":0},{"$f":"推定用途置換ルール!QUP3","v":0},{"$f":"推定用途置換ルール!QUQ3","v":0},{"$f":"推定用途置換ルール!QUR3","v":0},{"$f":"推定用途置換ルール!QUS3","v":0},{"$f":"推定用途置換ルール!QUT3","v":0},{"$f":"推定用途置換ルール!QUU3","v":0},{"$f":"推定用途置換ルール!QUV3","v":0},{"$f":"推定用途置換ルール!QUW3","v":0},{"$f":"推定用途置換ルール!QUX3","v":0},{"$f":"推定用途置換ルール!QUY3","v":0},{"$f":"推定用途置換ルール!QUZ3","v":0},{"$f":"推定用途置換ルール!QVA3","v":0},{"$f":"推定用途置換ルール!QVB3","v":0},{"$f":"推定用途置換ルール!QVC3","v":0},{"$f":"推定用途置換ルール!QVD3","v":0},{"$f":"推定用途置換ルール!QVE3","v":0},{"$f":"推定用途置換ルール!QVF3","v":0},{"$f":"推定用途置換ルール!QVG3","v":0},{"$f":"推定用途置換ルール!QVH3","v":0},{"$f":"推定用途置換ルール!QVI3","v":0},{"$f":"推定用途置換ルール!QVJ3","v":0},{"$f":"推定用途置換ルール!QVK3","v":0},{"$f":"推定用途置換ルール!QVL3","v":0},{"$f":"推定用途置換ルール!QVM3","v":0},{"$f":"推定用途置換ルール!QVN3","v":0},{"$f":"推定用途置換ルール!QVO3","v":0},{"$f":"推定用途置換ルール!QVP3","v":0},{"$f":"推定用途置換ルール!QVQ3","v":0},{"$f":"推定用途置換ルール!QVR3","v":0},{"$f":"推定用途置換ルール!QVS3","v":0},{"$f":"推定用途置換ルール!QVT3","v":0},{"$f":"推定用途置換ルール!QVU3","v":0},{"$f":"推定用途置換ルール!QVV3","v":0},{"$f":"推定用途置換ルール!QVW3","v":0},{"$f":"推定用途置換ルール!QVX3","v":0},{"$f":"推定用途置換ルール!QVY3","v":0},{"$f":"推定用途置換ルール!QVZ3","v":0},{"$f":"推定用途置換ルール!QWA3","v":0},{"$f":"推定用途置換ルール!QWB3","v":0},{"$f":"推定用途置換ルール!QWC3","v":0},{"$f":"推定用途置換ルール!QWD3","v":0},{"$f":"推定用途置換ルール!QWE3","v":0},{"$f":"推定用途置換ルール!QWF3","v":0},{"$f":"推定用途置換ルール!QWG3","v":0},{"$f":"推定用途置換ルール!QWH3","v":0},{"$f":"推定用途置換ルール!QWI3","v":0},{"$f":"推定用途置換ルール!QWJ3","v":0},{"$f":"推定用途置換ルール!QWK3","v":0},{"$f":"推定用途置換ルール!QWL3","v":0},{"$f":"推定用途置換ルール!QWM3","v":0},{"$f":"推定用途置換ルール!QWN3","v":0},{"$f":"推定用途置換ルール!QWO3","v":0},{"$f":"推定用途置換ルール!QWP3","v":0},{"$f":"推定用途置換ルール!QWQ3","v":0},{"$f":"推定用途置換ルール!QWR3","v":0},{"$f":"推定用途置換ルール!QWS3","v":0},{"$f":"推定用途置換ルール!QWT3","v":0},{"$f":"推定用途置換ルール!QWU3","v":0},{"$f":"推定用途置換ルール!QWV3","v":0},{"$f":"推定用途置換ルール!QWW3","v":0},{"$f":"推定用途置換ルール!QWX3","v":0},{"$f":"推定用途置換ルール!QWY3","v":0},{"$f":"推定用途置換ルール!QWZ3","v":0},{"$f":"推定用途置換ルール!QXA3","v":0},{"$f":"推定用途置換ルール!QXB3","v":0},{"$f":"推定用途置換ルール!QXC3","v":0},{"$f":"推定用途置換ルール!QXD3","v":0},{"$f":"推定用途置換ルール!QXE3","v":0},{"$f":"推定用途置換ルール!QXF3","v":0},{"$f":"推定用途置換ルール!QXG3","v":0},{"$f":"推定用途置換ルール!QXH3","v":0},{"$f":"推定用途置換ルール!QXI3","v":0},{"$f":"推定用途置換ルール!QXJ3","v":0},{"$f":"推定用途置換ルール!QXK3","v":0},{"$f":"推定用途置換ルール!QXL3","v":0},{"$f":"推定用途置換ルール!QXM3","v":0},{"$f":"推定用途置換ルール!QXN3","v":0},{"$f":"推定用途置換ルール!QXO3","v":0},{"$f":"推定用途置換ルール!QXP3","v":0},{"$f":"推定用途置換ルール!QXQ3","v":0},{"$f":"推定用途置換ルール!QXR3","v":0},{"$f":"推定用途置換ルール!QXS3","v":0},{"$f":"推定用途置換ルール!QXT3","v":0},{"$f":"推定用途置換ルール!QXU3","v":0},{"$f":"推定用途置換ルール!QXV3","v":0},{"$f":"推定用途置換ルール!QXW3","v":0},{"$f":"推定用途置換ルール!QXX3","v":0},{"$f":"推定用途置換ルール!QXY3","v":0},{"$f":"推定用途置換ルール!QXZ3","v":0},{"$f":"推定用途置換ルール!QYA3","v":0},{"$f":"推定用途置換ルール!QYB3","v":0},{"$f":"推定用途置換ルール!QYC3","v":0},{"$f":"推定用途置換ルール!QYD3","v":0},{"$f":"推定用途置換ルール!QYE3","v":0},{"$f":"推定用途置換ルール!QYF3","v":0},{"$f":"推定用途置換ルール!QYG3","v":0},{"$f":"推定用途置換ルール!QYH3","v":0},{"$f":"推定用途置換ルール!QYI3","v":0},{"$f":"推定用途置換ルール!QYJ3","v":0},{"$f":"推定用途置換ルール!QYK3","v":0},{"$f":"推定用途置換ルール!QYL3","v":0},{"$f":"推定用途置換ルール!QYM3","v":0},{"$f":"推定用途置換ルール!QYN3","v":0},{"$f":"推定用途置換ルール!QYO3","v":0},{"$f":"推定用途置換ルール!QYP3","v":0},{"$f":"推定用途置換ルール!QYQ3","v":0},{"$f":"推定用途置換ルール!QYR3","v":0},{"$f":"推定用途置換ルール!QYS3","v":0},{"$f":"推定用途置換ルール!QYT3","v":0},{"$f":"推定用途置換ルール!QYU3","v":0},{"$f":"推定用途置換ルール!QYV3","v":0},{"$f":"推定用途置換ルール!QYW3","v":0},{"$f":"推定用途置換ルール!QYX3","v":0},{"$f":"推定用途置換ルール!QYY3","v":0},{"$f":"推定用途置換ルール!QYZ3","v":0},{"$f":"推定用途置換ルール!QZA3","v":0},{"$f":"推定用途置換ルール!QZB3","v":0},{"$f":"推定用途置換ルール!QZC3","v":0},{"$f":"推定用途置換ルール!QZD3","v":0},{"$f":"推定用途置換ルール!QZE3","v":0},{"$f":"推定用途置換ルール!QZF3","v":0},{"$f":"推定用途置換ルール!QZG3","v":0},{"$f":"推定用途置換ルール!QZH3","v":0},{"$f":"推定用途置換ルール!QZI3","v":0},{"$f":"推定用途置換ルール!QZJ3","v":0},{"$f":"推定用途置換ルール!QZK3","v":0},{"$f":"推定用途置換ルール!QZL3","v":0},{"$f":"推定用途置換ルール!QZM3","v":0},{"$f":"推定用途置換ルール!QZN3","v":0},{"$f":"推定用途置換ルール!QZO3","v":0},{"$f":"推定用途置換ルール!QZP3","v":0},{"$f":"推定用途置換ルール!QZQ3","v":0},{"$f":"推定用途置換ルール!QZR3","v":0},{"$f":"推定用途置換ルール!QZS3","v":0},{"$f":"推定用途置換ルール!QZT3","v":0},{"$f":"推定用途置換ルール!QZU3","v":0},{"$f":"推定用途置換ルール!QZV3","v":0},{"$f":"推定用途置換ルール!QZW3","v":0},{"$f":"推定用途置換ルール!QZX3","v":0},{"$f":"推定用途置換ルール!QZY3","v":0},{"$f":"推定用途置換ルール!QZZ3","v":0},{"$f":"推定用途置換ルール!RAA3","v":0},{"$f":"推定用途置換ルール!RAB3","v":0},{"$f":"推定用途置換ルール!RAC3","v":0},{"$f":"推定用途置換ルール!RAD3","v":0},{"$f":"推定用途置換ルール!RAE3","v":0},{"$f":"推定用途置換ルール!RAF3","v":0},{"$f":"推定用途置換ルール!RAG3","v":0},{"$f":"推定用途置換ルール!RAH3","v":0},{"$f":"推定用途置換ルール!RAI3","v":0},{"$f":"推定用途置換ルール!RAJ3","v":0},{"$f":"推定用途置換ルール!RAK3","v":0},{"$f":"推定用途置換ルール!RAL3","v":0},{"$f":"推定用途置換ルール!RAM3","v":0},{"$f":"推定用途置換ルール!RAN3","v":0},{"$f":"推定用途置換ルール!RAO3","v":0},{"$f":"推定用途置換ルール!RAP3","v":0},{"$f":"推定用途置換ルール!RAQ3","v":0},{"$f":"推定用途置換ルール!RAR3","v":0},{"$f":"推定用途置換ルール!RAS3","v":0},{"$f":"推定用途置換ルール!RAT3","v":0},{"$f":"推定用途置換ルール!RAU3","v":0},{"$f":"推定用途置換ルール!RAV3","v":0},{"$f":"推定用途置換ルール!RAW3","v":0},{"$f":"推定用途置換ルール!RAX3","v":0},{"$f":"推定用途置換ルール!RAY3","v":0},{"$f":"推定用途置換ルール!RAZ3","v":0},{"$f":"推定用途置換ルール!RBA3","v":0},{"$f":"推定用途置換ルール!RBB3","v":0},{"$f":"推定用途置換ルール!RBC3","v":0},{"$f":"推定用途置換ルール!RBD3","v":0},{"$f":"推定用途置換ルール!RBE3","v":0},{"$f":"推定用途置換ルール!RBF3","v":0},{"$f":"推定用途置換ルール!RBG3","v":0},{"$f":"推定用途置換ルール!RBH3","v":0},{"$f":"推定用途置換ルール!RBI3","v":0},{"$f":"推定用途置換ルール!RBJ3","v":0},{"$f":"推定用途置換ルール!RBK3","v":0},{"$f":"推定用途置換ルール!RBL3","v":0},{"$f":"推定用途置換ルール!RBM3","v":0},{"$f":"推定用途置換ルール!RBN3","v":0},{"$f":"推定用途置換ルール!RBO3","v":0},{"$f":"推定用途置換ルール!RBP3","v":0},{"$f":"推定用途置換ルール!RBQ3","v":0},{"$f":"推定用途置換ルール!RBR3","v":0},{"$f":"推定用途置換ルール!RBS3","v":0},{"$f":"推定用途置換ルール!RBT3","v":0},{"$f":"推定用途置換ルール!RBU3","v":0},{"$f":"推定用途置換ルール!RBV3","v":0},{"$f":"推定用途置換ルール!RBW3","v":0},{"$f":"推定用途置換ルール!RBX3","v":0},{"$f":"推定用途置換ルール!RBY3","v":0},{"$f":"推定用途置換ルール!RBZ3","v":0},{"$f":"推定用途置換ルール!RCA3","v":0},{"$f":"推定用途置換ルール!RCB3","v":0},{"$f":"推定用途置換ルール!RCC3","v":0},{"$f":"推定用途置換ルール!RCD3","v":0},{"$f":"推定用途置換ルール!RCE3","v":0},{"$f":"推定用途置換ルール!RCF3","v":0},{"$f":"推定用途置換ルール!RCG3","v":0},{"$f":"推定用途置換ルール!RCH3","v":0},{"$f":"推定用途置換ルール!RCI3","v":0},{"$f":"推定用途置換ルール!RCJ3","v":0},{"$f":"推定用途置換ルール!RCK3","v":0},{"$f":"推定用途置換ルール!RCL3","v":0},{"$f":"推定用途置換ルール!RCM3","v":0},{"$f":"推定用途置換ルール!RCN3","v":0},{"$f":"推定用途置換ルール!RCO3","v":0},{"$f":"推定用途置換ルール!RCP3","v":0},{"$f":"推定用途置換ルール!RCQ3","v":0},{"$f":"推定用途置換ルール!RCR3","v":0},{"$f":"推定用途置換ルール!RCS3","v":0},{"$f":"推定用途置換ルール!RCT3","v":0},{"$f":"推定用途置換ルール!RCU3","v":0},{"$f":"推定用途置換ルール!RCV3","v":0},{"$f":"推定用途置換ルール!RCW3","v":0},{"$f":"推定用途置換ルール!RCX3","v":0},{"$f":"推定用途置換ルール!RCY3","v":0},{"$f":"推定用途置換ルール!RCZ3","v":0},{"$f":"推定用途置換ルール!RDA3","v":0},{"$f":"推定用途置換ルール!RDB3","v":0},{"$f":"推定用途置換ルール!RDC3","v":0},{"$f":"推定用途置換ルール!RDD3","v":0},{"$f":"推定用途置換ルール!RDE3","v":0},{"$f":"推定用途置換ルール!RDF3","v":0},{"$f":"推定用途置換ルール!RDG3","v":0},{"$f":"推定用途置換ルール!RDH3","v":0},{"$f":"推定用途置換ルール!RDI3","v":0},{"$f":"推定用途置換ルール!RDJ3","v":0},{"$f":"推定用途置換ルール!RDK3","v":0},{"$f":"推定用途置換ルール!RDL3","v":0},{"$f":"推定用途置換ルール!RDM3","v":0},{"$f":"推定用途置換ルール!RDN3","v":0},{"$f":"推定用途置換ルール!RDO3","v":0},{"$f":"推定用途置換ルール!RDP3","v":0},{"$f":"推定用途置換ルール!RDQ3","v":0},{"$f":"推定用途置換ルール!RDR3","v":0},{"$f":"推定用途置換ルール!RDS3","v":0},{"$f":"推定用途置換ルール!RDT3","v":0},{"$f":"推定用途置換ルール!RDU3","v":0},{"$f":"推定用途置換ルール!RDV3","v":0},{"$f":"推定用途置換ルール!RDW3","v":0},{"$f":"推定用途置換ルール!RDX3","v":0},{"$f":"推定用途置換ルール!RDY3","v":0},{"$f":"推定用途置換ルール!RDZ3","v":0},{"$f":"推定用途置換ルール!REA3","v":0},{"$f":"推定用途置換ルール!REB3","v":0},{"$f":"推定用途置換ルール!REC3","v":0},{"$f":"推定用途置換ルール!RED3","v":0},{"$f":"推定用途置換ルール!REE3","v":0},{"$f":"推定用途置換ルール!REF3","v":0},{"$f":"推定用途置換ルール!REG3","v":0},{"$f":"推定用途置換ルール!REH3","v":0},{"$f":"推定用途置換ルール!REI3","v":0},{"$f":"推定用途置換ルール!REJ3","v":0},{"$f":"推定用途置換ルール!REK3","v":0},{"$f":"推定用途置換ルール!REL3","v":0},{"$f":"推定用途置換ルール!REM3","v":0},{"$f":"推定用途置換ルール!REN3","v":0},{"$f":"推定用途置換ルール!REO3","v":0},{"$f":"推定用途置換ルール!REP3","v":0},{"$f":"推定用途置換ルール!REQ3","v":0},{"$f":"推定用途置換ルール!RER3","v":0},{"$f":"推定用途置換ルール!RES3","v":0},{"$f":"推定用途置換ルール!RET3","v":0},{"$f":"推定用途置換ルール!REU3","v":0},{"$f":"推定用途置換ルール!REV3","v":0},{"$f":"推定用途置換ルール!REW3","v":0},{"$f":"推定用途置換ルール!REX3","v":0},{"$f":"推定用途置換ルール!REY3","v":0},{"$f":"推定用途置換ルール!REZ3","v":0},{"$f":"推定用途置換ルール!RFA3","v":0},{"$f":"推定用途置換ルール!RFB3","v":0},{"$f":"推定用途置換ルール!RFC3","v":0},{"$f":"推定用途置換ルール!RFD3","v":0},{"$f":"推定用途置換ルール!RFE3","v":0},{"$f":"推定用途置換ルール!RFF3","v":0},{"$f":"推定用途置換ルール!RFG3","v":0},{"$f":"推定用途置換ルール!RFH3","v":0},{"$f":"推定用途置換ルール!RFI3","v":0},{"$f":"推定用途置換ルール!RFJ3","v":0},{"$f":"推定用途置換ルール!RFK3","v":0},{"$f":"推定用途置換ルール!RFL3","v":0},{"$f":"推定用途置換ルール!RFM3","v":0},{"$f":"推定用途置換ルール!RFN3","v":0},{"$f":"推定用途置換ルール!RFO3","v":0},{"$f":"推定用途置換ルール!RFP3","v":0},{"$f":"推定用途置換ルール!RFQ3","v":0},{"$f":"推定用途置換ルール!RFR3","v":0},{"$f":"推定用途置換ルール!RFS3","v":0},{"$f":"推定用途置換ルール!RFT3","v":0},{"$f":"推定用途置換ルール!RFU3","v":0},{"$f":"推定用途置換ルール!RFV3","v":0},{"$f":"推定用途置換ルール!RFW3","v":0},{"$f":"推定用途置換ルール!RFX3","v":0},{"$f":"推定用途置換ルール!RFY3","v":0},{"$f":"推定用途置換ルール!RFZ3","v":0},{"$f":"推定用途置換ルール!RGA3","v":0},{"$f":"推定用途置換ルール!RGB3","v":0},{"$f":"推定用途置換ルール!RGC3","v":0},{"$f":"推定用途置換ルール!RGD3","v":0},{"$f":"推定用途置換ルール!RGE3","v":0},{"$f":"推定用途置換ルール!RGF3","v":0},{"$f":"推定用途置換ルール!RGG3","v":0},{"$f":"推定用途置換ルール!RGH3","v":0},{"$f":"推定用途置換ルール!RGI3","v":0},{"$f":"推定用途置換ルール!RGJ3","v":0},{"$f":"推定用途置換ルール!RGK3","v":0},{"$f":"推定用途置換ルール!RGL3","v":0},{"$f":"推定用途置換ルール!RGM3","v":0},{"$f":"推定用途置換ルール!RGN3","v":0},{"$f":"推定用途置換ルール!RGO3","v":0},{"$f":"推定用途置換ルール!RGP3","v":0},{"$f":"推定用途置換ルール!RGQ3","v":0},{"$f":"推定用途置換ルール!RGR3","v":0},{"$f":"推定用途置換ルール!RGS3","v":0},{"$f":"推定用途置換ルール!RGT3","v":0},{"$f":"推定用途置換ルール!RGU3","v":0},{"$f":"推定用途置換ルール!RGV3","v":0},{"$f":"推定用途置換ルール!RGW3","v":0},{"$f":"推定用途置換ルール!RGX3","v":0},{"$f":"推定用途置換ルール!RGY3","v":0},{"$f":"推定用途置換ルール!RGZ3","v":0},{"$f":"推定用途置換ルール!RHA3","v":0},{"$f":"推定用途置換ルール!RHB3","v":0},{"$f":"推定用途置換ルール!RHC3","v":0},{"$f":"推定用途置換ルール!RHD3","v":0},{"$f":"推定用途置換ルール!RHE3","v":0},{"$f":"推定用途置換ルール!RHF3","v":0},{"$f":"推定用途置換ルール!RHG3","v":0},{"$f":"推定用途置換ルール!RHH3","v":0},{"$f":"推定用途置換ルール!RHI3","v":0},{"$f":"推定用途置換ルール!RHJ3","v":0},{"$f":"推定用途置換ルール!RHK3","v":0},{"$f":"推定用途置換ルール!RHL3","v":0},{"$f":"推定用途置換ルール!RHM3","v":0},{"$f":"推定用途置換ルール!RHN3","v":0},{"$f":"推定用途置換ルール!RHO3","v":0},{"$f":"推定用途置換ルール!RHP3","v":0},{"$f":"推定用途置換ルール!RHQ3","v":0},{"$f":"推定用途置換ルール!RHR3","v":0},{"$f":"推定用途置換ルール!RHS3","v":0},{"$f":"推定用途置換ルール!RHT3","v":0},{"$f":"推定用途置換ルール!RHU3","v":0},{"$f":"推定用途置換ルール!RHV3","v":0},{"$f":"推定用途置換ルール!RHW3","v":0},{"$f":"推定用途置換ルール!RHX3","v":0},{"$f":"推定用途置換ルール!RHY3","v":0},{"$f":"推定用途置換ルール!RHZ3","v":0},{"$f":"推定用途置換ルール!RIA3","v":0},{"$f":"推定用途置換ルール!RIB3","v":0},{"$f":"推定用途置換ルール!RIC3","v":0},{"$f":"推定用途置換ルール!RID3","v":0},{"$f":"推定用途置換ルール!RIE3","v":0},{"$f":"推定用途置換ルール!RIF3","v":0},{"$f":"推定用途置換ルール!RIG3","v":0},{"$f":"推定用途置換ルール!RIH3","v":0},{"$f":"推定用途置換ルール!RII3","v":0},{"$f":"推定用途置換ルール!RIJ3","v":0},{"$f":"推定用途置換ルール!RIK3","v":0},{"$f":"推定用途置換ルール!RIL3","v":0},{"$f":"推定用途置換ルール!RIM3","v":0},{"$f":"推定用途置換ルール!RIN3","v":0},{"$f":"推定用途置換ルール!RIO3","v":0},{"$f":"推定用途置換ルール!RIP3","v":0},{"$f":"推定用途置換ルール!RIQ3","v":0},{"$f":"推定用途置換ルール!RIR3","v":0},{"$f":"推定用途置換ルール!RIS3","v":0},{"$f":"推定用途置換ルール!RIT3","v":0},{"$f":"推定用途置換ルール!RIU3","v":0},{"$f":"推定用途置換ルール!RIV3","v":0},{"$f":"推定用途置換ルール!RIW3","v":0},{"$f":"推定用途置換ルール!RIX3","v":0},{"$f":"推定用途置換ルール!RIY3","v":0},{"$f":"推定用途置換ルール!RIZ3","v":0},{"$f":"推定用途置換ルール!RJA3","v":0},{"$f":"推定用途置換ルール!RJB3","v":0},{"$f":"推定用途置換ルール!RJC3","v":0},{"$f":"推定用途置換ルール!RJD3","v":0},{"$f":"推定用途置換ルール!RJE3","v":0},{"$f":"推定用途置換ルール!RJF3","v":0},{"$f":"推定用途置換ルール!RJG3","v":0},{"$f":"推定用途置換ルール!RJH3","v":0},{"$f":"推定用途置換ルール!RJI3","v":0},{"$f":"推定用途置換ルール!RJJ3","v":0},{"$f":"推定用途置換ルール!RJK3","v":0},{"$f":"推定用途置換ルール!RJL3","v":0},{"$f":"推定用途置換ルール!RJM3","v":0},{"$f":"推定用途置換ルール!RJN3","v":0},{"$f":"推定用途置換ルール!RJO3","v":0},{"$f":"推定用途置換ルール!RJP3","v":0},{"$f":"推定用途置換ルール!RJQ3","v":0},{"$f":"推定用途置換ルール!RJR3","v":0},{"$f":"推定用途置換ルール!RJS3","v":0},{"$f":"推定用途置換ルール!RJT3","v":0},{"$f":"推定用途置換ルール!RJU3","v":0},{"$f":"推定用途置換ルール!RJV3","v":0},{"$f":"推定用途置換ルール!RJW3","v":0},{"$f":"推定用途置換ルール!RJX3","v":0},{"$f":"推定用途置換ルール!RJY3","v":0},{"$f":"推定用途置換ルール!RJZ3","v":0},{"$f":"推定用途置換ルール!RKA3","v":0},{"$f":"推定用途置換ルール!RKB3","v":0},{"$f":"推定用途置換ルール!RKC3","v":0},{"$f":"推定用途置換ルール!RKD3","v":0},{"$f":"推定用途置換ルール!RKE3","v":0},{"$f":"推定用途置換ルール!RKF3","v":0},{"$f":"推定用途置換ルール!RKG3","v":0},{"$f":"推定用途置換ルール!RKH3","v":0},{"$f":"推定用途置換ルール!RKI3","v":0},{"$f":"推定用途置換ルール!RKJ3","v":0},{"$f":"推定用途置換ルール!RKK3","v":0},{"$f":"推定用途置換ルール!RKL3","v":0},{"$f":"推定用途置換ルール!RKM3","v":0},{"$f":"推定用途置換ルール!RKN3","v":0},{"$f":"推定用途置換ルール!RKO3","v":0},{"$f":"推定用途置換ルール!RKP3","v":0},{"$f":"推定用途置換ルール!RKQ3","v":0},{"$f":"推定用途置換ルール!RKR3","v":0},{"$f":"推定用途置換ルール!RKS3","v":0},{"$f":"推定用途置換ルール!RKT3","v":0},{"$f":"推定用途置換ルール!RKU3","v":0},{"$f":"推定用途置換ルール!RKV3","v":0},{"$f":"推定用途置換ルール!RKW3","v":0},{"$f":"推定用途置換ルール!RKX3","v":0},{"$f":"推定用途置換ルール!RKY3","v":0},{"$f":"推定用途置換ルール!RKZ3","v":0},{"$f":"推定用途置換ルール!RLA3","v":0},{"$f":"推定用途置換ルール!RLB3","v":0},{"$f":"推定用途置換ルール!RLC3","v":0},{"$f":"推定用途置換ルール!RLD3","v":0},{"$f":"推定用途置換ルール!RLE3","v":0},{"$f":"推定用途置換ルール!RLF3","v":0},{"$f":"推定用途置換ルール!RLG3","v":0},{"$f":"推定用途置換ルール!RLH3","v":0},{"$f":"推定用途置換ルール!RLI3","v":0},{"$f":"推定用途置換ルール!RLJ3","v":0},{"$f":"推定用途置換ルール!RLK3","v":0},{"$f":"推定用途置換ルール!RLL3","v":0},{"$f":"推定用途置換ルール!RLM3","v":0},{"$f":"推定用途置換ルール!RLN3","v":0},{"$f":"推定用途置換ルール!RLO3","v":0},{"$f":"推定用途置換ルール!RLP3","v":0},{"$f":"推定用途置換ルール!RLQ3","v":0},{"$f":"推定用途置換ルール!RLR3","v":0},{"$f":"推定用途置換ルール!RLS3","v":0},{"$f":"推定用途置換ルール!RLT3","v":0},{"$f":"推定用途置換ルール!RLU3","v":0},{"$f":"推定用途置換ルール!RLV3","v":0},{"$f":"推定用途置換ルール!RLW3","v":0},{"$f":"推定用途置換ルール!RLX3","v":0},{"$f":"推定用途置換ルール!RLY3","v":0},{"$f":"推定用途置換ルール!RLZ3","v":0},{"$f":"推定用途置換ルール!RMA3","v":0},{"$f":"推定用途置換ルール!RMB3","v":0},{"$f":"推定用途置換ルール!RMC3","v":0},{"$f":"推定用途置換ルール!RMD3","v":0},{"$f":"推定用途置換ルール!RME3","v":0},{"$f":"推定用途置換ルール!RMF3","v":0},{"$f":"推定用途置換ルール!RMG3","v":0},{"$f":"推定用途置換ルール!RMH3","v":0},{"$f":"推定用途置換ルール!RMI3","v":0},{"$f":"推定用途置換ルール!RMJ3","v":0},{"$f":"推定用途置換ルール!RMK3","v":0},{"$f":"推定用途置換ルール!RML3","v":0},{"$f":"推定用途置換ルール!RMM3","v":0},{"$f":"推定用途置換ルール!RMN3","v":0},{"$f":"推定用途置換ルール!RMO3","v":0},{"$f":"推定用途置換ルール!RMP3","v":0},{"$f":"推定用途置換ルール!RMQ3","v":0},{"$f":"推定用途置換ルール!RMR3","v":0},{"$f":"推定用途置換ルール!RMS3","v":0},{"$f":"推定用途置換ルール!RMT3","v":0},{"$f":"推定用途置換ルール!RMU3","v":0},{"$f":"推定用途置換ルール!RMV3","v":0},{"$f":"推定用途置換ルール!RMW3","v":0},{"$f":"推定用途置換ルール!RMX3","v":0},{"$f":"推定用途置換ルール!RMY3","v":0},{"$f":"推定用途置換ルール!RMZ3","v":0},{"$f":"推定用途置換ルール!RNA3","v":0},{"$f":"推定用途置換ルール!RNB3","v":0},{"$f":"推定用途置換ルール!RNC3","v":0},{"$f":"推定用途置換ルール!RND3","v":0},{"$f":"推定用途置換ルール!RNE3","v":0},{"$f":"推定用途置換ルール!RNF3","v":0},{"$f":"推定用途置換ルール!RNG3","v":0},{"$f":"推定用途置換ルール!RNH3","v":0},{"$f":"推定用途置換ルール!RNI3","v":0},{"$f":"推定用途置換ルール!RNJ3","v":0},{"$f":"推定用途置換ルール!RNK3","v":0},{"$f":"推定用途置換ルール!RNL3","v":0},{"$f":"推定用途置換ルール!RNM3","v":0},{"$f":"推定用途置換ルール!RNN3","v":0},{"$f":"推定用途置換ルール!RNO3","v":0},{"$f":"推定用途置換ルール!RNP3","v":0},{"$f":"推定用途置換ルール!RNQ3","v":0},{"$f":"推定用途置換ルール!RNR3","v":0},{"$f":"推定用途置換ルール!RNS3","v":0},{"$f":"推定用途置換ルール!RNT3","v":0},{"$f":"推定用途置換ルール!RNU3","v":0},{"$f":"推定用途置換ルール!RNV3","v":0},{"$f":"推定用途置換ルール!RNW3","v":0},{"$f":"推定用途置換ルール!RNX3","v":0},{"$f":"推定用途置換ルール!RNY3","v":0},{"$f":"推定用途置換ルール!RNZ3","v":0},{"$f":"推定用途置換ルール!ROA3","v":0},{"$f":"推定用途置換ルール!ROB3","v":0},{"$f":"推定用途置換ルール!ROC3","v":0},{"$f":"推定用途置換ルール!ROD3","v":0},{"$f":"推定用途置換ルール!ROE3","v":0},{"$f":"推定用途置換ルール!ROF3","v":0},{"$f":"推定用途置換ルール!ROG3","v":0},{"$f":"推定用途置換ルール!ROH3","v":0},{"$f":"推定用途置換ルール!ROI3","v":0},{"$f":"推定用途置換ルール!ROJ3","v":0},{"$f":"推定用途置換ルール!ROK3","v":0},{"$f":"推定用途置換ルール!ROL3","v":0},{"$f":"推定用途置換ルール!ROM3","v":0},{"$f":"推定用途置換ルール!RON3","v":0},{"$f":"推定用途置換ルール!ROO3","v":0},{"$f":"推定用途置換ルール!ROP3","v":0},{"$f":"推定用途置換ルール!ROQ3","v":0},{"$f":"推定用途置換ルール!ROR3","v":0},{"$f":"推定用途置換ルール!ROS3","v":0},{"$f":"推定用途置換ルール!ROT3","v":0},{"$f":"推定用途置換ルール!ROU3","v":0},{"$f":"推定用途置換ルール!ROV3","v":0},{"$f":"推定用途置換ルール!ROW3","v":0},{"$f":"推定用途置換ルール!ROX3","v":0},{"$f":"推定用途置換ルール!ROY3","v":0},{"$f":"推定用途置換ルール!ROZ3","v":0},{"$f":"推定用途置換ルール!RPA3","v":0},{"$f":"推定用途置換ルール!RPB3","v":0},{"$f":"推定用途置換ルール!RPC3","v":0},{"$f":"推定用途置換ルール!RPD3","v":0},{"$f":"推定用途置換ルール!RPE3","v":0},{"$f":"推定用途置換ルール!RPF3","v":0},{"$f":"推定用途置換ルール!RPG3","v":0},{"$f":"推定用途置換ルール!RPH3","v":0},{"$f":"推定用途置換ルール!RPI3","v":0},{"$f":"推定用途置換ルール!RPJ3","v":0},{"$f":"推定用途置換ルール!RPK3","v":0},{"$f":"推定用途置換ルール!RPL3","v":0},{"$f":"推定用途置換ルール!RPM3","v":0},{"$f":"推定用途置換ルール!RPN3","v":0},{"$f":"推定用途置換ルール!RPO3","v":0},{"$f":"推定用途置換ルール!RPP3","v":0},{"$f":"推定用途置換ルール!RPQ3","v":0},{"$f":"推定用途置換ルール!RPR3","v":0},{"$f":"推定用途置換ルール!RPS3","v":0},{"$f":"推定用途置換ルール!RPT3","v":0},{"$f":"推定用途置換ルール!RPU3","v":0},{"$f":"推定用途置換ルール!RPV3","v":0},{"$f":"推定用途置換ルール!RPW3","v":0},{"$f":"推定用途置換ルール!RPX3","v":0},{"$f":"推定用途置換ルール!RPY3","v":0},{"$f":"推定用途置換ルール!RPZ3","v":0},{"$f":"推定用途置換ルール!RQA3","v":0},{"$f":"推定用途置換ルール!RQB3","v":0},{"$f":"推定用途置換ルール!RQC3","v":0},{"$f":"推定用途置換ルール!RQD3","v":0},{"$f":"推定用途置換ルール!RQE3","v":0},{"$f":"推定用途置換ルール!RQF3","v":0},{"$f":"推定用途置換ルール!RQG3","v":0},{"$f":"推定用途置換ルール!RQH3","v":0},{"$f":"推定用途置換ルール!RQI3","v":0},{"$f":"推定用途置換ルール!RQJ3","v":0},{"$f":"推定用途置換ルール!RQK3","v":0},{"$f":"推定用途置換ルール!RQL3","v":0},{"$f":"推定用途置換ルール!RQM3","v":0},{"$f":"推定用途置換ルール!RQN3","v":0},{"$f":"推定用途置換ルール!RQO3","v":0},{"$f":"推定用途置換ルール!RQP3","v":0},{"$f":"推定用途置換ルール!RQQ3","v":0},{"$f":"推定用途置換ルール!RQR3","v":0},{"$f":"推定用途置換ルール!RQS3","v":0},{"$f":"推定用途置換ルール!RQT3","v":0},{"$f":"推定用途置換ルール!RQU3","v":0},{"$f":"推定用途置換ルール!RQV3","v":0},{"$f":"推定用途置換ルール!RQW3","v":0},{"$f":"推定用途置換ルール!RQX3","v":0},{"$f":"推定用途置換ルール!RQY3","v":0},{"$f":"推定用途置換ルール!RQZ3","v":0},{"$f":"推定用途置換ルール!RRA3","v":0},{"$f":"推定用途置換ルール!RRB3","v":0},{"$f":"推定用途置換ルール!RRC3","v":0},{"$f":"推定用途置換ルール!RRD3","v":0},{"$f":"推定用途置換ルール!RRE3","v":0},{"$f":"推定用途置換ルール!RRF3","v":0},{"$f":"推定用途置換ルール!RRG3","v":0},{"$f":"推定用途置換ルール!RRH3","v":0},{"$f":"推定用途置換ルール!RRI3","v":0},{"$f":"推定用途置換ルール!RRJ3","v":0},{"$f":"推定用途置換ルール!RRK3","v":0},{"$f":"推定用途置換ルール!RRL3","v":0},{"$f":"推定用途置換ルール!RRM3","v":0},{"$f":"推定用途置換ルール!RRN3","v":0},{"$f":"推定用途置換ルール!RRO3","v":0},{"$f":"推定用途置換ルール!RRP3","v":0},{"$f":"推定用途置換ルール!RRQ3","v":0},{"$f":"推定用途置換ルール!RRR3","v":0},{"$f":"推定用途置換ルール!RRS3","v":0},{"$f":"推定用途置換ルール!RRT3","v":0},{"$f":"推定用途置換ルール!RRU3","v":0},{"$f":"推定用途置換ルール!RRV3","v":0},{"$f":"推定用途置換ルール!RRW3","v":0},{"$f":"推定用途置換ルール!RRX3","v":0},{"$f":"推定用途置換ルール!RRY3","v":0},{"$f":"推定用途置換ルール!RRZ3","v":0},{"$f":"推定用途置換ルール!RSA3","v":0},{"$f":"推定用途置換ルール!RSB3","v":0},{"$f":"推定用途置換ルール!RSC3","v":0},{"$f":"推定用途置換ルール!RSD3","v":0},{"$f":"推定用途置換ルール!RSE3","v":0},{"$f":"推定用途置換ルール!RSF3","v":0},{"$f":"推定用途置換ルール!RSG3","v":0},{"$f":"推定用途置換ルール!RSH3","v":0},{"$f":"推定用途置換ルール!RSI3","v":0},{"$f":"推定用途置換ルール!RSJ3","v":0},{"$f":"推定用途置換ルール!RSK3","v":0},{"$f":"推定用途置換ルール!RSL3","v":0},{"$f":"推定用途置換ルール!RSM3","v":0},{"$f":"推定用途置換ルール!RSN3","v":0},{"$f":"推定用途置換ルール!RSO3","v":0},{"$f":"推定用途置換ルール!RSP3","v":0},{"$f":"推定用途置換ルール!RSQ3","v":0},{"$f":"推定用途置換ルール!RSR3","v":0},{"$f":"推定用途置換ルール!RSS3","v":0},{"$f":"推定用途置換ルール!RST3","v":0},{"$f":"推定用途置換ルール!RSU3","v":0},{"$f":"推定用途置換ルール!RSV3","v":0},{"$f":"推定用途置換ルール!RSW3","v":0},{"$f":"推定用途置換ルール!RSX3","v":0},{"$f":"推定用途置換ルール!RSY3","v":0},{"$f":"推定用途置換ルール!RSZ3","v":0},{"$f":"推定用途置換ルール!RTA3","v":0},{"$f":"推定用途置換ルール!RTB3","v":0},{"$f":"推定用途置換ルール!RTC3","v":0},{"$f":"推定用途置換ルール!RTD3","v":0},{"$f":"推定用途置換ルール!RTE3","v":0},{"$f":"推定用途置換ルール!RTF3","v":0},{"$f":"推定用途置換ルール!RTG3","v":0},{"$f":"推定用途置換ルール!RTH3","v":0},{"$f":"推定用途置換ルール!RTI3","v":0},{"$f":"推定用途置換ルール!RTJ3","v":0},{"$f":"推定用途置換ルール!RTK3","v":0},{"$f":"推定用途置換ルール!RTL3","v":0},{"$f":"推定用途置換ルール!RTM3","v":0},{"$f":"推定用途置換ルール!RTN3","v":0},{"$f":"推定用途置換ルール!RTO3","v":0},{"$f":"推定用途置換ルール!RTP3","v":0},{"$f":"推定用途置換ルール!RTQ3","v":0},{"$f":"推定用途置換ルール!RTR3","v":0},{"$f":"推定用途置換ルール!RTS3","v":0},{"$f":"推定用途置換ルール!RTT3","v":0},{"$f":"推定用途置換ルール!RTU3","v":0},{"$f":"推定用途置換ルール!RTV3","v":0},{"$f":"推定用途置換ルール!RTW3","v":0},{"$f":"推定用途置換ルール!RTX3","v":0},{"$f":"推定用途置換ルール!RTY3","v":0},{"$f":"推定用途置換ルール!RTZ3","v":0},{"$f":"推定用途置換ルール!RUA3","v":0},{"$f":"推定用途置換ルール!RUB3","v":0},{"$f":"推定用途置換ルール!RUC3","v":0},{"$f":"推定用途置換ルール!RUD3","v":0},{"$f":"推定用途置換ルール!RUE3","v":0},{"$f":"推定用途置換ルール!RUF3","v":0},{"$f":"推定用途置換ルール!RUG3","v":0},{"$f":"推定用途置換ルール!RUH3","v":0},{"$f":"推定用途置換ルール!RUI3","v":0},{"$f":"推定用途置換ルール!RUJ3","v":0},{"$f":"推定用途置換ルール!RUK3","v":0},{"$f":"推定用途置換ルール!RUL3","v":0},{"$f":"推定用途置換ルール!RUM3","v":0},{"$f":"推定用途置換ルール!RUN3","v":0},{"$f":"推定用途置換ルール!RUO3","v":0},{"$f":"推定用途置換ルール!RUP3","v":0},{"$f":"推定用途置換ルール!RUQ3","v":0},{"$f":"推定用途置換ルール!RUR3","v":0},{"$f":"推定用途置換ルール!RUS3","v":0},{"$f":"推定用途置換ルール!RUT3","v":0},{"$f":"推定用途置換ルール!RUU3","v":0},{"$f":"推定用途置換ルール!RUV3","v":0},{"$f":"推定用途置換ルール!RUW3","v":0},{"$f":"推定用途置換ルール!RUX3","v":0},{"$f":"推定用途置換ルール!RUY3","v":0},{"$f":"推定用途置換ルール!RUZ3","v":0},{"$f":"推定用途置換ルール!RVA3","v":0},{"$f":"推定用途置換ルール!RVB3","v":0},{"$f":"推定用途置換ルール!RVC3","v":0},{"$f":"推定用途置換ルール!RVD3","v":0},{"$f":"推定用途置換ルール!RVE3","v":0},{"$f":"推定用途置換ルール!RVF3","v":0},{"$f":"推定用途置換ルール!RVG3","v":0},{"$f":"推定用途置換ルール!RVH3","v":0},{"$f":"推定用途置換ルール!RVI3","v":0},{"$f":"推定用途置換ルール!RVJ3","v":0},{"$f":"推定用途置換ルール!RVK3","v":0},{"$f":"推定用途置換ルール!RVL3","v":0},{"$f":"推定用途置換ルール!RVM3","v":0},{"$f":"推定用途置換ルール!RVN3","v":0},{"$f":"推定用途置換ルール!RVO3","v":0},{"$f":"推定用途置換ルール!RVP3","v":0},{"$f":"推定用途置換ルール!RVQ3","v":0},{"$f":"推定用途置換ルール!RVR3","v":0},{"$f":"推定用途置換ルール!RVS3","v":0},{"$f":"推定用途置換ルール!RVT3","v":0},{"$f":"推定用途置換ルール!RVU3","v":0},{"$f":"推定用途置換ルール!RVV3","v":0},{"$f":"推定用途置換ルール!RVW3","v":0},{"$f":"推定用途置換ルール!RVX3","v":0},{"$f":"推定用途置換ルール!RVY3","v":0},{"$f":"推定用途置換ルール!RVZ3","v":0},{"$f":"推定用途置換ルール!RWA3","v":0},{"$f":"推定用途置換ルール!RWB3","v":0},{"$f":"推定用途置換ルール!RWC3","v":0},{"$f":"推定用途置換ルール!RWD3","v":0},{"$f":"推定用途置換ルール!RWE3","v":0},{"$f":"推定用途置換ルール!RWF3","v":0},{"$f":"推定用途置換ルール!RWG3","v":0},{"$f":"推定用途置換ルール!RWH3","v":0},{"$f":"推定用途置換ルール!RWI3","v":0},{"$f":"推定用途置換ルール!RWJ3","v":0},{"$f":"推定用途置換ルール!RWK3","v":0},{"$f":"推定用途置換ルール!RWL3","v":0},{"$f":"推定用途置換ルール!RWM3","v":0},{"$f":"推定用途置換ルール!RWN3","v":0},{"$f":"推定用途置換ルール!RWO3","v":0},{"$f":"推定用途置換ルール!RWP3","v":0},{"$f":"推定用途置換ルール!RWQ3","v":0},{"$f":"推定用途置換ルール!RWR3","v":0},{"$f":"推定用途置換ルール!RWS3","v":0},{"$f":"推定用途置換ルール!RWT3","v":0},{"$f":"推定用途置換ルール!RWU3","v":0},{"$f":"推定用途置換ルール!RWV3","v":0},{"$f":"推定用途置換ルール!RWW3","v":0},{"$f":"推定用途置換ルール!RWX3","v":0},{"$f":"推定用途置換ルール!RWY3","v":0},{"$f":"推定用途置換ルール!RWZ3","v":0},{"$f":"推定用途置換ルール!RXA3","v":0},{"$f":"推定用途置換ルール!RXB3","v":0},{"$f":"推定用途置換ルール!RXC3","v":0},{"$f":"推定用途置換ルール!RXD3","v":0},{"$f":"推定用途置換ルール!RXE3","v":0},{"$f":"推定用途置換ルール!RXF3","v":0},{"$f":"推定用途置換ルール!RXG3","v":0},{"$f":"推定用途置換ルール!RXH3","v":0},{"$f":"推定用途置換ルール!RXI3","v":0},{"$f":"推定用途置換ルール!RXJ3","v":0},{"$f":"推定用途置換ルール!RXK3","v":0},{"$f":"推定用途置換ルール!RXL3","v":0},{"$f":"推定用途置換ルール!RXM3","v":0},{"$f":"推定用途置換ルール!RXN3","v":0},{"$f":"推定用途置換ルール!RXO3","v":0},{"$f":"推定用途置換ルール!RXP3","v":0},{"$f":"推定用途置換ルール!RXQ3","v":0},{"$f":"推定用途置換ルール!RXR3","v":0},{"$f":"推定用途置換ルール!RXS3","v":0},{"$f":"推定用途置換ルール!RXT3","v":0},{"$f":"推定用途置換ルール!RXU3","v":0},{"$f":"推定用途置換ルール!RXV3","v":0},{"$f":"推定用途置換ルール!RXW3","v":0},{"$f":"推定用途置換ルール!RXX3","v":0},{"$f":"推定用途置換ルール!RXY3","v":0},{"$f":"推定用途置換ルール!RXZ3","v":0},{"$f":"推定用途置換ルール!RYA3","v":0},{"$f":"推定用途置換ルール!RYB3","v":0},{"$f":"推定用途置換ルール!RYC3","v":0},{"$f":"推定用途置換ルール!RYD3","v":0},{"$f":"推定用途置換ルール!RYE3","v":0},{"$f":"推定用途置換ルール!RYF3","v":0},{"$f":"推定用途置換ルール!RYG3","v":0},{"$f":"推定用途置換ルール!RYH3","v":0},{"$f":"推定用途置換ルール!RYI3","v":0},{"$f":"推定用途置換ルール!RYJ3","v":0},{"$f":"推定用途置換ルール!RYK3","v":0},{"$f":"推定用途置換ルール!RYL3","v":0},{"$f":"推定用途置換ルール!RYM3","v":0},{"$f":"推定用途置換ルール!RYN3","v":0},{"$f":"推定用途置換ルール!RYO3","v":0},{"$f":"推定用途置換ルール!RYP3","v":0},{"$f":"推定用途置換ルール!RYQ3","v":0},{"$f":"推定用途置換ルール!RYR3","v":0},{"$f":"推定用途置換ルール!RYS3","v":0},{"$f":"推定用途置換ルール!RYT3","v":0},{"$f":"推定用途置換ルール!RYU3","v":0},{"$f":"推定用途置換ルール!RYV3","v":0},{"$f":"推定用途置換ルール!RYW3","v":0},{"$f":"推定用途置換ルール!RYX3","v":0},{"$f":"推定用途置換ルール!RYY3","v":0},{"$f":"推定用途置換ルール!RYZ3","v":0},{"$f":"推定用途置換ルール!RZA3","v":0},{"$f":"推定用途置換ルール!RZB3","v":0},{"$f":"推定用途置換ルール!RZC3","v":0},{"$f":"推定用途置換ルール!RZD3","v":0},{"$f":"推定用途置換ルール!RZE3","v":0},{"$f":"推定用途置換ルール!RZF3","v":0},{"$f":"推定用途置換ルール!RZG3","v":0},{"$f":"推定用途置換ルール!RZH3","v":0},{"$f":"推定用途置換ルール!RZI3","v":0},{"$f":"推定用途置換ルール!RZJ3","v":0},{"$f":"推定用途置換ルール!RZK3","v":0},{"$f":"推定用途置換ルール!RZL3","v":0},{"$f":"推定用途置換ルール!RZM3","v":0},{"$f":"推定用途置換ルール!RZN3","v":0},{"$f":"推定用途置換ルール!RZO3","v":0},{"$f":"推定用途置換ルール!RZP3","v":0},{"$f":"推定用途置換ルール!RZQ3","v":0},{"$f":"推定用途置換ルール!RZR3","v":0},{"$f":"推定用途置換ルール!RZS3","v":0},{"$f":"推定用途置換ルール!RZT3","v":0},{"$f":"推定用途置換ルール!RZU3","v":0},{"$f":"推定用途置換ルール!RZV3","v":0},{"$f":"推定用途置換ルール!RZW3","v":0},{"$f":"推定用途置換ルール!RZX3","v":0},{"$f":"推定用途置換ルール!RZY3","v":0},{"$f":"推定用途置換ルール!RZZ3","v":0},{"$f":"推定用途置換ルール!SAA3","v":0},{"$f":"推定用途置換ルール!SAB3","v":0},{"$f":"推定用途置換ルール!SAC3","v":0},{"$f":"推定用途置換ルール!SAD3","v":0},{"$f":"推定用途置換ルール!SAE3","v":0},{"$f":"推定用途置換ルール!SAF3","v":0},{"$f":"推定用途置換ルール!SAG3","v":0},{"$f":"推定用途置換ルール!SAH3","v":0},{"$f":"推定用途置換ルール!SAI3","v":0},{"$f":"推定用途置換ルール!SAJ3","v":0},{"$f":"推定用途置換ルール!SAK3","v":0},{"$f":"推定用途置換ルール!SAL3","v":0},{"$f":"推定用途置換ルール!SAM3","v":0},{"$f":"推定用途置換ルール!SAN3","v":0},{"$f":"推定用途置換ルール!SAO3","v":0},{"$f":"推定用途置換ルール!SAP3","v":0},{"$f":"推定用途置換ルール!SAQ3","v":0},{"$f":"推定用途置換ルール!SAR3","v":0},{"$f":"推定用途置換ルール!SAS3","v":0},{"$f":"推定用途置換ルール!SAT3","v":0},{"$f":"推定用途置換ルール!SAU3","v":0},{"$f":"推定用途置換ルール!SAV3","v":0},{"$f":"推定用途置換ルール!SAW3","v":0},{"$f":"推定用途置換ルール!SAX3","v":0},{"$f":"推定用途置換ルール!SAY3","v":0},{"$f":"推定用途置換ルール!SAZ3","v":0},{"$f":"推定用途置換ルール!SBA3","v":0},{"$f":"推定用途置換ルール!SBB3","v":0},{"$f":"推定用途置換ルール!SBC3","v":0},{"$f":"推定用途置換ルール!SBD3","v":0},{"$f":"推定用途置換ルール!SBE3","v":0},{"$f":"推定用途置換ルール!SBF3","v":0},{"$f":"推定用途置換ルール!SBG3","v":0},{"$f":"推定用途置換ルール!SBH3","v":0},{"$f":"推定用途置換ルール!SBI3","v":0},{"$f":"推定用途置換ルール!SBJ3","v":0},{"$f":"推定用途置換ルール!SBK3","v":0},{"$f":"推定用途置換ルール!SBL3","v":0},{"$f":"推定用途置換ルール!SBM3","v":0},{"$f":"推定用途置換ルール!SBN3","v":0},{"$f":"推定用途置換ルール!SBO3","v":0},{"$f":"推定用途置換ルール!SBP3","v":0},{"$f":"推定用途置換ルール!SBQ3","v":0},{"$f":"推定用途置換ルール!SBR3","v":0},{"$f":"推定用途置換ルール!SBS3","v":0},{"$f":"推定用途置換ルール!SBT3","v":0},{"$f":"推定用途置換ルール!SBU3","v":0},{"$f":"推定用途置換ルール!SBV3","v":0},{"$f":"推定用途置換ルール!SBW3","v":0},{"$f":"推定用途置換ルール!SBX3","v":0},{"$f":"推定用途置換ルール!SBY3","v":0},{"$f":"推定用途置換ルール!SBZ3","v":0},{"$f":"推定用途置換ルール!SCA3","v":0},{"$f":"推定用途置換ルール!SCB3","v":0},{"$f":"推定用途置換ルール!SCC3","v":0},{"$f":"推定用途置換ルール!SCD3","v":0},{"$f":"推定用途置換ルール!SCE3","v":0},{"$f":"推定用途置換ルール!SCF3","v":0},{"$f":"推定用途置換ルール!SCG3","v":0},{"$f":"推定用途置換ルール!SCH3","v":0},{"$f":"推定用途置換ルール!SCI3","v":0},{"$f":"推定用途置換ルール!SCJ3","v":0},{"$f":"推定用途置換ルール!SCK3","v":0},{"$f":"推定用途置換ルール!SCL3","v":0},{"$f":"推定用途置換ルール!SCM3","v":0},{"$f":"推定用途置換ルール!SCN3","v":0},{"$f":"推定用途置換ルール!SCO3","v":0},{"$f":"推定用途置換ルール!SCP3","v":0},{"$f":"推定用途置換ルール!SCQ3","v":0},{"$f":"推定用途置換ルール!SCR3","v":0},{"$f":"推定用途置換ルール!SCS3","v":0},{"$f":"推定用途置換ルール!SCT3","v":0},{"$f":"推定用途置換ルール!SCU3","v":0},{"$f":"推定用途置換ルール!SCV3","v":0},{"$f":"推定用途置換ルール!SCW3","v":0},{"$f":"推定用途置換ルール!SCX3","v":0},{"$f":"推定用途置換ルール!SCY3","v":0},{"$f":"推定用途置換ルール!SCZ3","v":0},{"$f":"推定用途置換ルール!SDA3","v":0},{"$f":"推定用途置換ルール!SDB3","v":0},{"$f":"推定用途置換ルール!SDC3","v":0},{"$f":"推定用途置換ルール!SDD3","v":0},{"$f":"推定用途置換ルール!SDE3","v":0},{"$f":"推定用途置換ルール!SDF3","v":0},{"$f":"推定用途置換ルール!SDG3","v":0},{"$f":"推定用途置換ルール!SDH3","v":0},{"$f":"推定用途置換ルール!SDI3","v":0},{"$f":"推定用途置換ルール!SDJ3","v":0},{"$f":"推定用途置換ルール!SDK3","v":0},{"$f":"推定用途置換ルール!SDL3","v":0},{"$f":"推定用途置換ルール!SDM3","v":0},{"$f":"推定用途置換ルール!SDN3","v":0},{"$f":"推定用途置換ルール!SDO3","v":0},{"$f":"推定用途置換ルール!SDP3","v":0},{"$f":"推定用途置換ルール!SDQ3","v":0},{"$f":"推定用途置換ルール!SDR3","v":0},{"$f":"推定用途置換ルール!SDS3","v":0},{"$f":"推定用途置換ルール!SDT3","v":0},{"$f":"推定用途置換ルール!SDU3","v":0},{"$f":"推定用途置換ルール!SDV3","v":0},{"$f":"推定用途置換ルール!SDW3","v":0},{"$f":"推定用途置換ルール!SDX3","v":0},{"$f":"推定用途置換ルール!SDY3","v":0},{"$f":"推定用途置換ルール!SDZ3","v":0},{"$f":"推定用途置換ルール!SEA3","v":0},{"$f":"推定用途置換ルール!SEB3","v":0},{"$f":"推定用途置換ルール!SEC3","v":0},{"$f":"推定用途置換ルール!SED3","v":0},{"$f":"推定用途置換ルール!SEE3","v":0},{"$f":"推定用途置換ルール!SEF3","v":0},{"$f":"推定用途置換ルール!SEG3","v":0},{"$f":"推定用途置換ルール!SEH3","v":0},{"$f":"推定用途置換ルール!SEI3","v":0},{"$f":"推定用途置換ルール!SEJ3","v":0},{"$f":"推定用途置換ルール!SEK3","v":0},{"$f":"推定用途置換ルール!SEL3","v":0},{"$f":"推定用途置換ルール!SEM3","v":0},{"$f":"推定用途置換ルール!SEN3","v":0},{"$f":"推定用途置換ルール!SEO3","v":0},{"$f":"推定用途置換ルール!SEP3","v":0},{"$f":"推定用途置換ルール!SEQ3","v":0},{"$f":"推定用途置換ルール!SER3","v":0},{"$f":"推定用途置換ルール!SES3","v":0},{"$f":"推定用途置換ルール!SET3","v":0},{"$f":"推定用途置換ルール!SEU3","v":0},{"$f":"推定用途置換ルール!SEV3","v":0},{"$f":"推定用途置換ルール!SEW3","v":0},{"$f":"推定用途置換ルール!SEX3","v":0},{"$f":"推定用途置換ルール!SEY3","v":0},{"$f":"推定用途置換ルール!SEZ3","v":0},{"$f":"推定用途置換ルール!SFA3","v":0},{"$f":"推定用途置換ルール!SFB3","v":0},{"$f":"推定用途置換ルール!SFC3","v":0},{"$f":"推定用途置換ルール!SFD3","v":0},{"$f":"推定用途置換ルール!SFE3","v":0},{"$f":"推定用途置換ルール!SFF3","v":0},{"$f":"推定用途置換ルール!SFG3","v":0},{"$f":"推定用途置換ルール!SFH3","v":0},{"$f":"推定用途置換ルール!SFI3","v":0},{"$f":"推定用途置換ルール!SFJ3","v":0},{"$f":"推定用途置換ルール!SFK3","v":0},{"$f":"推定用途置換ルール!SFL3","v":0},{"$f":"推定用途置換ルール!SFM3","v":0},{"$f":"推定用途置換ルール!SFN3","v":0},{"$f":"推定用途置換ルール!SFO3","v":0},{"$f":"推定用途置換ルール!SFP3","v":0},{"$f":"推定用途置換ルール!SFQ3","v":0},{"$f":"推定用途置換ルール!SFR3","v":0},{"$f":"推定用途置換ルール!SFS3","v":0},{"$f":"推定用途置換ルール!SFT3","v":0},{"$f":"推定用途置換ルール!SFU3","v":0},{"$f":"推定用途置換ルール!SFV3","v":0},{"$f":"推定用途置換ルール!SFW3","v":0},{"$f":"推定用途置換ルール!SFX3","v":0},{"$f":"推定用途置換ルール!SFY3","v":0},{"$f":"推定用途置換ルール!SFZ3","v":0},{"$f":"推定用途置換ルール!SGA3","v":0},{"$f":"推定用途置換ルール!SGB3","v":0},{"$f":"推定用途置換ルール!SGC3","v":0},{"$f":"推定用途置換ルール!SGD3","v":0},{"$f":"推定用途置換ルール!SGE3","v":0},{"$f":"推定用途置換ルール!SGF3","v":0},{"$f":"推定用途置換ルール!SGG3","v":0},{"$f":"推定用途置換ルール!SGH3","v":0},{"$f":"推定用途置換ルール!SGI3","v":0},{"$f":"推定用途置換ルール!SGJ3","v":0},{"$f":"推定用途置換ルール!SGK3","v":0},{"$f":"推定用途置換ルール!SGL3","v":0},{"$f":"推定用途置換ルール!SGM3","v":0},{"$f":"推定用途置換ルール!SGN3","v":0},{"$f":"推定用途置換ルール!SGO3","v":0},{"$f":"推定用途置換ルール!SGP3","v":0},{"$f":"推定用途置換ルール!SGQ3","v":0},{"$f":"推定用途置換ルール!SGR3","v":0},{"$f":"推定用途置換ルール!SGS3","v":0},{"$f":"推定用途置換ルール!SGT3","v":0},{"$f":"推定用途置換ルール!SGU3","v":0},{"$f":"推定用途置換ルール!SGV3","v":0},{"$f":"推定用途置換ルール!SGW3","v":0},{"$f":"推定用途置換ルール!SGX3","v":0},{"$f":"推定用途置換ルール!SGY3","v":0},{"$f":"推定用途置換ルール!SGZ3","v":0},{"$f":"推定用途置換ルール!SHA3","v":0},{"$f":"推定用途置換ルール!SHB3","v":0},{"$f":"推定用途置換ルール!SHC3","v":0},{"$f":"推定用途置換ルール!SHD3","v":0},{"$f":"推定用途置換ルール!SHE3","v":0},{"$f":"推定用途置換ルール!SHF3","v":0},{"$f":"推定用途置換ルール!SHG3","v":0},{"$f":"推定用途置換ルール!SHH3","v":0},{"$f":"推定用途置換ルール!SHI3","v":0},{"$f":"推定用途置換ルール!SHJ3","v":0},{"$f":"推定用途置換ルール!SHK3","v":0},{"$f":"推定用途置換ルール!SHL3","v":0},{"$f":"推定用途置換ルール!SHM3","v":0},{"$f":"推定用途置換ルール!SHN3","v":0},{"$f":"推定用途置換ルール!SHO3","v":0},{"$f":"推定用途置換ルール!SHP3","v":0},{"$f":"推定用途置換ルール!SHQ3","v":0},{"$f":"推定用途置換ルール!SHR3","v":0},{"$f":"推定用途置換ルール!SHS3","v":0},{"$f":"推定用途置換ルール!SHT3","v":0},{"$f":"推定用途置換ルール!SHU3","v":0},{"$f":"推定用途置換ルール!SHV3","v":0},{"$f":"推定用途置換ルール!SHW3","v":0},{"$f":"推定用途置換ルール!SHX3","v":0},{"$f":"推定用途置換ルール!SHY3","v":0},{"$f":"推定用途置換ルール!SHZ3","v":0},{"$f":"推定用途置換ルール!SIA3","v":0},{"$f":"推定用途置換ルール!SIB3","v":0},{"$f":"推定用途置換ルール!SIC3","v":0},{"$f":"推定用途置換ルール!SID3","v":0},{"$f":"推定用途置換ルール!SIE3","v":0},{"$f":"推定用途置換ルール!SIF3","v":0},{"$f":"推定用途置換ルール!SIG3","v":0},{"$f":"推定用途置換ルール!SIH3","v":0},{"$f":"推定用途置換ルール!SII3","v":0},{"$f":"推定用途置換ルール!SIJ3","v":0},{"$f":"推定用途置換ルール!SIK3","v":0},{"$f":"推定用途置換ルール!SIL3","v":0},{"$f":"推定用途置換ルール!SIM3","v":0},{"$f":"推定用途置換ルール!SIN3","v":0},{"$f":"推定用途置換ルール!SIO3","v":0},{"$f":"推定用途置換ルール!SIP3","v":0},{"$f":"推定用途置換ルール!SIQ3","v":0},{"$f":"推定用途置換ルール!SIR3","v":0},{"$f":"推定用途置換ルール!SIS3","v":0},{"$f":"推定用途置換ルール!SIT3","v":0},{"$f":"推定用途置換ルール!SIU3","v":0},{"$f":"推定用途置換ルール!SIV3","v":0},{"$f":"推定用途置換ルール!SIW3","v":0},{"$f":"推定用途置換ルール!SIX3","v":0},{"$f":"推定用途置換ルール!SIY3","v":0},{"$f":"推定用途置換ルール!SIZ3","v":0},{"$f":"推定用途置換ルール!SJA3","v":0},{"$f":"推定用途置換ルール!SJB3","v":0},{"$f":"推定用途置換ルール!SJC3","v":0},{"$f":"推定用途置換ルール!SJD3","v":0},{"$f":"推定用途置換ルール!SJE3","v":0},{"$f":"推定用途置換ルール!SJF3","v":0},{"$f":"推定用途置換ルール!SJG3","v":0},{"$f":"推定用途置換ルール!SJH3","v":0},{"$f":"推定用途置換ルール!SJI3","v":0},{"$f":"推定用途置換ルール!SJJ3","v":0},{"$f":"推定用途置換ルール!SJK3","v":0},{"$f":"推定用途置換ルール!SJL3","v":0},{"$f":"推定用途置換ルール!SJM3","v":0},{"$f":"推定用途置換ルール!SJN3","v":0},{"$f":"推定用途置換ルール!SJO3","v":0},{"$f":"推定用途置換ルール!SJP3","v":0},{"$f":"推定用途置換ルール!SJQ3","v":0},{"$f":"推定用途置換ルール!SJR3","v":0},{"$f":"推定用途置換ルール!SJS3","v":0},{"$f":"推定用途置換ルール!SJT3","v":0},{"$f":"推定用途置換ルール!SJU3","v":0},{"$f":"推定用途置換ルール!SJV3","v":0},{"$f":"推定用途置換ルール!SJW3","v":0},{"$f":"推定用途置換ルール!SJX3","v":0},{"$f":"推定用途置換ルール!SJY3","v":0},{"$f":"推定用途置換ルール!SJZ3","v":0},{"$f":"推定用途置換ルール!SKA3","v":0},{"$f":"推定用途置換ルール!SKB3","v":0},{"$f":"推定用途置換ルール!SKC3","v":0},{"$f":"推定用途置換ルール!SKD3","v":0},{"$f":"推定用途置換ルール!SKE3","v":0},{"$f":"推定用途置換ルール!SKF3","v":0},{"$f":"推定用途置換ルール!SKG3","v":0},{"$f":"推定用途置換ルール!SKH3","v":0},{"$f":"推定用途置換ルール!SKI3","v":0},{"$f":"推定用途置換ルール!SKJ3","v":0},{"$f":"推定用途置換ルール!SKK3","v":0},{"$f":"推定用途置換ルール!SKL3","v":0},{"$f":"推定用途置換ルール!SKM3","v":0},{"$f":"推定用途置換ルール!SKN3","v":0},{"$f":"推定用途置換ルール!SKO3","v":0},{"$f":"推定用途置換ルール!SKP3","v":0},{"$f":"推定用途置換ルール!SKQ3","v":0},{"$f":"推定用途置換ルール!SKR3","v":0},{"$f":"推定用途置換ルール!SKS3","v":0},{"$f":"推定用途置換ルール!SKT3","v":0},{"$f":"推定用途置換ルール!SKU3","v":0},{"$f":"推定用途置換ルール!SKV3","v":0},{"$f":"推定用途置換ルール!SKW3","v":0},{"$f":"推定用途置換ルール!SKX3","v":0},{"$f":"推定用途置換ルール!SKY3","v":0},{"$f":"推定用途置換ルール!SKZ3","v":0},{"$f":"推定用途置換ルール!SLA3","v":0},{"$f":"推定用途置換ルール!SLB3","v":0},{"$f":"推定用途置換ルール!SLC3","v":0},{"$f":"推定用途置換ルール!SLD3","v":0},{"$f":"推定用途置換ルール!SLE3","v":0},{"$f":"推定用途置換ルール!SLF3","v":0},{"$f":"推定用途置換ルール!SLG3","v":0},{"$f":"推定用途置換ルール!SLH3","v":0},{"$f":"推定用途置換ルール!SLI3","v":0},{"$f":"推定用途置換ルール!SLJ3","v":0},{"$f":"推定用途置換ルール!SLK3","v":0},{"$f":"推定用途置換ルール!SLL3","v":0},{"$f":"推定用途置換ルール!SLM3","v":0},{"$f":"推定用途置換ルール!SLN3","v":0},{"$f":"推定用途置換ルール!SLO3","v":0},{"$f":"推定用途置換ルール!SLP3","v":0},{"$f":"推定用途置換ルール!SLQ3","v":0},{"$f":"推定用途置換ルール!SLR3","v":0},{"$f":"推定用途置換ルール!SLS3","v":0},{"$f":"推定用途置換ルール!SLT3","v":0},{"$f":"推定用途置換ルール!SLU3","v":0},{"$f":"推定用途置換ルール!SLV3","v":0},{"$f":"推定用途置換ルール!SLW3","v":0},{"$f":"推定用途置換ルール!SLX3","v":0},{"$f":"推定用途置換ルール!SLY3","v":0},{"$f":"推定用途置換ルール!SLZ3","v":0},{"$f":"推定用途置換ルール!SMA3","v":0},{"$f":"推定用途置換ルール!SMB3","v":0},{"$f":"推定用途置換ルール!SMC3","v":0},{"$f":"推定用途置換ルール!SMD3","v":0},{"$f":"推定用途置換ルール!SME3","v":0},{"$f":"推定用途置換ルール!SMF3","v":0},{"$f":"推定用途置換ルール!SMG3","v":0},{"$f":"推定用途置換ルール!SMH3","v":0},{"$f":"推定用途置換ルール!SMI3","v":0},{"$f":"推定用途置換ルール!SMJ3","v":0},{"$f":"推定用途置換ルール!SMK3","v":0},{"$f":"推定用途置換ルール!SML3","v":0},{"$f":"推定用途置換ルール!SMM3","v":0},{"$f":"推定用途置換ルール!SMN3","v":0},{"$f":"推定用途置換ルール!SMO3","v":0},{"$f":"推定用途置換ルール!SMP3","v":0},{"$f":"推定用途置換ルール!SMQ3","v":0},{"$f":"推定用途置換ルール!SMR3","v":0},{"$f":"推定用途置換ルール!SMS3","v":0},{"$f":"推定用途置換ルール!SMT3","v":0},{"$f":"推定用途置換ルール!SMU3","v":0},{"$f":"推定用途置換ルール!SMV3","v":0},{"$f":"推定用途置換ルール!SMW3","v":0},{"$f":"推定用途置換ルール!SMX3","v":0},{"$f":"推定用途置換ルール!SMY3","v":0},{"$f":"推定用途置換ルール!SMZ3","v":0},{"$f":"推定用途置換ルール!SNA3","v":0},{"$f":"推定用途置換ルール!SNB3","v":0},{"$f":"推定用途置換ルール!SNC3","v":0},{"$f":"推定用途置換ルール!SND3","v":0},{"$f":"推定用途置換ルール!SNE3","v":0},{"$f":"推定用途置換ルール!SNF3","v":0},{"$f":"推定用途置換ルール!SNG3","v":0},{"$f":"推定用途置換ルール!SNH3","v":0},{"$f":"推定用途置換ルール!SNI3","v":0},{"$f":"推定用途置換ルール!SNJ3","v":0},{"$f":"推定用途置換ルール!SNK3","v":0},{"$f":"推定用途置換ルール!SNL3","v":0},{"$f":"推定用途置換ルール!SNM3","v":0},{"$f":"推定用途置換ルール!SNN3","v":0},{"$f":"推定用途置換ルール!SNO3","v":0},{"$f":"推定用途置換ルール!SNP3","v":0},{"$f":"推定用途置換ルール!SNQ3","v":0},{"$f":"推定用途置換ルール!SNR3","v":0},{"$f":"推定用途置換ルール!SNS3","v":0},{"$f":"推定用途置換ルール!SNT3","v":0},{"$f":"推定用途置換ルール!SNU3","v":0},{"$f":"推定用途置換ルール!SNV3","v":0},{"$f":"推定用途置換ルール!SNW3","v":0},{"$f":"推定用途置換ルール!SNX3","v":0},{"$f":"推定用途置換ルール!SNY3","v":0},{"$f":"推定用途置換ルール!SNZ3","v":0},{"$f":"推定用途置換ルール!SOA3","v":0},{"$f":"推定用途置換ルール!SOB3","v":0},{"$f":"推定用途置換ルール!SOC3","v":0},{"$f":"推定用途置換ルール!SOD3","v":0},{"$f":"推定用途置換ルール!SOE3","v":0},{"$f":"推定用途置換ルール!SOF3","v":0},{"$f":"推定用途置換ルール!SOG3","v":0},{"$f":"推定用途置換ルール!SOH3","v":0},{"$f":"推定用途置換ルール!SOI3","v":0},{"$f":"推定用途置換ルール!SOJ3","v":0},{"$f":"推定用途置換ルール!SOK3","v":0},{"$f":"推定用途置換ルール!SOL3","v":0},{"$f":"推定用途置換ルール!SOM3","v":0},{"$f":"推定用途置換ルール!SON3","v":0},{"$f":"推定用途置換ルール!SOO3","v":0},{"$f":"推定用途置換ルール!SOP3","v":0},{"$f":"推定用途置換ルール!SOQ3","v":0},{"$f":"推定用途置換ルール!SOR3","v":0},{"$f":"推定用途置換ルール!SOS3","v":0},{"$f":"推定用途置換ルール!SOT3","v":0},{"$f":"推定用途置換ルール!SOU3","v":0},{"$f":"推定用途置換ルール!SOV3","v":0},{"$f":"推定用途置換ルール!SOW3","v":0},{"$f":"推定用途置換ルール!SOX3","v":0},{"$f":"推定用途置換ルール!SOY3","v":0},{"$f":"推定用途置換ルール!SOZ3","v":0},{"$f":"推定用途置換ルール!SPA3","v":0},{"$f":"推定用途置換ルール!SPB3","v":0},{"$f":"推定用途置換ルール!SPC3","v":0},{"$f":"推定用途置換ルール!SPD3","v":0},{"$f":"推定用途置換ルール!SPE3","v":0},{"$f":"推定用途置換ルール!SPF3","v":0},{"$f":"推定用途置換ルール!SPG3","v":0},{"$f":"推定用途置換ルール!SPH3","v":0},{"$f":"推定用途置換ルール!SPI3","v":0},{"$f":"推定用途置換ルール!SPJ3","v":0},{"$f":"推定用途置換ルール!SPK3","v":0},{"$f":"推定用途置換ルール!SPL3","v":0},{"$f":"推定用途置換ルール!SPM3","v":0},{"$f":"推定用途置換ルール!SPN3","v":0},{"$f":"推定用途置換ルール!SPO3","v":0},{"$f":"推定用途置換ルール!SPP3","v":0},{"$f":"推定用途置換ルール!SPQ3","v":0},{"$f":"推定用途置換ルール!SPR3","v":0},{"$f":"推定用途置換ルール!SPS3","v":0},{"$f":"推定用途置換ルール!SPT3","v":0},{"$f":"推定用途置換ルール!SPU3","v":0},{"$f":"推定用途置換ルール!SPV3","v":0},{"$f":"推定用途置換ルール!SPW3","v":0},{"$f":"推定用途置換ルール!SPX3","v":0},{"$f":"推定用途置換ルール!SPY3","v":0},{"$f":"推定用途置換ルール!SPZ3","v":0},{"$f":"推定用途置換ルール!SQA3","v":0},{"$f":"推定用途置換ルール!SQB3","v":0},{"$f":"推定用途置換ルール!SQC3","v":0},{"$f":"推定用途置換ルール!SQD3","v":0},{"$f":"推定用途置換ルール!SQE3","v":0},{"$f":"推定用途置換ルール!SQF3","v":0},{"$f":"推定用途置換ルール!SQG3","v":0},{"$f":"推定用途置換ルール!SQH3","v":0},{"$f":"推定用途置換ルール!SQI3","v":0},{"$f":"推定用途置換ルール!SQJ3","v":0},{"$f":"推定用途置換ルール!SQK3","v":0},{"$f":"推定用途置換ルール!SQL3","v":0},{"$f":"推定用途置換ルール!SQM3","v":0},{"$f":"推定用途置換ルール!SQN3","v":0},{"$f":"推定用途置換ルール!SQO3","v":0},{"$f":"推定用途置換ルール!SQP3","v":0},{"$f":"推定用途置換ルール!SQQ3","v":0},{"$f":"推定用途置換ルール!SQR3","v":0},{"$f":"推定用途置換ルール!SQS3","v":0},{"$f":"推定用途置換ルール!SQT3","v":0},{"$f":"推定用途置換ルール!SQU3","v":0},{"$f":"推定用途置換ルール!SQV3","v":0},{"$f":"推定用途置換ルール!SQW3","v":0},{"$f":"推定用途置換ルール!SQX3","v":0},{"$f":"推定用途置換ルール!SQY3","v":0},{"$f":"推定用途置換ルール!SQZ3","v":0},{"$f":"推定用途置換ルール!SRA3","v":0},{"$f":"推定用途置換ルール!SRB3","v":0},{"$f":"推定用途置換ルール!SRC3","v":0},{"$f":"推定用途置換ルール!SRD3","v":0},{"$f":"推定用途置換ルール!SRE3","v":0},{"$f":"推定用途置換ルール!SRF3","v":0},{"$f":"推定用途置換ルール!SRG3","v":0},{"$f":"推定用途置換ルール!SRH3","v":0},{"$f":"推定用途置換ルール!SRI3","v":0},{"$f":"推定用途置換ルール!SRJ3","v":0},{"$f":"推定用途置換ルール!SRK3","v":0},{"$f":"推定用途置換ルール!SRL3","v":0},{"$f":"推定用途置換ルール!SRM3","v":0},{"$f":"推定用途置換ルール!SRN3","v":0},{"$f":"推定用途置換ルール!SRO3","v":0},{"$f":"推定用途置換ルール!SRP3","v":0},{"$f":"推定用途置換ルール!SRQ3","v":0},{"$f":"推定用途置換ルール!SRR3","v":0},{"$f":"推定用途置換ルール!SRS3","v":0},{"$f":"推定用途置換ルール!SRT3","v":0},{"$f":"推定用途置換ルール!SRU3","v":0},{"$f":"推定用途置換ルール!SRV3","v":0},{"$f":"推定用途置換ルール!SRW3","v":0},{"$f":"推定用途置換ルール!SRX3","v":0},{"$f":"推定用途置換ルール!SRY3","v":0},{"$f":"推定用途置換ルール!SRZ3","v":0},{"$f":"推定用途置換ルール!SSA3","v":0},{"$f":"推定用途置換ルール!SSB3","v":0},{"$f":"推定用途置換ルール!SSC3","v":0},{"$f":"推定用途置換ルール!SSD3","v":0},{"$f":"推定用途置換ルール!SSE3","v":0},{"$f":"推定用途置換ルール!SSF3","v":0},{"$f":"推定用途置換ルール!SSG3","v":0},{"$f":"推定用途置換ルール!SSH3","v":0},{"$f":"推定用途置換ルール!SSI3","v":0},{"$f":"推定用途置換ルール!SSJ3","v":0},{"$f":"推定用途置換ルール!SSK3","v":0},{"$f":"推定用途置換ルール!SSL3","v":0},{"$f":"推定用途置換ルール!SSM3","v":0},{"$f":"推定用途置換ルール!SSN3","v":0},{"$f":"推定用途置換ルール!SSO3","v":0},{"$f":"推定用途置換ルール!SSP3","v":0},{"$f":"推定用途置換ルール!SSQ3","v":0},{"$f":"推定用途置換ルール!SSR3","v":0},{"$f":"推定用途置換ルール!SSS3","v":0},{"$f":"推定用途置換ルール!SST3","v":0},{"$f":"推定用途置換ルール!SSU3","v":0},{"$f":"推定用途置換ルール!SSV3","v":0},{"$f":"推定用途置換ルール!SSW3","v":0},{"$f":"推定用途置換ルール!SSX3","v":0},{"$f":"推定用途置換ルール!SSY3","v":0},{"$f":"推定用途置換ルール!SSZ3","v":0},{"$f":"推定用途置換ルール!STA3","v":0},{"$f":"推定用途置換ルール!STB3","v":0},{"$f":"推定用途置換ルール!STC3","v":0},{"$f":"推定用途置換ルール!STD3","v":0},{"$f":"推定用途置換ルール!STE3","v":0},{"$f":"推定用途置換ルール!STF3","v":0},{"$f":"推定用途置換ルール!STG3","v":0},{"$f":"推定用途置換ルール!STH3","v":0},{"$f":"推定用途置換ルール!STI3","v":0},{"$f":"推定用途置換ルール!STJ3","v":0},{"$f":"推定用途置換ルール!STK3","v":0},{"$f":"推定用途置換ルール!STL3","v":0},{"$f":"推定用途置換ルール!STM3","v":0},{"$f":"推定用途置換ルール!STN3","v":0},{"$f":"推定用途置換ルール!STO3","v":0},{"$f":"推定用途置換ルール!STP3","v":0},{"$f":"推定用途置換ルール!STQ3","v":0},{"$f":"推定用途置換ルール!STR3","v":0},{"$f":"推定用途置換ルール!STS3","v":0},{"$f":"推定用途置換ルール!STT3","v":0},{"$f":"推定用途置換ルール!STU3","v":0},{"$f":"推定用途置換ルール!STV3","v":0},{"$f":"推定用途置換ルール!STW3","v":0},{"$f":"推定用途置換ルール!STX3","v":0},{"$f":"推定用途置換ルール!STY3","v":0},{"$f":"推定用途置換ルール!STZ3","v":0},{"$f":"推定用途置換ルール!SUA3","v":0},{"$f":"推定用途置換ルール!SUB3","v":0},{"$f":"推定用途置換ルール!SUC3","v":0},{"$f":"推定用途置換ルール!SUD3","v":0},{"$f":"推定用途置換ルール!SUE3","v":0},{"$f":"推定用途置換ルール!SUF3","v":0},{"$f":"推定用途置換ルール!SUG3","v":0},{"$f":"推定用途置換ルール!SUH3","v":0},{"$f":"推定用途置換ルール!SUI3","v":0},{"$f":"推定用途置換ルール!SUJ3","v":0},{"$f":"推定用途置換ルール!SUK3","v":0},{"$f":"推定用途置換ルール!SUL3","v":0},{"$f":"推定用途置換ルール!SUM3","v":0},{"$f":"推定用途置換ルール!SUN3","v":0},{"$f":"推定用途置換ルール!SUO3","v":0},{"$f":"推定用途置換ルール!SUP3","v":0},{"$f":"推定用途置換ルール!SUQ3","v":0},{"$f":"推定用途置換ルール!SUR3","v":0},{"$f":"推定用途置換ルール!SUS3","v":0},{"$f":"推定用途置換ルール!SUT3","v":0},{"$f":"推定用途置換ルール!SUU3","v":0},{"$f":"推定用途置換ルール!SUV3","v":0},{"$f":"推定用途置換ルール!SUW3","v":0},{"$f":"推定用途置換ルール!SUX3","v":0},{"$f":"推定用途置換ルール!SUY3","v":0},{"$f":"推定用途置換ルール!SUZ3","v":0},{"$f":"推定用途置換ルール!SVA3","v":0},{"$f":"推定用途置換ルール!SVB3","v":0},{"$f":"推定用途置換ルール!SVC3","v":0},{"$f":"推定用途置換ルール!SVD3","v":0},{"$f":"推定用途置換ルール!SVE3","v":0},{"$f":"推定用途置換ルール!SVF3","v":0},{"$f":"推定用途置換ルール!SVG3","v":0},{"$f":"推定用途置換ルール!SVH3","v":0},{"$f":"推定用途置換ルール!SVI3","v":0},{"$f":"推定用途置換ルール!SVJ3","v":0},{"$f":"推定用途置換ルール!SVK3","v":0},{"$f":"推定用途置換ルール!SVL3","v":0},{"$f":"推定用途置換ルール!SVM3","v":0},{"$f":"推定用途置換ルール!SVN3","v":0},{"$f":"推定用途置換ルール!SVO3","v":0},{"$f":"推定用途置換ルール!SVP3","v":0},{"$f":"推定用途置換ルール!SVQ3","v":0},{"$f":"推定用途置換ルール!SVR3","v":0},{"$f":"推定用途置換ルール!SVS3","v":0},{"$f":"推定用途置換ルール!SVT3","v":0},{"$f":"推定用途置換ルール!SVU3","v":0},{"$f":"推定用途置換ルール!SVV3","v":0},{"$f":"推定用途置換ルール!SVW3","v":0},{"$f":"推定用途置換ルール!SVX3","v":0},{"$f":"推定用途置換ルール!SVY3","v":0},{"$f":"推定用途置換ルール!SVZ3","v":0},{"$f":"推定用途置換ルール!SWA3","v":0},{"$f":"推定用途置換ルール!SWB3","v":0},{"$f":"推定用途置換ルール!SWC3","v":0},{"$f":"推定用途置換ルール!SWD3","v":0},{"$f":"推定用途置換ルール!SWE3","v":0},{"$f":"推定用途置換ルール!SWF3","v":0},{"$f":"推定用途置換ルール!SWG3","v":0},{"$f":"推定用途置換ルール!SWH3","v":0},{"$f":"推定用途置換ルール!SWI3","v":0},{"$f":"推定用途置換ルール!SWJ3","v":0},{"$f":"推定用途置換ルール!SWK3","v":0},{"$f":"推定用途置換ルール!SWL3","v":0},{"$f":"推定用途置換ルール!SWM3","v":0},{"$f":"推定用途置換ルール!SWN3","v":0},{"$f":"推定用途置換ルール!SWO3","v":0},{"$f":"推定用途置換ルール!SWP3","v":0},{"$f":"推定用途置換ルール!SWQ3","v":0},{"$f":"推定用途置換ルール!SWR3","v":0},{"$f":"推定用途置換ルール!SWS3","v":0},{"$f":"推定用途置換ルール!SWT3","v":0},{"$f":"推定用途置換ルール!SWU3","v":0},{"$f":"推定用途置換ルール!SWV3","v":0},{"$f":"推定用途置換ルール!SWW3","v":0},{"$f":"推定用途置換ルール!SWX3","v":0},{"$f":"推定用途置換ルール!SWY3","v":0},{"$f":"推定用途置換ルール!SWZ3","v":0},{"$f":"推定用途置換ルール!SXA3","v":0},{"$f":"推定用途置換ルール!SXB3","v":0},{"$f":"推定用途置換ルール!SXC3","v":0},{"$f":"推定用途置換ルール!SXD3","v":0},{"$f":"推定用途置換ルール!SXE3","v":0},{"$f":"推定用途置換ルール!SXF3","v":0},{"$f":"推定用途置換ルール!SXG3","v":0},{"$f":"推定用途置換ルール!SXH3","v":0},{"$f":"推定用途置換ルール!SXI3","v":0},{"$f":"推定用途置換ルール!SXJ3","v":0},{"$f":"推定用途置換ルール!SXK3","v":0},{"$f":"推定用途置換ルール!SXL3","v":0},{"$f":"推定用途置換ルール!SXM3","v":0},{"$f":"推定用途置換ルール!SXN3","v":0},{"$f":"推定用途置換ルール!SXO3","v":0},{"$f":"推定用途置換ルール!SXP3","v":0},{"$f":"推定用途置換ルール!SXQ3","v":0},{"$f":"推定用途置換ルール!SXR3","v":0},{"$f":"推定用途置換ルール!SXS3","v":0},{"$f":"推定用途置換ルール!SXT3","v":0},{"$f":"推定用途置換ルール!SXU3","v":0},{"$f":"推定用途置換ルール!SXV3","v":0},{"$f":"推定用途置換ルール!SXW3","v":0},{"$f":"推定用途置換ルール!SXX3","v":0},{"$f":"推定用途置換ルール!SXY3","v":0},{"$f":"推定用途置換ルール!SXZ3","v":0},{"$f":"推定用途置換ルール!SYA3","v":0},{"$f":"推定用途置換ルール!SYB3","v":0},{"$f":"推定用途置換ルール!SYC3","v":0},{"$f":"推定用途置換ルール!SYD3","v":0},{"$f":"推定用途置換ルール!SYE3","v":0},{"$f":"推定用途置換ルール!SYF3","v":0},{"$f":"推定用途置換ルール!SYG3","v":0},{"$f":"推定用途置換ルール!SYH3","v":0},{"$f":"推定用途置換ルール!SYI3","v":0},{"$f":"推定用途置換ルール!SYJ3","v":0},{"$f":"推定用途置換ルール!SYK3","v":0},{"$f":"推定用途置換ルール!SYL3","v":0},{"$f":"推定用途置換ルール!SYM3","v":0},{"$f":"推定用途置換ルール!SYN3","v":0},{"$f":"推定用途置換ルール!SYO3","v":0},{"$f":"推定用途置換ルール!SYP3","v":0},{"$f":"推定用途置換ルール!SYQ3","v":0},{"$f":"推定用途置換ルール!SYR3","v":0},{"$f":"推定用途置換ルール!SYS3","v":0},{"$f":"推定用途置換ルール!SYT3","v":0},{"$f":"推定用途置換ルール!SYU3","v":0},{"$f":"推定用途置換ルール!SYV3","v":0},{"$f":"推定用途置換ルール!SYW3","v":0},{"$f":"推定用途置換ルール!SYX3","v":0},{"$f":"推定用途置換ルール!SYY3","v":0},{"$f":"推定用途置換ルール!SYZ3","v":0},{"$f":"推定用途置換ルール!SZA3","v":0},{"$f":"推定用途置換ルール!SZB3","v":0},{"$f":"推定用途置換ルール!SZC3","v":0},{"$f":"推定用途置換ルール!SZD3","v":0},{"$f":"推定用途置換ルール!SZE3","v":0},{"$f":"推定用途置換ルール!SZF3","v":0},{"$f":"推定用途置換ルール!SZG3","v":0},{"$f":"推定用途置換ルール!SZH3","v":0},{"$f":"推定用途置換ルール!SZI3","v":0},{"$f":"推定用途置換ルール!SZJ3","v":0},{"$f":"推定用途置換ルール!SZK3","v":0},{"$f":"推定用途置換ルール!SZL3","v":0},{"$f":"推定用途置換ルール!SZM3","v":0},{"$f":"推定用途置換ルール!SZN3","v":0},{"$f":"推定用途置換ルール!SZO3","v":0},{"$f":"推定用途置換ルール!SZP3","v":0},{"$f":"推定用途置換ルール!SZQ3","v":0},{"$f":"推定用途置換ルール!SZR3","v":0},{"$f":"推定用途置換ルール!SZS3","v":0},{"$f":"推定用途置換ルール!SZT3","v":0},{"$f":"推定用途置換ルール!SZU3","v":0},{"$f":"推定用途置換ルール!SZV3","v":0},{"$f":"推定用途置換ルール!SZW3","v":0},{"$f":"推定用途置換ルール!SZX3","v":0},{"$f":"推定用途置換ルール!SZY3","v":0},{"$f":"推定用途置換ルール!SZZ3","v":0},{"$f":"推定用途置換ルール!TAA3","v":0},{"$f":"推定用途置換ルール!TAB3","v":0},{"$f":"推定用途置換ルール!TAC3","v":0},{"$f":"推定用途置換ルール!TAD3","v":0},{"$f":"推定用途置換ルール!TAE3","v":0},{"$f":"推定用途置換ルール!TAF3","v":0},{"$f":"推定用途置換ルール!TAG3","v":0},{"$f":"推定用途置換ルール!TAH3","v":0},{"$f":"推定用途置換ルール!TAI3","v":0},{"$f":"推定用途置換ルール!TAJ3","v":0},{"$f":"推定用途置換ルール!TAK3","v":0},{"$f":"推定用途置換ルール!TAL3","v":0},{"$f":"推定用途置換ルール!TAM3","v":0},{"$f":"推定用途置換ルール!TAN3","v":0},{"$f":"推定用途置換ルール!TAO3","v":0},{"$f":"推定用途置換ルール!TAP3","v":0},{"$f":"推定用途置換ルール!TAQ3","v":0},{"$f":"推定用途置換ルール!TAR3","v":0},{"$f":"推定用途置換ルール!TAS3","v":0},{"$f":"推定用途置換ルール!TAT3","v":0},{"$f":"推定用途置換ルール!TAU3","v":0},{"$f":"推定用途置換ルール!TAV3","v":0},{"$f":"推定用途置換ルール!TAW3","v":0},{"$f":"推定用途置換ルール!TAX3","v":0},{"$f":"推定用途置換ルール!TAY3","v":0},{"$f":"推定用途置換ルール!TAZ3","v":0},{"$f":"推定用途置換ルール!TBA3","v":0},{"$f":"推定用途置換ルール!TBB3","v":0},{"$f":"推定用途置換ルール!TBC3","v":0},{"$f":"推定用途置換ルール!TBD3","v":0},{"$f":"推定用途置換ルール!TBE3","v":0},{"$f":"推定用途置換ルール!TBF3","v":0},{"$f":"推定用途置換ルール!TBG3","v":0},{"$f":"推定用途置換ルール!TBH3","v":0},{"$f":"推定用途置換ルール!TBI3","v":0},{"$f":"推定用途置換ルール!TBJ3","v":0},{"$f":"推定用途置換ルール!TBK3","v":0},{"$f":"推定用途置換ルール!TBL3","v":0},{"$f":"推定用途置換ルール!TBM3","v":0},{"$f":"推定用途置換ルール!TBN3","v":0},{"$f":"推定用途置換ルール!TBO3","v":0},{"$f":"推定用途置換ルール!TBP3","v":0},{"$f":"推定用途置換ルール!TBQ3","v":0},{"$f":"推定用途置換ルール!TBR3","v":0},{"$f":"推定用途置換ルール!TBS3","v":0},{"$f":"推定用途置換ルール!TBT3","v":0},{"$f":"推定用途置換ルール!TBU3","v":0},{"$f":"推定用途置換ルール!TBV3","v":0},{"$f":"推定用途置換ルール!TBW3","v":0},{"$f":"推定用途置換ルール!TBX3","v":0},{"$f":"推定用途置換ルール!TBY3","v":0},{"$f":"推定用途置換ルール!TBZ3","v":0},{"$f":"推定用途置換ルール!TCA3","v":0},{"$f":"推定用途置換ルール!TCB3","v":0},{"$f":"推定用途置換ルール!TCC3","v":0},{"$f":"推定用途置換ルール!TCD3","v":0},{"$f":"推定用途置換ルール!TCE3","v":0},{"$f":"推定用途置換ルール!TCF3","v":0},{"$f":"推定用途置換ルール!TCG3","v":0},{"$f":"推定用途置換ルール!TCH3","v":0},{"$f":"推定用途置換ルール!TCI3","v":0},{"$f":"推定用途置換ルール!TCJ3","v":0},{"$f":"推定用途置換ルール!TCK3","v":0},{"$f":"推定用途置換ルール!TCL3","v":0},{"$f":"推定用途置換ルール!TCM3","v":0},{"$f":"推定用途置換ルール!TCN3","v":0},{"$f":"推定用途置換ルール!TCO3","v":0},{"$f":"推定用途置換ルール!TCP3","v":0},{"$f":"推定用途置換ルール!TCQ3","v":0},{"$f":"推定用途置換ルール!TCR3","v":0},{"$f":"推定用途置換ルール!TCS3","v":0},{"$f":"推定用途置換ルール!TCT3","v":0},{"$f":"推定用途置換ルール!TCU3","v":0},{"$f":"推定用途置換ルール!TCV3","v":0},{"$f":"推定用途置換ルール!TCW3","v":0},{"$f":"推定用途置換ルール!TCX3","v":0},{"$f":"推定用途置換ルール!TCY3","v":0},{"$f":"推定用途置換ルール!TCZ3","v":0},{"$f":"推定用途置換ルール!TDA3","v":0},{"$f":"推定用途置換ルール!TDB3","v":0},{"$f":"推定用途置換ルール!TDC3","v":0},{"$f":"推定用途置換ルール!TDD3","v":0},{"$f":"推定用途置換ルール!TDE3","v":0},{"$f":"推定用途置換ルール!TDF3","v":0},{"$f":"推定用途置換ルール!TDG3","v":0},{"$f":"推定用途置換ルール!TDH3","v":0},{"$f":"推定用途置換ルール!TDI3","v":0},{"$f":"推定用途置換ルール!TDJ3","v":0},{"$f":"推定用途置換ルール!TDK3","v":0},{"$f":"推定用途置換ルール!TDL3","v":0},{"$f":"推定用途置換ルール!TDM3","v":0},{"$f":"推定用途置換ルール!TDN3","v":0},{"$f":"推定用途置換ルール!TDO3","v":0},{"$f":"推定用途置換ルール!TDP3","v":0},{"$f":"推定用途置換ルール!TDQ3","v":0},{"$f":"推定用途置換ルール!TDR3","v":0},{"$f":"推定用途置換ルール!TDS3","v":0},{"$f":"推定用途置換ルール!TDT3","v":0},{"$f":"推定用途置換ルール!TDU3","v":0},{"$f":"推定用途置換ルール!TDV3","v":0},{"$f":"推定用途置換ルール!TDW3","v":0},{"$f":"推定用途置換ルール!TDX3","v":0},{"$f":"推定用途置換ルール!TDY3","v":0},{"$f":"推定用途置換ルール!TDZ3","v":0},{"$f":"推定用途置換ルール!TEA3","v":0},{"$f":"推定用途置換ルール!TEB3","v":0},{"$f":"推定用途置換ルール!TEC3","v":0},{"$f":"推定用途置換ルール!TED3","v":0},{"$f":"推定用途置換ルール!TEE3","v":0},{"$f":"推定用途置換ルール!TEF3","v":0},{"$f":"推定用途置換ルール!TEG3","v":0},{"$f":"推定用途置換ルール!TEH3","v":0},{"$f":"推定用途置換ルール!TEI3","v":0},{"$f":"推定用途置換ルール!TEJ3","v":0},{"$f":"推定用途置換ルール!TEK3","v":0},{"$f":"推定用途置換ルール!TEL3","v":0},{"$f":"推定用途置換ルール!TEM3","v":0},{"$f":"推定用途置換ルール!TEN3","v":0},{"$f":"推定用途置換ルール!TEO3","v":0},{"$f":"推定用途置換ルール!TEP3","v":0},{"$f":"推定用途置換ルール!TEQ3","v":0},{"$f":"推定用途置換ルール!TER3","v":0},{"$f":"推定用途置換ルール!TES3","v":0},{"$f":"推定用途置換ルール!TET3","v":0},{"$f":"推定用途置換ルール!TEU3","v":0},{"$f":"推定用途置換ルール!TEV3","v":0},{"$f":"推定用途置換ルール!TEW3","v":0},{"$f":"推定用途置換ルール!TEX3","v":0},{"$f":"推定用途置換ルール!TEY3","v":0},{"$f":"推定用途置換ルール!TEZ3","v":0},{"$f":"推定用途置換ルール!TFA3","v":0},{"$f":"推定用途置換ルール!TFB3","v":0},{"$f":"推定用途置換ルール!TFC3","v":0},{"$f":"推定用途置換ルール!TFD3","v":0},{"$f":"推定用途置換ルール!TFE3","v":0},{"$f":"推定用途置換ルール!TFF3","v":0},{"$f":"推定用途置換ルール!TFG3","v":0},{"$f":"推定用途置換ルール!TFH3","v":0},{"$f":"推定用途置換ルール!TFI3","v":0},{"$f":"推定用途置換ルール!TFJ3","v":0},{"$f":"推定用途置換ルール!TFK3","v":0},{"$f":"推定用途置換ルール!TFL3","v":0},{"$f":"推定用途置換ルール!TFM3","v":0},{"$f":"推定用途置換ルール!TFN3","v":0},{"$f":"推定用途置換ルール!TFO3","v":0},{"$f":"推定用途置換ルール!TFP3","v":0},{"$f":"推定用途置換ルール!TFQ3","v":0},{"$f":"推定用途置換ルール!TFR3","v":0},{"$f":"推定用途置換ルール!TFS3","v":0},{"$f":"推定用途置換ルール!TFT3","v":0},{"$f":"推定用途置換ルール!TFU3","v":0},{"$f":"推定用途置換ルール!TFV3","v":0},{"$f":"推定用途置換ルール!TFW3","v":0},{"$f":"推定用途置換ルール!TFX3","v":0},{"$f":"推定用途置換ルール!TFY3","v":0},{"$f":"推定用途置換ルール!TFZ3","v":0},{"$f":"推定用途置換ルール!TGA3","v":0},{"$f":"推定用途置換ルール!TGB3","v":0},{"$f":"推定用途置換ルール!TGC3","v":0},{"$f":"推定用途置換ルール!TGD3","v":0},{"$f":"推定用途置換ルール!TGE3","v":0},{"$f":"推定用途置換ルール!TGF3","v":0},{"$f":"推定用途置換ルール!TGG3","v":0},{"$f":"推定用途置換ルール!TGH3","v":0},{"$f":"推定用途置換ルール!TGI3","v":0},{"$f":"推定用途置換ルール!TGJ3","v":0},{"$f":"推定用途置換ルール!TGK3","v":0},{"$f":"推定用途置換ルール!TGL3","v":0},{"$f":"推定用途置換ルール!TGM3","v":0},{"$f":"推定用途置換ルール!TGN3","v":0},{"$f":"推定用途置換ルール!TGO3","v":0},{"$f":"推定用途置換ルール!TGP3","v":0},{"$f":"推定用途置換ルール!TGQ3","v":0},{"$f":"推定用途置換ルール!TGR3","v":0},{"$f":"推定用途置換ルール!TGS3","v":0},{"$f":"推定用途置換ルール!TGT3","v":0},{"$f":"推定用途置換ルール!TGU3","v":0},{"$f":"推定用途置換ルール!TGV3","v":0},{"$f":"推定用途置換ルール!TGW3","v":0},{"$f":"推定用途置換ルール!TGX3","v":0},{"$f":"推定用途置換ルール!TGY3","v":0},{"$f":"推定用途置換ルール!TGZ3","v":0},{"$f":"推定用途置換ルール!THA3","v":0},{"$f":"推定用途置換ルール!THB3","v":0},{"$f":"推定用途置換ルール!THC3","v":0},{"$f":"推定用途置換ルール!THD3","v":0},{"$f":"推定用途置換ルール!THE3","v":0},{"$f":"推定用途置換ルール!THF3","v":0},{"$f":"推定用途置換ルール!THG3","v":0},{"$f":"推定用途置換ルール!THH3","v":0},{"$f":"推定用途置換ルール!THI3","v":0},{"$f":"推定用途置換ルール!THJ3","v":0},{"$f":"推定用途置換ルール!THK3","v":0},{"$f":"推定用途置換ルール!THL3","v":0},{"$f":"推定用途置換ルール!THM3","v":0},{"$f":"推定用途置換ルール!THN3","v":0},{"$f":"推定用途置換ルール!THO3","v":0},{"$f":"推定用途置換ルール!THP3","v":0},{"$f":"推定用途置換ルール!THQ3","v":0},{"$f":"推定用途置換ルール!THR3","v":0},{"$f":"推定用途置換ルール!THS3","v":0},{"$f":"推定用途置換ルール!THT3","v":0},{"$f":"推定用途置換ルール!THU3","v":0},{"$f":"推定用途置換ルール!THV3","v":0},{"$f":"推定用途置換ルール!THW3","v":0},{"$f":"推定用途置換ルール!THX3","v":0},{"$f":"推定用途置換ルール!THY3","v":0},{"$f":"推定用途置換ルール!THZ3","v":0},{"$f":"推定用途置換ルール!TIA3","v":0},{"$f":"推定用途置換ルール!TIB3","v":0},{"$f":"推定用途置換ルール!TIC3","v":0},{"$f":"推定用途置換ルール!TID3","v":0},{"$f":"推定用途置換ルール!TIE3","v":0},{"$f":"推定用途置換ルール!TIF3","v":0},{"$f":"推定用途置換ルール!TIG3","v":0},{"$f":"推定用途置換ルール!TIH3","v":0},{"$f":"推定用途置換ルール!TII3","v":0},{"$f":"推定用途置換ルール!TIJ3","v":0},{"$f":"推定用途置換ルール!TIK3","v":0},{"$f":"推定用途置換ルール!TIL3","v":0},{"$f":"推定用途置換ルール!TIM3","v":0},{"$f":"推定用途置換ルール!TIN3","v":0},{"$f":"推定用途置換ルール!TIO3","v":0},{"$f":"推定用途置換ルール!TIP3","v":0},{"$f":"推定用途置換ルール!TIQ3","v":0},{"$f":"推定用途置換ルール!TIR3","v":0},{"$f":"推定用途置換ルール!TIS3","v":0},{"$f":"推定用途置換ルール!TIT3","v":0},{"$f":"推定用途置換ルール!TIU3","v":0},{"$f":"推定用途置換ルール!TIV3","v":0},{"$f":"推定用途置換ルール!TIW3","v":0},{"$f":"推定用途置換ルール!TIX3","v":0},{"$f":"推定用途置換ルール!TIY3","v":0},{"$f":"推定用途置換ルール!TIZ3","v":0},{"$f":"推定用途置換ルール!TJA3","v":0},{"$f":"推定用途置換ルール!TJB3","v":0},{"$f":"推定用途置換ルール!TJC3","v":0},{"$f":"推定用途置換ルール!TJD3","v":0},{"$f":"推定用途置換ルール!TJE3","v":0},{"$f":"推定用途置換ルール!TJF3","v":0},{"$f":"推定用途置換ルール!TJG3","v":0},{"$f":"推定用途置換ルール!TJH3","v":0},{"$f":"推定用途置換ルール!TJI3","v":0},{"$f":"推定用途置換ルール!TJJ3","v":0},{"$f":"推定用途置換ルール!TJK3","v":0},{"$f":"推定用途置換ルール!TJL3","v":0},{"$f":"推定用途置換ルール!TJM3","v":0},{"$f":"推定用途置換ルール!TJN3","v":0},{"$f":"推定用途置換ルール!TJO3","v":0},{"$f":"推定用途置換ルール!TJP3","v":0},{"$f":"推定用途置換ルール!TJQ3","v":0},{"$f":"推定用途置換ルール!TJR3","v":0},{"$f":"推定用途置換ルール!TJS3","v":0},{"$f":"推定用途置換ルール!TJT3","v":0},{"$f":"推定用途置換ルール!TJU3","v":0},{"$f":"推定用途置換ルール!TJV3","v":0},{"$f":"推定用途置換ルール!TJW3","v":0},{"$f":"推定用途置換ルール!TJX3","v":0},{"$f":"推定用途置換ルール!TJY3","v":0},{"$f":"推定用途置換ルール!TJZ3","v":0},{"$f":"推定用途置換ルール!TKA3","v":0},{"$f":"推定用途置換ルール!TKB3","v":0},{"$f":"推定用途置換ルール!TKC3","v":0},{"$f":"推定用途置換ルール!TKD3","v":0},{"$f":"推定用途置換ルール!TKE3","v":0},{"$f":"推定用途置換ルール!TKF3","v":0},{"$f":"推定用途置換ルール!TKG3","v":0},{"$f":"推定用途置換ルール!TKH3","v":0},{"$f":"推定用途置換ルール!TKI3","v":0},{"$f":"推定用途置換ルール!TKJ3","v":0},{"$f":"推定用途置換ルール!TKK3","v":0},{"$f":"推定用途置換ルール!TKL3","v":0},{"$f":"推定用途置換ルール!TKM3","v":0},{"$f":"推定用途置換ルール!TKN3","v":0},{"$f":"推定用途置換ルール!TKO3","v":0},{"$f":"推定用途置換ルール!TKP3","v":0},{"$f":"推定用途置換ルール!TKQ3","v":0},{"$f":"推定用途置換ルール!TKR3","v":0},{"$f":"推定用途置換ルール!TKS3","v":0},{"$f":"推定用途置換ルール!TKT3","v":0},{"$f":"推定用途置換ルール!TKU3","v":0},{"$f":"推定用途置換ルール!TKV3","v":0},{"$f":"推定用途置換ルール!TKW3","v":0},{"$f":"推定用途置換ルール!TKX3","v":0},{"$f":"推定用途置換ルール!TKY3","v":0},{"$f":"推定用途置換ルール!TKZ3","v":0},{"$f":"推定用途置換ルール!TLA3","v":0},{"$f":"推定用途置換ルール!TLB3","v":0},{"$f":"推定用途置換ルール!TLC3","v":0},{"$f":"推定用途置換ルール!TLD3","v":0},{"$f":"推定用途置換ルール!TLE3","v":0},{"$f":"推定用途置換ルール!TLF3","v":0},{"$f":"推定用途置換ルール!TLG3","v":0},{"$f":"推定用途置換ルール!TLH3","v":0},{"$f":"推定用途置換ルール!TLI3","v":0},{"$f":"推定用途置換ルール!TLJ3","v":0},{"$f":"推定用途置換ルール!TLK3","v":0},{"$f":"推定用途置換ルール!TLL3","v":0},{"$f":"推定用途置換ルール!TLM3","v":0},{"$f":"推定用途置換ルール!TLN3","v":0},{"$f":"推定用途置換ルール!TLO3","v":0},{"$f":"推定用途置換ルール!TLP3","v":0},{"$f":"推定用途置換ルール!TLQ3","v":0},{"$f":"推定用途置換ルール!TLR3","v":0},{"$f":"推定用途置換ルール!TLS3","v":0},{"$f":"推定用途置換ルール!TLT3","v":0},{"$f":"推定用途置換ルール!TLU3","v":0},{"$f":"推定用途置換ルール!TLV3","v":0},{"$f":"推定用途置換ルール!TLW3","v":0},{"$f":"推定用途置換ルール!TLX3","v":0},{"$f":"推定用途置換ルール!TLY3","v":0},{"$f":"推定用途置換ルール!TLZ3","v":0},{"$f":"推定用途置換ルール!TMA3","v":0},{"$f":"推定用途置換ルール!TMB3","v":0},{"$f":"推定用途置換ルール!TMC3","v":0},{"$f":"推定用途置換ルール!TMD3","v":0},{"$f":"推定用途置換ルール!TME3","v":0},{"$f":"推定用途置換ルール!TMF3","v":0},{"$f":"推定用途置換ルール!TMG3","v":0},{"$f":"推定用途置換ルール!TMH3","v":0},{"$f":"推定用途置換ルール!TMI3","v":0},{"$f":"推定用途置換ルール!TMJ3","v":0},{"$f":"推定用途置換ルール!TMK3","v":0},{"$f":"推定用途置換ルール!TML3","v":0},{"$f":"推定用途置換ルール!TMM3","v":0},{"$f":"推定用途置換ルール!TMN3","v":0},{"$f":"推定用途置換ルール!TMO3","v":0},{"$f":"推定用途置換ルール!TMP3","v":0},{"$f":"推定用途置換ルール!TMQ3","v":0},{"$f":"推定用途置換ルール!TMR3","v":0},{"$f":"推定用途置換ルール!TMS3","v":0},{"$f":"推定用途置換ルール!TMT3","v":0},{"$f":"推定用途置換ルール!TMU3","v":0},{"$f":"推定用途置換ルール!TMV3","v":0},{"$f":"推定用途置換ルール!TMW3","v":0},{"$f":"推定用途置換ルール!TMX3","v":0},{"$f":"推定用途置換ルール!TMY3","v":0},{"$f":"推定用途置換ルール!TMZ3","v":0},{"$f":"推定用途置換ルール!TNA3","v":0},{"$f":"推定用途置換ルール!TNB3","v":0},{"$f":"推定用途置換ルール!TNC3","v":0},{"$f":"推定用途置換ルール!TND3","v":0},{"$f":"推定用途置換ルール!TNE3","v":0},{"$f":"推定用途置換ルール!TNF3","v":0},{"$f":"推定用途置換ルール!TNG3","v":0},{"$f":"推定用途置換ルール!TNH3","v":0},{"$f":"推定用途置換ルール!TNI3","v":0},{"$f":"推定用途置換ルール!TNJ3","v":0},{"$f":"推定用途置換ルール!TNK3","v":0},{"$f":"推定用途置換ルール!TNL3","v":0},{"$f":"推定用途置換ルール!TNM3","v":0},{"$f":"推定用途置換ルール!TNN3","v":0},{"$f":"推定用途置換ルール!TNO3","v":0},{"$f":"推定用途置換ルール!TNP3","v":0},{"$f":"推定用途置換ルール!TNQ3","v":0},{"$f":"推定用途置換ルール!TNR3","v":0},{"$f":"推定用途置換ルール!TNS3","v":0},{"$f":"推定用途置換ルール!TNT3","v":0},{"$f":"推定用途置換ルール!TNU3","v":0},{"$f":"推定用途置換ルール!TNV3","v":0},{"$f":"推定用途置換ルール!TNW3","v":0},{"$f":"推定用途置換ルール!TNX3","v":0},{"$f":"推定用途置換ルール!TNY3","v":0},{"$f":"推定用途置換ルール!TNZ3","v":0},{"$f":"推定用途置換ルール!TOA3","v":0},{"$f":"推定用途置換ルール!TOB3","v":0},{"$f":"推定用途置換ルール!TOC3","v":0},{"$f":"推定用途置換ルール!TOD3","v":0},{"$f":"推定用途置換ルール!TOE3","v":0},{"$f":"推定用途置換ルール!TOF3","v":0},{"$f":"推定用途置換ルール!TOG3","v":0},{"$f":"推定用途置換ルール!TOH3","v":0},{"$f":"推定用途置換ルール!TOI3","v":0},{"$f":"推定用途置換ルール!TOJ3","v":0},{"$f":"推定用途置換ルール!TOK3","v":0},{"$f":"推定用途置換ルール!TOL3","v":0},{"$f":"推定用途置換ルール!TOM3","v":0},{"$f":"推定用途置換ルール!TON3","v":0},{"$f":"推定用途置換ルール!TOO3","v":0},{"$f":"推定用途置換ルール!TOP3","v":0},{"$f":"推定用途置換ルール!TOQ3","v":0},{"$f":"推定用途置換ルール!TOR3","v":0},{"$f":"推定用途置換ルール!TOS3","v":0},{"$f":"推定用途置換ルール!TOT3","v":0},{"$f":"推定用途置換ルール!TOU3","v":0},{"$f":"推定用途置換ルール!TOV3","v":0},{"$f":"推定用途置換ルール!TOW3","v":0},{"$f":"推定用途置換ルール!TOX3","v":0},{"$f":"推定用途置換ルール!TOY3","v":0},{"$f":"推定用途置換ルール!TOZ3","v":0},{"$f":"推定用途置換ルール!TPA3","v":0},{"$f":"推定用途置換ルール!TPB3","v":0},{"$f":"推定用途置換ルール!TPC3","v":0},{"$f":"推定用途置換ルール!TPD3","v":0},{"$f":"推定用途置換ルール!TPE3","v":0},{"$f":"推定用途置換ルール!TPF3","v":0},{"$f":"推定用途置換ルール!TPG3","v":0},{"$f":"推定用途置換ルール!TPH3","v":0},{"$f":"推定用途置換ルール!TPI3","v":0},{"$f":"推定用途置換ルール!TPJ3","v":0},{"$f":"推定用途置換ルール!TPK3","v":0},{"$f":"推定用途置換ルール!TPL3","v":0},{"$f":"推定用途置換ルール!TPM3","v":0},{"$f":"推定用途置換ルール!TPN3","v":0},{"$f":"推定用途置換ルール!TPO3","v":0},{"$f":"推定用途置換ルール!TPP3","v":0},{"$f":"推定用途置換ルール!TPQ3","v":0},{"$f":"推定用途置換ルール!TPR3","v":0},{"$f":"推定用途置換ルール!TPS3","v":0},{"$f":"推定用途置換ルール!TPT3","v":0},{"$f":"推定用途置換ルール!TPU3","v":0},{"$f":"推定用途置換ルール!TPV3","v":0},{"$f":"推定用途置換ルール!TPW3","v":0},{"$f":"推定用途置換ルール!TPX3","v":0},{"$f":"推定用途置換ルール!TPY3","v":0},{"$f":"推定用途置換ルール!TPZ3","v":0},{"$f":"推定用途置換ルール!TQA3","v":0},{"$f":"推定用途置換ルール!TQB3","v":0},{"$f":"推定用途置換ルール!TQC3","v":0},{"$f":"推定用途置換ルール!TQD3","v":0},{"$f":"推定用途置換ルール!TQE3","v":0},{"$f":"推定用途置換ルール!TQF3","v":0},{"$f":"推定用途置換ルール!TQG3","v":0},{"$f":"推定用途置換ルール!TQH3","v":0},{"$f":"推定用途置換ルール!TQI3","v":0},{"$f":"推定用途置換ルール!TQJ3","v":0},{"$f":"推定用途置換ルール!TQK3","v":0},{"$f":"推定用途置換ルール!TQL3","v":0},{"$f":"推定用途置換ルール!TQM3","v":0},{"$f":"推定用途置換ルール!TQN3","v":0},{"$f":"推定用途置換ルール!TQO3","v":0},{"$f":"推定用途置換ルール!TQP3","v":0},{"$f":"推定用途置換ルール!TQQ3","v":0},{"$f":"推定用途置換ルール!TQR3","v":0},{"$f":"推定用途置換ルール!TQS3","v":0},{"$f":"推定用途置換ルール!TQT3","v":0},{"$f":"推定用途置換ルール!TQU3","v":0},{"$f":"推定用途置換ルール!TQV3","v":0},{"$f":"推定用途置換ルール!TQW3","v":0},{"$f":"推定用途置換ルール!TQX3","v":0},{"$f":"推定用途置換ルール!TQY3","v":0},{"$f":"推定用途置換ルール!TQZ3","v":0},{"$f":"推定用途置換ルール!TRA3","v":0},{"$f":"推定用途置換ルール!TRB3","v":0},{"$f":"推定用途置換ルール!TRC3","v":0},{"$f":"推定用途置換ルール!TRD3","v":0},{"$f":"推定用途置換ルール!TRE3","v":0},{"$f":"推定用途置換ルール!TRF3","v":0},{"$f":"推定用途置換ルール!TRG3","v":0},{"$f":"推定用途置換ルール!TRH3","v":0},{"$f":"推定用途置換ルール!TRI3","v":0},{"$f":"推定用途置換ルール!TRJ3","v":0},{"$f":"推定用途置換ルール!TRK3","v":0},{"$f":"推定用途置換ルール!TRL3","v":0},{"$f":"推定用途置換ルール!TRM3","v":0},{"$f":"推定用途置換ルール!TRN3","v":0},{"$f":"推定用途置換ルール!TRO3","v":0},{"$f":"推定用途置換ルール!TRP3","v":0},{"$f":"推定用途置換ルール!TRQ3","v":0},{"$f":"推定用途置換ルール!TRR3","v":0},{"$f":"推定用途置換ルール!TRS3","v":0},{"$f":"推定用途置換ルール!TRT3","v":0},{"$f":"推定用途置換ルール!TRU3","v":0},{"$f":"推定用途置換ルール!TRV3","v":0},{"$f":"推定用途置換ルール!TRW3","v":0},{"$f":"推定用途置換ルール!TRX3","v":0},{"$f":"推定用途置換ルール!TRY3","v":0},{"$f":"推定用途置換ルール!TRZ3","v":0},{"$f":"推定用途置換ルール!TSA3","v":0},{"$f":"推定用途置換ルール!TSB3","v":0},{"$f":"推定用途置換ルール!TSC3","v":0},{"$f":"推定用途置換ルール!TSD3","v":0},{"$f":"推定用途置換ルール!TSE3","v":0},{"$f":"推定用途置換ルール!TSF3","v":0},{"$f":"推定用途置換ルール!TSG3","v":0},{"$f":"推定用途置換ルール!TSH3","v":0},{"$f":"推定用途置換ルール!TSI3","v":0},{"$f":"推定用途置換ルール!TSJ3","v":0},{"$f":"推定用途置換ルール!TSK3","v":0},{"$f":"推定用途置換ルール!TSL3","v":0},{"$f":"推定用途置換ルール!TSM3","v":0},{"$f":"推定用途置換ルール!TSN3","v":0},{"$f":"推定用途置換ルール!TSO3","v":0},{"$f":"推定用途置換ルール!TSP3","v":0},{"$f":"推定用途置換ルール!TSQ3","v":0},{"$f":"推定用途置換ルール!TSR3","v":0},{"$f":"推定用途置換ルール!TSS3","v":0},{"$f":"推定用途置換ルール!TST3","v":0},{"$f":"推定用途置換ルール!TSU3","v":0},{"$f":"推定用途置換ルール!TSV3","v":0},{"$f":"推定用途置換ルール!TSW3","v":0},{"$f":"推定用途置換ルール!TSX3","v":0},{"$f":"推定用途置換ルール!TSY3","v":0},{"$f":"推定用途置換ルール!TSZ3","v":0},{"$f":"推定用途置換ルール!TTA3","v":0},{"$f":"推定用途置換ルール!TTB3","v":0},{"$f":"推定用途置換ルール!TTC3","v":0},{"$f":"推定用途置換ルール!TTD3","v":0},{"$f":"推定用途置換ルール!TTE3","v":0},{"$f":"推定用途置換ルール!TTF3","v":0},{"$f":"推定用途置換ルール!TTG3","v":0},{"$f":"推定用途置換ルール!TTH3","v":0},{"$f":"推定用途置換ルール!TTI3","v":0},{"$f":"推定用途置換ルール!TTJ3","v":0},{"$f":"推定用途置換ルール!TTK3","v":0},{"$f":"推定用途置換ルール!TTL3","v":0},{"$f":"推定用途置換ルール!TTM3","v":0},{"$f":"推定用途置換ルール!TTN3","v":0},{"$f":"推定用途置換ルール!TTO3","v":0},{"$f":"推定用途置換ルール!TTP3","v":0},{"$f":"推定用途置換ルール!TTQ3","v":0},{"$f":"推定用途置換ルール!TTR3","v":0},{"$f":"推定用途置換ルール!TTS3","v":0},{"$f":"推定用途置換ルール!TTT3","v":0},{"$f":"推定用途置換ルール!TTU3","v":0},{"$f":"推定用途置換ルール!TTV3","v":0},{"$f":"推定用途置換ルール!TTW3","v":0},{"$f":"推定用途置換ルール!TTX3","v":0},{"$f":"推定用途置換ルール!TTY3","v":0},{"$f":"推定用途置換ルール!TTZ3","v":0},{"$f":"推定用途置換ルール!TUA3","v":0},{"$f":"推定用途置換ルール!TUB3","v":0},{"$f":"推定用途置換ルール!TUC3","v":0},{"$f":"推定用途置換ルール!TUD3","v":0},{"$f":"推定用途置換ルール!TUE3","v":0},{"$f":"推定用途置換ルール!TUF3","v":0},{"$f":"推定用途置換ルール!TUG3","v":0},{"$f":"推定用途置換ルール!TUH3","v":0},{"$f":"推定用途置換ルール!TUI3","v":0},{"$f":"推定用途置換ルール!TUJ3","v":0},{"$f":"推定用途置換ルール!TUK3","v":0},{"$f":"推定用途置換ルール!TUL3","v":0},{"$f":"推定用途置換ルール!TUM3","v":0},{"$f":"推定用途置換ルール!TUN3","v":0},{"$f":"推定用途置換ルール!TUO3","v":0},{"$f":"推定用途置換ルール!TUP3","v":0},{"$f":"推定用途置換ルール!TUQ3","v":0},{"$f":"推定用途置換ルール!TUR3","v":0},{"$f":"推定用途置換ルール!TUS3","v":0},{"$f":"推定用途置換ルール!TUT3","v":0},{"$f":"推定用途置換ルール!TUU3","v":0},{"$f":"推定用途置換ルール!TUV3","v":0},{"$f":"推定用途置換ルール!TUW3","v":0},{"$f":"推定用途置換ルール!TUX3","v":0},{"$f":"推定用途置換ルール!TUY3","v":0},{"$f":"推定用途置換ルール!TUZ3","v":0},{"$f":"推定用途置換ルール!TVA3","v":0},{"$f":"推定用途置換ルール!TVB3","v":0},{"$f":"推定用途置換ルール!TVC3","v":0},{"$f":"推定用途置換ルール!TVD3","v":0},{"$f":"推定用途置換ルール!TVE3","v":0},{"$f":"推定用途置換ルール!TVF3","v":0},{"$f":"推定用途置換ルール!TVG3","v":0},{"$f":"推定用途置換ルール!TVH3","v":0},{"$f":"推定用途置換ルール!TVI3","v":0},{"$f":"推定用途置換ルール!TVJ3","v":0},{"$f":"推定用途置換ルール!TVK3","v":0},{"$f":"推定用途置換ルール!TVL3","v":0},{"$f":"推定用途置換ルール!TVM3","v":0},{"$f":"推定用途置換ルール!TVN3","v":0},{"$f":"推定用途置換ルール!TVO3","v":0},{"$f":"推定用途置換ルール!TVP3","v":0},{"$f":"推定用途置換ルール!TVQ3","v":0},{"$f":"推定用途置換ルール!TVR3","v":0},{"$f":"推定用途置換ルール!TVS3","v":0},{"$f":"推定用途置換ルール!TVT3","v":0},{"$f":"推定用途置換ルール!TVU3","v":0},{"$f":"推定用途置換ルール!TVV3","v":0},{"$f":"推定用途置換ルール!TVW3","v":0},{"$f":"推定用途置換ルール!TVX3","v":0},{"$f":"推定用途置換ルール!TVY3","v":0},{"$f":"推定用途置換ルール!TVZ3","v":0},{"$f":"推定用途置換ルール!TWA3","v":0},{"$f":"推定用途置換ルール!TWB3","v":0},{"$f":"推定用途置換ルール!TWC3","v":0},{"$f":"推定用途置換ルール!TWD3","v":0},{"$f":"推定用途置換ルール!TWE3","v":0},{"$f":"推定用途置換ルール!TWF3","v":0},{"$f":"推定用途置換ルール!TWG3","v":0},{"$f":"推定用途置換ルール!TWH3","v":0},{"$f":"推定用途置換ルール!TWI3","v":0},{"$f":"推定用途置換ルール!TWJ3","v":0},{"$f":"推定用途置換ルール!TWK3","v":0},{"$f":"推定用途置換ルール!TWL3","v":0},{"$f":"推定用途置換ルール!TWM3","v":0},{"$f":"推定用途置換ルール!TWN3","v":0},{"$f":"推定用途置換ルール!TWO3","v":0},{"$f":"推定用途置換ルール!TWP3","v":0},{"$f":"推定用途置換ルール!TWQ3","v":0},{"$f":"推定用途置換ルール!TWR3","v":0},{"$f":"推定用途置換ルール!TWS3","v":0},{"$f":"推定用途置換ルール!TWT3","v":0},{"$f":"推定用途置換ルール!TWU3","v":0},{"$f":"推定用途置換ルール!TWV3","v":0},{"$f":"推定用途置換ルール!TWW3","v":0},{"$f":"推定用途置換ルール!TWX3","v":0},{"$f":"推定用途置換ルール!TWY3","v":0},{"$f":"推定用途置換ルール!TWZ3","v":0},{"$f":"推定用途置換ルール!TXA3","v":0},{"$f":"推定用途置換ルール!TXB3","v":0},{"$f":"推定用途置換ルール!TXC3","v":0},{"$f":"推定用途置換ルール!TXD3","v":0},{"$f":"推定用途置換ルール!TXE3","v":0},{"$f":"推定用途置換ルール!TXF3","v":0},{"$f":"推定用途置換ルール!TXG3","v":0},{"$f":"推定用途置換ルール!TXH3","v":0},{"$f":"推定用途置換ルール!TXI3","v":0},{"$f":"推定用途置換ルール!TXJ3","v":0},{"$f":"推定用途置換ルール!TXK3","v":0},{"$f":"推定用途置換ルール!TXL3","v":0},{"$f":"推定用途置換ルール!TXM3","v":0},{"$f":"推定用途置換ルール!TXN3","v":0},{"$f":"推定用途置換ルール!TXO3","v":0},{"$f":"推定用途置換ルール!TXP3","v":0},{"$f":"推定用途置換ルール!TXQ3","v":0},{"$f":"推定用途置換ルール!TXR3","v":0},{"$f":"推定用途置換ルール!TXS3","v":0},{"$f":"推定用途置換ルール!TXT3","v":0},{"$f":"推定用途置換ルール!TXU3","v":0},{"$f":"推定用途置換ルール!TXV3","v":0},{"$f":"推定用途置換ルール!TXW3","v":0},{"$f":"推定用途置換ルール!TXX3","v":0},{"$f":"推定用途置換ルール!TXY3","v":0},{"$f":"推定用途置換ルール!TXZ3","v":0},{"$f":"推定用途置換ルール!TYA3","v":0},{"$f":"推定用途置換ルール!TYB3","v":0},{"$f":"推定用途置換ルール!TYC3","v":0},{"$f":"推定用途置換ルール!TYD3","v":0},{"$f":"推定用途置換ルール!TYE3","v":0},{"$f":"推定用途置換ルール!TYF3","v":0},{"$f":"推定用途置換ルール!TYG3","v":0},{"$f":"推定用途置換ルール!TYH3","v":0},{"$f":"推定用途置換ルール!TYI3","v":0},{"$f":"推定用途置換ルール!TYJ3","v":0},{"$f":"推定用途置換ルール!TYK3","v":0},{"$f":"推定用途置換ルール!TYL3","v":0},{"$f":"推定用途置換ルール!TYM3","v":0},{"$f":"推定用途置換ルール!TYN3","v":0},{"$f":"推定用途置換ルール!TYO3","v":0},{"$f":"推定用途置換ルール!TYP3","v":0},{"$f":"推定用途置換ルール!TYQ3","v":0},{"$f":"推定用途置換ルール!TYR3","v":0},{"$f":"推定用途置換ルール!TYS3","v":0},{"$f":"推定用途置換ルール!TYT3","v":0},{"$f":"推定用途置換ルール!TYU3","v":0},{"$f":"推定用途置換ルール!TYV3","v":0},{"$f":"推定用途置換ルール!TYW3","v":0},{"$f":"推定用途置換ルール!TYX3","v":0},{"$f":"推定用途置換ルール!TYY3","v":0},{"$f":"推定用途置換ルール!TYZ3","v":0},{"$f":"推定用途置換ルール!TZA3","v":0},{"$f":"推定用途置換ルール!TZB3","v":0},{"$f":"推定用途置換ルール!TZC3","v":0},{"$f":"推定用途置換ルール!TZD3","v":0},{"$f":"推定用途置換ルール!TZE3","v":0},{"$f":"推定用途置換ルール!TZF3","v":0},{"$f":"推定用途置換ルール!TZG3","v":0},{"$f":"推定用途置換ルール!TZH3","v":0},{"$f":"推定用途置換ルール!TZI3","v":0},{"$f":"推定用途置換ルール!TZJ3","v":0},{"$f":"推定用途置換ルール!TZK3","v":0},{"$f":"推定用途置換ルール!TZL3","v":0},{"$f":"推定用途置換ルール!TZM3","v":0},{"$f":"推定用途置換ルール!TZN3","v":0},{"$f":"推定用途置換ルール!TZO3","v":0},{"$f":"推定用途置換ルール!TZP3","v":0},{"$f":"推定用途置換ルール!TZQ3","v":0},{"$f":"推定用途置換ルール!TZR3","v":0},{"$f":"推定用途置換ルール!TZS3","v":0},{"$f":"推定用途置換ルール!TZT3","v":0},{"$f":"推定用途置換ルール!TZU3","v":0},{"$f":"推定用途置換ルール!TZV3","v":0},{"$f":"推定用途置換ルール!TZW3","v":0},{"$f":"推定用途置換ルール!TZX3","v":0},{"$f":"推定用途置換ルール!TZY3","v":0},{"$f":"推定用途置換ルール!TZZ3","v":0},{"$f":"推定用途置換ルール!UAA3","v":0},{"$f":"推定用途置換ルール!UAB3","v":0},{"$f":"推定用途置換ルール!UAC3","v":0},{"$f":"推定用途置換ルール!UAD3","v":0},{"$f":"推定用途置換ルール!UAE3","v":0},{"$f":"推定用途置換ルール!UAF3","v":0},{"$f":"推定用途置換ルール!UAG3","v":0},{"$f":"推定用途置換ルール!UAH3","v":0},{"$f":"推定用途置換ルール!UAI3","v":0},{"$f":"推定用途置換ルール!UAJ3","v":0},{"$f":"推定用途置換ルール!UAK3","v":0},{"$f":"推定用途置換ルール!UAL3","v":0},{"$f":"推定用途置換ルール!UAM3","v":0},{"$f":"推定用途置換ルール!UAN3","v":0},{"$f":"推定用途置換ルール!UAO3","v":0},{"$f":"推定用途置換ルール!UAP3","v":0},{"$f":"推定用途置換ルール!UAQ3","v":0},{"$f":"推定用途置換ルール!UAR3","v":0},{"$f":"推定用途置換ルール!UAS3","v":0},{"$f":"推定用途置換ルール!UAT3","v":0},{"$f":"推定用途置換ルール!UAU3","v":0},{"$f":"推定用途置換ルール!UAV3","v":0},{"$f":"推定用途置換ルール!UAW3","v":0},{"$f":"推定用途置換ルール!UAX3","v":0},{"$f":"推定用途置換ルール!UAY3","v":0},{"$f":"推定用途置換ルール!UAZ3","v":0},{"$f":"推定用途置換ルール!UBA3","v":0},{"$f":"推定用途置換ルール!UBB3","v":0},{"$f":"推定用途置換ルール!UBC3","v":0},{"$f":"推定用途置換ルール!UBD3","v":0},{"$f":"推定用途置換ルール!UBE3","v":0},{"$f":"推定用途置換ルール!UBF3","v":0},{"$f":"推定用途置換ルール!UBG3","v":0},{"$f":"推定用途置換ルール!UBH3","v":0},{"$f":"推定用途置換ルール!UBI3","v":0},{"$f":"推定用途置換ルール!UBJ3","v":0},{"$f":"推定用途置換ルール!UBK3","v":0},{"$f":"推定用途置換ルール!UBL3","v":0},{"$f":"推定用途置換ルール!UBM3","v":0},{"$f":"推定用途置換ルール!UBN3","v":0},{"$f":"推定用途置換ルール!UBO3","v":0},{"$f":"推定用途置換ルール!UBP3","v":0},{"$f":"推定用途置換ルール!UBQ3","v":0},{"$f":"推定用途置換ルール!UBR3","v":0},{"$f":"推定用途置換ルール!UBS3","v":0},{"$f":"推定用途置換ルール!UBT3","v":0},{"$f":"推定用途置換ルール!UBU3","v":0},{"$f":"推定用途置換ルール!UBV3","v":0},{"$f":"推定用途置換ルール!UBW3","v":0},{"$f":"推定用途置換ルール!UBX3","v":0},{"$f":"推定用途置換ルール!UBY3","v":0},{"$f":"推定用途置換ルール!UBZ3","v":0},{"$f":"推定用途置換ルール!UCA3","v":0},{"$f":"推定用途置換ルール!UCB3","v":0},{"$f":"推定用途置換ルール!UCC3","v":0},{"$f":"推定用途置換ルール!UCD3","v":0},{"$f":"推定用途置換ルール!UCE3","v":0},{"$f":"推定用途置換ルール!UCF3","v":0},{"$f":"推定用途置換ルール!UCG3","v":0},{"$f":"推定用途置換ルール!UCH3","v":0},{"$f":"推定用途置換ルール!UCI3","v":0},{"$f":"推定用途置換ルール!UCJ3","v":0},{"$f":"推定用途置換ルール!UCK3","v":0},{"$f":"推定用途置換ルール!UCL3","v":0},{"$f":"推定用途置換ルール!UCM3","v":0},{"$f":"推定用途置換ルール!UCN3","v":0},{"$f":"推定用途置換ルール!UCO3","v":0},{"$f":"推定用途置換ルール!UCP3","v":0},{"$f":"推定用途置換ルール!UCQ3","v":0},{"$f":"推定用途置換ルール!UCR3","v":0},{"$f":"推定用途置換ルール!UCS3","v":0},{"$f":"推定用途置換ルール!UCT3","v":0},{"$f":"推定用途置換ルール!UCU3","v":0},{"$f":"推定用途置換ルール!UCV3","v":0},{"$f":"推定用途置換ルール!UCW3","v":0},{"$f":"推定用途置換ルール!UCX3","v":0},{"$f":"推定用途置換ルール!UCY3","v":0},{"$f":"推定用途置換ルール!UCZ3","v":0},{"$f":"推定用途置換ルール!UDA3","v":0},{"$f":"推定用途置換ルール!UDB3","v":0},{"$f":"推定用途置換ルール!UDC3","v":0},{"$f":"推定用途置換ルール!UDD3","v":0},{"$f":"推定用途置換ルール!UDE3","v":0},{"$f":"推定用途置換ルール!UDF3","v":0},{"$f":"推定用途置換ルール!UDG3","v":0},{"$f":"推定用途置換ルール!UDH3","v":0},{"$f":"推定用途置換ルール!UDI3","v":0},{"$f":"推定用途置換ルール!UDJ3","v":0},{"$f":"推定用途置換ルール!UDK3","v":0},{"$f":"推定用途置換ルール!UDL3","v":0},{"$f":"推定用途置換ルール!UDM3","v":0},{"$f":"推定用途置換ルール!UDN3","v":0},{"$f":"推定用途置換ルール!UDO3","v":0},{"$f":"推定用途置換ルール!UDP3","v":0},{"$f":"推定用途置換ルール!UDQ3","v":0},{"$f":"推定用途置換ルール!UDR3","v":0},{"$f":"推定用途置換ルール!UDS3","v":0},{"$f":"推定用途置換ルール!UDT3","v":0},{"$f":"推定用途置換ルール!UDU3","v":0},{"$f":"推定用途置換ルール!UDV3","v":0},{"$f":"推定用途置換ルール!UDW3","v":0},{"$f":"推定用途置換ルール!UDX3","v":0},{"$f":"推定用途置換ルール!UDY3","v":0},{"$f":"推定用途置換ルール!UDZ3","v":0},{"$f":"推定用途置換ルール!UEA3","v":0},{"$f":"推定用途置換ルール!UEB3","v":0},{"$f":"推定用途置換ルール!UEC3","v":0},{"$f":"推定用途置換ルール!UED3","v":0},{"$f":"推定用途置換ルール!UEE3","v":0},{"$f":"推定用途置換ルール!UEF3","v":0},{"$f":"推定用途置換ルール!UEG3","v":0},{"$f":"推定用途置換ルール!UEH3","v":0},{"$f":"推定用途置換ルール!UEI3","v":0},{"$f":"推定用途置換ルール!UEJ3","v":0},{"$f":"推定用途置換ルール!UEK3","v":0},{"$f":"推定用途置換ルール!UEL3","v":0},{"$f":"推定用途置換ルール!UEM3","v":0},{"$f":"推定用途置換ルール!UEN3","v":0},{"$f":"推定用途置換ルール!UEO3","v":0},{"$f":"推定用途置換ルール!UEP3","v":0},{"$f":"推定用途置換ルール!UEQ3","v":0},{"$f":"推定用途置換ルール!UER3","v":0},{"$f":"推定用途置換ルール!UES3","v":0},{"$f":"推定用途置換ルール!UET3","v":0},{"$f":"推定用途置換ルール!UEU3","v":0},{"$f":"推定用途置換ルール!UEV3","v":0},{"$f":"推定用途置換ルール!UEW3","v":0},{"$f":"推定用途置換ルール!UEX3","v":0},{"$f":"推定用途置換ルール!UEY3","v":0},{"$f":"推定用途置換ルール!UEZ3","v":0},{"$f":"推定用途置換ルール!UFA3","v":0},{"$f":"推定用途置換ルール!UFB3","v":0},{"$f":"推定用途置換ルール!UFC3","v":0},{"$f":"推定用途置換ルール!UFD3","v":0},{"$f":"推定用途置換ルール!UFE3","v":0},{"$f":"推定用途置換ルール!UFF3","v":0},{"$f":"推定用途置換ルール!UFG3","v":0},{"$f":"推定用途置換ルール!UFH3","v":0},{"$f":"推定用途置換ルール!UFI3","v":0},{"$f":"推定用途置換ルール!UFJ3","v":0},{"$f":"推定用途置換ルール!UFK3","v":0},{"$f":"推定用途置換ルール!UFL3","v":0},{"$f":"推定用途置換ルール!UFM3","v":0},{"$f":"推定用途置換ルール!UFN3","v":0},{"$f":"推定用途置換ルール!UFO3","v":0},{"$f":"推定用途置換ルール!UFP3","v":0},{"$f":"推定用途置換ルール!UFQ3","v":0},{"$f":"推定用途置換ルール!UFR3","v":0},{"$f":"推定用途置換ルール!UFS3","v":0},{"$f":"推定用途置換ルール!UFT3","v":0},{"$f":"推定用途置換ルール!UFU3","v":0},{"$f":"推定用途置換ルール!UFV3","v":0},{"$f":"推定用途置換ルール!UFW3","v":0},{"$f":"推定用途置換ルール!UFX3","v":0},{"$f":"推定用途置換ルール!UFY3","v":0},{"$f":"推定用途置換ルール!UFZ3","v":0},{"$f":"推定用途置換ルール!UGA3","v":0},{"$f":"推定用途置換ルール!UGB3","v":0},{"$f":"推定用途置換ルール!UGC3","v":0},{"$f":"推定用途置換ルール!UGD3","v":0},{"$f":"推定用途置換ルール!UGE3","v":0},{"$f":"推定用途置換ルール!UGF3","v":0},{"$f":"推定用途置換ルール!UGG3","v":0},{"$f":"推定用途置換ルール!UGH3","v":0},{"$f":"推定用途置換ルール!UGI3","v":0},{"$f":"推定用途置換ルール!UGJ3","v":0},{"$f":"推定用途置換ルール!UGK3","v":0},{"$f":"推定用途置換ルール!UGL3","v":0},{"$f":"推定用途置換ルール!UGM3","v":0},{"$f":"推定用途置換ルール!UGN3","v":0},{"$f":"推定用途置換ルール!UGO3","v":0},{"$f":"推定用途置換ルール!UGP3","v":0},{"$f":"推定用途置換ルール!UGQ3","v":0},{"$f":"推定用途置換ルール!UGR3","v":0},{"$f":"推定用途置換ルール!UGS3","v":0},{"$f":"推定用途置換ルール!UGT3","v":0},{"$f":"推定用途置換ルール!UGU3","v":0},{"$f":"推定用途置換ルール!UGV3","v":0},{"$f":"推定用途置換ルール!UGW3","v":0},{"$f":"推定用途置換ルール!UGX3","v":0},{"$f":"推定用途置換ルール!UGY3","v":0},{"$f":"推定用途置換ルール!UGZ3","v":0},{"$f":"推定用途置換ルール!UHA3","v":0},{"$f":"推定用途置換ルール!UHB3","v":0},{"$f":"推定用途置換ルール!UHC3","v":0},{"$f":"推定用途置換ルール!UHD3","v":0},{"$f":"推定用途置換ルール!UHE3","v":0},{"$f":"推定用途置換ルール!UHF3","v":0},{"$f":"推定用途置換ルール!UHG3","v":0},{"$f":"推定用途置換ルール!UHH3","v":0},{"$f":"推定用途置換ルール!UHI3","v":0},{"$f":"推定用途置換ルール!UHJ3","v":0},{"$f":"推定用途置換ルール!UHK3","v":0},{"$f":"推定用途置換ルール!UHL3","v":0},{"$f":"推定用途置換ルール!UHM3","v":0},{"$f":"推定用途置換ルール!UHN3","v":0},{"$f":"推定用途置換ルール!UHO3","v":0},{"$f":"推定用途置換ルール!UHP3","v":0},{"$f":"推定用途置換ルール!UHQ3","v":0},{"$f":"推定用途置換ルール!UHR3","v":0},{"$f":"推定用途置換ルール!UHS3","v":0},{"$f":"推定用途置換ルール!UHT3","v":0},{"$f":"推定用途置換ルール!UHU3","v":0},{"$f":"推定用途置換ルール!UHV3","v":0},{"$f":"推定用途置換ルール!UHW3","v":0},{"$f":"推定用途置換ルール!UHX3","v":0},{"$f":"推定用途置換ルール!UHY3","v":0},{"$f":"推定用途置換ルール!UHZ3","v":0},{"$f":"推定用途置換ルール!UIA3","v":0},{"$f":"推定用途置換ルール!UIB3","v":0},{"$f":"推定用途置換ルール!UIC3","v":0},{"$f":"推定用途置換ルール!UID3","v":0},{"$f":"推定用途置換ルール!UIE3","v":0},{"$f":"推定用途置換ルール!UIF3","v":0},{"$f":"推定用途置換ルール!UIG3","v":0},{"$f":"推定用途置換ルール!UIH3","v":0},{"$f":"推定用途置換ルール!UII3","v":0},{"$f":"推定用途置換ルール!UIJ3","v":0},{"$f":"推定用途置換ルール!UIK3","v":0},{"$f":"推定用途置換ルール!UIL3","v":0},{"$f":"推定用途置換ルール!UIM3","v":0},{"$f":"推定用途置換ルール!UIN3","v":0},{"$f":"推定用途置換ルール!UIO3","v":0},{"$f":"推定用途置換ルール!UIP3","v":0},{"$f":"推定用途置換ルール!UIQ3","v":0},{"$f":"推定用途置換ルール!UIR3","v":0},{"$f":"推定用途置換ルール!UIS3","v":0},{"$f":"推定用途置換ルール!UIT3","v":0},{"$f":"推定用途置換ルール!UIU3","v":0},{"$f":"推定用途置換ルール!UIV3","v":0},{"$f":"推定用途置換ルール!UIW3","v":0},{"$f":"推定用途置換ルール!UIX3","v":0},{"$f":"推定用途置換ルール!UIY3","v":0},{"$f":"推定用途置換ルール!UIZ3","v":0},{"$f":"推定用途置換ルール!UJA3","v":0},{"$f":"推定用途置換ルール!UJB3","v":0},{"$f":"推定用途置換ルール!UJC3","v":0},{"$f":"推定用途置換ルール!UJD3","v":0},{"$f":"推定用途置換ルール!UJE3","v":0},{"$f":"推定用途置換ルール!UJF3","v":0},{"$f":"推定用途置換ルール!UJG3","v":0},{"$f":"推定用途置換ルール!UJH3","v":0},{"$f":"推定用途置換ルール!UJI3","v":0},{"$f":"推定用途置換ルール!UJJ3","v":0},{"$f":"推定用途置換ルール!UJK3","v":0},{"$f":"推定用途置換ルール!UJL3","v":0},{"$f":"推定用途置換ルール!UJM3","v":0},{"$f":"推定用途置換ルール!UJN3","v":0},{"$f":"推定用途置換ルール!UJO3","v":0},{"$f":"推定用途置換ルール!UJP3","v":0},{"$f":"推定用途置換ルール!UJQ3","v":0},{"$f":"推定用途置換ルール!UJR3","v":0},{"$f":"推定用途置換ルール!UJS3","v":0},{"$f":"推定用途置換ルール!UJT3","v":0},{"$f":"推定用途置換ルール!UJU3","v":0},{"$f":"推定用途置換ルール!UJV3","v":0},{"$f":"推定用途置換ルール!UJW3","v":0},{"$f":"推定用途置換ルール!UJX3","v":0},{"$f":"推定用途置換ルール!UJY3","v":0},{"$f":"推定用途置換ルール!UJZ3","v":0},{"$f":"推定用途置換ルール!UKA3","v":0},{"$f":"推定用途置換ルール!UKB3","v":0},{"$f":"推定用途置換ルール!UKC3","v":0},{"$f":"推定用途置換ルール!UKD3","v":0},{"$f":"推定用途置換ルール!UKE3","v":0},{"$f":"推定用途置換ルール!UKF3","v":0},{"$f":"推定用途置換ルール!UKG3","v":0},{"$f":"推定用途置換ルール!UKH3","v":0},{"$f":"推定用途置換ルール!UKI3","v":0},{"$f":"推定用途置換ルール!UKJ3","v":0},{"$f":"推定用途置換ルール!UKK3","v":0},{"$f":"推定用途置換ルール!UKL3","v":0},{"$f":"推定用途置換ルール!UKM3","v":0},{"$f":"推定用途置換ルール!UKN3","v":0},{"$f":"推定用途置換ルール!UKO3","v":0},{"$f":"推定用途置換ルール!UKP3","v":0},{"$f":"推定用途置換ルール!UKQ3","v":0},{"$f":"推定用途置換ルール!UKR3","v":0},{"$f":"推定用途置換ルール!UKS3","v":0},{"$f":"推定用途置換ルール!UKT3","v":0},{"$f":"推定用途置換ルール!UKU3","v":0},{"$f":"推定用途置換ルール!UKV3","v":0},{"$f":"推定用途置換ルール!UKW3","v":0},{"$f":"推定用途置換ルール!UKX3","v":0},{"$f":"推定用途置換ルール!UKY3","v":0},{"$f":"推定用途置換ルール!UKZ3","v":0},{"$f":"推定用途置換ルール!ULA3","v":0},{"$f":"推定用途置換ルール!ULB3","v":0},{"$f":"推定用途置換ルール!ULC3","v":0},{"$f":"推定用途置換ルール!ULD3","v":0},{"$f":"推定用途置換ルール!ULE3","v":0},{"$f":"推定用途置換ルール!ULF3","v":0},{"$f":"推定用途置換ルール!ULG3","v":0},{"$f":"推定用途置換ルール!ULH3","v":0},{"$f":"推定用途置換ルール!ULI3","v":0},{"$f":"推定用途置換ルール!ULJ3","v":0},{"$f":"推定用途置換ルール!ULK3","v":0},{"$f":"推定用途置換ルール!ULL3","v":0},{"$f":"推定用途置換ルール!ULM3","v":0},{"$f":"推定用途置換ルール!ULN3","v":0},{"$f":"推定用途置換ルール!ULO3","v":0},{"$f":"推定用途置換ルール!ULP3","v":0},{"$f":"推定用途置換ルール!ULQ3","v":0},{"$f":"推定用途置換ルール!ULR3","v":0},{"$f":"推定用途置換ルール!ULS3","v":0},{"$f":"推定用途置換ルール!ULT3","v":0},{"$f":"推定用途置換ルール!ULU3","v":0},{"$f":"推定用途置換ルール!ULV3","v":0},{"$f":"推定用途置換ルール!ULW3","v":0},{"$f":"推定用途置換ルール!ULX3","v":0},{"$f":"推定用途置換ルール!ULY3","v":0},{"$f":"推定用途置換ルール!ULZ3","v":0},{"$f":"推定用途置換ルール!UMA3","v":0},{"$f":"推定用途置換ルール!UMB3","v":0},{"$f":"推定用途置換ルール!UMC3","v":0},{"$f":"推定用途置換ルール!UMD3","v":0},{"$f":"推定用途置換ルール!UME3","v":0},{"$f":"推定用途置換ルール!UMF3","v":0},{"$f":"推定用途置換ルール!UMG3","v":0},{"$f":"推定用途置換ルール!UMH3","v":0},{"$f":"推定用途置換ルール!UMI3","v":0},{"$f":"推定用途置換ルール!UMJ3","v":0},{"$f":"推定用途置換ルール!UMK3","v":0},{"$f":"推定用途置換ルール!UML3","v":0},{"$f":"推定用途置換ルール!UMM3","v":0},{"$f":"推定用途置換ルール!UMN3","v":0},{"$f":"推定用途置換ルール!UMO3","v":0},{"$f":"推定用途置換ルール!UMP3","v":0},{"$f":"推定用途置換ルール!UMQ3","v":0},{"$f":"推定用途置換ルール!UMR3","v":0},{"$f":"推定用途置換ルール!UMS3","v":0},{"$f":"推定用途置換ルール!UMT3","v":0},{"$f":"推定用途置換ルール!UMU3","v":0},{"$f":"推定用途置換ルール!UMV3","v":0},{"$f":"推定用途置換ルール!UMW3","v":0},{"$f":"推定用途置換ルール!UMX3","v":0},{"$f":"推定用途置換ルール!UMY3","v":0},{"$f":"推定用途置換ルール!UMZ3","v":0},{"$f":"推定用途置換ルール!UNA3","v":0},{"$f":"推定用途置換ルール!UNB3","v":0},{"$f":"推定用途置換ルール!UNC3","v":0},{"$f":"推定用途置換ルール!UND3","v":0},{"$f":"推定用途置換ルール!UNE3","v":0},{"$f":"推定用途置換ルール!UNF3","v":0},{"$f":"推定用途置換ルール!UNG3","v":0},{"$f":"推定用途置換ルール!UNH3","v":0},{"$f":"推定用途置換ルール!UNI3","v":0},{"$f":"推定用途置換ルール!UNJ3","v":0},{"$f":"推定用途置換ルール!UNK3","v":0},{"$f":"推定用途置換ルール!UNL3","v":0},{"$f":"推定用途置換ルール!UNM3","v":0},{"$f":"推定用途置換ルール!UNN3","v":0},{"$f":"推定用途置換ルール!UNO3","v":0},{"$f":"推定用途置換ルール!UNP3","v":0},{"$f":"推定用途置換ルール!UNQ3","v":0},{"$f":"推定用途置換ルール!UNR3","v":0},{"$f":"推定用途置換ルール!UNS3","v":0},{"$f":"推定用途置換ルール!UNT3","v":0},{"$f":"推定用途置換ルール!UNU3","v":0},{"$f":"推定用途置換ルール!UNV3","v":0},{"$f":"推定用途置換ルール!UNW3","v":0},{"$f":"推定用途置換ルール!UNX3","v":0},{"$f":"推定用途置換ルール!UNY3","v":0},{"$f":"推定用途置換ルール!UNZ3","v":0},{"$f":"推定用途置換ルール!UOA3","v":0},{"$f":"推定用途置換ルール!UOB3","v":0},{"$f":"推定用途置換ルール!UOC3","v":0},{"$f":"推定用途置換ルール!UOD3","v":0},{"$f":"推定用途置換ルール!UOE3","v":0},{"$f":"推定用途置換ルール!UOF3","v":0},{"$f":"推定用途置換ルール!UOG3","v":0},{"$f":"推定用途置換ルール!UOH3","v":0},{"$f":"推定用途置換ルール!UOI3","v":0},{"$f":"推定用途置換ルール!UOJ3","v":0},{"$f":"推定用途置換ルール!UOK3","v":0},{"$f":"推定用途置換ルール!UOL3","v":0},{"$f":"推定用途置換ルール!UOM3","v":0},{"$f":"推定用途置換ルール!UON3","v":0},{"$f":"推定用途置換ルール!UOO3","v":0},{"$f":"推定用途置換ルール!UOP3","v":0},{"$f":"推定用途置換ルール!UOQ3","v":0},{"$f":"推定用途置換ルール!UOR3","v":0},{"$f":"推定用途置換ルール!UOS3","v":0},{"$f":"推定用途置換ルール!UOT3","v":0},{"$f":"推定用途置換ルール!UOU3","v":0},{"$f":"推定用途置換ルール!UOV3","v":0},{"$f":"推定用途置換ルール!UOW3","v":0},{"$f":"推定用途置換ルール!UOX3","v":0},{"$f":"推定用途置換ルール!UOY3","v":0},{"$f":"推定用途置換ルール!UOZ3","v":0},{"$f":"推定用途置換ルール!UPA3","v":0},{"$f":"推定用途置換ルール!UPB3","v":0},{"$f":"推定用途置換ルール!UPC3","v":0},{"$f":"推定用途置換ルール!UPD3","v":0},{"$f":"推定用途置換ルール!UPE3","v":0},{"$f":"推定用途置換ルール!UPF3","v":0},{"$f":"推定用途置換ルール!UPG3","v":0},{"$f":"推定用途置換ルール!UPH3","v":0},{"$f":"推定用途置換ルール!UPI3","v":0},{"$f":"推定用途置換ルール!UPJ3","v":0},{"$f":"推定用途置換ルール!UPK3","v":0},{"$f":"推定用途置換ルール!UPL3","v":0},{"$f":"推定用途置換ルール!UPM3","v":0},{"$f":"推定用途置換ルール!UPN3","v":0},{"$f":"推定用途置換ルール!UPO3","v":0},{"$f":"推定用途置換ルール!UPP3","v":0},{"$f":"推定用途置換ルール!UPQ3","v":0},{"$f":"推定用途置換ルール!UPR3","v":0},{"$f":"推定用途置換ルール!UPS3","v":0},{"$f":"推定用途置換ルール!UPT3","v":0},{"$f":"推定用途置換ルール!UPU3","v":0},{"$f":"推定用途置換ルール!UPV3","v":0},{"$f":"推定用途置換ルール!UPW3","v":0},{"$f":"推定用途置換ルール!UPX3","v":0},{"$f":"推定用途置換ルール!UPY3","v":0},{"$f":"推定用途置換ルール!UPZ3","v":0},{"$f":"推定用途置換ルール!UQA3","v":0},{"$f":"推定用途置換ルール!UQB3","v":0},{"$f":"推定用途置換ルール!UQC3","v":0},{"$f":"推定用途置換ルール!UQD3","v":0},{"$f":"推定用途置換ルール!UQE3","v":0},{"$f":"推定用途置換ルール!UQF3","v":0},{"$f":"推定用途置換ルール!UQG3","v":0},{"$f":"推定用途置換ルール!UQH3","v":0},{"$f":"推定用途置換ルール!UQI3","v":0},{"$f":"推定用途置換ルール!UQJ3","v":0},{"$f":"推定用途置換ルール!UQK3","v":0},{"$f":"推定用途置換ルール!UQL3","v":0},{"$f":"推定用途置換ルール!UQM3","v":0},{"$f":"推定用途置換ルール!UQN3","v":0},{"$f":"推定用途置換ルール!UQO3","v":0},{"$f":"推定用途置換ルール!UQP3","v":0},{"$f":"推定用途置換ルール!UQQ3","v":0},{"$f":"推定用途置換ルール!UQR3","v":0},{"$f":"推定用途置換ルール!UQS3","v":0},{"$f":"推定用途置換ルール!UQT3","v":0},{"$f":"推定用途置換ルール!UQU3","v":0},{"$f":"推定用途置換ルール!UQV3","v":0},{"$f":"推定用途置換ルール!UQW3","v":0},{"$f":"推定用途置換ルール!UQX3","v":0},{"$f":"推定用途置換ルール!UQY3","v":0},{"$f":"推定用途置換ルール!UQZ3","v":0},{"$f":"推定用途置換ルール!URA3","v":0},{"$f":"推定用途置換ルール!URB3","v":0},{"$f":"推定用途置換ルール!URC3","v":0},{"$f":"推定用途置換ルール!URD3","v":0},{"$f":"推定用途置換ルール!URE3","v":0},{"$f":"推定用途置換ルール!URF3","v":0},{"$f":"推定用途置換ルール!URG3","v":0},{"$f":"推定用途置換ルール!URH3","v":0},{"$f":"推定用途置換ルール!URI3","v":0},{"$f":"推定用途置換ルール!URJ3","v":0},{"$f":"推定用途置換ルール!URK3","v":0},{"$f":"推定用途置換ルール!URL3","v":0},{"$f":"推定用途置換ルール!URM3","v":0},{"$f":"推定用途置換ルール!URN3","v":0},{"$f":"推定用途置換ルール!URO3","v":0},{"$f":"推定用途置換ルール!URP3","v":0},{"$f":"推定用途置換ルール!URQ3","v":0},{"$f":"推定用途置換ルール!URR3","v":0},{"$f":"推定用途置換ルール!URS3","v":0},{"$f":"推定用途置換ルール!URT3","v":0},{"$f":"推定用途置換ルール!URU3","v":0},{"$f":"推定用途置換ルール!URV3","v":0},{"$f":"推定用途置換ルール!URW3","v":0},{"$f":"推定用途置換ルール!URX3","v":0},{"$f":"推定用途置換ルール!URY3","v":0},{"$f":"推定用途置換ルール!URZ3","v":0},{"$f":"推定用途置換ルール!USA3","v":0},{"$f":"推定用途置換ルール!USB3","v":0},{"$f":"推定用途置換ルール!USC3","v":0},{"$f":"推定用途置換ルール!USD3","v":0},{"$f":"推定用途置換ルール!USE3","v":0},{"$f":"推定用途置換ルール!USF3","v":0},{"$f":"推定用途置換ルール!USG3","v":0},{"$f":"推定用途置換ルール!USH3","v":0},{"$f":"推定用途置換ルール!USI3","v":0},{"$f":"推定用途置換ルール!USJ3","v":0},{"$f":"推定用途置換ルール!USK3","v":0},{"$f":"推定用途置換ルール!USL3","v":0},{"$f":"推定用途置換ルール!USM3","v":0},{"$f":"推定用途置換ルール!USN3","v":0},{"$f":"推定用途置換ルール!USO3","v":0},{"$f":"推定用途置換ルール!USP3","v":0},{"$f":"推定用途置換ルール!USQ3","v":0},{"$f":"推定用途置換ルール!USR3","v":0},{"$f":"推定用途置換ルール!USS3","v":0},{"$f":"推定用途置換ルール!UST3","v":0},{"$f":"推定用途置換ルール!USU3","v":0},{"$f":"推定用途置換ルール!USV3","v":0},{"$f":"推定用途置換ルール!USW3","v":0},{"$f":"推定用途置換ルール!USX3","v":0},{"$f":"推定用途置換ルール!USY3","v":0},{"$f":"推定用途置換ルール!USZ3","v":0},{"$f":"推定用途置換ルール!UTA3","v":0},{"$f":"推定用途置換ルール!UTB3","v":0},{"$f":"推定用途置換ルール!UTC3","v":0},{"$f":"推定用途置換ルール!UTD3","v":0},{"$f":"推定用途置換ルール!UTE3","v":0},{"$f":"推定用途置換ルール!UTF3","v":0},{"$f":"推定用途置換ルール!UTG3","v":0},{"$f":"推定用途置換ルール!UTH3","v":0},{"$f":"推定用途置換ルール!UTI3","v":0},{"$f":"推定用途置換ルール!UTJ3","v":0},{"$f":"推定用途置換ルール!UTK3","v":0},{"$f":"推定用途置換ルール!UTL3","v":0},{"$f":"推定用途置換ルール!UTM3","v":0},{"$f":"推定用途置換ルール!UTN3","v":0},{"$f":"推定用途置換ルール!UTO3","v":0},{"$f":"推定用途置換ルール!UTP3","v":0},{"$f":"推定用途置換ルール!UTQ3","v":0},{"$f":"推定用途置換ルール!UTR3","v":0},{"$f":"推定用途置換ルール!UTS3","v":0},{"$f":"推定用途置換ルール!UTT3","v":0},{"$f":"推定用途置換ルール!UTU3","v":0},{"$f":"推定用途置換ルール!UTV3","v":0},{"$f":"推定用途置換ルール!UTW3","v":0},{"$f":"推定用途置換ルール!UTX3","v":0},{"$f":"推定用途置換ルール!UTY3","v":0},{"$f":"推定用途置換ルール!UTZ3","v":0},{"$f":"推定用途置換ルール!UUA3","v":0},{"$f":"推定用途置換ルール!UUB3","v":0},{"$f":"推定用途置換ルール!UUC3","v":0},{"$f":"推定用途置換ルール!UUD3","v":0},{"$f":"推定用途置換ルール!UUE3","v":0},{"$f":"推定用途置換ルール!UUF3","v":0},{"$f":"推定用途置換ルール!UUG3","v":0},{"$f":"推定用途置換ルール!UUH3","v":0},{"$f":"推定用途置換ルール!UUI3","v":0},{"$f":"推定用途置換ルール!UUJ3","v":0},{"$f":"推定用途置換ルール!UUK3","v":0},{"$f":"推定用途置換ルール!UUL3","v":0},{"$f":"推定用途置換ルール!UUM3","v":0},{"$f":"推定用途置換ルール!UUN3","v":0},{"$f":"推定用途置換ルール!UUO3","v":0},{"$f":"推定用途置換ルール!UUP3","v":0},{"$f":"推定用途置換ルール!UUQ3","v":0},{"$f":"推定用途置換ルール!UUR3","v":0},{"$f":"推定用途置換ルール!UUS3","v":0},{"$f":"推定用途置換ルール!UUT3","v":0},{"$f":"推定用途置換ルール!UUU3","v":0},{"$f":"推定用途置換ルール!UUV3","v":0},{"$f":"推定用途置換ルール!UUW3","v":0},{"$f":"推定用途置換ルール!UUX3","v":0},{"$f":"推定用途置換ルール!UUY3","v":0},{"$f":"推定用途置換ルール!UUZ3","v":0},{"$f":"推定用途置換ルール!UVA3","v":0},{"$f":"推定用途置換ルール!UVB3","v":0},{"$f":"推定用途置換ルール!UVC3","v":0},{"$f":"推定用途置換ルール!UVD3","v":0},{"$f":"推定用途置換ルール!UVE3","v":0},{"$f":"推定用途置換ルール!UVF3","v":0},{"$f":"推定用途置換ルール!UVG3","v":0},{"$f":"推定用途置換ルール!UVH3","v":0},{"$f":"推定用途置換ルール!UVI3","v":0},{"$f":"推定用途置換ルール!UVJ3","v":0},{"$f":"推定用途置換ルール!UVK3","v":0},{"$f":"推定用途置換ルール!UVL3","v":0},{"$f":"推定用途置換ルール!UVM3","v":0},{"$f":"推定用途置換ルール!UVN3","v":0},{"$f":"推定用途置換ルール!UVO3","v":0},{"$f":"推定用途置換ルール!UVP3","v":0},{"$f":"推定用途置換ルール!UVQ3","v":0},{"$f":"推定用途置換ルール!UVR3","v":0},{"$f":"推定用途置換ルール!UVS3","v":0},{"$f":"推定用途置換ルール!UVT3","v":0},{"$f":"推定用途置換ルール!UVU3","v":0},{"$f":"推定用途置換ルール!UVV3","v":0},{"$f":"推定用途置換ルール!UVW3","v":0},{"$f":"推定用途置換ルール!UVX3","v":0},{"$f":"推定用途置換ルール!UVY3","v":0},{"$f":"推定用途置換ルール!UVZ3","v":0},{"$f":"推定用途置換ルール!UWA3","v":0},{"$f":"推定用途置換ルール!UWB3","v":0},{"$f":"推定用途置換ルール!UWC3","v":0},{"$f":"推定用途置換ルール!UWD3","v":0},{"$f":"推定用途置換ルール!UWE3","v":0},{"$f":"推定用途置換ルール!UWF3","v":0},{"$f":"推定用途置換ルール!UWG3","v":0},{"$f":"推定用途置換ルール!UWH3","v":0},{"$f":"推定用途置換ルール!UWI3","v":0},{"$f":"推定用途置換ルール!UWJ3","v":0},{"$f":"推定用途置換ルール!UWK3","v":0},{"$f":"推定用途置換ルール!UWL3","v":0},{"$f":"推定用途置換ルール!UWM3","v":0},{"$f":"推定用途置換ルール!UWN3","v":0},{"$f":"推定用途置換ルール!UWO3","v":0},{"$f":"推定用途置換ルール!UWP3","v":0},{"$f":"推定用途置換ルール!UWQ3","v":0},{"$f":"推定用途置換ルール!UWR3","v":0},{"$f":"推定用途置換ルール!UWS3","v":0},{"$f":"推定用途置換ルール!UWT3","v":0},{"$f":"推定用途置換ルール!UWU3","v":0},{"$f":"推定用途置換ルール!UWV3","v":0},{"$f":"推定用途置換ルール!UWW3","v":0},{"$f":"推定用途置換ルール!UWX3","v":0},{"$f":"推定用途置換ルール!UWY3","v":0},{"$f":"推定用途置換ルール!UWZ3","v":0},{"$f":"推定用途置換ルール!UXA3","v":0},{"$f":"推定用途置換ルール!UXB3","v":0},{"$f":"推定用途置換ルール!UXC3","v":0},{"$f":"推定用途置換ルール!UXD3","v":0},{"$f":"推定用途置換ルール!UXE3","v":0},{"$f":"推定用途置換ルール!UXF3","v":0},{"$f":"推定用途置換ルール!UXG3","v":0},{"$f":"推定用途置換ルール!UXH3","v":0},{"$f":"推定用途置換ルール!UXI3","v":0},{"$f":"推定用途置換ルール!UXJ3","v":0},{"$f":"推定用途置換ルール!UXK3","v":0},{"$f":"推定用途置換ルール!UXL3","v":0},{"$f":"推定用途置換ルール!UXM3","v":0},{"$f":"推定用途置換ルール!UXN3","v":0},{"$f":"推定用途置換ルール!UXO3","v":0},{"$f":"推定用途置換ルール!UXP3","v":0},{"$f":"推定用途置換ルール!UXQ3","v":0},{"$f":"推定用途置換ルール!UXR3","v":0},{"$f":"推定用途置換ルール!UXS3","v":0},{"$f":"推定用途置換ルール!UXT3","v":0},{"$f":"推定用途置換ルール!UXU3","v":0},{"$f":"推定用途置換ルール!UXV3","v":0},{"$f":"推定用途置換ルール!UXW3","v":0},{"$f":"推定用途置換ルール!UXX3","v":0},{"$f":"推定用途置換ルール!UXY3","v":0},{"$f":"推定用途置換ルール!UXZ3","v":0},{"$f":"推定用途置換ルール!UYA3","v":0},{"$f":"推定用途置換ルール!UYB3","v":0},{"$f":"推定用途置換ルール!UYC3","v":0},{"$f":"推定用途置換ルール!UYD3","v":0},{"$f":"推定用途置換ルール!UYE3","v":0},{"$f":"推定用途置換ルール!UYF3","v":0},{"$f":"推定用途置換ルール!UYG3","v":0},{"$f":"推定用途置換ルール!UYH3","v":0},{"$f":"推定用途置換ルール!UYI3","v":0},{"$f":"推定用途置換ルール!UYJ3","v":0},{"$f":"推定用途置換ルール!UYK3","v":0},{"$f":"推定用途置換ルール!UYL3","v":0},{"$f":"推定用途置換ルール!UYM3","v":0},{"$f":"推定用途置換ルール!UYN3","v":0},{"$f":"推定用途置換ルール!UYO3","v":0},{"$f":"推定用途置換ルール!UYP3","v":0},{"$f":"推定用途置換ルール!UYQ3","v":0},{"$f":"推定用途置換ルール!UYR3","v":0},{"$f":"推定用途置換ルール!UYS3","v":0},{"$f":"推定用途置換ルール!UYT3","v":0},{"$f":"推定用途置換ルール!UYU3","v":0},{"$f":"推定用途置換ルール!UYV3","v":0},{"$f":"推定用途置換ルール!UYW3","v":0},{"$f":"推定用途置換ルール!UYX3","v":0},{"$f":"推定用途置換ルール!UYY3","v":0},{"$f":"推定用途置換ルール!UYZ3","v":0},{"$f":"推定用途置換ルール!UZA3","v":0},{"$f":"推定用途置換ルール!UZB3","v":0},{"$f":"推定用途置換ルール!UZC3","v":0},{"$f":"推定用途置換ルール!UZD3","v":0},{"$f":"推定用途置換ルール!UZE3","v":0},{"$f":"推定用途置換ルール!UZF3","v":0},{"$f":"推定用途置換ルール!UZG3","v":0},{"$f":"推定用途置換ルール!UZH3","v":0},{"$f":"推定用途置換ルール!UZI3","v":0},{"$f":"推定用途置換ルール!UZJ3","v":0},{"$f":"推定用途置換ルール!UZK3","v":0},{"$f":"推定用途置換ルール!UZL3","v":0},{"$f":"推定用途置換ルール!UZM3","v":0},{"$f":"推定用途置換ルール!UZN3","v":0},{"$f":"推定用途置換ルール!UZO3","v":0},{"$f":"推定用途置換ルール!UZP3","v":0},{"$f":"推定用途置換ルール!UZQ3","v":0},{"$f":"推定用途置換ルール!UZR3","v":0},{"$f":"推定用途置換ルール!UZS3","v":0},{"$f":"推定用途置換ルール!UZT3","v":0},{"$f":"推定用途置換ルール!UZU3","v":0},{"$f":"推定用途置換ルール!UZV3","v":0},{"$f":"推定用途置換ルール!UZW3","v":0},{"$f":"推定用途置換ルール!UZX3","v":0},{"$f":"推定用途置換ルール!UZY3","v":0},{"$f":"推定用途置換ルール!UZZ3","v":0},{"$f":"推定用途置換ルール!VAA3","v":0},{"$f":"推定用途置換ルール!VAB3","v":0},{"$f":"推定用途置換ルール!VAC3","v":0},{"$f":"推定用途置換ルール!VAD3","v":0},{"$f":"推定用途置換ルール!VAE3","v":0},{"$f":"推定用途置換ルール!VAF3","v":0},{"$f":"推定用途置換ルール!VAG3","v":0},{"$f":"推定用途置換ルール!VAH3","v":0},{"$f":"推定用途置換ルール!VAI3","v":0},{"$f":"推定用途置換ルール!VAJ3","v":0},{"$f":"推定用途置換ルール!VAK3","v":0},{"$f":"推定用途置換ルール!VAL3","v":0},{"$f":"推定用途置換ルール!VAM3","v":0},{"$f":"推定用途置換ルール!VAN3","v":0},{"$f":"推定用途置換ルール!VAO3","v":0},{"$f":"推定用途置換ルール!VAP3","v":0},{"$f":"推定用途置換ルール!VAQ3","v":0},{"$f":"推定用途置換ルール!VAR3","v":0},{"$f":"推定用途置換ルール!VAS3","v":0},{"$f":"推定用途置換ルール!VAT3","v":0},{"$f":"推定用途置換ルール!VAU3","v":0},{"$f":"推定用途置換ルール!VAV3","v":0},{"$f":"推定用途置換ルール!VAW3","v":0},{"$f":"推定用途置換ルール!VAX3","v":0},{"$f":"推定用途置換ルール!VAY3","v":0},{"$f":"推定用途置換ルール!VAZ3","v":0},{"$f":"推定用途置換ルール!VBA3","v":0},{"$f":"推定用途置換ルール!VBB3","v":0},{"$f":"推定用途置換ルール!VBC3","v":0},{"$f":"推定用途置換ルール!VBD3","v":0},{"$f":"推定用途置換ルール!VBE3","v":0},{"$f":"推定用途置換ルール!VBF3","v":0},{"$f":"推定用途置換ルール!VBG3","v":0},{"$f":"推定用途置換ルール!VBH3","v":0},{"$f":"推定用途置換ルール!VBI3","v":0},{"$f":"推定用途置換ルール!VBJ3","v":0},{"$f":"推定用途置換ルール!VBK3","v":0},{"$f":"推定用途置換ルール!VBL3","v":0},{"$f":"推定用途置換ルール!VBM3","v":0},{"$f":"推定用途置換ルール!VBN3","v":0},{"$f":"推定用途置換ルール!VBO3","v":0},{"$f":"推定用途置換ルール!VBP3","v":0},{"$f":"推定用途置換ルール!VBQ3","v":0},{"$f":"推定用途置換ルール!VBR3","v":0},{"$f":"推定用途置換ルール!VBS3","v":0},{"$f":"推定用途置換ルール!VBT3","v":0},{"$f":"推定用途置換ルール!VBU3","v":0},{"$f":"推定用途置換ルール!VBV3","v":0},{"$f":"推定用途置換ルール!VBW3","v":0},{"$f":"推定用途置換ルール!VBX3","v":0},{"$f":"推定用途置換ルール!VBY3","v":0},{"$f":"推定用途置換ルール!VBZ3","v":0},{"$f":"推定用途置換ルール!VCA3","v":0},{"$f":"推定用途置換ルール!VCB3","v":0},{"$f":"推定用途置換ルール!VCC3","v":0},{"$f":"推定用途置換ルール!VCD3","v":0},{"$f":"推定用途置換ルール!VCE3","v":0},{"$f":"推定用途置換ルール!VCF3","v":0},{"$f":"推定用途置換ルール!VCG3","v":0},{"$f":"推定用途置換ルール!VCH3","v":0},{"$f":"推定用途置換ルール!VCI3","v":0},{"$f":"推定用途置換ルール!VCJ3","v":0},{"$f":"推定用途置換ルール!VCK3","v":0},{"$f":"推定用途置換ルール!VCL3","v":0},{"$f":"推定用途置換ルール!VCM3","v":0},{"$f":"推定用途置換ルール!VCN3","v":0},{"$f":"推定用途置換ルール!VCO3","v":0},{"$f":"推定用途置換ルール!VCP3","v":0},{"$f":"推定用途置換ルール!VCQ3","v":0},{"$f":"推定用途置換ルール!VCR3","v":0},{"$f":"推定用途置換ルール!VCS3","v":0},{"$f":"推定用途置換ルール!VCT3","v":0},{"$f":"推定用途置換ルール!VCU3","v":0},{"$f":"推定用途置換ルール!VCV3","v":0},{"$f":"推定用途置換ルール!VCW3","v":0},{"$f":"推定用途置換ルール!VCX3","v":0},{"$f":"推定用途置換ルール!VCY3","v":0},{"$f":"推定用途置換ルール!VCZ3","v":0},{"$f":"推定用途置換ルール!VDA3","v":0},{"$f":"推定用途置換ルール!VDB3","v":0},{"$f":"推定用途置換ルール!VDC3","v":0},{"$f":"推定用途置換ルール!VDD3","v":0},{"$f":"推定用途置換ルール!VDE3","v":0},{"$f":"推定用途置換ルール!VDF3","v":0},{"$f":"推定用途置換ルール!VDG3","v":0},{"$f":"推定用途置換ルール!VDH3","v":0},{"$f":"推定用途置換ルール!VDI3","v":0},{"$f":"推定用途置換ルール!VDJ3","v":0},{"$f":"推定用途置換ルール!VDK3","v":0},{"$f":"推定用途置換ルール!VDL3","v":0},{"$f":"推定用途置換ルール!VDM3","v":0},{"$f":"推定用途置換ルール!VDN3","v":0},{"$f":"推定用途置換ルール!VDO3","v":0},{"$f":"推定用途置換ルール!VDP3","v":0},{"$f":"推定用途置換ルール!VDQ3","v":0},{"$f":"推定用途置換ルール!VDR3","v":0},{"$f":"推定用途置換ルール!VDS3","v":0},{"$f":"推定用途置換ルール!VDT3","v":0},{"$f":"推定用途置換ルール!VDU3","v":0},{"$f":"推定用途置換ルール!VDV3","v":0},{"$f":"推定用途置換ルール!VDW3","v":0},{"$f":"推定用途置換ルール!VDX3","v":0},{"$f":"推定用途置換ルール!VDY3","v":0},{"$f":"推定用途置換ルール!VDZ3","v":0},{"$f":"推定用途置換ルール!VEA3","v":0},{"$f":"推定用途置換ルール!VEB3","v":0},{"$f":"推定用途置換ルール!VEC3","v":0},{"$f":"推定用途置換ルール!VED3","v":0},{"$f":"推定用途置換ルール!VEE3","v":0},{"$f":"推定用途置換ルール!VEF3","v":0},{"$f":"推定用途置換ルール!VEG3","v":0},{"$f":"推定用途置換ルール!VEH3","v":0},{"$f":"推定用途置換ルール!VEI3","v":0},{"$f":"推定用途置換ルール!VEJ3","v":0},{"$f":"推定用途置換ルール!VEK3","v":0},{"$f":"推定用途置換ルール!VEL3","v":0},{"$f":"推定用途置換ルール!VEM3","v":0},{"$f":"推定用途置換ルール!VEN3","v":0},{"$f":"推定用途置換ルール!VEO3","v":0},{"$f":"推定用途置換ルール!VEP3","v":0},{"$f":"推定用途置換ルール!VEQ3","v":0},{"$f":"推定用途置換ルール!VER3","v":0},{"$f":"推定用途置換ルール!VES3","v":0},{"$f":"推定用途置換ルール!VET3","v":0},{"$f":"推定用途置換ルール!VEU3","v":0},{"$f":"推定用途置換ルール!VEV3","v":0},{"$f":"推定用途置換ルール!VEW3","v":0},{"$f":"推定用途置換ルール!VEX3","v":0},{"$f":"推定用途置換ルール!VEY3","v":0},{"$f":"推定用途置換ルール!VEZ3","v":0},{"$f":"推定用途置換ルール!VFA3","v":0},{"$f":"推定用途置換ルール!VFB3","v":0},{"$f":"推定用途置換ルール!VFC3","v":0},{"$f":"推定用途置換ルール!VFD3","v":0},{"$f":"推定用途置換ルール!VFE3","v":0},{"$f":"推定用途置換ルール!VFF3","v":0},{"$f":"推定用途置換ルール!VFG3","v":0},{"$f":"推定用途置換ルール!VFH3","v":0},{"$f":"推定用途置換ルール!VFI3","v":0},{"$f":"推定用途置換ルール!VFJ3","v":0},{"$f":"推定用途置換ルール!VFK3","v":0},{"$f":"推定用途置換ルール!VFL3","v":0},{"$f":"推定用途置換ルール!VFM3","v":0},{"$f":"推定用途置換ルール!VFN3","v":0},{"$f":"推定用途置換ルール!VFO3","v":0},{"$f":"推定用途置換ルール!VFP3","v":0},{"$f":"推定用途置換ルール!VFQ3","v":0},{"$f":"推定用途置換ルール!VFR3","v":0},{"$f":"推定用途置換ルール!VFS3","v":0},{"$f":"推定用途置換ルール!VFT3","v":0},{"$f":"推定用途置換ルール!VFU3","v":0},{"$f":"推定用途置換ルール!VFV3","v":0},{"$f":"推定用途置換ルール!VFW3","v":0},{"$f":"推定用途置換ルール!VFX3","v":0},{"$f":"推定用途置換ルール!VFY3","v":0},{"$f":"推定用途置換ルール!VFZ3","v":0},{"$f":"推定用途置換ルール!VGA3","v":0},{"$f":"推定用途置換ルール!VGB3","v":0},{"$f":"推定用途置換ルール!VGC3","v":0},{"$f":"推定用途置換ルール!VGD3","v":0},{"$f":"推定用途置換ルール!VGE3","v":0},{"$f":"推定用途置換ルール!VGF3","v":0},{"$f":"推定用途置換ルール!VGG3","v":0},{"$f":"推定用途置換ルール!VGH3","v":0},{"$f":"推定用途置換ルール!VGI3","v":0},{"$f":"推定用途置換ルール!VGJ3","v":0},{"$f":"推定用途置換ルール!VGK3","v":0},{"$f":"推定用途置換ルール!VGL3","v":0},{"$f":"推定用途置換ルール!VGM3","v":0},{"$f":"推定用途置換ルール!VGN3","v":0},{"$f":"推定用途置換ルール!VGO3","v":0},{"$f":"推定用途置換ルール!VGP3","v":0},{"$f":"推定用途置換ルール!VGQ3","v":0},{"$f":"推定用途置換ルール!VGR3","v":0},{"$f":"推定用途置換ルール!VGS3","v":0},{"$f":"推定用途置換ルール!VGT3","v":0},{"$f":"推定用途置換ルール!VGU3","v":0},{"$f":"推定用途置換ルール!VGV3","v":0},{"$f":"推定用途置換ルール!VGW3","v":0},{"$f":"推定用途置換ルール!VGX3","v":0},{"$f":"推定用途置換ルール!VGY3","v":0},{"$f":"推定用途置換ルール!VGZ3","v":0},{"$f":"推定用途置換ルール!VHA3","v":0},{"$f":"推定用途置換ルール!VHB3","v":0},{"$f":"推定用途置換ルール!VHC3","v":0},{"$f":"推定用途置換ルール!VHD3","v":0},{"$f":"推定用途置換ルール!VHE3","v":0},{"$f":"推定用途置換ルール!VHF3","v":0},{"$f":"推定用途置換ルール!VHG3","v":0},{"$f":"推定用途置換ルール!VHH3","v":0},{"$f":"推定用途置換ルール!VHI3","v":0},{"$f":"推定用途置換ルール!VHJ3","v":0},{"$f":"推定用途置換ルール!VHK3","v":0},{"$f":"推定用途置換ルール!VHL3","v":0},{"$f":"推定用途置換ルール!VHM3","v":0},{"$f":"推定用途置換ルール!VHN3","v":0},{"$f":"推定用途置換ルール!VHO3","v":0},{"$f":"推定用途置換ルール!VHP3","v":0},{"$f":"推定用途置換ルール!VHQ3","v":0},{"$f":"推定用途置換ルール!VHR3","v":0},{"$f":"推定用途置換ルール!VHS3","v":0},{"$f":"推定用途置換ルール!VHT3","v":0},{"$f":"推定用途置換ルール!VHU3","v":0},{"$f":"推定用途置換ルール!VHV3","v":0},{"$f":"推定用途置換ルール!VHW3","v":0},{"$f":"推定用途置換ルール!VHX3","v":0},{"$f":"推定用途置換ルール!VHY3","v":0},{"$f":"推定用途置換ルール!VHZ3","v":0},{"$f":"推定用途置換ルール!VIA3","v":0},{"$f":"推定用途置換ルール!VIB3","v":0},{"$f":"推定用途置換ルール!VIC3","v":0},{"$f":"推定用途置換ルール!VID3","v":0},{"$f":"推定用途置換ルール!VIE3","v":0},{"$f":"推定用途置換ルール!VIF3","v":0},{"$f":"推定用途置換ルール!VIG3","v":0},{"$f":"推定用途置換ルール!VIH3","v":0},{"$f":"推定用途置換ルール!VII3","v":0},{"$f":"推定用途置換ルール!VIJ3","v":0},{"$f":"推定用途置換ルール!VIK3","v":0},{"$f":"推定用途置換ルール!VIL3","v":0},{"$f":"推定用途置換ルール!VIM3","v":0},{"$f":"推定用途置換ルール!VIN3","v":0},{"$f":"推定用途置換ルール!VIO3","v":0},{"$f":"推定用途置換ルール!VIP3","v":0},{"$f":"推定用途置換ルール!VIQ3","v":0},{"$f":"推定用途置換ルール!VIR3","v":0},{"$f":"推定用途置換ルール!VIS3","v":0},{"$f":"推定用途置換ルール!VIT3","v":0},{"$f":"推定用途置換ルール!VIU3","v":0},{"$f":"推定用途置換ルール!VIV3","v":0},{"$f":"推定用途置換ルール!VIW3","v":0},{"$f":"推定用途置換ルール!VIX3","v":0},{"$f":"推定用途置換ルール!VIY3","v":0},{"$f":"推定用途置換ルール!VIZ3","v":0},{"$f":"推定用途置換ルール!VJA3","v":0},{"$f":"推定用途置換ルール!VJB3","v":0},{"$f":"推定用途置換ルール!VJC3","v":0},{"$f":"推定用途置換ルール!VJD3","v":0},{"$f":"推定用途置換ルール!VJE3","v":0},{"$f":"推定用途置換ルール!VJF3","v":0},{"$f":"推定用途置換ルール!VJG3","v":0},{"$f":"推定用途置換ルール!VJH3","v":0},{"$f":"推定用途置換ルール!VJI3","v":0},{"$f":"推定用途置換ルール!VJJ3","v":0},{"$f":"推定用途置換ルール!VJK3","v":0},{"$f":"推定用途置換ルール!VJL3","v":0},{"$f":"推定用途置換ルール!VJM3","v":0},{"$f":"推定用途置換ルール!VJN3","v":0},{"$f":"推定用途置換ルール!VJO3","v":0},{"$f":"推定用途置換ルール!VJP3","v":0},{"$f":"推定用途置換ルール!VJQ3","v":0},{"$f":"推定用途置換ルール!VJR3","v":0},{"$f":"推定用途置換ルール!VJS3","v":0},{"$f":"推定用途置換ルール!VJT3","v":0},{"$f":"推定用途置換ルール!VJU3","v":0},{"$f":"推定用途置換ルール!VJV3","v":0},{"$f":"推定用途置換ルール!VJW3","v":0},{"$f":"推定用途置換ルール!VJX3","v":0},{"$f":"推定用途置換ルール!VJY3","v":0},{"$f":"推定用途置換ルール!VJZ3","v":0},{"$f":"推定用途置換ルール!VKA3","v":0},{"$f":"推定用途置換ルール!VKB3","v":0},{"$f":"推定用途置換ルール!VKC3","v":0},{"$f":"推定用途置換ルール!VKD3","v":0},{"$f":"推定用途置換ルール!VKE3","v":0},{"$f":"推定用途置換ルール!VKF3","v":0},{"$f":"推定用途置換ルール!VKG3","v":0},{"$f":"推定用途置換ルール!VKH3","v":0},{"$f":"推定用途置換ルール!VKI3","v":0},{"$f":"推定用途置換ルール!VKJ3","v":0},{"$f":"推定用途置換ルール!VKK3","v":0},{"$f":"推定用途置換ルール!VKL3","v":0},{"$f":"推定用途置換ルール!VKM3","v":0},{"$f":"推定用途置換ルール!VKN3","v":0},{"$f":"推定用途置換ルール!VKO3","v":0},{"$f":"推定用途置換ルール!VKP3","v":0},{"$f":"推定用途置換ルール!VKQ3","v":0},{"$f":"推定用途置換ルール!VKR3","v":0},{"$f":"推定用途置換ルール!VKS3","v":0},{"$f":"推定用途置換ルール!VKT3","v":0},{"$f":"推定用途置換ルール!VKU3","v":0},{"$f":"推定用途置換ルール!VKV3","v":0},{"$f":"推定用途置換ルール!VKW3","v":0},{"$f":"推定用途置換ルール!VKX3","v":0},{"$f":"推定用途置換ルール!VKY3","v":0},{"$f":"推定用途置換ルール!VKZ3","v":0},{"$f":"推定用途置換ルール!VLA3","v":0},{"$f":"推定用途置換ルール!VLB3","v":0},{"$f":"推定用途置換ルール!VLC3","v":0},{"$f":"推定用途置換ルール!VLD3","v":0},{"$f":"推定用途置換ルール!VLE3","v":0},{"$f":"推定用途置換ルール!VLF3","v":0},{"$f":"推定用途置換ルール!VLG3","v":0},{"$f":"推定用途置換ルール!VLH3","v":0},{"$f":"推定用途置換ルール!VLI3","v":0},{"$f":"推定用途置換ルール!VLJ3","v":0},{"$f":"推定用途置換ルール!VLK3","v":0},{"$f":"推定用途置換ルール!VLL3","v":0},{"$f":"推定用途置換ルール!VLM3","v":0},{"$f":"推定用途置換ルール!VLN3","v":0},{"$f":"推定用途置換ルール!VLO3","v":0},{"$f":"推定用途置換ルール!VLP3","v":0},{"$f":"推定用途置換ルール!VLQ3","v":0},{"$f":"推定用途置換ルール!VLR3","v":0},{"$f":"推定用途置換ルール!VLS3","v":0},{"$f":"推定用途置換ルール!VLT3","v":0},{"$f":"推定用途置換ルール!VLU3","v":0},{"$f":"推定用途置換ルール!VLV3","v":0},{"$f":"推定用途置換ルール!VLW3","v":0},{"$f":"推定用途置換ルール!VLX3","v":0},{"$f":"推定用途置換ルール!VLY3","v":0},{"$f":"推定用途置換ルール!VLZ3","v":0},{"$f":"推定用途置換ルール!VMA3","v":0},{"$f":"推定用途置換ルール!VMB3","v":0},{"$f":"推定用途置換ルール!VMC3","v":0},{"$f":"推定用途置換ルール!VMD3","v":0},{"$f":"推定用途置換ルール!VME3","v":0},{"$f":"推定用途置換ルール!VMF3","v":0},{"$f":"推定用途置換ルール!VMG3","v":0},{"$f":"推定用途置換ルール!VMH3","v":0},{"$f":"推定用途置換ルール!VMI3","v":0},{"$f":"推定用途置換ルール!VMJ3","v":0},{"$f":"推定用途置換ルール!VMK3","v":0},{"$f":"推定用途置換ルール!VML3","v":0},{"$f":"推定用途置換ルール!VMM3","v":0},{"$f":"推定用途置換ルール!VMN3","v":0},{"$f":"推定用途置換ルール!VMO3","v":0},{"$f":"推定用途置換ルール!VMP3","v":0},{"$f":"推定用途置換ルール!VMQ3","v":0},{"$f":"推定用途置換ルール!VMR3","v":0},{"$f":"推定用途置換ルール!VMS3","v":0},{"$f":"推定用途置換ルール!VMT3","v":0},{"$f":"推定用途置換ルール!VMU3","v":0},{"$f":"推定用途置換ルール!VMV3","v":0},{"$f":"推定用途置換ルール!VMW3","v":0},{"$f":"推定用途置換ルール!VMX3","v":0},{"$f":"推定用途置換ルール!VMY3","v":0},{"$f":"推定用途置換ルール!VMZ3","v":0},{"$f":"推定用途置換ルール!VNA3","v":0},{"$f":"推定用途置換ルール!VNB3","v":0},{"$f":"推定用途置換ルール!VNC3","v":0},{"$f":"推定用途置換ルール!VND3","v":0},{"$f":"推定用途置換ルール!VNE3","v":0},{"$f":"推定用途置換ルール!VNF3","v":0},{"$f":"推定用途置換ルール!VNG3","v":0},{"$f":"推定用途置換ルール!VNH3","v":0},{"$f":"推定用途置換ルール!VNI3","v":0},{"$f":"推定用途置換ルール!VNJ3","v":0},{"$f":"推定用途置換ルール!VNK3","v":0},{"$f":"推定用途置換ルール!VNL3","v":0},{"$f":"推定用途置換ルール!VNM3","v":0},{"$f":"推定用途置換ルール!VNN3","v":0},{"$f":"推定用途置換ルール!VNO3","v":0},{"$f":"推定用途置換ルール!VNP3","v":0},{"$f":"推定用途置換ルール!VNQ3","v":0},{"$f":"推定用途置換ルール!VNR3","v":0},{"$f":"推定用途置換ルール!VNS3","v":0},{"$f":"推定用途置換ルール!VNT3","v":0},{"$f":"推定用途置換ルール!VNU3","v":0},{"$f":"推定用途置換ルール!VNV3","v":0},{"$f":"推定用途置換ルール!VNW3","v":0},{"$f":"推定用途置換ルール!VNX3","v":0},{"$f":"推定用途置換ルール!VNY3","v":0},{"$f":"推定用途置換ルール!VNZ3","v":0},{"$f":"推定用途置換ルール!VOA3","v":0},{"$f":"推定用途置換ルール!VOB3","v":0},{"$f":"推定用途置換ルール!VOC3","v":0},{"$f":"推定用途置換ルール!VOD3","v":0},{"$f":"推定用途置換ルール!VOE3","v":0},{"$f":"推定用途置換ルール!VOF3","v":0},{"$f":"推定用途置換ルール!VOG3","v":0},{"$f":"推定用途置換ルール!VOH3","v":0},{"$f":"推定用途置換ルール!VOI3","v":0},{"$f":"推定用途置換ルール!VOJ3","v":0},{"$f":"推定用途置換ルール!VOK3","v":0},{"$f":"推定用途置換ルール!VOL3","v":0},{"$f":"推定用途置換ルール!VOM3","v":0},{"$f":"推定用途置換ルール!VON3","v":0},{"$f":"推定用途置換ルール!VOO3","v":0},{"$f":"推定用途置換ルール!VOP3","v":0},{"$f":"推定用途置換ルール!VOQ3","v":0},{"$f":"推定用途置換ルール!VOR3","v":0},{"$f":"推定用途置換ルール!VOS3","v":0},{"$f":"推定用途置換ルール!VOT3","v":0},{"$f":"推定用途置換ルール!VOU3","v":0},{"$f":"推定用途置換ルール!VOV3","v":0},{"$f":"推定用途置換ルール!VOW3","v":0},{"$f":"推定用途置換ルール!VOX3","v":0},{"$f":"推定用途置換ルール!VOY3","v":0},{"$f":"推定用途置換ルール!VOZ3","v":0},{"$f":"推定用途置換ルール!VPA3","v":0},{"$f":"推定用途置換ルール!VPB3","v":0},{"$f":"推定用途置換ルール!VPC3","v":0},{"$f":"推定用途置換ルール!VPD3","v":0},{"$f":"推定用途置換ルール!VPE3","v":0},{"$f":"推定用途置換ルール!VPF3","v":0},{"$f":"推定用途置換ルール!VPG3","v":0},{"$f":"推定用途置換ルール!VPH3","v":0},{"$f":"推定用途置換ルール!VPI3","v":0},{"$f":"推定用途置換ルール!VPJ3","v":0},{"$f":"推定用途置換ルール!VPK3","v":0},{"$f":"推定用途置換ルール!VPL3","v":0},{"$f":"推定用途置換ルール!VPM3","v":0},{"$f":"推定用途置換ルール!VPN3","v":0},{"$f":"推定用途置換ルール!VPO3","v":0},{"$f":"推定用途置換ルール!VPP3","v":0},{"$f":"推定用途置換ルール!VPQ3","v":0},{"$f":"推定用途置換ルール!VPR3","v":0},{"$f":"推定用途置換ルール!VPS3","v":0},{"$f":"推定用途置換ルール!VPT3","v":0},{"$f":"推定用途置換ルール!VPU3","v":0},{"$f":"推定用途置換ルール!VPV3","v":0},{"$f":"推定用途置換ルール!VPW3","v":0},{"$f":"推定用途置換ルール!VPX3","v":0},{"$f":"推定用途置換ルール!VPY3","v":0},{"$f":"推定用途置換ルール!VPZ3","v":0},{"$f":"推定用途置換ルール!VQA3","v":0},{"$f":"推定用途置換ルール!VQB3","v":0},{"$f":"推定用途置換ルール!VQC3","v":0},{"$f":"推定用途置換ルール!VQD3","v":0},{"$f":"推定用途置換ルール!VQE3","v":0},{"$f":"推定用途置換ルール!VQF3","v":0},{"$f":"推定用途置換ルール!VQG3","v":0},{"$f":"推定用途置換ルール!VQH3","v":0},{"$f":"推定用途置換ルール!VQI3","v":0},{"$f":"推定用途置換ルール!VQJ3","v":0},{"$f":"推定用途置換ルール!VQK3","v":0},{"$f":"推定用途置換ルール!VQL3","v":0},{"$f":"推定用途置換ルール!VQM3","v":0},{"$f":"推定用途置換ルール!VQN3","v":0},{"$f":"推定用途置換ルール!VQO3","v":0},{"$f":"推定用途置換ルール!VQP3","v":0},{"$f":"推定用途置換ルール!VQQ3","v":0},{"$f":"推定用途置換ルール!VQR3","v":0},{"$f":"推定用途置換ルール!VQS3","v":0},{"$f":"推定用途置換ルール!VQT3","v":0},{"$f":"推定用途置換ルール!VQU3","v":0},{"$f":"推定用途置換ルール!VQV3","v":0},{"$f":"推定用途置換ルール!VQW3","v":0},{"$f":"推定用途置換ルール!VQX3","v":0},{"$f":"推定用途置換ルール!VQY3","v":0},{"$f":"推定用途置換ルール!VQZ3","v":0},{"$f":"推定用途置換ルール!VRA3","v":0},{"$f":"推定用途置換ルール!VRB3","v":0},{"$f":"推定用途置換ルール!VRC3","v":0},{"$f":"推定用途置換ルール!VRD3","v":0},{"$f":"推定用途置換ルール!VRE3","v":0},{"$f":"推定用途置換ルール!VRF3","v":0},{"$f":"推定用途置換ルール!VRG3","v":0},{"$f":"推定用途置換ルール!VRH3","v":0},{"$f":"推定用途置換ルール!VRI3","v":0},{"$f":"推定用途置換ルール!VRJ3","v":0},{"$f":"推定用途置換ルール!VRK3","v":0},{"$f":"推定用途置換ルール!VRL3","v":0},{"$f":"推定用途置換ルール!VRM3","v":0},{"$f":"推定用途置換ルール!VRN3","v":0},{"$f":"推定用途置換ルール!VRO3","v":0},{"$f":"推定用途置換ルール!VRP3","v":0},{"$f":"推定用途置換ルール!VRQ3","v":0},{"$f":"推定用途置換ルール!VRR3","v":0},{"$f":"推定用途置換ルール!VRS3","v":0},{"$f":"推定用途置換ルール!VRT3","v":0},{"$f":"推定用途置換ルール!VRU3","v":0},{"$f":"推定用途置換ルール!VRV3","v":0},{"$f":"推定用途置換ルール!VRW3","v":0},{"$f":"推定用途置換ルール!VRX3","v":0},{"$f":"推定用途置換ルール!VRY3","v":0},{"$f":"推定用途置換ルール!VRZ3","v":0},{"$f":"推定用途置換ルール!VSA3","v":0},{"$f":"推定用途置換ルール!VSB3","v":0},{"$f":"推定用途置換ルール!VSC3","v":0},{"$f":"推定用途置換ルール!VSD3","v":0},{"$f":"推定用途置換ルール!VSE3","v":0},{"$f":"推定用途置換ルール!VSF3","v":0},{"$f":"推定用途置換ルール!VSG3","v":0},{"$f":"推定用途置換ルール!VSH3","v":0},{"$f":"推定用途置換ルール!VSI3","v":0},{"$f":"推定用途置換ルール!VSJ3","v":0},{"$f":"推定用途置換ルール!VSK3","v":0},{"$f":"推定用途置換ルール!VSL3","v":0},{"$f":"推定用途置換ルール!VSM3","v":0},{"$f":"推定用途置換ルール!VSN3","v":0},{"$f":"推定用途置換ルール!VSO3","v":0},{"$f":"推定用途置換ルール!VSP3","v":0},{"$f":"推定用途置換ルール!VSQ3","v":0},{"$f":"推定用途置換ルール!VSR3","v":0},{"$f":"推定用途置換ルール!VSS3","v":0},{"$f":"推定用途置換ルール!VST3","v":0},{"$f":"推定用途置換ルール!VSU3","v":0},{"$f":"推定用途置換ルール!VSV3","v":0},{"$f":"推定用途置換ルール!VSW3","v":0},{"$f":"推定用途置換ルール!VSX3","v":0},{"$f":"推定用途置換ルール!VSY3","v":0},{"$f":"推定用途置換ルール!VSZ3","v":0},{"$f":"推定用途置換ルール!VTA3","v":0},{"$f":"推定用途置換ルール!VTB3","v":0},{"$f":"推定用途置換ルール!VTC3","v":0},{"$f":"推定用途置換ルール!VTD3","v":0},{"$f":"推定用途置換ルール!VTE3","v":0},{"$f":"推定用途置換ルール!VTF3","v":0},{"$f":"推定用途置換ルール!VTG3","v":0},{"$f":"推定用途置換ルール!VTH3","v":0},{"$f":"推定用途置換ルール!VTI3","v":0},{"$f":"推定用途置換ルール!VTJ3","v":0},{"$f":"推定用途置換ルール!VTK3","v":0},{"$f":"推定用途置換ルール!VTL3","v":0},{"$f":"推定用途置換ルール!VTM3","v":0},{"$f":"推定用途置換ルール!VTN3","v":0},{"$f":"推定用途置換ルール!VTO3","v":0},{"$f":"推定用途置換ルール!VTP3","v":0},{"$f":"推定用途置換ルール!VTQ3","v":0},{"$f":"推定用途置換ルール!VTR3","v":0},{"$f":"推定用途置換ルール!VTS3","v":0},{"$f":"推定用途置換ルール!VTT3","v":0},{"$f":"推定用途置換ルール!VTU3","v":0},{"$f":"推定用途置換ルール!VTV3","v":0},{"$f":"推定用途置換ルール!VTW3","v":0},{"$f":"推定用途置換ルール!VTX3","v":0},{"$f":"推定用途置換ルール!VTY3","v":0},{"$f":"推定用途置換ルール!VTZ3","v":0},{"$f":"推定用途置換ルール!VUA3","v":0},{"$f":"推定用途置換ルール!VUB3","v":0},{"$f":"推定用途置換ルール!VUC3","v":0},{"$f":"推定用途置換ルール!VUD3","v":0},{"$f":"推定用途置換ルール!VUE3","v":0},{"$f":"推定用途置換ルール!VUF3","v":0},{"$f":"推定用途置換ルール!VUG3","v":0},{"$f":"推定用途置換ルール!VUH3","v":0},{"$f":"推定用途置換ルール!VUI3","v":0},{"$f":"推定用途置換ルール!VUJ3","v":0},{"$f":"推定用途置換ルール!VUK3","v":0},{"$f":"推定用途置換ルール!VUL3","v":0},{"$f":"推定用途置換ルール!VUM3","v":0},{"$f":"推定用途置換ルール!VUN3","v":0},{"$f":"推定用途置換ルール!VUO3","v":0},{"$f":"推定用途置換ルール!VUP3","v":0},{"$f":"推定用途置換ルール!VUQ3","v":0},{"$f":"推定用途置換ルール!VUR3","v":0},{"$f":"推定用途置換ルール!VUS3","v":0},{"$f":"推定用途置換ルール!VUT3","v":0},{"$f":"推定用途置換ルール!VUU3","v":0},{"$f":"推定用途置換ルール!VUV3","v":0},{"$f":"推定用途置換ルール!VUW3","v":0},{"$f":"推定用途置換ルール!VUX3","v":0},{"$f":"推定用途置換ルール!VUY3","v":0},{"$f":"推定用途置換ルール!VUZ3","v":0},{"$f":"推定用途置換ルール!VVA3","v":0},{"$f":"推定用途置換ルール!VVB3","v":0},{"$f":"推定用途置換ルール!VVC3","v":0},{"$f":"推定用途置換ルール!VVD3","v":0},{"$f":"推定用途置換ルール!VVE3","v":0},{"$f":"推定用途置換ルール!VVF3","v":0},{"$f":"推定用途置換ルール!VVG3","v":0},{"$f":"推定用途置換ルール!VVH3","v":0},{"$f":"推定用途置換ルール!VVI3","v":0},{"$f":"推定用途置換ルール!VVJ3","v":0},{"$f":"推定用途置換ルール!VVK3","v":0},{"$f":"推定用途置換ルール!VVL3","v":0},{"$f":"推定用途置換ルール!VVM3","v":0},{"$f":"推定用途置換ルール!VVN3","v":0},{"$f":"推定用途置換ルール!VVO3","v":0},{"$f":"推定用途置換ルール!VVP3","v":0},{"$f":"推定用途置換ルール!VVQ3","v":0},{"$f":"推定用途置換ルール!VVR3","v":0},{"$f":"推定用途置換ルール!VVS3","v":0},{"$f":"推定用途置換ルール!VVT3","v":0},{"$f":"推定用途置換ルール!VVU3","v":0},{"$f":"推定用途置換ルール!VVV3","v":0},{"$f":"推定用途置換ルール!VVW3","v":0},{"$f":"推定用途置換ルール!VVX3","v":0},{"$f":"推定用途置換ルール!VVY3","v":0},{"$f":"推定用途置換ルール!VVZ3","v":0},{"$f":"推定用途置換ルール!VWA3","v":0},{"$f":"推定用途置換ルール!VWB3","v":0},{"$f":"推定用途置換ルール!VWC3","v":0},{"$f":"推定用途置換ルール!VWD3","v":0},{"$f":"推定用途置換ルール!VWE3","v":0},{"$f":"推定用途置換ルール!VWF3","v":0},{"$f":"推定用途置換ルール!VWG3","v":0},{"$f":"推定用途置換ルール!VWH3","v":0},{"$f":"推定用途置換ルール!VWI3","v":0},{"$f":"推定用途置換ルール!VWJ3","v":0},{"$f":"推定用途置換ルール!VWK3","v":0},{"$f":"推定用途置換ルール!VWL3","v":0},{"$f":"推定用途置換ルール!VWM3","v":0},{"$f":"推定用途置換ルール!VWN3","v":0},{"$f":"推定用途置換ルール!VWO3","v":0},{"$f":"推定用途置換ルール!VWP3","v":0},{"$f":"推定用途置換ルール!VWQ3","v":0},{"$f":"推定用途置換ルール!VWR3","v":0},{"$f":"推定用途置換ルール!VWS3","v":0},{"$f":"推定用途置換ルール!VWT3","v":0},{"$f":"推定用途置換ルール!VWU3","v":0},{"$f":"推定用途置換ルール!VWV3","v":0},{"$f":"推定用途置換ルール!VWW3","v":0},{"$f":"推定用途置換ルール!VWX3","v":0},{"$f":"推定用途置換ルール!VWY3","v":0},{"$f":"推定用途置換ルール!VWZ3","v":0},{"$f":"推定用途置換ルール!VXA3","v":0},{"$f":"推定用途置換ルール!VXB3","v":0},{"$f":"推定用途置換ルール!VXC3","v":0},{"$f":"推定用途置換ルール!VXD3","v":0},{"$f":"推定用途置換ルール!VXE3","v":0},{"$f":"推定用途置換ルール!VXF3","v":0},{"$f":"推定用途置換ルール!VXG3","v":0},{"$f":"推定用途置換ルール!VXH3","v":0},{"$f":"推定用途置換ルール!VXI3","v":0},{"$f":"推定用途置換ルール!VXJ3","v":0},{"$f":"推定用途置換ルール!VXK3","v":0},{"$f":"推定用途置換ルール!VXL3","v":0},{"$f":"推定用途置換ルール!VXM3","v":0},{"$f":"推定用途置換ルール!VXN3","v":0},{"$f":"推定用途置換ルール!VXO3","v":0},{"$f":"推定用途置換ルール!VXP3","v":0},{"$f":"推定用途置換ルール!VXQ3","v":0},{"$f":"推定用途置換ルール!VXR3","v":0},{"$f":"推定用途置換ルール!VXS3","v":0},{"$f":"推定用途置換ルール!VXT3","v":0},{"$f":"推定用途置換ルール!VXU3","v":0},{"$f":"推定用途置換ルール!VXV3","v":0},{"$f":"推定用途置換ルール!VXW3","v":0},{"$f":"推定用途置換ルール!VXX3","v":0},{"$f":"推定用途置換ルール!VXY3","v":0},{"$f":"推定用途置換ルール!VXZ3","v":0},{"$f":"推定用途置換ルール!VYA3","v":0},{"$f":"推定用途置換ルール!VYB3","v":0},{"$f":"推定用途置換ルール!VYC3","v":0},{"$f":"推定用途置換ルール!VYD3","v":0},{"$f":"推定用途置換ルール!VYE3","v":0},{"$f":"推定用途置換ルール!VYF3","v":0},{"$f":"推定用途置換ルール!VYG3","v":0},{"$f":"推定用途置換ルール!VYH3","v":0},{"$f":"推定用途置換ルール!VYI3","v":0},{"$f":"推定用途置換ルール!VYJ3","v":0},{"$f":"推定用途置換ルール!VYK3","v":0},{"$f":"推定用途置換ルール!VYL3","v":0},{"$f":"推定用途置換ルール!VYM3","v":0},{"$f":"推定用途置換ルール!VYN3","v":0},{"$f":"推定用途置換ルール!VYO3","v":0},{"$f":"推定用途置換ルール!VYP3","v":0},{"$f":"推定用途置換ルール!VYQ3","v":0},{"$f":"推定用途置換ルール!VYR3","v":0},{"$f":"推定用途置換ルール!VYS3","v":0},{"$f":"推定用途置換ルール!VYT3","v":0},{"$f":"推定用途置換ルール!VYU3","v":0},{"$f":"推定用途置換ルール!VYV3","v":0},{"$f":"推定用途置換ルール!VYW3","v":0},{"$f":"推定用途置換ルール!VYX3","v":0},{"$f":"推定用途置換ルール!VYY3","v":0},{"$f":"推定用途置換ルール!VYZ3","v":0},{"$f":"推定用途置換ルール!VZA3","v":0},{"$f":"推定用途置換ルール!VZB3","v":0},{"$f":"推定用途置換ルール!VZC3","v":0},{"$f":"推定用途置換ルール!VZD3","v":0},{"$f":"推定用途置換ルール!VZE3","v":0},{"$f":"推定用途置換ルール!VZF3","v":0},{"$f":"推定用途置換ルール!VZG3","v":0},{"$f":"推定用途置換ルール!VZH3","v":0},{"$f":"推定用途置換ルール!VZI3","v":0},{"$f":"推定用途置換ルール!VZJ3","v":0},{"$f":"推定用途置換ルール!VZK3","v":0},{"$f":"推定用途置換ルール!VZL3","v":0},{"$f":"推定用途置換ルール!VZM3","v":0},{"$f":"推定用途置換ルール!VZN3","v":0},{"$f":"推定用途置換ルール!VZO3","v":0},{"$f":"推定用途置換ルール!VZP3","v":0},{"$f":"推定用途置換ルール!VZQ3","v":0},{"$f":"推定用途置換ルール!VZR3","v":0},{"$f":"推定用途置換ルール!VZS3","v":0},{"$f":"推定用途置換ルール!VZT3","v":0},{"$f":"推定用途置換ルール!VZU3","v":0},{"$f":"推定用途置換ルール!VZV3","v":0},{"$f":"推定用途置換ルール!VZW3","v":0},{"$f":"推定用途置換ルール!VZX3","v":0},{"$f":"推定用途置換ルール!VZY3","v":0},{"$f":"推定用途置換ルール!VZZ3","v":0},{"$f":"推定用途置換ルール!WAA3","v":0},{"$f":"推定用途置換ルール!WAB3","v":0},{"$f":"推定用途置換ルール!WAC3","v":0},{"$f":"推定用途置換ルール!WAD3","v":0},{"$f":"推定用途置換ルール!WAE3","v":0},{"$f":"推定用途置換ルール!WAF3","v":0},{"$f":"推定用途置換ルール!WAG3","v":0},{"$f":"推定用途置換ルール!WAH3","v":0},{"$f":"推定用途置換ルール!WAI3","v":0},{"$f":"推定用途置換ルール!WAJ3","v":0},{"$f":"推定用途置換ルール!WAK3","v":0},{"$f":"推定用途置換ルール!WAL3","v":0},{"$f":"推定用途置換ルール!WAM3","v":0},{"$f":"推定用途置換ルール!WAN3","v":0},{"$f":"推定用途置換ルール!WAO3","v":0},{"$f":"推定用途置換ルール!WAP3","v":0},{"$f":"推定用途置換ルール!WAQ3","v":0},{"$f":"推定用途置換ルール!WAR3","v":0},{"$f":"推定用途置換ルール!WAS3","v":0},{"$f":"推定用途置換ルール!WAT3","v":0},{"$f":"推定用途置換ルール!WAU3","v":0},{"$f":"推定用途置換ルール!WAV3","v":0},{"$f":"推定用途置換ルール!WAW3","v":0},{"$f":"推定用途置換ルール!WAX3","v":0},{"$f":"推定用途置換ルール!WAY3","v":0},{"$f":"推定用途置換ルール!WAZ3","v":0},{"$f":"推定用途置換ルール!WBA3","v":0},{"$f":"推定用途置換ルール!WBB3","v":0},{"$f":"推定用途置換ルール!WBC3","v":0},{"$f":"推定用途置換ルール!WBD3","v":0},{"$f":"推定用途置換ルール!WBE3","v":0},{"$f":"推定用途置換ルール!WBF3","v":0},{"$f":"推定用途置換ルール!WBG3","v":0},{"$f":"推定用途置換ルール!WBH3","v":0},{"$f":"推定用途置換ルール!WBI3","v":0},{"$f":"推定用途置換ルール!WBJ3","v":0},{"$f":"推定用途置換ルール!WBK3","v":0},{"$f":"推定用途置換ルール!WBL3","v":0},{"$f":"推定用途置換ルール!WBM3","v":0},{"$f":"推定用途置換ルール!WBN3","v":0},{"$f":"推定用途置換ルール!WBO3","v":0},{"$f":"推定用途置換ルール!WBP3","v":0},{"$f":"推定用途置換ルール!WBQ3","v":0},{"$f":"推定用途置換ルール!WBR3","v":0},{"$f":"推定用途置換ルール!WBS3","v":0},{"$f":"推定用途置換ルール!WBT3","v":0},{"$f":"推定用途置換ルール!WBU3","v":0},{"$f":"推定用途置換ルール!WBV3","v":0},{"$f":"推定用途置換ルール!WBW3","v":0},{"$f":"推定用途置換ルール!WBX3","v":0},{"$f":"推定用途置換ルール!WBY3","v":0},{"$f":"推定用途置換ルール!WBZ3","v":0},{"$f":"推定用途置換ルール!WCA3","v":0},{"$f":"推定用途置換ルール!WCB3","v":0},{"$f":"推定用途置換ルール!WCC3","v":0},{"$f":"推定用途置換ルール!WCD3","v":0},{"$f":"推定用途置換ルール!WCE3","v":0},{"$f":"推定用途置換ルール!WCF3","v":0},{"$f":"推定用途置換ルール!WCG3","v":0},{"$f":"推定用途置換ルール!WCH3","v":0},{"$f":"推定用途置換ルール!WCI3","v":0},{"$f":"推定用途置換ルール!WCJ3","v":0},{"$f":"推定用途置換ルール!WCK3","v":0},{"$f":"推定用途置換ルール!WCL3","v":0},{"$f":"推定用途置換ルール!WCM3","v":0},{"$f":"推定用途置換ルール!WCN3","v":0},{"$f":"推定用途置換ルール!WCO3","v":0},{"$f":"推定用途置換ルール!WCP3","v":0},{"$f":"推定用途置換ルール!WCQ3","v":0},{"$f":"推定用途置換ルール!WCR3","v":0},{"$f":"推定用途置換ルール!WCS3","v":0},{"$f":"推定用途置換ルール!WCT3","v":0},{"$f":"推定用途置換ルール!WCU3","v":0},{"$f":"推定用途置換ルール!WCV3","v":0},{"$f":"推定用途置換ルール!WCW3","v":0},{"$f":"推定用途置換ルール!WCX3","v":0},{"$f":"推定用途置換ルール!WCY3","v":0},{"$f":"推定用途置換ルール!WCZ3","v":0},{"$f":"推定用途置換ルール!WDA3","v":0},{"$f":"推定用途置換ルール!WDB3","v":0},{"$f":"推定用途置換ルール!WDC3","v":0},{"$f":"推定用途置換ルール!WDD3","v":0},{"$f":"推定用途置換ルール!WDE3","v":0},{"$f":"推定用途置換ルール!WDF3","v":0},{"$f":"推定用途置換ルール!WDG3","v":0},{"$f":"推定用途置換ルール!WDH3","v":0},{"$f":"推定用途置換ルール!WDI3","v":0},{"$f":"推定用途置換ルール!WDJ3","v":0},{"$f":"推定用途置換ルール!WDK3","v":0},{"$f":"推定用途置換ルール!WDL3","v":0},{"$f":"推定用途置換ルール!WDM3","v":0},{"$f":"推定用途置換ルール!WDN3","v":0},{"$f":"推定用途置換ルール!WDO3","v":0},{"$f":"推定用途置換ルール!WDP3","v":0},{"$f":"推定用途置換ルール!WDQ3","v":0},{"$f":"推定用途置換ルール!WDR3","v":0},{"$f":"推定用途置換ルール!WDS3","v":0},{"$f":"推定用途置換ルール!WDT3","v":0},{"$f":"推定用途置換ルール!WDU3","v":0},{"$f":"推定用途置換ルール!WDV3","v":0},{"$f":"推定用途置換ルール!WDW3","v":0},{"$f":"推定用途置換ルール!WDX3","v":0},{"$f":"推定用途置換ルール!WDY3","v":0},{"$f":"推定用途置換ルール!WDZ3","v":0},{"$f":"推定用途置換ルール!WEA3","v":0},{"$f":"推定用途置換ルール!WEB3","v":0},{"$f":"推定用途置換ルール!WEC3","v":0},{"$f":"推定用途置換ルール!WED3","v":0},{"$f":"推定用途置換ルール!WEE3","v":0},{"$f":"推定用途置換ルール!WEF3","v":0},{"$f":"推定用途置換ルール!WEG3","v":0},{"$f":"推定用途置換ルール!WEH3","v":0},{"$f":"推定用途置換ルール!WEI3","v":0},{"$f":"推定用途置換ルール!WEJ3","v":0},{"$f":"推定用途置換ルール!WEK3","v":0},{"$f":"推定用途置換ルール!WEL3","v":0},{"$f":"推定用途置換ルール!WEM3","v":0},{"$f":"推定用途置換ルール!WEN3","v":0},{"$f":"推定用途置換ルール!WEO3","v":0},{"$f":"推定用途置換ルール!WEP3","v":0},{"$f":"推定用途置換ルール!WEQ3","v":0},{"$f":"推定用途置換ルール!WER3","v":0},{"$f":"推定用途置換ルール!WES3","v":0},{"$f":"推定用途置換ルール!WET3","v":0},{"$f":"推定用途置換ルール!WEU3","v":0},{"$f":"推定用途置換ルール!WEV3","v":0},{"$f":"推定用途置換ルール!WEW3","v":0},{"$f":"推定用途置換ルール!WEX3","v":0},{"$f":"推定用途置換ルール!WEY3","v":0},{"$f":"推定用途置換ルール!WEZ3","v":0},{"$f":"推定用途置換ルール!WFA3","v":0},{"$f":"推定用途置換ルール!WFB3","v":0},{"$f":"推定用途置換ルール!WFC3","v":0},{"$f":"推定用途置換ルール!WFD3","v":0},{"$f":"推定用途置換ルール!WFE3","v":0},{"$f":"推定用途置換ルール!WFF3","v":0},{"$f":"推定用途置換ルール!WFG3","v":0},{"$f":"推定用途置換ルール!WFH3","v":0},{"$f":"推定用途置換ルール!WFI3","v":0},{"$f":"推定用途置換ルール!WFJ3","v":0},{"$f":"推定用途置換ルール!WFK3","v":0},{"$f":"推定用途置換ルール!WFL3","v":0},{"$f":"推定用途置換ルール!WFM3","v":0},{"$f":"推定用途置換ルール!WFN3","v":0},{"$f":"推定用途置換ルール!WFO3","v":0},{"$f":"推定用途置換ルール!WFP3","v":0},{"$f":"推定用途置換ルール!WFQ3","v":0},{"$f":"推定用途置換ルール!WFR3","v":0},{"$f":"推定用途置換ルール!WFS3","v":0},{"$f":"推定用途置換ルール!WFT3","v":0},{"$f":"推定用途置換ルール!WFU3","v":0},{"$f":"推定用途置換ルール!WFV3","v":0},{"$f":"推定用途置換ルール!WFW3","v":0},{"$f":"推定用途置換ルール!WFX3","v":0},{"$f":"推定用途置換ルール!WFY3","v":0},{"$f":"推定用途置換ルール!WFZ3","v":0},{"$f":"推定用途置換ルール!WGA3","v":0},{"$f":"推定用途置換ルール!WGB3","v":0},{"$f":"推定用途置換ルール!WGC3","v":0},{"$f":"推定用途置換ルール!WGD3","v":0},{"$f":"推定用途置換ルール!WGE3","v":0},{"$f":"推定用途置換ルール!WGF3","v":0},{"$f":"推定用途置換ルール!WGG3","v":0},{"$f":"推定用途置換ルール!WGH3","v":0},{"$f":"推定用途置換ルール!WGI3","v":0},{"$f":"推定用途置換ルール!WGJ3","v":0},{"$f":"推定用途置換ルール!WGK3","v":0},{"$f":"推定用途置換ルール!WGL3","v":0},{"$f":"推定用途置換ルール!WGM3","v":0},{"$f":"推定用途置換ルール!WGN3","v":0},{"$f":"推定用途置換ルール!WGO3","v":0},{"$f":"推定用途置換ルール!WGP3","v":0},{"$f":"推定用途置換ルール!WGQ3","v":0},{"$f":"推定用途置換ルール!WGR3","v":0},{"$f":"推定用途置換ルール!WGS3","v":0},{"$f":"推定用途置換ルール!WGT3","v":0},{"$f":"推定用途置換ルール!WGU3","v":0},{"$f":"推定用途置換ルール!WGV3","v":0},{"$f":"推定用途置換ルール!WGW3","v":0},{"$f":"推定用途置換ルール!WGX3","v":0},{"$f":"推定用途置換ルール!WGY3","v":0},{"$f":"推定用途置換ルール!WGZ3","v":0},{"$f":"推定用途置換ルール!WHA3","v":0},{"$f":"推定用途置換ルール!WHB3","v":0},{"$f":"推定用途置換ルール!WHC3","v":0},{"$f":"推定用途置換ルール!WHD3","v":0},{"$f":"推定用途置換ルール!WHE3","v":0},{"$f":"推定用途置換ルール!WHF3","v":0},{"$f":"推定用途置換ルール!WHG3","v":0},{"$f":"推定用途置換ルール!WHH3","v":0},{"$f":"推定用途置換ルール!WHI3","v":0},{"$f":"推定用途置換ルール!WHJ3","v":0},{"$f":"推定用途置換ルール!WHK3","v":0},{"$f":"推定用途置換ルール!WHL3","v":0},{"$f":"推定用途置換ルール!WHM3","v":0},{"$f":"推定用途置換ルール!WHN3","v":0},{"$f":"推定用途置換ルール!WHO3","v":0},{"$f":"推定用途置換ルール!WHP3","v":0},{"$f":"推定用途置換ルール!WHQ3","v":0},{"$f":"推定用途置換ルール!WHR3","v":0},{"$f":"推定用途置換ルール!WHS3","v":0},{"$f":"推定用途置換ルール!WHT3","v":0},{"$f":"推定用途置換ルール!WHU3","v":0},{"$f":"推定用途置換ルール!WHV3","v":0},{"$f":"推定用途置換ルール!WHW3","v":0},{"$f":"推定用途置換ルール!WHX3","v":0},{"$f":"推定用途置換ルール!WHY3","v":0},{"$f":"推定用途置換ルール!WHZ3","v":0},{"$f":"推定用途置換ルール!WIA3","v":0},{"$f":"推定用途置換ルール!WIB3","v":0},{"$f":"推定用途置換ルール!WIC3","v":0},{"$f":"推定用途置換ルール!WID3","v":0},{"$f":"推定用途置換ルール!WIE3","v":0},{"$f":"推定用途置換ルール!WIF3","v":0},{"$f":"推定用途置換ルール!WIG3","v":0},{"$f":"推定用途置換ルール!WIH3","v":0},{"$f":"推定用途置換ルール!WII3","v":0},{"$f":"推定用途置換ルール!WIJ3","v":0},{"$f":"推定用途置換ルール!WIK3","v":0},{"$f":"推定用途置換ルール!WIL3","v":0},{"$f":"推定用途置換ルール!WIM3","v":0},{"$f":"推定用途置換ルール!WIN3","v":0},{"$f":"推定用途置換ルール!WIO3","v":0},{"$f":"推定用途置換ルール!WIP3","v":0},{"$f":"推定用途置換ルール!WIQ3","v":0},{"$f":"推定用途置換ルール!WIR3","v":0},{"$f":"推定用途置換ルール!WIS3","v":0},{"$f":"推定用途置換ルール!WIT3","v":0},{"$f":"推定用途置換ルール!WIU3","v":0},{"$f":"推定用途置換ルール!WIV3","v":0},{"$f":"推定用途置換ルール!WIW3","v":0},{"$f":"推定用途置換ルール!WIX3","v":0},{"$f":"推定用途置換ルール!WIY3","v":0},{"$f":"推定用途置換ルール!WIZ3","v":0},{"$f":"推定用途置換ルール!WJA3","v":0},{"$f":"推定用途置換ルール!WJB3","v":0},{"$f":"推定用途置換ルール!WJC3","v":0},{"$f":"推定用途置換ルール!WJD3","v":0},{"$f":"推定用途置換ルール!WJE3","v":0},{"$f":"推定用途置換ルール!WJF3","v":0},{"$f":"推定用途置換ルール!WJG3","v":0},{"$f":"推定用途置換ルール!WJH3","v":0},{"$f":"推定用途置換ルール!WJI3","v":0},{"$f":"推定用途置換ルール!WJJ3","v":0},{"$f":"推定用途置換ルール!WJK3","v":0},{"$f":"推定用途置換ルール!WJL3","v":0},{"$f":"推定用途置換ルール!WJM3","v":0},{"$f":"推定用途置換ルール!WJN3","v":0},{"$f":"推定用途置換ルール!WJO3","v":0},{"$f":"推定用途置換ルール!WJP3","v":0},{"$f":"推定用途置換ルール!WJQ3","v":0},{"$f":"推定用途置換ルール!WJR3","v":0},{"$f":"推定用途置換ルール!WJS3","v":0},{"$f":"推定用途置換ルール!WJT3","v":0},{"$f":"推定用途置換ルール!WJU3","v":0},{"$f":"推定用途置換ルール!WJV3","v":0},{"$f":"推定用途置換ルール!WJW3","v":0},{"$f":"推定用途置換ルール!WJX3","v":0},{"$f":"推定用途置換ルール!WJY3","v":0},{"$f":"推定用途置換ルール!WJZ3","v":0},{"$f":"推定用途置換ルール!WKA3","v":0},{"$f":"推定用途置換ルール!WKB3","v":0},{"$f":"推定用途置換ルール!WKC3","v":0},{"$f":"推定用途置換ルール!WKD3","v":0},{"$f":"推定用途置換ルール!WKE3","v":0},{"$f":"推定用途置換ルール!WKF3","v":0},{"$f":"推定用途置換ルール!WKG3","v":0},{"$f":"推定用途置換ルール!WKH3","v":0},{"$f":"推定用途置換ルール!WKI3","v":0},{"$f":"推定用途置換ルール!WKJ3","v":0},{"$f":"推定用途置換ルール!WKK3","v":0},{"$f":"推定用途置換ルール!WKL3","v":0},{"$f":"推定用途置換ルール!WKM3","v":0},{"$f":"推定用途置換ルール!WKN3","v":0},{"$f":"推定用途置換ルール!WKO3","v":0},{"$f":"推定用途置換ルール!WKP3","v":0},{"$f":"推定用途置換ルール!WKQ3","v":0},{"$f":"推定用途置換ルール!WKR3","v":0},{"$f":"推定用途置換ルール!WKS3","v":0},{"$f":"推定用途置換ルール!WKT3","v":0},{"$f":"推定用途置換ルール!WKU3","v":0},{"$f":"推定用途置換ルール!WKV3","v":0},{"$f":"推定用途置換ルール!WKW3","v":0},{"$f":"推定用途置換ルール!WKX3","v":0},{"$f":"推定用途置換ルール!WKY3","v":0},{"$f":"推定用途置換ルール!WKZ3","v":0},{"$f":"推定用途置換ルール!WLA3","v":0},{"$f":"推定用途置換ルール!WLB3","v":0},{"$f":"推定用途置換ルール!WLC3","v":0},{"$f":"推定用途置換ルール!WLD3","v":0},{"$f":"推定用途置換ルール!WLE3","v":0},{"$f":"推定用途置換ルール!WLF3","v":0},{"$f":"推定用途置換ルール!WLG3","v":0},{"$f":"推定用途置換ルール!WLH3","v":0},{"$f":"推定用途置換ルール!WLI3","v":0},{"$f":"推定用途置換ルール!WLJ3","v":0},{"$f":"推定用途置換ルール!WLK3","v":0},{"$f":"推定用途置換ルール!WLL3","v":0},{"$f":"推定用途置換ルール!WLM3","v":0},{"$f":"推定用途置換ルール!WLN3","v":0},{"$f":"推定用途置換ルール!WLO3","v":0},{"$f":"推定用途置換ルール!WLP3","v":0},{"$f":"推定用途置換ルール!WLQ3","v":0},{"$f":"推定用途置換ルール!WLR3","v":0},{"$f":"推定用途置換ルール!WLS3","v":0},{"$f":"推定用途置換ルール!WLT3","v":0},{"$f":"推定用途置換ルール!WLU3","v":0},{"$f":"推定用途置換ルール!WLV3","v":0},{"$f":"推定用途置換ルール!WLW3","v":0},{"$f":"推定用途置換ルール!WLX3","v":0},{"$f":"推定用途置換ルール!WLY3","v":0},{"$f":"推定用途置換ルール!WLZ3","v":0},{"$f":"推定用途置換ルール!WMA3","v":0},{"$f":"推定用途置換ルール!WMB3","v":0},{"$f":"推定用途置換ルール!WMC3","v":0},{"$f":"推定用途置換ルール!WMD3","v":0},{"$f":"推定用途置換ルール!WME3","v":0},{"$f":"推定用途置換ルール!WMF3","v":0},{"$f":"推定用途置換ルール!WMG3","v":0},{"$f":"推定用途置換ルール!WMH3","v":0},{"$f":"推定用途置換ルール!WMI3","v":0},{"$f":"推定用途置換ルール!WMJ3","v":0},{"$f":"推定用途置換ルール!WMK3","v":0},{"$f":"推定用途置換ルール!WML3","v":0},{"$f":"推定用途置換ルール!WMM3","v":0},{"$f":"推定用途置換ルール!WMN3","v":0},{"$f":"推定用途置換ルール!WMO3","v":0},{"$f":"推定用途置換ルール!WMP3","v":0},{"$f":"推定用途置換ルール!WMQ3","v":0},{"$f":"推定用途置換ルール!WMR3","v":0},{"$f":"推定用途置換ルール!WMS3","v":0},{"$f":"推定用途置換ルール!WMT3","v":0},{"$f":"推定用途置換ルール!WMU3","v":0},{"$f":"推定用途置換ルール!WMV3","v":0},{"$f":"推定用途置換ルール!WMW3","v":0},{"$f":"推定用途置換ルール!WMX3","v":0},{"$f":"推定用途置換ルール!WMY3","v":0},{"$f":"推定用途置換ルール!WMZ3","v":0},{"$f":"推定用途置換ルール!WNA3","v":0},{"$f":"推定用途置換ルール!WNB3","v":0},{"$f":"推定用途置換ルール!WNC3","v":0},{"$f":"推定用途置換ルール!WND3","v":0},{"$f":"推定用途置換ルール!WNE3","v":0},{"$f":"推定用途置換ルール!WNF3","v":0},{"$f":"推定用途置換ルール!WNG3","v":0},{"$f":"推定用途置換ルール!WNH3","v":0},{"$f":"推定用途置換ルール!WNI3","v":0},{"$f":"推定用途置換ルール!WNJ3","v":0},{"$f":"推定用途置換ルール!WNK3","v":0},{"$f":"推定用途置換ルール!WNL3","v":0},{"$f":"推定用途置換ルール!WNM3","v":0},{"$f":"推定用途置換ルール!WNN3","v":0},{"$f":"推定用途置換ルール!WNO3","v":0},{"$f":"推定用途置換ルール!WNP3","v":0},{"$f":"推定用途置換ルール!WNQ3","v":0},{"$f":"推定用途置換ルール!WNR3","v":0},{"$f":"推定用途置換ルール!WNS3","v":0},{"$f":"推定用途置換ルール!WNT3","v":0},{"$f":"推定用途置換ルール!WNU3","v":0},{"$f":"推定用途置換ルール!WNV3","v":0},{"$f":"推定用途置換ルール!WNW3","v":0},{"$f":"推定用途置換ルール!WNX3","v":0},{"$f":"推定用途置換ルール!WNY3","v":0},{"$f":"推定用途置換ルール!WNZ3","v":0},{"$f":"推定用途置換ルール!WOA3","v":0},{"$f":"推定用途置換ルール!WOB3","v":0},{"$f":"推定用途置換ルール!WOC3","v":0},{"$f":"推定用途置換ルール!WOD3","v":0},{"$f":"推定用途置換ルール!WOE3","v":0},{"$f":"推定用途置換ルール!WOF3","v":0},{"$f":"推定用途置換ルール!WOG3","v":0},{"$f":"推定用途置換ルール!WOH3","v":0},{"$f":"推定用途置換ルール!WOI3","v":0},{"$f":"推定用途置換ルール!WOJ3","v":0},{"$f":"推定用途置換ルール!WOK3","v":0},{"$f":"推定用途置換ルール!WOL3","v":0},{"$f":"推定用途置換ルール!WOM3","v":0},{"$f":"推定用途置換ルール!WON3","v":0},{"$f":"推定用途置換ルール!WOO3","v":0},{"$f":"推定用途置換ルール!WOP3","v":0},{"$f":"推定用途置換ルール!WOQ3","v":0},{"$f":"推定用途置換ルール!WOR3","v":0},{"$f":"推定用途置換ルール!WOS3","v":0},{"$f":"推定用途置換ルール!WOT3","v":0},{"$f":"推定用途置換ルール!WOU3","v":0},{"$f":"推定用途置換ルール!WOV3","v":0},{"$f":"推定用途置換ルール!WOW3","v":0},{"$f":"推定用途置換ルール!WOX3","v":0},{"$f":"推定用途置換ルール!WOY3","v":0},{"$f":"推定用途置換ルール!WOZ3","v":0},{"$f":"推定用途置換ルール!WPA3","v":0},{"$f":"推定用途置換ルール!WPB3","v":0},{"$f":"推定用途置換ルール!WPC3","v":0},{"$f":"推定用途置換ルール!WPD3","v":0},{"$f":"推定用途置換ルール!WPE3","v":0},{"$f":"推定用途置換ルール!WPF3","v":0},{"$f":"推定用途置換ルール!WPG3","v":0},{"$f":"推定用途置換ルール!WPH3","v":0},{"$f":"推定用途置換ルール!WPI3","v":0},{"$f":"推定用途置換ルール!WPJ3","v":0},{"$f":"推定用途置換ルール!WPK3","v":0},{"$f":"推定用途置換ルール!WPL3","v":0},{"$f":"推定用途置換ルール!WPM3","v":0},{"$f":"推定用途置換ルール!WPN3","v":0},{"$f":"推定用途置換ルール!WPO3","v":0},{"$f":"推定用途置換ルール!WPP3","v":0},{"$f":"推定用途置換ルール!WPQ3","v":0},{"$f":"推定用途置換ルール!WPR3","v":0},{"$f":"推定用途置換ルール!WPS3","v":0},{"$f":"推定用途置換ルール!WPT3","v":0},{"$f":"推定用途置換ルール!WPU3","v":0},{"$f":"推定用途置換ルール!WPV3","v":0},{"$f":"推定用途置換ルール!WPW3","v":0},{"$f":"推定用途置換ルール!WPX3","v":0},{"$f":"推定用途置換ルール!WPY3","v":0},{"$f":"推定用途置換ルール!WPZ3","v":0},{"$f":"推定用途置換ルール!WQA3","v":0},{"$f":"推定用途置換ルール!WQB3","v":0},{"$f":"推定用途置換ルール!WQC3","v":0},{"$f":"推定用途置換ルール!WQD3","v":0},{"$f":"推定用途置換ルール!WQE3","v":0},{"$f":"推定用途置換ルール!WQF3","v":0},{"$f":"推定用途置換ルール!WQG3","v":0},{"$f":"推定用途置換ルール!WQH3","v":0},{"$f":"推定用途置換ルール!WQI3","v":0},{"$f":"推定用途置換ルール!WQJ3","v":0},{"$f":"推定用途置換ルール!WQK3","v":0},{"$f":"推定用途置換ルール!WQL3","v":0},{"$f":"推定用途置換ルール!WQM3","v":0},{"$f":"推定用途置換ルール!WQN3","v":0},{"$f":"推定用途置換ルール!WQO3","v":0},{"$f":"推定用途置換ルール!WQP3","v":0},{"$f":"推定用途置換ルール!WQQ3","v":0},{"$f":"推定用途置換ルール!WQR3","v":0},{"$f":"推定用途置換ルール!WQS3","v":0},{"$f":"推定用途置換ルール!WQT3","v":0},{"$f":"推定用途置換ルール!WQU3","v":0},{"$f":"推定用途置換ルール!WQV3","v":0},{"$f":"推定用途置換ルール!WQW3","v":0},{"$f":"推定用途置換ルール!WQX3","v":0},{"$f":"推定用途置換ルール!WQY3","v":0},{"$f":"推定用途置換ルール!WQZ3","v":0},{"$f":"推定用途置換ルール!WRA3","v":0},{"$f":"推定用途置換ルール!WRB3","v":0},{"$f":"推定用途置換ルール!WRC3","v":0},{"$f":"推定用途置換ルール!WRD3","v":0},{"$f":"推定用途置換ルール!WRE3","v":0},{"$f":"推定用途置換ルール!WRF3","v":0},{"$f":"推定用途置換ルール!WRG3","v":0},{"$f":"推定用途置換ルール!WRH3","v":0},{"$f":"推定用途置換ルール!WRI3","v":0},{"$f":"推定用途置換ルール!WRJ3","v":0},{"$f":"推定用途置換ルール!WRK3","v":0},{"$f":"推定用途置換ルール!WRL3","v":0},{"$f":"推定用途置換ルール!WRM3","v":0},{"$f":"推定用途置換ルール!WRN3","v":0},{"$f":"推定用途置換ルール!WRO3","v":0},{"$f":"推定用途置換ルール!WRP3","v":0},{"$f":"推定用途置換ルール!WRQ3","v":0},{"$f":"推定用途置換ルール!WRR3","v":0},{"$f":"推定用途置換ルール!WRS3","v":0},{"$f":"推定用途置換ルール!WRT3","v":0},{"$f":"推定用途置換ルール!WRU3","v":0},{"$f":"推定用途置換ルール!WRV3","v":0},{"$f":"推定用途置換ルール!WRW3","v":0},{"$f":"推定用途置換ルール!WRX3","v":0},{"$f":"推定用途置換ルール!WRY3","v":0},{"$f":"推定用途置換ルール!WRZ3","v":0},{"$f":"推定用途置換ルール!WSA3","v":0},{"$f":"推定用途置換ルール!WSB3","v":0},{"$f":"推定用途置換ルール!WSC3","v":0},{"$f":"推定用途置換ルール!WSD3","v":0},{"$f":"推定用途置換ルール!WSE3","v":0},{"$f":"推定用途置換ルール!WSF3","v":0},{"$f":"推定用途置換ルール!WSG3","v":0},{"$f":"推定用途置換ルール!WSH3","v":0},{"$f":"推定用途置換ルール!WSI3","v":0},{"$f":"推定用途置換ルール!WSJ3","v":0},{"$f":"推定用途置換ルール!WSK3","v":0},{"$f":"推定用途置換ルール!WSL3","v":0},{"$f":"推定用途置換ルール!WSM3","v":0},{"$f":"推定用途置換ルール!WSN3","v":0},{"$f":"推定用途置換ルール!WSO3","v":0},{"$f":"推定用途置換ルール!WSP3","v":0},{"$f":"推定用途置換ルール!WSQ3","v":0},{"$f":"推定用途置換ルール!WSR3","v":0},{"$f":"推定用途置換ルール!WSS3","v":0},{"$f":"推定用途置換ルール!WST3","v":0},{"$f":"推定用途置換ルール!WSU3","v":0},{"$f":"推定用途置換ルール!WSV3","v":0},{"$f":"推定用途置換ルール!WSW3","v":0},{"$f":"推定用途置換ルール!WSX3","v":0},{"$f":"推定用途置換ルール!WSY3","v":0},{"$f":"推定用途置換ルール!WSZ3","v":0},{"$f":"推定用途置換ルール!WTA3","v":0},{"$f":"推定用途置換ルール!WTB3","v":0},{"$f":"推定用途置換ルール!WTC3","v":0},{"$f":"推定用途置換ルール!WTD3","v":0},{"$f":"推定用途置換ルール!WTE3","v":0},{"$f":"推定用途置換ルール!WTF3","v":0},{"$f":"推定用途置換ルール!WTG3","v":0},{"$f":"推定用途置換ルール!WTH3","v":0},{"$f":"推定用途置換ルール!WTI3","v":0},{"$f":"推定用途置換ルール!WTJ3","v":0},{"$f":"推定用途置換ルール!WTK3","v":0},{"$f":"推定用途置換ルール!WTL3","v":0},{"$f":"推定用途置換ルール!WTM3","v":0},{"$f":"推定用途置換ルール!WTN3","v":0},{"$f":"推定用途置換ルール!WTO3","v":0},{"$f":"推定用途置換ルール!WTP3","v":0},{"$f":"推定用途置換ルール!WTQ3","v":0},{"$f":"推定用途置換ルール!WTR3","v":0},{"$f":"推定用途置換ルール!WTS3","v":0},{"$f":"推定用途置換ルール!WTT3","v":0},{"$f":"推定用途置換ルール!WTU3","v":0},{"$f":"推定用途置換ルール!WTV3","v":0},{"$f":"推定用途置換ルール!WTW3","v":0},{"$f":"推定用途置換ルール!WTX3","v":0},{"$f":"推定用途置換ルール!WTY3","v":0},{"$f":"推定用途置換ルール!WTZ3","v":0},{"$f":"推定用途置換ルール!WUA3","v":0},{"$f":"推定用途置換ルール!WUB3","v":0},{"$f":"推定用途置換ルール!WUC3","v":0},{"$f":"推定用途置換ルール!WUD3","v":0},{"$f":"推定用途置換ルール!WUE3","v":0},{"$f":"推定用途置換ルール!WUF3","v":0},{"$f":"推定用途置換ルール!WUG3","v":0},{"$f":"推定用途置換ルール!WUH3","v":0},{"$f":"推定用途置換ルール!WUI3","v":0},{"$f":"推定用途置換ルール!WUJ3","v":0},{"$f":"推定用途置換ルール!WUK3","v":0},{"$f":"推定用途置換ルール!WUL3","v":0},{"$f":"推定用途置換ルール!WUM3","v":0},{"$f":"推定用途置換ルール!WUN3","v":0},{"$f":"推定用途置換ルール!WUO3","v":0},{"$f":"推定用途置換ルール!WUP3","v":0},{"$f":"推定用途置換ルール!WUQ3","v":0},{"$f":"推定用途置換ルール!WUR3","v":0},{"$f":"推定用途置換ルール!WUS3","v":0},{"$f":"推定用途置換ルール!WUT3","v":0},{"$f":"推定用途置換ルール!WUU3","v":0},{"$f":"推定用途置換ルール!WUV3","v":0},{"$f":"推定用途置換ルール!WUW3","v":0},{"$f":"推定用途置換ルール!WUX3","v":0},{"$f":"推定用途置換ルール!WUY3","v":0},{"$f":"推定用途置換ルール!WUZ3","v":0},{"$f":"推定用途置換ルール!WVA3","v":0},{"$f":"推定用途置換ルール!WVB3","v":0},{"$f":"推定用途置換ルール!WVC3","v":0},{"$f":"推定用途置換ルール!WVD3","v":0},{"$f":"推定用途置換ルール!WVE3","v":0},{"$f":"推定用途置換ルール!WVF3","v":0},{"$f":"推定用途置換ルール!WVG3","v":0},{"$f":"推定用途置換ルール!WVH3","v":0},{"$f":"推定用途置換ルール!WVI3","v":0},{"$f":"推定用途置換ルール!WVJ3","v":0},{"$f":"推定用途置換ルール!WVK3","v":0},{"$f":"推定用途置換ルール!WVL3","v":0},{"$f":"推定用途置換ルール!WVM3","v":0},{"$f":"推定用途置換ルール!WVN3","v":0},{"$f":"推定用途置換ルール!WVO3","v":0},{"$f":"推定用途置換ルール!WVP3","v":0},{"$f":"推定用途置換ルール!WVQ3","v":0},{"$f":"推定用途置換ルール!WVR3","v":0},{"$f":"推定用途置換ルール!WVS3","v":0},{"$f":"推定用途置換ルール!WVT3","v":0},{"$f":"推定用途置換ルール!WVU3","v":0},{"$f":"推定用途置換ルール!WVV3","v":0},{"$f":"推定用途置換ルール!WVW3","v":0},{"$f":"推定用途置換ルール!WVX3","v":0},{"$f":"推定用途置換ルール!WVY3","v":0},{"$f":"推定用途置換ルール!WVZ3","v":0},{"$f":"推定用途置換ルール!WWA3","v":0},{"$f":"推定用途置換ルール!WWB3","v":0},{"$f":"推定用途置換ルール!WWC3","v":0},{"$f":"推定用途置換ルール!WWD3","v":0},{"$f":"推定用途置換ルール!WWE3","v":0},{"$f":"推定用途置換ルール!WWF3","v":0},{"$f":"推定用途置換ルール!WWG3","v":0},{"$f":"推定用途置換ルール!WWH3","v":0},{"$f":"推定用途置換ルール!WWI3","v":0},{"$f":"推定用途置換ルール!WWJ3","v":0},{"$f":"推定用途置換ルール!WWK3","v":0},{"$f":"推定用途置換ルール!WWL3","v":0},{"$f":"推定用途置換ルール!WWM3","v":0},{"$f":"推定用途置換ルール!WWN3","v":0},{"$f":"推定用途置換ルール!WWO3","v":0},{"$f":"推定用途置換ルール!WWP3","v":0},{"$f":"推定用途置換ルール!WWQ3","v":0},{"$f":"推定用途置換ルール!WWR3","v":0},{"$f":"推定用途置換ルール!WWS3","v":0},{"$f":"推定用途置換ルール!WWT3","v":0},{"$f":"推定用途置換ルール!WWU3","v":0},{"$f":"推定用途置換ルール!WWV3","v":0},{"$f":"推定用途置換ルール!WWW3","v":0},{"$f":"推定用途置換ルール!WWX3","v":0},{"$f":"推定用途置換ルール!WWY3","v":0},{"$f":"推定用途置換ルール!WWZ3","v":0},{"$f":"推定用途置換ルール!WXA3","v":0},{"$f":"推定用途置換ルール!WXB3","v":0},{"$f":"推定用途置換ルール!WXC3","v":0},{"$f":"推定用途置換ルール!WXD3","v":0},{"$f":"推定用途置換ルール!WXE3","v":0},{"$f":"推定用途置換ルール!WXF3","v":0},{"$f":"推定用途置換ルール!WXG3","v":0},{"$f":"推定用途置換ルール!WXH3","v":0},{"$f":"推定用途置換ルール!WXI3","v":0},{"$f":"推定用途置換ルール!WXJ3","v":0},{"$f":"推定用途置換ルール!WXK3","v":0},{"$f":"推定用途置換ルール!WXL3","v":0},{"$f":"推定用途置換ルール!WXM3","v":0},{"$f":"推定用途置換ルール!WXN3","v":0},{"$f":"推定用途置換ルール!WXO3","v":0},{"$f":"推定用途置換ルール!WXP3","v":0},{"$f":"推定用途置換ルール!WXQ3","v":0},{"$f":"推定用途置換ルール!WXR3","v":0},{"$f":"推定用途置換ルール!WXS3","v":0},{"$f":"推定用途置換ルール!WXT3","v":0},{"$f":"推定用途置換ルール!WXU3","v":0},{"$f":"推定用途置換ルール!WXV3","v":0},{"$f":"推定用途置換ルール!WXW3","v":0},{"$f":"推定用途置換ルール!WXX3","v":0},{"$f":"推定用途置換ルール!WXY3","v":0},{"$f":"推定用途置換ルール!WXZ3","v":0},{"$f":"推定用途置換ルール!WYA3","v":0},{"$f":"推定用途置換ルール!WYB3","v":0},{"$f":"推定用途置換ルール!WYC3","v":0},{"$f":"推定用途置換ルール!WYD3","v":0},{"$f":"推定用途置換ルール!WYE3","v":0},{"$f":"推定用途置換ルール!WYF3","v":0},{"$f":"推定用途置換ルール!WYG3","v":0},{"$f":"推定用途置換ルール!WYH3","v":0},{"$f":"推定用途置換ルール!WYI3","v":0},{"$f":"推定用途置換ルール!WYJ3","v":0},{"$f":"推定用途置換ルール!WYK3","v":0},{"$f":"推定用途置換ルール!WYL3","v":0},{"$f":"推定用途置換ルール!WYM3","v":0},{"$f":"推定用途置換ルール!WYN3","v":0},{"$f":"推定用途置換ルール!WYO3","v":0},{"$f":"推定用途置換ルール!WYP3","v":0},{"$f":"推定用途置換ルール!WYQ3","v":0},{"$f":"推定用途置換ルール!WYR3","v":0},{"$f":"推定用途置換ルール!WYS3","v":0},{"$f":"推定用途置換ルール!WYT3","v":0},{"$f":"推定用途置換ルール!WYU3","v":0},{"$f":"推定用途置換ルール!WYV3","v":0},{"$f":"推定用途置換ルール!WYW3","v":0},{"$f":"推定用途置換ルール!WYX3","v":0},{"$f":"推定用途置換ルール!WYY3","v":0},{"$f":"推定用途置換ルール!WYZ3","v":0},{"$f":"推定用途置換ルール!WZA3","v":0},{"$f":"推定用途置換ルール!WZB3","v":0},{"$f":"推定用途置換ルール!WZC3","v":0},{"$f":"推定用途置換ルール!WZD3","v":0},{"$f":"推定用途置換ルール!WZE3","v":0},{"$f":"推定用途置換ルール!WZF3","v":0},{"$f":"推定用途置換ルール!WZG3","v":0},{"$f":"推定用途置換ルール!WZH3","v":0},{"$f":"推定用途置換ルール!WZI3","v":0},{"$f":"推定用途置換ルール!WZJ3","v":0},{"$f":"推定用途置換ルール!WZK3","v":0},{"$f":"推定用途置換ルール!WZL3","v":0},{"$f":"推定用途置換ルール!WZM3","v":0},{"$f":"推定用途置換ルール!WZN3","v":0},{"$f":"推定用途置換ルール!WZO3","v":0},{"$f":"推定用途置換ルール!WZP3","v":0},{"$f":"推定用途置換ルール!WZQ3","v":0},{"$f":"推定用途置換ルール!WZR3","v":0},{"$f":"推定用途置換ルール!WZS3","v":0},{"$f":"推定用途置換ルール!WZT3","v":0},{"$f":"推定用途置換ルール!WZU3","v":0},{"$f":"推定用途置換ルール!WZV3","v":0},{"$f":"推定用途置換ルール!WZW3","v":0},{"$f":"推定用途置換ルール!WZX3","v":0},{"$f":"推定用途置換ルール!WZY3","v":0},{"$f":"推定用途置換ルール!WZZ3","v":0},{"$f":"推定用途置換ルール!XAA3","v":0},{"$f":"推定用途置換ルール!XAB3","v":0},{"$f":"推定用途置換ルール!XAC3","v":0},{"$f":"推定用途置換ルール!XAD3","v":0},{"$f":"推定用途置換ルール!XAE3","v":0},{"$f":"推定用途置換ルール!XAF3","v":0},{"$f":"推定用途置換ルール!XAG3","v":0},{"$f":"推定用途置換ルール!XAH3","v":0},{"$f":"推定用途置換ルール!XAI3","v":0},{"$f":"推定用途置換ルール!XAJ3","v":0},{"$f":"推定用途置換ルール!XAK3","v":0},{"$f":"推定用途置換ルール!XAL3","v":0},{"$f":"推定用途置換ルール!XAM3","v":0},{"$f":"推定用途置換ルール!XAN3","v":0},{"$f":"推定用途置換ルール!XAO3","v":0},{"$f":"推定用途置換ルール!XAP3","v":0},{"$f":"推定用途置換ルール!XAQ3","v":0},{"$f":"推定用途置換ルール!XAR3","v":0},{"$f":"推定用途置換ルール!XAS3","v":0},{"$f":"推定用途置換ルール!XAT3","v":0},{"$f":"推定用途置換ルール!XAU3","v":0},{"$f":"推定用途置換ルール!XAV3","v":0},{"$f":"推定用途置換ルール!XAW3","v":0},{"$f":"推定用途置換ルール!XAX3","v":0},{"$f":"推定用途置換ルール!XAY3","v":0},{"$f":"推定用途置換ルール!XAZ3","v":0},{"$f":"推定用途置換ルール!XBA3","v":0},{"$f":"推定用途置換ルール!XBB3","v":0},{"$f":"推定用途置換ルール!XBC3","v":0},{"$f":"推定用途置換ルール!XBD3","v":0},{"$f":"推定用途置換ルール!XBE3","v":0},{"$f":"推定用途置換ルール!XBF3","v":0},{"$f":"推定用途置換ルール!XBG3","v":0},{"$f":"推定用途置換ルール!XBH3","v":0},{"$f":"推定用途置換ルール!XBI3","v":0},{"$f":"推定用途置換ルール!XBJ3","v":0},{"$f":"推定用途置換ルール!XBK3","v":0},{"$f":"推定用途置換ルール!XBL3","v":0},{"$f":"推定用途置換ルール!XBM3","v":0},{"$f":"推定用途置換ルール!XBN3","v":0},{"$f":"推定用途置換ルール!XBO3","v":0},{"$f":"推定用途置換ルール!XBP3","v":0},{"$f":"推定用途置換ルール!XBQ3","v":0},{"$f":"推定用途置換ルール!XBR3","v":0},{"$f":"推定用途置換ルール!XBS3","v":0},{"$f":"推定用途置換ルール!XBT3","v":0},{"$f":"推定用途置換ルール!XBU3","v":0},{"$f":"推定用途置換ルール!XBV3","v":0},{"$f":"推定用途置換ルール!XBW3","v":0},{"$f":"推定用途置換ルール!XBX3","v":0},{"$f":"推定用途置換ルール!XBY3","v":0},{"$f":"推定用途置換ルール!XBZ3","v":0},{"$f":"推定用途置換ルール!XCA3","v":0},{"$f":"推定用途置換ルール!XCB3","v":0},{"$f":"推定用途置換ルール!XCC3","v":0},{"$f":"推定用途置換ルール!XCD3","v":0},{"$f":"推定用途置換ルール!XCE3","v":0},{"$f":"推定用途置換ルール!XCF3","v":0},{"$f":"推定用途置換ルール!XCG3","v":0},{"$f":"推定用途置換ルール!XCH3","v":0},{"$f":"推定用途置換ルール!XCI3","v":0},{"$f":"推定用途置換ルール!XCJ3","v":0},{"$f":"推定用途置換ルール!XCK3","v":0},{"$f":"推定用途置換ルール!XCL3","v":0},{"$f":"推定用途置換ルール!XCM3","v":0},{"$f":"推定用途置換ルール!XCN3","v":0},{"$f":"推定用途置換ルール!XCO3","v":0},{"$f":"推定用途置換ルール!XCP3","v":0},{"$f":"推定用途置換ルール!XCQ3","v":0},{"$f":"推定用途置換ルール!XCR3","v":0},{"$f":"推定用途置換ルール!XCS3","v":0},{"$f":"推定用途置換ルール!XCT3","v":0},{"$f":"推定用途置換ルール!XCU3","v":0},{"$f":"推定用途置換ルール!XCV3","v":0},{"$f":"推定用途置換ルール!XCW3","v":0},{"$f":"推定用途置換ルール!XCX3","v":0},{"$f":"推定用途置換ルール!XCY3","v":0},{"$f":"推定用途置換ルール!XCZ3","v":0},{"$f":"推定用途置換ルール!XDA3","v":0},{"$f":"推定用途置換ルール!XDB3","v":0},{"$f":"推定用途置換ルール!XDC3","v":0},{"$f":"推定用途置換ルール!XDD3","v":0},{"$f":"推定用途置換ルール!XDE3","v":0},{"$f":"推定用途置換ルール!XDF3","v":0},{"$f":"推定用途置換ルール!XDG3","v":0},{"$f":"推定用途置換ルール!XDH3","v":0},{"$f":"推定用途置換ルール!XDI3","v":0},{"$f":"推定用途置換ルール!XDJ3","v":0},{"$f":"推定用途置換ルール!XDK3","v":0},{"$f":"推定用途置換ルール!XDL3","v":0},{"$f":"推定用途置換ルール!XDM3","v":0},{"$f":"推定用途置換ルール!XDN3","v":0},{"$f":"推定用途置換ルール!XDO3","v":0},{"$f":"推定用途置換ルール!XDP3","v":0},{"$f":"推定用途置換ルール!XDQ3","v":0},{"$f":"推定用途置換ルール!XDR3","v":0},{"$f":"推定用途置換ルール!XDS3","v":0},{"$f":"推定用途置換ルール!XDT3","v":0},{"$f":"推定用途置換ルール!XDU3","v":0},{"$f":"推定用途置換ルール!XDV3","v":0},{"$f":"推定用途置換ルール!XDW3","v":0},{"$f":"推定用途置換ルール!XDX3","v":0},{"$f":"推定用途置換ルール!XDY3","v":0},{"$f":"推定用途置換ルール!XDZ3","v":0},{"$f":"推定用途置換ルール!XEA3","v":0},{"$f":"推定用途置換ルール!XEB3","v":0},{"$f":"推定用途置換ルール!XEC3","v":0},{"$f":"推定用途置換ルール!XED3","v":0},{"$f":"推定用途置換ルール!XEE3","v":0},{"$f":"推定用途置換ルール!XEF3","v":0},{"$f":"推定用途置換ルール!XEG3","v":0},{"$f":"推定用途置換ルール!XEH3","v":0},{"$f":"推定用途置換ルール!XEI3","v":0},{"$f":"推定用途置換ルール!XEJ3","v":0},{"$f":"推定用途置換ルール!XEK3","v":0},{"$f":"推定用途置換ルール!XEL3","v":0},{"$f":"推定用途置換ルール!XEM3","v":0},{"$f":"推定用途置換ルール!XEN3","v":0},{"$f":"推定用途置換ルール!XEO3","v":0},{"$f":"推定用途置換ルール!XEP3","v":0},{"$f":"推定用途置換ルール!XEQ3","v":0},{"$f":"推定用途置換ルール!XER3","v":0},{"$f":"推定用途置換ルール!XES3","v":0},{"$f":"推定用途置換ルール!XET3","v":0},{"$f":"推定用途置換ルール!XEU3","v":0},{"$f":"推定用途置換ルール!XEV3","v":0},{"$f":"推定用途置換ルール!XEW3","v":0},{"$f":"推定用途置換ルール!XEX3","v":0},{"$f":"推定用途置換ルール!XEY3","v":0},{"$f":"推定用途置換ルール!XEZ3","v":0},{"$f":"推定用途置換ルール!XFA3","v":0},{"$f":"推定用途置換ルール!XFB3","v":0},{"$f":"推定用途置換ルール!XFC3","v":0},{"$f":"推定用途置換ルール!XFD3","v":0},{"$f":"推定用途置換ルール!#REF!","v":{"$error":"#REF!"}},{"$f":"推定用途置換ルール!#REF!","v":{"$error":"#REF!"}},{"$f":"推定用途置換ルール!#REF!","v":{"$error":"#REF!"}},{"$f":"推定用途置換ルール!#REF!","v":{"$error":"#REF!"}},{"$f":"推定用途置換ルール!#REF!","v":{"$error":"#REF!"}}]
[null,{"$f":"推定用途置換ルール!G4","v":"その他DEAPCHECK"},{"$f":"SUMIFS(入出金NFT結果!$D:$D,入出金NFT結果!$I:$I,\"=\"&月別集計!$B7,入出金NFT結果!$A:$A,\">=\"&月別集計!C$1,入出金NFT結果!$A:$A,\"<=\"&月別集計!C$2)","v":0},{"$f":"SUMIFS(入出金NFT結果!$D:$D,入出金NFT結果!$I:$I,\"=\"&月別集計!$B7,入出金NFT結果!$A:$A,\">=\"&月別集計!D$1,入出金NFT結果!$A:$A,\"<=\"&月別集計!D$2)","v":0},{"$f":"SUMIFS(入出金NFT結果!$D:$D,入出金NFT結果!$I:$I,\"=\"&月別集計!$B7,入出金NFT結果!$A:$A,\">=\"&月別集計!E$1,入出金NFT結果!$A:$A,\"<=\"&月別集計!E$2)","v":0},{"$f":"SUMIFS(入出金NFT結果!$D:$D,入出金NFT結果!$I:$I,\"=\"&月別集計!$B7,入出金NFT結果!$A:$A,\">=\"&月別集計!F$1,入出金NFT結果!$A:$A,\"<=\"&月別集計!F$2)","v":0},{"$f":"SUMIFS(入出金NFT結果!$D:$D,入出金NFT結果!$I:$I,\"=\"&月別集計!$B7,入出金NFT結果!$A:$A,\">=\"&月別集計!G$1,入出金NFT結果!$A:$A,\"<=\"&月別集計!G$2)","v":0},{"$f":"SUMIFS(入出金NFT結果!$D:$D,入出金NFT結果!$I:$I,\"=\"&月別集計!$B7,入出金NFT結果!$A:$A,\">=\"&月別集計!H$1,入出金NFT結果!$A:$A,\"<=\"&月別集計!H$2)","v":0},{"$f":"SUMIFS(入出金NFT結果!$D:$D,入出金NFT結果!$I:$I,\"=\"&月別集計!$B7,入出金NFT結果!$A:$A,\">=\"&月別集計!I$1,入出金NFT結果!$A:$A,\"<=\"&月別集計!I$2)","v":0},{"$f":"SUMIFS(入出金NFT結果!$D:$D,入出金NFT結果!$I:$I,\"=\"&月別集計!$B7,入出金NFT結果!$A:$A,\">=\"&月別集計!J$1,入出金NFT結果!$A:$A,\"<=\"&月別集計!J$2)","v":0},{"$f":"SUMIFS(入出金NFT結果!$D:$D,入出金NFT結果!$I:$I,\"=\"&月別集計!$B7,入出金NFT結果!$A:$A,\">=\"&月別集計!K$1,入出金NFT結果!$A:$A,\"<=\"&月別集計!K$2)","v":0},{"$f":"SUMIFS(入出金NFT結果!$D:$D,入出金NFT結果!$I:$I,\"=\"&月別集計!$B7,入出金NFT結果!$A:$A,\">=\"&月別集計!L$1,入出金NFT結果!$A:$A,\"<=\"&月別集計!L$2)","v":0},{"$f":"SUMIFS(入出金NFT結果!$D:$D,入出金NFT結果!$I:$I,\"=\"&月別集計!$B7,入出金NFT結果!$A:$A,\">=\"&月別集計!M$1,入出金NFT結果!$A:$A,\"<=\"&月別集計!M$2)","v":0},{"$f":"SUMIFS(入出金NFT結果!$D:$D,入出金NFT結果!$I:$I,\"=\"&月別集計!$B7,入出金NFT結果!$A:$A,\">=\"&月別集計!N$1,入出金NFT結果!$A:$A,\"<=\"&月別集計!N$2)","v":0},{"$f":"SUMIFS(入出金NFT結果!$D:$D,入出金NFT結果!$I:$I,\"=\"&月別集計!$B7,入出金NFT結果!$A:$A,\">=\"&月別集計!O$1,入出金NFT結果!$A:$A,\"<=\"&月別集計!O$2)","v":0},{"$f":"SUMIFS(入出金NFT結果!$D:$D,入出金NFT結果!$I:$I,\"=\"&月別集計!$B7,入出金NFT結果!$A:$A,\">=\"&月別集計!P$1,入出金NFT結果!$A:$A,\"<=\"&月別集計!P$2)","v":0},{"$f":"SUMIFS(入出金NFT結果!$D:$D,入出金NFT結果!$I:$I,\"=\"&月別集計!$B7,入出金NFT結果!$A:$A,\">=\"&月別集計!Q$1,入出金NFT結果!$A:$A,\"<=\"&月別集計!Q$2)","v":0},{"$f":"SUMIFS(入出金NFT結果!$D:$D,入出金NFT結果!$I:$I,\"=\"&月別集計!$B7,入出金NFT結果!$A:$A,\">=\"&月別集計!R$1,入出金NFT結果!$A:$A,\"<=\"&月別集計!R$2)","v":0},{"$f":"SUMIFS(入出金NFT結果!$D:$D,入出金NFT結果!$I:$I,\"=\"&月別集計!$B7,入出金NFT結果!$A:$A,\">=\"&月別集計!S$1,入出金NFT結果!$A:$A,\"<=\"&月別集計!S$2)","v":0},{"$f":"SUMIFS(入出金NFT結果!$D:$D,入出金NFT結果!$I:$I,\"=\"&月別集計!$B7,入出金NFT結果!$A:$A,\">=\"&月別集計!T$1,入出金NFT結果!$A:$A,\"<=\"&月別集計!T$2)","v":0},{"$f":"SUMIFS(入出金NFT結果!$D:$D,入出金NFT結果!$I:$I,\"=\"&月別集計!$B7,入出金NFT結果!$A:$A,\">=\"&月別集計!U$1,入出金NFT結果!$A:$A,\"<=\"&月別集計!U$2)","v":0},{"$f":"SUMIFS(入出金NFT結果!$D:$D,入出金NFT結果!$I:$I,\"=\"&月別集計!$B7,入出金NFT結果!$A:$A,\">=\"&月別集計!V$1,入出金NFT結果!$A:$A,\"<=\"&月別集計!V$2)","v":0},{"$f":"SUMIFS(入出金NFT結果!$D:$D,入出金NFT結果!$I:$I,\"=\"&月別集計!$B7,入出金NFT結果!$A:$A,\">=\"&月別集計!W$1,入出金NFT結果!$A:$A,\"<=\"&月別集計!W$2)","v":0},{"$f":"SUMIFS(入出金NFT結果!$D:$D,入出金NFT結果!$I:$I,\"=\"&月別集計!$B7,入出金NFT結果!$A:$A,\">=\"&月別集計!X$1,入出金NFT結果!$A:$A,\"<=\"&月別集計!X$2)","v":0},{"$f":"SUMIFS(入出金NFT結果!$D:$D,入出金NFT結果!$I:$I,\"=\"&月別集計!$B7,入出金NFT結果!$A:$A,\">=\"&月別集計!Y$1,入出金NFT結果!$A:$A,\"<=\"&月別集計!Y$2)","v":0},{"$f":"SUMIFS(入出金NFT結果!$D:$D,入出金NFT結果!$I:$I,\"=\"&月別集計!$B7,入出金NFT結果!$A:$A,\">=\"&月別集計!Z$1,入出金NFT結果!$A:$A,\"<=\"&月別集計!Z$2)","v":0},{"$f":"SUMIFS(入出金NFT結果!$D:$D,入出金NFT結果!$I:$I,\"=\"&月別集計!$B7,入出金NFT結果!$A:$A,\">=\"&月別集計!AA$1,入出金NFT結果!$A:$A,\"<=\"&月別集計!AA$2)","v":0},{"$f":"SUMIFS(入出金NFT結果!$D:$D,入出金NFT結果!$I:$I,\"=\"&月別集計!$B7,入出金NFT結果!$A:$A,\">=\"&月別集計!AB$1,入出金NFT結果!$A:$A,\"<=\"&月別集計!AB$2)","v":0},{"$f":"SUMIFS(入出金NFT結果!$D:$D,入出金NFT結果!$I:$I,\"=\"&月別集計!$B7,入出金NFT結果!$A:$A,\">=\"&月別集計!AC$1,入出金NFT結果!$A:$A,\"<=\"&月別集計!AC$2)","v":0},{"$f":"SUMIFS(入出金NFT結果!$D:$D,入出金NFT結果!$I:$I,\"=\"&月別集計!$B7,入出金NFT結果!$A:$A,\">=\"&月別集計!AD$1,入出金NFT結果!$A:$A,\"<=\"&月別集計!AD$2)","v":0},{"$f":"SUMIFS(入出金NFT結果!$D:$D,入出金NFT結果!$I:$I,\"=\"&月別集計!$B7,入出金NFT結果!$A:$A,\">=\"&月別集計!AE$1,入出金NFT結果!$A:$A,\"<=\"&月別集計!AE$2)","v":0},{"$f":"SUMIFS(入出金NFT結果!$D:$D,入出金NFT結果!$I:$I,\"=\"&月別集計!$B7,入出金NFT結果!$A:$A,\">=\"&月別集計!AF$1,入出金NFT結果!$A:$A,\"<=\"&月別集計!AF$2)","v":0},{"$f":"SUMIFS(入出金NFT結果!$D:$D,入出金NFT結果!$I:$I,\"=\"&月別集計!$B7,入出金NFT結果!$A:$A,\">=\"&月別集計!AG$1,入出金NFT結果!$A:$A,\"<=\"&月別集計!AG$2)","v":0},{"$f":"SUMIFS(入出金NFT結果!$D:$D,入出金NFT結果!$I:$I,\"=\"&月別集計!$B7,入出金NFT結果!$A:$A,\">=\"&月別集計!AH$1,入出金NFT結果!$A:$A,\"<=\"&月別集計!AH$2)","v":0},{"$f":"SUMIFS(入出金NFT結果!$D:$D,入出金NFT結果!$I:$I,\"=\"&月別集計!$B7,入出金NFT結果!$A:$A,\">=\"&月別集計!AI$1,入出金NFT結果!$A:$A,\"<=\"&月別集計!AI$2)","v":0},{"$f":"SUMIFS(入出金NFT結果!$D:$D,入出金NFT結果!$I:$I,\"=\"&月別集計!$B7,入出金NFT結果!$A:$A,\">=\"&月別集計!AJ$1,入出金NFT結果!$A:$A,\"<=\"&月別集計!AJ$2)","v":0},{"$f":"SUMIFS(入出金NFT結果!$D:$D,入出金NFT結果!$I:$I,\"=\"&月別集計!$B7,入出金NFT結果!$A:$A,\">=\"&月別集計!AK$1,入出金NFT結果!$A:$A,\"<=\"&月別集計!AK$2)","v":0},{"$f":"SUMIFS(入出金NFT結果!$D:$D,入出金NFT結果!$I:$I,\"=\"&月別集計!$B7,入出金NFT結果!$A:$A,\">=\"&月別集計!AL$1,入出金NFT結果!$A:$A,\"<=\"&月別集計!AL$2)","v":0},{"$f":"SUMIFS(入出金NFT結果!$D:$D,入出金NFT結果!$I:$I,\"=\"&月別集計!$B7,入出金NFT結果!$A:$A,\">=\"&月別集計!AM$1,入出金NFT結果!$A:$A,\"<=\"&月別集計!AM$2)","v":0},{"$f":"SUMIFS(入出金NFT結果!$D:$D,入出金NFT結果!$I:$I,\"=\"&月別集計!$B7,入出金NFT結果!$A:$A,\">=\"&月別集計!AN$1,入出金NFT結果!$A:$A,\"<=\"&月別集計!AN$2)","v":0},{"$f":"SUMIFS(入出金NFT結果!$D:$D,入出金NFT結果!$I:$I,\"=\"&月別集計!$B7,入出金NFT結果!$A:$A,\">=\"&月別集計!AO$1,入出金NFT結果!$A:$A,\"<=\"&月別集計!AO$2)","v":0},{"$f":"SUMIFS(入出金NFT結果!$D:$D,入出金NFT結果!$I:$I,\"=\"&月別集計!$B7,入出金NFT結果!$A:$A,\">=\"&月別集計!AP$1,入出金NFT結果!$A:$A,\"<=\"&月別集計!AP$2)","v":0},{"$f":"SUMIFS(入出金NFT結果!$D:$D,入出金NFT結果!$I:$I,\"=\"&月別集計!$B7,入出金NFT結果!$A:$A,\">=\"&月別集計!AQ$1,入出金NFT結果!$A:$A,\"<=\"&月別集計!AQ$2)","v":0},{"$f":"SUMIFS(入出金NFT結果!$D:$D,入出金NFT結果!$I:$I,\"=\"&月別集計!$B7,入出金NFT結果!$A:$A,\">=\"&月別集計!AR$1,入出金NFT結果!$A:$A,\"<=\"&月別集計!AR$2)","v":0},{"$f":"SUMIFS(入出金NFT結果!$D:$D,入出金NFT結果!$I:$I,\"=\"&月別集計!$B7,入出金NFT結果!$A:$A,\">=\"&月別集計!AS$1,入出金NFT結果!$A:$A,\"<=\"&月別集計!AS$2)","v":0},{"$f":"SUMIFS(入出金NFT結果!$D:$D,入出金NFT結果!$I:$I,\"=\"&月別集計!$B7,入出金NFT結果!$A:$A,\">=\"&月別集計!AT$1,入出金NFT結果!$A:$A,\"<=\"&月別集計!AT$2)","v":0},{"$f":"SUMIFS(入出金NFT結果!$D:$D,入出金NFT結果!$I:$I,\"=\"&月別集計!$B7,入出金NFT結果!$A:$A,\">=\"&月別集計!AU$1,入出金NFT結果!$A:$A,\"<=\"&月別集計!AU$2)","v":0},{"$f":"SUMIFS(入出金NFT結果!$D:$D,入出金NFT結果!$I:$I,\"=\"&月別集計!$B7,入出金NFT結果!$A:$A,\">=\"&月別集計!AV$1,入出金NFT結果!$A:$A,\"<=\"&月別集計!AV$2)","v":0},{"$f":"SUMIFS(入出金NFT結果!$D:$D,入出金NFT結果!$I:$I,\"=\"&月別集計!$B7,入出金NFT結果!$A:$A,\">=\"&月別集計!AW$1,入出金NFT結果!$A:$A,\"<=\"&月別集計!AW$2)","v":0},{"$f":"SUMIFS(入出金NFT結果!$D:$D,入出金NFT結果!$I:$I,\"=\"&月別集計!$B7,入出金NFT結果!$A:$A,\">=\"&月別集計!AX$1,入出金NFT結果!$A:$A,\"<=\"&月別集計!AX$2)","v":0},{"$f":"SUMIFS(入出金NFT結果!$D:$D,入出金NFT結果!$I:$I,\"=\"&月別集計!$B7,入出金NFT結果!$A:$A,\">=\"&月別集計!AY$1,入出金NFT結果!$A:$A,\"<=\"&月別集計!AY$2)","v":0},{"$f":"SUMIFS(入出金NFT結果!$D:$D,入出金NFT結果!$I:$I,\"=\"&月別集計!$B7,入出金NFT結果!$A:$A,\">=\"&月別集計!AZ$1,入出金NFT結果!$A:$A,\"<=\"&月別集計!AZ$2)","v":0},{"$f":"SUMIFS(入出金NFT結果!$D:$D,入出金NFT結果!$I:$I,\"=\"&月別集計!$B7,入出金NFT結果!$A:$A,\">=\"&月別集計!BA$1,入出金NFT結果!$A:$A,\"<=\"&月別集計!BA$2)","v":0},{"$f":"SUMIFS(入出金NFT結果!$D:$D,入出金NFT結果!$I:$I,\"=\"&月別集計!$B7,入出金NFT結果!$A:$A,\">=\"&月別集計!BB$1,入出金NFT結果!$A:$A,\"<=\"&月別集計!BB$2)","v":0},{"$f":"SUMIFS(入出金NFT結果!$D:$D,入出金NFT結果!$I:$I,\"=\"&月別集計!$B7,入出金NFT結果!$A:$A,\">=\"&月別集計!BC$1,入出金NFT結果!$A:$A,\"<=\"&月別集計!BC$2)","v":0},{"$f":"SUMIFS(入出金NFT結果!$D:$D,入出金NFT結果!$I:$I,\"=\"&月別集計!$B7,入出金NFT結果!$A:$A,\">=\"&月別集計!BD$1,入出金NFT結果!$A:$A,\"<=\"&月別集計!BD$2)","v":0},{"$f":"SUMIFS(入出金NFT結果!$D:$D,入出金NFT結果!$I:$I,\"=\"&月別集計!$B7,入出金NFT結果!$A:$A,\">=\"&月別集計!BE$1,入出金NFT結果!$A:$A,\"<=\"&月別集計!BE$2)","v":0},{"$f":"SUMIFS(入出金NFT結果!$D:$D,入出金NFT結果!$I:$I,\"=\"&月別集計!$B7,入出金NFT結果!$A:$A,\">=\"&月別集計!BF$1,入出金NFT結果!$A:$A,\"<=\"&月別集計!BF$2)","v":0},{"$f":"SUMIFS(入出金NFT結果!$D:$D,入出金NFT結果!$I:$I,\"=\"&月別集計!$B7,入出金NFT結果!$A:$A,\">=\"&月別集計!BG$1,入出金NFT結果!$A:$A,\"<=\"&月別集計!BG$2)","v":0},{"$f":"SUMIFS(入出金NFT結果!$D:$D,入出金NFT結果!$I:$I,\"=\"&月別集計!$B7,入出金NFT結果!$A:$A,\">=\"&月別集計!BH$1,入出金NFT結果!$A:$A,\"<=\"&月別集計!BH$2)","v":0},{"$f":"SUMIFS(入出金NFT結果!$D:$D,入出金NFT結果!$I:$I,\"=\"&月別集計!$B7,入出金NFT結果!$A:$A,\">=\"&月別集計!BI$1,入出金NFT結果!$A:$A,\"<=\"&月別集計!BI$2)","v":0},{"$f":"SUMIFS(入出金NFT結果!$D:$D,入出金NFT結果!$I:$I,\"=\"&月別集計!$B7,入出金NFT結果!$A:$A,\">=\"&月別集計!BJ$1,入出金NFT結果!$A:$A,\"<=\"&月別集計!BJ$2)","v":0},{"$f":"SUMIFS(入出金NFT結果!$D:$D,入出金NFT結果!$I:$I,\"=\"&月別集計!$B7,入出金NFT結果!$A:$A,\">=\"&月別集計!BK$1,入出金NFT結果!$A:$A,\"<=\"&月別集計!BK$2)","v":0},{"$f":"SUMIFS(入出金NFT結果!$D:$D,入出金NFT結果!$I:$I,\"=\"&月別集計!$B7,入出金NFT結果!$A:$A,\">=\"&月別集計!BL$1,入出金NFT結果!$A:$A,\"<=\"&月別集計!BL$2)","v":0},{"$f":"SUMIFS(入出金NFT結果!$D:$D,入出金NFT結果!$I:$I,\"=\"&月別集計!$B7,入出金NFT結果!$A:$A,\">=\"&月別集計!BM$1,入出金NFT結果!$A:$A,\"<=\"&月別集計!BM$2)","v":0}]
[null,{"$f":"推定用途置換ルール!G5","v":"グラフィティレーサー：レース賞金"},{"$f":"SUMIFS(入出金NFT結果!$D:$D,入出金NFT結果!$I:$I,\"=\"&月別集計!$B8,入出金NFT結果!$A:$A,\">=\"&月別集計!C$1,入出金NFT結果!$A:$A,\"<=\"&月別集計!C$2)","v":0},{"$f":"SUMIFS(入出金NFT結果!$D:$D,入出金NFT結果!$I:$I,\"=\"&月別集計!$B8,入出金NFT結果!$A:$A,\">=\"&月別集計!D$1,入出金NFT結果!$A:$A,\"<=\"&月別集計!D$2)","v":0},{"$f":"SUMIFS(入出金NFT結果!$D:$D,入出金NFT結果!$I:$I,\"=\"&月別集計!$B8,入出金NFT結果!$A:$A,\">=\"&月別集計!E$1,入出金NFT結果!$A:$A,\"<=\"&月別集計!E$2)","v":0},{"$f":"SUMIFS(入出金NFT結果!$D:$D,入出金NFT結果!$I:$I,\"=\"&月別集計!$B8,入出金NFT結果!$A:$A,\">=\"&月別集計!F$1,入出金NFT結果!$A:$A,\"<=\"&月別集計!F$2)","v":0},{"$f":"SUMIFS(入出金NFT結果!$D:$D,入出金NFT結果!$I:$I,\"=\"&月別集計!$B8,入出金NFT結果!$A:$A,\">=\"&月別集計!G$1,入出金NFT結果!$A:$A,\"<=\"&月別集計!G$2)","v":0},{"$f":"SUMIFS(入出金NFT結果!$D:$D,入出金NFT結果!$I:$I,\"=\"&月別集計!$B8,入出金NFT結果!$A:$A,\">=\"&月別集計!H$1,入出金NFT結果!$A:$A,\"<=\"&月別集計!H$2)","v":0},{"$f":"SUMIFS(入出金NFT結果!$D:$D,入出金NFT結果!$I:$I,\"=\"&月別集計!$B8,入出金NFT結果!$A:$A,\">=\"&月別集計!I$1,入出金NFT結果!$A:$A,\"<=\"&月別集計!I$2)","v":0},{"$f":"SUMIFS(入出金NFT結果!$D:$D,入出金NFT結果!$I:$I,\"=\"&月別集計!$B8,入出金NFT結果!$A:$A,\">=\"&月別集計!J$1,入出金NFT結果!$A:$A,\"<=\"&月別集計!J$2)","v":0},{"$f":"SUMIFS(入出金NFT結果!$D:$D,入出金NFT結果!$I:$I,\"=\"&月別集計!$B8,入出金NFT結果!$A:$A,\">=\"&月別集計!K$1,入出金NFT結果!$A:$A,\"<=\"&月別集計!K$2)","v":0},{"$f":"SUMIFS(入出金NFT結果!$D:$D,入出金NFT結果!$I:$I,\"=\"&月別集計!$B8,入出金NFT結果!$A:$A,\">=\"&月別集計!L$1,入出金NFT結果!$A:$A,\"<=\"&月別集計!L$2)","v":0},{"$f":"SUMIFS(入出金NFT結果!$D:$D,入出金NFT結果!$I:$I,\"=\"&月別集計!$B8,入出金NFT結果!$A:$A,\">=\"&月別集計!M$1,入出金NFT結果!$A:$A,\"<=\"&月別集計!M$2)","v":0},{"$f":"SUMIFS(入出金NFT結果!$D:$D,入出金NFT結果!$I:$I,\"=\"&月別集計!$B8,入出金NFT結果!$A:$A,\">=\"&月別集計!N$1,入出金NFT結果!$A:$A,\"<=\"&月別集計!N$2)","v":0},{"$f":"SUMIFS(入出金NFT結果!$D:$D,入出金NFT結果!$I:$I,\"=\"&月別集計!$B8,入出金NFT結果!$A:$A,\">=\"&月別集計!O$1,入出金NFT結果!$A:$A,\"<=\"&月別集計!O$2)","v":0},{"$f":"SUMIFS(入出金NFT結果!$D:$D,入出金NFT結果!$I:$I,\"=\"&月別集計!$B8,入出金NFT結果!$A:$A,\">=\"&月別集計!P$1,入出金NFT結果!$A:$A,\"<=\"&月別集計!P$2)","v":0},{"$f":"SUMIFS(入出金NFT結果!$D:$D,入出金NFT結果!$I:$I,\"=\"&月別集計!$B8,入出金NFT結果!$A:$A,\">=\"&月別集計!Q$1,入出金NFT結果!$A:$A,\"<=\"&月別集計!Q$2)","v":0},{"$f":"SUMIFS(入出金NFT結果!$D:$D,入出金NFT結果!$I:$I,\"=\"&月別集計!$B8,入出金NFT結果!$A:$A,\">=\"&月別集計!R$1,入出金NFT結果!$A:$A,\"<=\"&月別集計!R$2)","v":0},{"$f":"SUMIFS(入出金NFT結果!$D:$D,入出金NFT結果!$I:$I,\"=\"&月別集計!$B8,入出金NFT結果!$A:$A,\">=\"&月別集計!S$1,入出金NFT結果!$A:$A,\"<=\"&月別集計!S$2)","v":0},{"$f":"SUMIFS(入出金NFT結果!$D:$D,入出金NFT結果!$I:$I,\"=\"&月別集計!$B8,入出金NFT結果!$A:$A,\">=\"&月別集計!T$1,入出金NFT結果!$A:$A,\"<=\"&月別集計!T$2)","v":0},{"$f":"SUMIFS(入出金NFT結果!$D:$D,入出金NFT結果!$I:$I,\"=\"&月別集計!$B8,入出金NFT結果!$A:$A,\">=\"&月別集計!U$1,入出金NFT結果!$A:$A,\"<=\"&月別集計!U$2)","v":0},{"$f":"SUMIFS(入出金NFT結果!$D:$D,入出金NFT結果!$I:$I,\"=\"&月別集計!$B8,入出金NFT結果!$A:$A,\">=\"&月別集計!V$1,入出金NFT結果!$A:$A,\"<=\"&月別集計!V$2)","v":0},{"$f":"SUMIFS(入出金NFT結果!$D:$D,入出金NFT結果!$I:$I,\"=\"&月別集計!$B8,入出金NFT結果!$A:$A,\">=\"&月別集計!W$1,入出金NFT結果!$A:$A,\"<=\"&月別集計!W$2)","v":0},{"$f":"SUMIFS(入出金NFT結果!$D:$D,入出金NFT結果!$I:$I,\"=\"&月別集計!$B8,入出金NFT結果!$A:$A,\">=\"&月別集計!X$1,入出金NFT結果!$A:$A,\"<=\"&月別集計!X$2)","v":0},{"$f":"SUMIFS(入出金NFT結果!$D:$D,入出金NFT結果!$I:$I,\"=\"&月別集計!$B8,入出金NFT結果!$A:$A,\">=\"&月別集計!Y$1,入出金NFT結果!$A:$A,\"<=\"&月別集計!Y$2)","v":0},{"$f":"SUMIFS(入出金NFT結果!$D:$D,入出金NFT結果!$I:$I,\"=\"&月別集計!$B8,入出金NFT結果!$A:$A,\">=\"&月別集計!Z$1,入出金NFT結果!$A:$A,\"<=\"&月別集計!Z$2)","v":0},{"$f":"SUMIFS(入出金NFT結果!$D:$D,入出金NFT結果!$I:$I,\"=\"&月別集計!$B8,入出金NFT結果!$A:$A,\">=\"&月別集計!AA$1,入出金NFT結果!$A:$A,\"<=\"&月別集計!AA$2)","v":0},{"$f":"SUMIFS(入出金NFT結果!$D:$D,入出金NFT結果!$I:$I,\"=\"&月別集計!$B8,入出金NFT結果!$A:$A,\">=\"&月別集計!AB$1,入出金NFT結果!$A:$A,\"<=\"&月別集計!AB$2)","v":0},{"$f":"SUMIFS(入出金NFT結果!$D:$D,入出金NFT結果!$I:$I,\"=\"&月別集計!$B8,入出金NFT結果!$A:$A,\">=\"&月別集計!AC$1,入出金NFT結果!$A:$A,\"<=\"&月別集計!AC$2)","v":0},{"$f":"SUMIFS(入出金NFT結果!$D:$D,入出金NFT結果!$I:$I,\"=\"&月別集計!$B8,入出金NFT結果!$A:$A,\">=\"&月別集計!AD$1,入出金NFT結果!$A:$A,\"<=\"&月別集計!AD$2)","v":0},{"$f":"SUMIFS(入出金NFT結果!$D:$D,入出金NFT結果!$I:$I,\"=\"&月別集計!$B8,入出金NFT結果!$A:$A,\">=\"&月別集計!AE$1,入出金NFT結果!$A:$A,\"<=\"&月別集計!AE$2)","v":0},{"$f":"SUMIFS(入出金NFT結果!$D:$D,入出金NFT結果!$I:$I,\"=\"&月別集計!$B8,入出金NFT結果!$A:$A,\">=\"&月別集計!AF$1,入出金NFT結果!$A:$A,\"<=\"&月別集計!AF$2)","v":0},{"$f":"SUMIFS(入出金NFT結果!$D:$D,入出金NFT結果!$I:$I,\"=\"&月別集計!$B8,入出金NFT結果!$A:$A,\">=\"&月別集計!AG$1,入出金NFT結果!$A:$A,\"<=\"&月別集計!AG$2)","v":0},{"$f":"SUMIFS(入出金NFT結果!$D:$D,入出金NFT結果!$I:$I,\"=\"&月別集計!$B8,入出金NFT結果!$A:$A,\">=\"&月別集計!AH$1,入出金NFT結果!$A:$A,\"<=\"&月別集計!AH$2)","v":0},{"$f":"SUMIFS(入出金NFT結果!$D:$D,入出金NFT結果!$I:$I,\"=\"&月別集計!$B8,入出金NFT結果!$A:$A,\">=\"&月別集計!AI$1,入出金NFT結果!$A:$A,\"<=\"&月別集計!AI$2)","v":0},{"$f":"SUMIFS(入出金NFT結果!$D:$D,入出金NFT結果!$I:$I,\"=\"&月別集計!$B8,入出金NFT結果!$A:$A,\">=\"&月別集計!AJ$1,入出金NFT結果!$A:$A,\"<=\"&月別集計!AJ$2)","v":0},{"$f":"SUMIFS(入出金NFT結果!$D:$D,入出金NFT結果!$I:$I,\"=\"&月別集計!$B8,入出金NFT結果!$A:$A,\">=\"&月別集計!AK$1,入出金NFT結果!$A:$A,\"<=\"&月別集計!AK$2)","v":0},{"$f":"SUMIFS(入出金NFT結果!$D:$D,入出金NFT結果!$I:$I,\"=\"&月別集計!$B8,入出金NFT結果!$A:$A,\">=\"&月別集計!AL$1,入出金NFT結果!$A:$A,\"<=\"&月別集計!AL$2)","v":0},{"$f":"SUMIFS(入出金NFT結果!$D:$D,入出金NFT結果!$I:$I,\"=\"&月別集計!$B8,入出金NFT結果!$A:$A,\">=\"&月別集計!AM$1,入出金NFT結果!$A:$A,\"<=\"&月別集計!AM$2)","v":0},{"$f":"SUMIFS(入出金NFT結果!$D:$D,入出金NFT結果!$I:$I,\"=\"&月別集計!$B8,入出金NFT結果!$A:$A,\">=\"&月別集計!AN$1,入出金NFT結果!$A:$A,\"<=\"&月別集計!AN$2)","v":0},{"$f":"SUMIFS(入出金NFT結果!$D:$D,入出金NFT結果!$I:$I,\"=\"&月別集計!$B8,入出金NFT結果!$A:$A,\">=\"&月別集計!AO$1,入出金NFT結果!$A:$A,\"<=\"&月別集計!AO$2)","v":0},{"$f":"SUMIFS(入出金NFT結果!$D:$D,入出金NFT結果!$I:$I,\"=\"&月別集計!$B8,入出金NFT結果!$A:$A,\">=\"&月別集計!AP$1,入出金NFT結果!$A:$A,\"<=\"&月別集計!AP$2)","v":0},{"$f":"SUMIFS(入出金NFT結果!$D:$D,入出金NFT結果!$I:$I,\"=\"&月別集計!$B8,入出金NFT結果!$A:$A,\">=\"&月別集計!AQ$1,入出金NFT結果!$A:$A,\"<=\"&月別集計!AQ$2)","v":0},{"$f":"SUMIFS(入出金NFT結果!$D:$D,入出金NFT結果!$I:$I,\"=\"&月別集計!$B8,入出金NFT結果!$A:$A,\">=\"&月別集計!AR$1,入出金NFT結果!$A:$A,\"<=\"&月別集計!AR$2)","v":0},{"$f":"SUMIFS(入出金NFT結果!$D:$D,入出金NFT結果!$I:$I,\"=\"&月別集計!$B8,入出金NFT結果!$A:$A,\">=\"&月別集計!AS$1,入出金NFT結果!$A:$A,\"<=\"&月別集計!AS$2)","v":0},{"$f":"SUMIFS(入出金NFT結果!$D:$D,入出金NFT結果!$I:$I,\"=\"&月別集計!$B8,入出金NFT結果!$A:$A,\">=\"&月別集計!AT$1,入出金NFT結果!$A:$A,\"<=\"&月別集計!AT$2)","v":0},{"$f":"SUMIFS(入出金NFT結果!$D:$D,入出金NFT結果!$I:$I,\"=\"&月別集計!$B8,入出金NFT結果!$A:$A,\">=\"&月別集計!AU$1,入出金NFT結果!$A:$A,\"<=\"&月別集計!AU$2)","v":0},{"$f":"SUMIFS(入出金NFT結果!$D:$D,入出金NFT結果!$I:$I,\"=\"&月別集計!$B8,入出金NFT結果!$A:$A,\">=\"&月別集計!AV$1,入出金NFT結果!$A:$A,\"<=\"&月別集計!AV$2)","v":0},{"$f":"SUMIFS(入出金NFT結果!$D:$D,入出金NFT結果!$I:$I,\"=\"&月別集計!$B8,入出金NFT結果!$A:$A,\">=\"&月別集計!AW$1,入出金NFT結果!$A:$A,\"<=\"&月別集計!AW$2)","v":0},{"$f":"SUMIFS(入出金NFT結果!$D:$D,入出金NFT結果!$I:$I,\"=\"&月別集計!$B8,入出金NFT結果!$A:$A,\">=\"&月別集計!AX$1,入出金NFT結果!$A:$A,\"<=\"&月別集計!AX$2)","v":0},{"$f":"SUMIFS(入出金NFT結果!$D:$D,入出金NFT結果!$I:$I,\"=\"&月別集計!$B8,入出金NFT結果!$A:$A,\">=\"&月別集計!AY$1,入出金NFT結果!$A:$A,\"<=\"&月別集計!AY$2)","v":0},{"$f":"SUMIFS(入出金NFT結果!$D:$D,入出金NFT結果!$I:$I,\"=\"&月別集計!$B8,入出金NFT結果!$A:$A,\">=\"&月別集計!AZ$1,入出金NFT結果!$A:$A,\"<=\"&月別集計!AZ$2)","v":0},{"$f":"SUMIFS(入出金NFT結果!$D:$D,入出金NFT結果!$I:$I,\"=\"&月別集計!$B8,入出金NFT結果!$A:$A,\">=\"&月別集計!BA$1,入出金NFT結果!$A:$A,\"<=\"&月別集計!BA$2)","v":0},{"$f":"SUMIFS(入出金NFT結果!$D:$D,入出金NFT結果!$I:$I,\"=\"&月別集計!$B8,入出金NFT結果!$A:$A,\">=\"&月別集計!BB$1,入出金NFT結果!$A:$A,\"<=\"&月別集計!BB$2)","v":0},{"$f":"SUMIFS(入出金NFT結果!$D:$D,入出金NFT結果!$I:$I,\"=\"&月別集計!$B8,入出金NFT結果!$A:$A,\">=\"&月別集計!BC$1,入出金NFT結果!$A:$A,\"<=\"&月別集計!BC$2)","v":0},{"$f":"SUMIFS(入出金NFT結果!$D:$D,入出金NFT結果!$I:$I,\"=\"&月別集計!$B8,入出金NFT結果!$A:$A,\">=\"&月別集計!BD$1,入出金NFT結果!$A:$A,\"<=\"&月別集計!BD$2)","v":0},{"$f":"SUMIFS(入出金NFT結果!$D:$D,入出金NFT結果!$I:$I,\"=\"&月別集計!$B8,入出金NFT結果!$A:$A,\">=\"&月別集計!BE$1,入出金NFT結果!$A:$A,\"<=\"&月別集計!BE$2)","v":0},{"$f":"SUMIFS(入出金NFT結果!$D:$D,入出金NFT結果!$I:$I,\"=\"&月別集計!$B8,入出金NFT結果!$A:$A,\">=\"&月別集計!BF$1,入出金NFT結果!$A:$A,\"<=\"&月別集計!BF$2)","v":0},{"$f":"SUMIFS(入出金NFT結果!$D:$D,入出金NFT結果!$I:$I,\"=\"&月別集計!$B8,入出金NFT結果!$A:$A,\">=\"&月別集計!BG$1,入出金NFT結果!$A:$A,\"<=\"&月別集計!BG$2)","v":0},{"$f":"SUMIFS(入出金NFT結果!$D:$D,入出金NFT結果!$I:$I,\"=\"&月別集計!$B8,入出金NFT結果!$A:$A,\">=\"&月別集計!BH$1,入出金NFT結果!$A:$A,\"<=\"&月別集計!BH$2)","v":0},{"$f":"SUMIFS(入出金NFT結果!$D:$D,入出金NFT結果!$I:$I,\"=\"&月別集計!$B8,入出金NFT結果!$A:$A,\">=\"&月別集計!BI$1,入出金NFT結果!$A:$A,\"<=\"&月別集計!BI$2)","v":0},{"$f":"SUMIFS(入出金NFT結果!$D:$D,入出金NFT結果!$I:$I,\"=\"&月別集計!$B8,入出金NFT結果!$A:$A,\">=\"&月別集計!BJ$1,入出金NFT結果!$A:$A,\"<=\"&月別集計!BJ$2)","v":0},{"$f":"SUMIFS(入出金NFT結果!$D:$D,入出金NFT結果!$I:$I,\"=\"&月別集計!$B8,入出金NFT結果!$A:$A,\">=\"&月別集計!BK$1,入出金NFT結果!$A:$A,\"<=\"&月別集計!BK$2)","v":0},{"$f":"SUMIFS(入出金NFT結果!$D:$D,入出金NFT結果!$I:$I,\"=\"&月別集計!$B8,入出金NFT結果!$A:$A,\">=\"&月別集計!BL$1,入出金NFT結果!$A:$A,\"<=\"&月別集計!BL$2)","v":0},{"$f":"SUMIFS(入出金NFT結果!$D:$D,入出金NFT結果!$I:$I,\"=\"&月別集計!$B8,入出金NFT結果!$A:$A,\">=\"&月別集計!BM$1,入出金NFT結果!$A:$A,\"<=\"&月別集計!BM$2)","v":0}]
[null,{"$f":"推定用途置換ルール!G6","v":"グラフィティレーサー：レース賞金2"},{"$f":"SUMIFS(入出金NFT結果!$D:$D,入出金NFT結果!$I:$I,\"=\"&月別集計!$B9,入出金NFT結果!$A:$A,\">=\"&月別集計!C$1,入出金NFT結果!$A:$A,\"<=\"&月別集計!C$2)","v":0},{"$f":"SUMIFS(入出金NFT結果!$D:$D,入出金NFT結果!$I:$I,\"=\"&月別集計!$B9,入出金NFT結果!$A:$A,\">=\"&月別集計!D$1,入出金NFT結果!$A:$A,\"<=\"&月別集計!D$2)","v":0},{"$f":"SUMIFS(入出金NFT結果!$D:$D,入出金NFT結果!$I:$I,\"=\"&月別集計!$B9,入出金NFT結果!$A:$A,\">=\"&月別集計!E$1,入出金NFT結果!$A:$A,\"<=\"&月別集計!E$2)","v":0},{"$f":"SUMIFS(入出金NFT結果!$D:$D,入出金NFT結果!$I:$I,\"=\"&月別集計!$B9,入出金NFT結果!$A:$A,\">=\"&月別集計!F$1,入出金NFT結果!$A:$A,\"<=\"&月別集計!F$2)","v":0},{"$f":"SUMIFS(入出金NFT結果!$D:$D,入出金NFT結果!$I:$I,\"=\"&月別集計!$B9,入出金NFT結果!$A:$A,\">=\"&月別集計!G$1,入出金NFT結果!$A:$A,\"<=\"&月別集計!G$2)","v":0},{"$f":"SUMIFS(入出金NFT結果!$D:$D,入出金NFT結果!$I:$I,\"=\"&月別集計!$B9,入出金NFT結果!$A:$A,\">=\"&月別集計!H$1,入出金NFT結果!$A:$A,\"<=\"&月別集計!H$2)","v":0},{"$f":"SUMIFS(入出金NFT結果!$D:$D,入出金NFT結果!$I:$I,\"=\"&月別集計!$B9,入出金NFT結果!$A:$A,\">=\"&月別集計!I$1,入出金NFT結果!$A:$A,\"<=\"&月別集計!I$2)","v":0},{"$f":"SUMIFS(入出金NFT結果!$D:$D,入出金NFT結果!$I:$I,\"=\"&月別集計!$B9,入出金NFT結果!$A:$A,\">=\"&月別集計!J$1,入出金NFT結果!$A:$A,\"<=\"&月別集計!J$2)","v":0},{"$f":"SUMIFS(入出金NFT結果!$D:$D,入出金NFT結果!$I:$I,\"=\"&月別集計!$B9,入出金NFT結果!$A:$A,\">=\"&月別集計!K$1,入出金NFT結果!$A:$A,\"<=\"&月別集計!K$2)","v":0},{"$f":"SUMIFS(入出金NFT結果!$D:$D,入出金NFT結果!$I:$I,\"=\"&月別集計!$B9,入出金NFT結果!$A:$A,\">=\"&月別集計!L$1,入出金NFT結果!$A:$A,\"<=\"&月別集計!L$2)","v":0},{"$f":"SUMIFS(入出金NFT結果!$D:$D,入出金NFT結果!$I:$I,\"=\"&月別集計!$B9,入出金NFT結果!$A:$A,\">=\"&月別集計!M$1,入出金NFT結果!$A:$A,\"<=\"&月別集計!M$2)","v":0},{"$f":"SUMIFS(入出金NFT結果!$D:$D,入出金NFT結果!$I:$I,\"=\"&月別集計!$B9,入出金NFT結果!$A:$A,\">=\"&月別集計!N$1,入出金NFT結果!$A:$A,\"<=\"&月別集計!N$2)","v":0},{"$f":"SUMIFS(入出金NFT結果!$D:$D,入出金NFT結果!$I:$I,\"=\"&月別集計!$B9,入出金NFT結果!$A:$A,\">=\"&月別集計!O$1,入出金NFT結果!$A:$A,\"<=\"&月別集計!O$2)","v":0},{"$f":"SUMIFS(入出金NFT結果!$D:$D,入出金NFT結果!$I:$I,\"=\"&月別集計!$B9,入出金NFT結果!$A:$A,\">=\"&月別集計!P$1,入出金NFT結果!$A:$A,\"<=\"&月別集計!P$2)","v":0},{"$f":"SUMIFS(入出金NFT結果!$D:$D,入出金NFT結果!$I:$I,\"=\"&月別集計!$B9,入出金NFT結果!$A:$A,\">=\"&月別集計!Q$1,入出金NFT結果!$A:$A,\"<=\"&月別集計!Q$2)","v":0},{"$f":"SUMIFS(入出金NFT結果!$D:$D,入出金NFT結果!$I:$I,\"=\"&月別集計!$B9,入出金NFT結果!$A:$A,\">=\"&月別集計!R$1,入出金NFT結果!$A:$A,\"<=\"&月別集計!R$2)","v":0},{"$f":"SUMIFS(入出金NFT結果!$D:$D,入出金NFT結果!$I:$I,\"=\"&月別集計!$B9,入出金NFT結果!$A:$A,\">=\"&月別集計!S$1,入出金NFT結果!$A:$A,\"<=\"&月別集計!S$2)","v":0},{"$f":"SUMIFS(入出金NFT結果!$D:$D,入出金NFT結果!$I:$I,\"=\"&月別集計!$B9,入出金NFT結果!$A:$A,\">=\"&月別集計!T$1,入出金NFT結果!$A:$A,\"<=\"&月別集計!T$2)","v":0},{"$f":"SUMIFS(入出金NFT結果!$D:$D,入出金NFT結果!$I:$I,\"=\"&月別集計!$B9,入出金NFT結果!$A:$A,\">=\"&月別集計!U$1,入出金NFT結果!$A:$A,\"<=\"&月別集計!U$2)","v":0},{"$f":"SUMIFS(入出金NFT結果!$D:$D,入出金NFT結果!$I:$I,\"=\"&月別集計!$B9,入出金NFT結果!$A:$A,\">=\"&月別集計!V$1,入出金NFT結果!$A:$A,\"<=\"&月別集計!V$2)","v":0},{"$f":"SUMIFS(入出金NFT結果!$D:$D,入出金NFT結果!$I:$I,\"=\"&月別集計!$B9,入出金NFT結果!$A:$A,\">=\"&月別集計!W$1,入出金NFT結果!$A:$A,\"<=\"&月別集計!W$2)","v":0},{"$f":"SUMIFS(入出金NFT結果!$D:$D,入出金NFT結果!$I:$I,\"=\"&月別集計!$B9,入出金NFT結果!$A:$A,\">=\"&月別集計!X$1,入出金NFT結果!$A:$A,\"<=\"&月別集計!X$2)","v":0},{"$f":"SUMIFS(入出金NFT結果!$D:$D,入出金NFT結果!$I:$I,\"=\"&月別集計!$B9,入出金NFT結果!$A:$A,\">=\"&月別集計!Y$1,入出金NFT結果!$A:$A,\"<=\"&月別集計!Y$2)","v":0},{"$f":"SUMIFS(入出金NFT結果!$D:$D,入出金NFT結果!$I:$I,\"=\"&月別集計!$B9,入出金NFT結果!$A:$A,\">=\"&月別集計!Z$1,入出金NFT結果!$A:$A,\"<=\"&月別集計!Z$2)","v":0},{"$f":"SUMIFS(入出金NFT結果!$D:$D,入出金NFT結果!$I:$I,\"=\"&月別集計!$B9,入出金NFT結果!$A:$A,\">=\"&月別集計!AA$1,入出金NFT結果!$A:$A,\"<=\"&月別集計!AA$2)","v":0},{"$f":"SUMIFS(入出金NFT結果!$D:$D,入出金NFT結果!$I:$I,\"=\"&月別集計!$B9,入出金NFT結果!$A:$A,\">=\"&月別集計!AB$1,入出金NFT結果!$A:$A,\"<=\"&月別集計!AB$2)","v":0},{"$f":"SUMIFS(入出金NFT結果!$D:$D,入出金NFT結果!$I:$I,\"=\"&月別集計!$B9,入出金NFT結果!$A:$A,\">=\"&月別集計!AC$1,入出金NFT結果!$A:$A,\"<=\"&月別集計!AC$2)","v":0},{"$f":"SUMIFS(入出金NFT結果!$D:$D,入出金NFT結果!$I:$I,\"=\"&月別集計!$B9,入出金NFT結果!$A:$A,\">=\"&月別集計!AD$1,入出金NFT結果!$A:$A,\"<=\"&月別集計!AD$2)","v":0},{"$f":"SUMIFS(入出金NFT結果!$D:$D,入出金NFT結果!$I:$I,\"=\"&月別集計!$B9,入出金NFT結果!$A:$A,\">=\"&月別集計!AE$1,入出金NFT結果!$A:$A,\"<=\"&月別集計!AE$2)","v":0},{"$f":"SUMIFS(入出金NFT結果!$D:$D,入出金NFT結果!$I:$I,\"=\"&月別集計!$B9,入出金NFT結果!$A:$A,\">=\"&月別集計!AF$1,入出金NFT結果!$A:$A,\"<=\"&月別集計!AF$2)","v":0},{"$f":"SUMIFS(入出金NFT結果!$D:$D,入出金NFT結果!$I:$I,\"=\"&月別集計!$B9,入出金NFT結果!$A:$A,\">=\"&月別集計!AG$1,入出金NFT結果!$A:$A,\"<=\"&月別集計!AG$2)","v":0},{"$f":"SUMIFS(入出金NFT結果!$D:$D,入出金NFT結果!$I:$I,\"=\"&月別集計!$B9,入出金NFT結果!$A:$A,\">=\"&月別集計!AH$1,入出金NFT結果!$A:$A,\"<=\"&月別集計!AH$2)","v":0},{"$f":"SUMIFS(入出金NFT結果!$D:$D,入出金NFT結果!$I:$I,\"=\"&月別集計!$B9,入出金NFT結果!$A:$A,\">=\"&月別集計!AI$1,入出金NFT結果!$A:$A,\"<=\"&月別集計!AI$2)","v":0},{"$f":"SUMIFS(入出金NFT結果!$D:$D,入出金NFT結果!$I:$I,\"=\"&月別集計!$B9,入出金NFT結果!$A:$A,\">=\"&月別集計!AJ$1,入出金NFT結果!$A:$A,\"<=\"&月別集計!AJ$2)","v":0},{"$f":"SUMIFS(入出金NFT結果!$D:$D,入出金NFT結果!$I:$I,\"=\"&月別集計!$B9,入出金NFT結果!$A:$A,\">=\"&月別集計!AK$1,入出金NFT結果!$A:$A,\"<=\"&月別集計!AK$2)","v":0},{"$f":"SUMIFS(入出金NFT結果!$D:$D,入出金NFT結果!$I:$I,\"=\"&月別集計!$B9,入出金NFT結果!$A:$A,\">=\"&月別集計!AL$1,入出金NFT結果!$A:$A,\"<=\"&月別集計!AL$2)","v":0},{"$f":"SUMIFS(入出金NFT結果!$D:$D,入出金NFT結果!$I:$I,\"=\"&月別集計!$B9,入出金NFT結果!$A:$A,\">=\"&月別集計!AM$1,入出金NFT結果!$A:$A,\"<=\"&月別集計!AM$2)","v":0},{"$f":"SUMIFS(入出金NFT結果!$D:$D,入出金NFT結果!$I:$I,\"=\"&月別集計!$B9,入出金NFT結果!$A:$A,\">=\"&月別集計!AN$1,入出金NFT結果!$A:$A,\"<=\"&月別集計!AN$2)","v":0},{"$f":"SUMIFS(入出金NFT結果!$D:$D,入出金NFT結果!$I:$I,\"=\"&月別集計!$B9,入出金NFT結果!$A:$A,\">=\"&月別集計!AO$1,入出金NFT結果!$A:$A,\"<=\"&月別集計!AO$2)","v":0},{"$f":"SUMIFS(入出金NFT結果!$D:$D,入出金NFT結果!$I:$I,\"=\"&月別集計!$B9,入出金NFT結果!$A:$A,\">=\"&月別集計!AP$1,入出金NFT結果!$A:$A,\"<=\"&月別集計!AP$2)","v":0},{"$f":"SUMIFS(入出金NFT結果!$D:$D,入出金NFT結果!$I:$I,\"=\"&月別集計!$B9,入出金NFT結果!$A:$A,\">=\"&月別集計!AQ$1,入出金NFT結果!$A:$A,\"<=\"&月別集計!AQ$2)","v":0},{"$f":"SUMIFS(入出金NFT結果!$D:$D,入出金NFT結果!$I:$I,\"=\"&月別集計!$B9,入出金NFT結果!$A:$A,\">=\"&月別集計!AR$1,入出金NFT結果!$A:$A,\"<=\"&月別集計!AR$2)","v":0},{"$f":"SUMIFS(入出金NFT結果!$D:$D,入出金NFT結果!$I:$I,\"=\"&月別集計!$B9,入出金NFT結果!$A:$A,\">=\"&月別集計!AS$1,入出金NFT結果!$A:$A,\"<=\"&月別集計!AS$2)","v":0},{"$f":"SUMIFS(入出金NFT結果!$D:$D,入出金NFT結果!$I:$I,\"=\"&月別集計!$B9,入出金NFT結果!$A:$A,\">=\"&月別集計!AT$1,入出金NFT結果!$A:$A,\"<=\"&月別集計!AT$2)","v":0},{"$f":"SUMIFS(入出金NFT結果!$D:$D,入出金NFT結果!$I:$I,\"=\"&月別集計!$B9,入出金NFT結果!$A:$A,\">=\"&月別集計!AU$1,入出金NFT結果!$A:$A,\"<=\"&月別集計!AU$2)","v":0},{"$f":"SUMIFS(入出金NFT結果!$D:$D,入出金NFT結果!$I:$I,\"=\"&月別集計!$B9,入出金NFT結果!$A:$A,\">=\"&月別集計!AV$1,入出金NFT結果!$A:$A,\"<=\"&月別集計!AV$2)","v":0},{"$f":"SUMIFS(入出金NFT結果!$D:$D,入出金NFT結果!$I:$I,\"=\"&月別集計!$B9,入出金NFT結果!$A:$A,\">=\"&月別集計!AW$1,入出金NFT結果!$A:$A,\"<=\"&月別集計!AW$2)","v":0},{"$f":"SUMIFS(入出金NFT結果!$D:$D,入出金NFT結果!$I:$I,\"=\"&月別集計!$B9,入出金NFT結果!$A:$A,\">=\"&月別集計!AX$1,入出金NFT結果!$A:$A,\"<=\"&月別集計!AX$2)","v":0},{"$f":"SUMIFS(入出金NFT結果!$D:$D,入出金NFT結果!$I:$I,\"=\"&月別集計!$B9,入出金NFT結果!$A:$A,\">=\"&月別集計!AY$1,入出金NFT結果!$A:$A,\"<=\"&月別集計!AY$2)","v":0},{"$f":"SUMIFS(入出金NFT結果!$D:$D,入出金NFT結果!$I:$I,\"=\"&月別集計!$B9,入出金NFT結果!$A:$A,\">=\"&月別集計!AZ$1,入出金NFT結果!$A:$A,\"<=\"&月別集計!AZ$2)","v":0},{"$f":"SUMIFS(入出金NFT結果!$D:$D,入出金NFT結果!$I:$I,\"=\"&月別集計!$B9,入出金NFT結果!$A:$A,\">=\"&月別集計!BA$1,入出金NFT結果!$A:$A,\"<=\"&月別集計!BA$2)","v":0},{"$f":"SUMIFS(入出金NFT結果!$D:$D,入出金NFT結果!$I:$I,\"=\"&月別集計!$B9,入出金NFT結果!$A:$A,\">=\"&月別集計!BB$1,入出金NFT結果!$A:$A,\"<=\"&月別集計!BB$2)","v":0},{"$f":"SUMIFS(入出金NFT結果!$D:$D,入出金NFT結果!$I:$I,\"=\"&月別集計!$B9,入出金NFT結果!$A:$A,\">=\"&月別集計!BC$1,入出金NFT結果!$A:$A,\"<=\"&月別集計!BC$2)","v":0},{"$f":"SUMIFS(入出金NFT結果!$D:$D,入出金NFT結果!$I:$I,\"=\"&月別集計!$B9,入出金NFT結果!$A:$A,\">=\"&月別集計!BD$1,入出金NFT結果!$A:$A,\"<=\"&月別集計!BD$2)","v":0},{"$f":"SUMIFS(入出金NFT結果!$D:$D,入出金NFT結果!$I:$I,\"=\"&月別集計!$B9,入出金NFT結果!$A:$A,\">=\"&月別集計!BE$1,入出金NFT結果!$A:$A,\"<=\"&月別集計!BE$2)","v":0},{"$f":"SUMIFS(入出金NFT結果!$D:$D,入出金NFT結果!$I:$I,\"=\"&月別集計!$B9,入出金NFT結果!$A:$A,\">=\"&月別集計!BF$1,入出金NFT結果!$A:$A,\"<=\"&月別集計!BF$2)","v":0},{"$f":"SUMIFS(入出金NFT結果!$D:$D,入出金NFT結果!$I:$I,\"=\"&月別集計!$B9,入出金NFT結果!$A:$A,\">=\"&月別集計!BG$1,入出金NFT結果!$A:$A,\"<=\"&月別集計!BG$2)","v":0},{"$f":"SUMIFS(入出金NFT結果!$D:$D,入出金NFT結果!$I:$I,\"=\"&月別集計!$B9,入出金NFT結果!$A:$A,\">=\"&月別集計!BH$1,入出金NFT結果!$A:$A,\"<=\"&月別集計!BH$2)","v":0},{"$f":"SUMIFS(入出金NFT結果!$D:$D,入出金NFT結果!$I:$I,\"=\"&月別集計!$B9,入出金NFT結果!$A:$A,\">=\"&月別集計!BI$1,入出金NFT結果!$A:$A,\"<=\"&月別集計!BI$2)","v":0},{"$f":"SUMIFS(入出金NFT結果!$D:$D,入出金NFT結果!$I:$I,\"=\"&月別集計!$B9,入出金NFT結果!$A:$A,\">=\"&月別集計!BJ$1,入出金NFT結果!$A:$A,\"<=\"&月別集計!BJ$2)","v":0},{"$f":"SUMIFS(入出金NFT結果!$D:$D,入出金NFT結果!$I:$I,\"=\"&月別集計!$B9,入出金NFT結果!$A:$A,\">=\"&月別集計!BK$1,入出金NFT結果!$A:$A,\"<=\"&月別集計!BK$2)","v":0},{"$f":"SUMIFS(入出金NFT結果!$D:$D,入出金NFT結果!$I:$I,\"=\"&月別集計!$B9,入出金NFT結果!$A:$A,\">=\"&月別集計!BL$1,入出金NFT結果!$A:$A,\"<=\"&月別集計!BL$2)","v":0},{"$f":"SUMIFS(入出金NFT結果!$D:$D,入出金NFT結果!$I:$I,\"=\"&月別集計!$B9,入出金NFT結果!$A:$A,\">=\"&月別集計!BM$1,入出金NFT結果!$A:$A,\"<=\"&月別集計!BM$2)","v":0}]
[null,{"$f":"推定用途置換ルール!G7","v":"グラフィティレーサー：フィルム販売"},{"$f":"SUMIFS(入出金NFT結果!$D:$D,入出金NFT結果!$I:$I,\"=\"&月別集計!$B10,入出金NFT結果!$A:$A,\">=\"&月別集計!C$1,入出金NFT結果!$A:$A,\"<=\"&月別集計!C$2)","v":0},{"$f":"SUMIFS(入出金NFT結果!$D:$D,入出金NFT結果!$I:$I,\"=\"&月別集計!$B10,入出金NFT結果!$A:$A,\">=\"&月別集計!D$1,入出金NFT結果!$A:$A,\"<=\"&月別集計!D$2)","v":0},{"$f":"SUMIFS(入出金NFT結果!$D:$D,入出金NFT結果!$I:$I,\"=\"&月別集計!$B10,入出金NFT結果!$A:$A,\">=\"&月別集計!E$1,入出金NFT結果!$A:$A,\"<=\"&月別集計!E$2)","v":0},{"$f":"SUMIFS(入出金NFT結果!$D:$D,入出金NFT結果!$I:$I,\"=\"&月別集計!$B10,入出金NFT結果!$A:$A,\">=\"&月別集計!F$1,入出金NFT結果!$A:$A,\"<=\"&月別集計!F$2)","v":0},{"$f":"SUMIFS(入出金NFT結果!$D:$D,入出金NFT結果!$I:$I,\"=\"&月別集計!$B10,入出金NFT結果!$A:$A,\">=\"&月別集計!G$1,入出金NFT結果!$A:$A,\"<=\"&月別集計!G$2)","v":0},{"$f":"SUMIFS(入出金NFT結果!$D:$D,入出金NFT結果!$I:$I,\"=\"&月別集計!$B10,入出金NFT結果!$A:$A,\">=\"&月別集計!H$1,入出金NFT結果!$A:$A,\"<=\"&月別集計!H$2)","v":0},{"$f":"SUMIFS(入出金NFT結果!$D:$D,入出金NFT結果!$I:$I,\"=\"&月別集計!$B10,入出金NFT結果!$A:$A,\">=\"&月別集計!I$1,入出金NFT結果!$A:$A,\"<=\"&月別集計!I$2)","v":0},{"$f":"SUMIFS(入出金NFT結果!$D:$D,入出金NFT結果!$I:$I,\"=\"&月別集計!$B10,入出金NFT結果!$A:$A,\">=\"&月別集計!J$1,入出金NFT結果!$A:$A,\"<=\"&月別集計!J$2)","v":0},{"$f":"SUMIFS(入出金NFT結果!$D:$D,入出金NFT結果!$I:$I,\"=\"&月別集計!$B10,入出金NFT結果!$A:$A,\">=\"&月別集計!K$1,入出金NFT結果!$A:$A,\"<=\"&月別集計!K$2)","v":0},{"$f":"SUMIFS(入出金NFT結果!$D:$D,入出金NFT結果!$I:$I,\"=\"&月別集計!$B10,入出金NFT結果!$A:$A,\">=\"&月別集計!L$1,入出金NFT結果!$A:$A,\"<=\"&月別集計!L$2)","v":0},{"$f":"SUMIFS(入出金NFT結果!$D:$D,入出金NFT結果!$I:$I,\"=\"&月別集計!$B10,入出金NFT結果!$A:$A,\">=\"&月別集計!M$1,入出金NFT結果!$A:$A,\"<=\"&月別集計!M$2)","v":0},{"$f":"SUMIFS(入出金NFT結果!$D:$D,入出金NFT結果!$I:$I,\"=\"&月別集計!$B10,入出金NFT結果!$A:$A,\">=\"&月別集計!N$1,入出金NFT結果!$A:$A,\"<=\"&月別集計!N$2)","v":0},{"$f":"SUMIFS(入出金NFT結果!$D:$D,入出金NFT結果!$I:$I,\"=\"&月別集計!$B10,入出金NFT結果!$A:$A,\">=\"&月別集計!O$1,入出金NFT結果!$A:$A,\"<=\"&月別集計!O$2)","v":0},{"$f":"SUMIFS(入出金NFT結果!$D:$D,入出金NFT結果!$I:$I,\"=\"&月別集計!$B10,入出金NFT結果!$A:$A,\">=\"&月別集計!P$1,入出金NFT結果!$A:$A,\"<=\"&月別集計!P$2)","v":0},{"$f":"SUMIFS(入出金NFT結果!$D:$D,入出金NFT結果!$I:$I,\"=\"&月別集計!$B10,入出金NFT結果!$A:$A,\">=\"&月別集計!Q$1,入出金NFT結果!$A:$A,\"<=\"&月別集計!Q$2)","v":0},{"$f":"SUMIFS(入出金NFT結果!$D:$D,入出金NFT結果!$I:$I,\"=\"&月別集計!$B10,入出金NFT結果!$A:$A,\">=\"&月別集計!R$1,入出金NFT結果!$A:$A,\"<=\"&月別集計!R$2)","v":0},{"$f":"SUMIFS(入出金NFT結果!$D:$D,入出金NFT結果!$I:$I,\"=\"&月別集計!$B10,入出金NFT結果!$A:$A,\">=\"&月別集計!S$1,入出金NFT結果!$A:$A,\"<=\"&月別集計!S$2)","v":0},{"$f":"SUMIFS(入出金NFT結果!$D:$D,入出金NFT結果!$I:$I,\"=\"&月別集計!$B10,入出金NFT結果!$A:$A,\">=\"&月別集計!T$1,入出金NFT結果!$A:$A,\"<=\"&月別集計!T$2)","v":0},{"$f":"SUMIFS(入出金NFT結果!$D:$D,入出金NFT結果!$I:$I,\"=\"&月別集計!$B10,入出金NFT結果!$A:$A,\">=\"&月別集計!U$1,入出金NFT結果!$A:$A,\"<=\"&月別集計!U$2)","v":0},{"$f":"SUMIFS(入出金NFT結果!$D:$D,入出金NFT結果!$I:$I,\"=\"&月別集計!$B10,入出金NFT結果!$A:$A,\">=\"&月別集計!V$1,入出金NFT結果!$A:$A,\"<=\"&月別集計!V$2)","v":0},{"$f":"SUMIFS(入出金NFT結果!$D:$D,入出金NFT結果!$I:$I,\"=\"&月別集計!$B10,入出金NFT結果!$A:$A,\">=\"&月別集計!W$1,入出金NFT結果!$A:$A,\"<=\"&月別集計!W$2)","v":0},{"$f":"SUMIFS(入出金NFT結果!$D:$D,入出金NFT結果!$I:$I,\"=\"&月別集計!$B10,入出金NFT結果!$A:$A,\">=\"&月別集計!X$1,入出金NFT結果!$A:$A,\"<=\"&月別集計!X$2)","v":0},{"$f":"SUMIFS(入出金NFT結果!$D:$D,入出金NFT結果!$I:$I,\"=\"&月別集計!$B10,入出金NFT結果!$A:$A,\">=\"&月別集計!Y$1,入出金NFT結果!$A:$A,\"<=\"&月別集計!Y$2)","v":0},{"$f":"SUMIFS(入出金NFT結果!$D:$D,入出金NFT結果!$I:$I,\"=\"&月別集計!$B10,入出金NFT結果!$A:$A,\">=\"&月別集計!Z$1,入出金NFT結果!$A:$A,\"<=\"&月別集計!Z$2)","v":0},{"$f":"SUMIFS(入出金NFT結果!$D:$D,入出金NFT結果!$I:$I,\"=\"&月別集計!$B10,入出金NFT結果!$A:$A,\">=\"&月別集計!AA$1,入出金NFT結果!$A:$A,\"<=\"&月別集計!AA$2)","v":0},{"$f":"SUMIFS(入出金NFT結果!$D:$D,入出金NFT結果!$I:$I,\"=\"&月別集計!$B10,入出金NFT結果!$A:$A,\">=\"&月別集計!AB$1,入出金NFT結果!$A:$A,\"<=\"&月別集計!AB$2)","v":0},{"$f":"SUMIFS(入出金NFT結果!$D:$D,入出金NFT結果!$I:$I,\"=\"&月別集計!$B10,入出金NFT結果!$A:$A,\">=\"&月別集計!AC$1,入出金NFT結果!$A:$A,\"<=\"&月別集計!AC$2)","v":0},{"$f":"SUMIFS(入出金NFT結果!$D:$D,入出金NFT結果!$I:$I,\"=\"&月別集計!$B10,入出金NFT結果!$A:$A,\">=\"&月別集計!AD$1,入出金NFT結果!$A:$A,\"<=\"&月別集計!AD$2)","v":0},{"$f":"SUMIFS(入出金NFT結果!$D:$D,入出金NFT結果!$I:$I,\"=\"&月別集計!$B10,入出金NFT結果!$A:$A,\">=\"&月別集計!AE$1,入出金NFT結果!$A:$A,\"<=\"&月別集計!AE$2)","v":0},{"$f":"SUMIFS(入出金NFT結果!$D:$D,入出金NFT結果!$I:$I,\"=\"&月別集計!$B10,入出金NFT結果!$A:$A,\">=\"&月別集計!AF$1,入出金NFT結果!$A:$A,\"<=\"&月別集計!AF$2)","v":0},{"$f":"SUMIFS(入出金NFT結果!$D:$D,入出金NFT結果!$I:$I,\"=\"&月別集計!$B10,入出金NFT結果!$A:$A,\">=\"&月別集計!AG$1,入出金NFT結果!$A:$A,\"<=\"&月別集計!AG$2)","v":0},{"$f":"SUMIFS(入出金NFT結果!$D:$D,入出金NFT結果!$I:$I,\"=\"&月別集計!$B10,入出金NFT結果!$A:$A,\">=\"&月別集計!AH$1,入出金NFT結果!$A:$A,\"<=\"&月別集計!AH$2)","v":0},{"$f":"SUMIFS(入出金NFT結果!$D:$D,入出金NFT結果!$I:$I,\"=\"&月別集計!$B10,入出金NFT結果!$A:$A,\">=\"&月別集計!AI$1,入出金NFT結果!$A:$A,\"<=\"&月別集計!AI$2)","v":0},{"$f":"SUMIFS(入出金NFT結果!$D:$D,入出金NFT結果!$I:$I,\"=\"&月別集計!$B10,入出金NFT結果!$A:$A,\">=\"&月別集計!AJ$1,入出金NFT結果!$A:$A,\"<=\"&月別集計!AJ$2)","v":0},{"$f":"SUMIFS(入出金NFT結果!$D:$D,入出金NFT結果!$I:$I,\"=\"&月別集計!$B10,入出金NFT結果!$A:$A,\">=\"&月別集計!AK$1,入出金NFT結果!$A:$A,\"<=\"&月別集計!AK$2)","v":0},{"$f":"SUMIFS(入出金NFT結果!$D:$D,入出金NFT結果!$I:$I,\"=\"&月別集計!$B10,入出金NFT結果!$A:$A,\">=\"&月別集計!AL$1,入出金NFT結果!$A:$A,\"<=\"&月別集計!AL$2)","v":0},{"$f":"SUMIFS(入出金NFT結果!$D:$D,入出金NFT結果!$I:$I,\"=\"&月別集計!$B10,入出金NFT結果!$A:$A,\">=\"&月別集計!AM$1,入出金NFT結果!$A:$A,\"<=\"&月別集計!AM$2)","v":0},{"$f":"SUMIFS(入出金NFT結果!$D:$D,入出金NFT結果!$I:$I,\"=\"&月別集計!$B10,入出金NFT結果!$A:$A,\">=\"&月別集計!AN$1,入出金NFT結果!$A:$A,\"<=\"&月別集計!AN$2)","v":0},{"$f":"SUMIFS(入出金NFT結果!$D:$D,入出金NFT結果!$I:$I,\"=\"&月別集計!$B10,入出金NFT結果!$A:$A,\">=\"&月別集計!AO$1,入出金NFT結果!$A:$A,\"<=\"&月別集計!AO$2)","v":0},{"$f":"SUMIFS(入出金NFT結果!$D:$D,入出金NFT結果!$I:$I,\"=\"&月別集計!$B10,入出金NFT結果!$A:$A,\">=\"&月別集計!AP$1,入出金NFT結果!$A:$A,\"<=\"&月別集計!AP$2)","v":0},{"$f":"SUMIFS(入出金NFT結果!$D:$D,入出金NFT結果!$I:$I,\"=\"&月別集計!$B10,入出金NFT結果!$A:$A,\">=\"&月別集計!AQ$1,入出金NFT結果!$A:$A,\"<=\"&月別集計!AQ$2)","v":0},{"$f":"SUMIFS(入出金NFT結果!$D:$D,入出金NFT結果!$I:$I,\"=\"&月別集計!$B10,入出金NFT結果!$A:$A,\">=\"&月別集計!AR$1,入出金NFT結果!$A:$A,\"<=\"&月別集計!AR$2)","v":0},{"$f":"SUMIFS(入出金NFT結果!$D:$D,入出金NFT結果!$I:$I,\"=\"&月別集計!$B10,入出金NFT結果!$A:$A,\">=\"&月別集計!AS$1,入出金NFT結果!$A:$A,\"<=\"&月別集計!AS$2)","v":0},{"$f":"SUMIFS(入出金NFT結果!$D:$D,入出金NFT結果!$I:$I,\"=\"&月別集計!$B10,入出金NFT結果!$A:$A,\">=\"&月別集計!AT$1,入出金NFT結果!$A:$A,\"<=\"&月別集計!AT$2)","v":0},{"$f":"SUMIFS(入出金NFT結果!$D:$D,入出金NFT結果!$I:$I,\"=\"&月別集計!$B10,入出金NFT結果!$A:$A,\">=\"&月別集計!AU$1,入出金NFT結果!$A:$A,\"<=\"&月別集計!AU$2)","v":0},{"$f":"SUMIFS(入出金NFT結果!$D:$D,入出金NFT結果!$I:$I,\"=\"&月別集計!$B10,入出金NFT結果!$A:$A,\">=\"&月別集計!AV$1,入出金NFT結果!$A:$A,\"<=\"&月別集計!AV$2)","v":0},{"$f":"SUMIFS(入出金NFT結果!$D:$D,入出金NFT結果!$I:$I,\"=\"&月別集計!$B10,入出金NFT結果!$A:$A,\">=\"&月別集計!AW$1,入出金NFT結果!$A:$A,\"<=\"&月別集計!AW$2)","v":0},{"$f":"SUMIFS(入出金NFT結果!$D:$D,入出金NFT結果!$I:$I,\"=\"&月別集計!$B10,入出金NFT結果!$A:$A,\">=\"&月別集計!AX$1,入出金NFT結果!$A:$A,\"<=\"&月別集計!AX$2)","v":0},{"$f":"SUMIFS(入出金NFT結果!$D:$D,入出金NFT結果!$I:$I,\"=\"&月別集計!$B10,入出金NFT結果!$A:$A,\">=\"&月別集計!AY$1,入出金NFT結果!$A:$A,\"<=\"&月別集計!AY$2)","v":0},{"$f":"SUMIFS(入出金NFT結果!$D:$D,入出金NFT結果!$I:$I,\"=\"&月別集計!$B10,入出金NFT結果!$A:$A,\">=\"&月別集計!AZ$1,入出金NFT結果!$A:$A,\"<=\"&月別集計!AZ$2)","v":0},{"$f":"SUMIFS(入出金NFT結果!$D:$D,入出金NFT結果!$I:$I,\"=\"&月別集計!$B10,入出金NFT結果!$A:$A,\">=\"&月別集計!BA$1,入出金NFT結果!$A:$A,\"<=\"&月別集計!BA$2)","v":0},{"$f":"SUMIFS(入出金NFT結果!$D:$D,入出金NFT結果!$I:$I,\"=\"&月別集計!$B10,入出金NFT結果!$A:$A,\">=\"&月別集計!BB$1,入出金NFT結果!$A:$A,\"<=\"&月別集計!BB$2)","v":0},{"$f":"SUMIFS(入出金NFT結果!$D:$D,入出金NFT結果!$I:$I,\"=\"&月別集計!$B10,入出金NFT結果!$A:$A,\">=\"&月別集計!BC$1,入出金NFT結果!$A:$A,\"<=\"&月別集計!BC$2)","v":0},{"$f":"SUMIFS(入出金NFT結果!$D:$D,入出金NFT結果!$I:$I,\"=\"&月別集計!$B10,入出金NFT結果!$A:$A,\">=\"&月別集計!BD$1,入出金NFT結果!$A:$A,\"<=\"&月別集計!BD$2)","v":0},{"$f":"SUMIFS(入出金NFT結果!$D:$D,入出金NFT結果!$I:$I,\"=\"&月別集計!$B10,入出金NFT結果!$A:$A,\">=\"&月別集計!BE$1,入出金NFT結果!$A:$A,\"<=\"&月別集計!BE$2)","v":0},{"$f":"SUMIFS(入出金NFT結果!$D:$D,入出金NFT結果!$I:$I,\"=\"&月別集計!$B10,入出金NFT結果!$A:$A,\">=\"&月別集計!BF$1,入出金NFT結果!$A:$A,\"<=\"&月別集計!BF$2)","v":0},{"$f":"SUMIFS(入出金NFT結果!$D:$D,入出金NFT結果!$I:$I,\"=\"&月別集計!$B10,入出金NFT結果!$A:$A,\">=\"&月別集計!BG$1,入出金NFT結果!$A:$A,\"<=\"&月別集計!BG$2)","v":0},{"$f":"SUMIFS(入出金NFT結果!$D:$D,入出金NFT結果!$I:$I,\"=\"&月別集計!$B10,入出金NFT結果!$A:$A,\">=\"&月別集計!BH$1,入出金NFT結果!$A:$A,\"<=\"&月別集計!BH$2)","v":0},{"$f":"SUMIFS(入出金NFT結果!$D:$D,入出金NFT結果!$I:$I,\"=\"&月別集計!$B10,入出金NFT結果!$A:$A,\">=\"&月別集計!BI$1,入出金NFT結果!$A:$A,\"<=\"&月別集計!BI$2)","v":0},{"$f":"SUMIFS(入出金NFT結果!$D:$D,入出金NFT結果!$I:$I,\"=\"&月別集計!$B10,入出金NFT結果!$A:$A,\">=\"&月別集計!BJ$1,入出金NFT結果!$A:$A,\"<=\"&月別集計!BJ$2)","v":0},{"$f":"SUMIFS(入出金NFT結果!$D:$D,入出金NFT結果!$I:$I,\"=\"&月別集計!$B10,入出金NFT結果!$A:$A,\">=\"&月別集計!BK$1,入出金NFT結果!$A:$A,\"<=\"&月別集計!BK$2)","v":0},{"$f":"SUMIFS(入出金NFT結果!$D:$D,入出金NFT結果!$I:$I,\"=\"&月別集計!$B10,入出金NFT結果!$A:$A,\">=\"&月別集計!BL$1,入出金NFT結果!$A:$A,\"<=\"&月別集計!BL$2)","v":0},{"$f":"SUMIFS(入出金NFT結果!$D:$D,入出金NFT結果!$I:$I,\"=\"&月別集計!$B10,入出金NFT結果!$A:$A,\">=\"&月別集計!BM$1,入出金NFT結果!$A:$A,\"<=\"&月別集計!BM$2)","v":0}]
[null,{"$f":"推定用途置換ルール!G8","v":"グラフィティレーサー：レース賞金、フィルム販売"},{"$f":"SUMIFS(入出金NFT結果!$D:$D,入出金NFT結果!$I:$I,\"=\"&月別集計!$B11,入出金NFT結果!$A:$A,\">=\"&月別集計!C$1,入出金NFT結果!$A:$A,\"<=\"&月別集計!C$2)","v":0},{"$f":"SUMIFS(入出金NFT結果!$D:$D,入出金NFT結果!$I:$I,\"=\"&月別集計!$B11,入出金NFT結果!$A:$A,\">=\"&月別集計!D$1,入出金NFT結果!$A:$A,\"<=\"&月別集計!D$2)","v":0},{"$f":"SUMIFS(入出金NFT結果!$D:$D,入出金NFT結果!$I:$I,\"=\"&月別集計!$B11,入出金NFT結果!$A:$A,\">=\"&月別集計!E$1,入出金NFT結果!$A:$A,\"<=\"&月別集計!E$2)","v":0},{"$f":"SUMIFS(入出金NFT結果!$D:$D,入出金NFT結果!$I:$I,\"=\"&月別集計!$B11,入出金NFT結果!$A:$A,\">=\"&月別集計!F$1,入出金NFT結果!$A:$A,\"<=\"&月別集計!F$2)","v":0},{"$f":"SUMIFS(入出金NFT結果!$D:$D,入出金NFT結果!$I:$I,\"=\"&月別集計!$B11,入出金NFT結果!$A:$A,\">=\"&月別集計!G$1,入出金NFT結果!$A:$A,\"<=\"&月別集計!G$2)","v":0},{"$f":"SUMIFS(入出金NFT結果!$D:$D,入出金NFT結果!$I:$I,\"=\"&月別集計!$B11,入出金NFT結果!$A:$A,\">=\"&月別集計!H$1,入出金NFT結果!$A:$A,\"<=\"&月別集計!H$2)","v":0},{"$f":"SUMIFS(入出金NFT結果!$D:$D,入出金NFT結果!$I:$I,\"=\"&月別集計!$B11,入出金NFT結果!$A:$A,\">=\"&月別集計!I$1,入出金NFT結果!$A:$A,\"<=\"&月別集計!I$2)","v":0},{"$f":"SUMIFS(入出金NFT結果!$D:$D,入出金NFT結果!$I:$I,\"=\"&月別集計!$B11,入出金NFT結果!$A:$A,\">=\"&月別集計!J$1,入出金NFT結果!$A:$A,\"<=\"&月別集計!J$2)","v":0},{"$f":"SUMIFS(入出金NFT結果!$D:$D,入出金NFT結果!$I:$I,\"=\"&月別集計!$B11,入出金NFT結果!$A:$A,\">=\"&月別集計!K$1,入出金NFT結果!$A:$A,\"<=\"&月別集計!K$2)","v":0},{"$f":"SUMIFS(入出金NFT結果!$D:$D,入出金NFT結果!$I:$I,\"=\"&月別集計!$B11,入出金NFT結果!$A:$A,\">=\"&月別集計!L$1,入出金NFT結果!$A:$A,\"<=\"&月別集計!L$2)","v":0},{"$f":"SUMIFS(入出金NFT結果!$D:$D,入出金NFT結果!$I:$I,\"=\"&月別集計!$B11,入出金NFT結果!$A:$A,\">=\"&月別集計!M$1,入出金NFT結果!$A:$A,\"<=\"&月別集計!M$2)","v":0},{"$f":"SUMIFS(入出金NFT結果!$D:$D,入出金NFT結果!$I:$I,\"=\"&月別集計!$B11,入出金NFT結果!$A:$A,\">=\"&月別集計!N$1,入出金NFT結果!$A:$A,\"<=\"&月別集計!N$2)","v":0},{"$f":"SUMIFS(入出金NFT結果!$D:$D,入出金NFT結果!$I:$I,\"=\"&月別集計!$B11,入出金NFT結果!$A:$A,\">=\"&月別集計!O$1,入出金NFT結果!$A:$A,\"<=\"&月別集計!O$2)","v":0},{"$f":"SUMIFS(入出金NFT結果!$D:$D,入出金NFT結果!$I:$I,\"=\"&月別集計!$B11,入出金NFT結果!$A:$A,\">=\"&月別集計!P$1,入出金NFT結果!$A:$A,\"<=\"&月別集計!P$2)","v":0},{"$f":"SUMIFS(入出金NFT結果!$D:$D,入出金NFT結果!$I:$I,\"=\"&月別集計!$B11,入出金NFT結果!$A:$A,\">=\"&月別集計!Q$1,入出金NFT結果!$A:$A,\"<=\"&月別集計!Q$2)","v":0},{"$f":"SUMIFS(入出金NFT結果!$D:$D,入出金NFT結果!$I:$I,\"=\"&月別集計!$B11,入出金NFT結果!$A:$A,\">=\"&月別集計!R$1,入出金NFT結果!$A:$A,\"<=\"&月別集計!R$2)","v":0},{"$f":"SUMIFS(入出金NFT結果!$D:$D,入出金NFT結果!$I:$I,\"=\"&月別集計!$B11,入出金NFT結果!$A:$A,\">=\"&月別集計!S$1,入出金NFT結果!$A:$A,\"<=\"&月別集計!S$2)","v":0},{"$f":"SUMIFS(入出金NFT結果!$D:$D,入出金NFT結果!$I:$I,\"=\"&月別集計!$B11,入出金NFT結果!$A:$A,\">=\"&月別集計!T$1,入出金NFT結果!$A:$A,\"<=\"&月別集計!T$2)","v":0},{"$f":"SUMIFS(入出金NFT結果!$D:$D,入出金NFT結果!$I:$I,\"=\"&月別集計!$B11,入出金NFT結果!$A:$A,\">=\"&月別集計!U$1,入出金NFT結果!$A:$A,\"<=\"&月別集計!U$2)","v":0},{"$f":"SUMIFS(入出金NFT結果!$D:$D,入出金NFT結果!$I:$I,\"=\"&月別集計!$B11,入出金NFT結果!$A:$A,\">=\"&月別集計!V$1,入出金NFT結果!$A:$A,\"<=\"&月別集計!V$2)","v":0},{"$f":"SUMIFS(入出金NFT結果!$D:$D,入出金NFT結果!$I:$I,\"=\"&月別集計!$B11,入出金NFT結果!$A:$A,\">=\"&月別集計!W$1,入出金NFT結果!$A:$A,\"<=\"&月別集計!W$2)","v":0},{"$f":"SUMIFS(入出金NFT結果!$D:$D,入出金NFT結果!$I:$I,\"=\"&月別集計!$B11,入出金NFT結果!$A:$A,\">=\"&月別集計!X$1,入出金NFT結果!$A:$A,\"<=\"&月別集計!X$2)","v":0},{"$f":"SUMIFS(入出金NFT結果!$D:$D,入出金NFT結果!$I:$I,\"=\"&月別集計!$B11,入出金NFT結果!$A:$A,\">=\"&月別集計!Y$1,入出金NFT結果!$A:$A,\"<=\"&月別集計!Y$2)","v":0},{"$f":"SUMIFS(入出金NFT結果!$D:$D,入出金NFT結果!$I:$I,\"=\"&月別集計!$B11,入出金NFT結果!$A:$A,\">=\"&月別集計!Z$1,入出金NFT結果!$A:$A,\"<=\"&月別集計!Z$2)","v":0},{"$f":"SUMIFS(入出金NFT結果!$D:$D,入出金NFT結果!$I:$I,\"=\"&月別集計!$B11,入出金NFT結果!$A:$A,\">=\"&月別集計!AA$1,入出金NFT結果!$A:$A,\"<=\"&月別集計!AA$2)","v":0},{"$f":"SUMIFS(入出金NFT結果!$D:$D,入出金NFT結果!$I:$I,\"=\"&月別集計!$B11,入出金NFT結果!$A:$A,\">=\"&月別集計!AB$1,入出金NFT結果!$A:$A,\"<=\"&月別集計!AB$2)","v":0},{"$f":"SUMIFS(入出金NFT結果!$D:$D,入出金NFT結果!$I:$I,\"=\"&月別集計!$B11,入出金NFT結果!$A:$A,\">=\"&月別集計!AC$1,入出金NFT結果!$A:$A,\"<=\"&月別集計!AC$2)","v":0},{"$f":"SUMIFS(入出金NFT結果!$D:$D,入出金NFT結果!$I:$I,\"=\"&月別集計!$B11,入出金NFT結果!$A:$A,\">=\"&月別集計!AD$1,入出金NFT結果!$A:$A,\"<=\"&月別集計!AD$2)","v":0},{"$f":"SUMIFS(入出金NFT結果!$D:$D,入出金NFT結果!$I:$I,\"=\"&月別集計!$B11,入出金NFT結果!$A:$A,\">=\"&月別集計!AE$1,入出金NFT結果!$A:$A,\"<=\"&月別集計!AE$2)","v":0},{"$f":"SUMIFS(入出金NFT結果!$D:$D,入出金NFT結果!$I:$I,\"=\"&月別集計!$B11,入出金NFT結果!$A:$A,\">=\"&月別集計!AF$1,入出金NFT結果!$A:$A,\"<=\"&月別集計!AF$2)","v":0},{"$f":"SUMIFS(入出金NFT結果!$D:$D,入出金NFT結果!$I:$I,\"=\"&月別集計!$B11,入出金NFT結果!$A:$A,\">=\"&月別集計!AG$1,入出金NFT結果!$A:$A,\"<=\"&月別集計!AG$2)","v":0},{"$f":"SUMIFS(入出金NFT結果!$D:$D,入出金NFT結果!$I:$I,\"=\"&月別集計!$B11,入出金NFT結果!$A:$A,\">=\"&月別集計!AH$1,入出金NFT結果!$A:$A,\"<=\"&月別集計!AH$2)","v":0},{"$f":"SUMIFS(入出金NFT結果!$D:$D,入出金NFT結果!$I:$I,\"=\"&月別集計!$B11,入出金NFT結果!$A:$A,\">=\"&月別集計!AI$1,入出金NFT結果!$A:$A,\"<=\"&月別集計!AI$2)","v":0},{"$f":"SUMIFS(入出金NFT結果!$D:$D,入出金NFT結果!$I:$I,\"=\"&月別集計!$B11,入出金NFT結果!$A:$A,\">=\"&月別集計!AJ$1,入出金NFT結果!$A:$A,\"<=\"&月別集計!AJ$2)","v":0},{"$f":"SUMIFS(入出金NFT結果!$D:$D,入出金NFT結果!$I:$I,\"=\"&月別集計!$B11,入出金NFT結果!$A:$A,\">=\"&月別集計!AK$1,入出金NFT結果!$A:$A,\"<=\"&月別集計!AK$2)","v":0},{"$f":"SUMIFS(入出金NFT結果!$D:$D,入出金NFT結果!$I:$I,\"=\"&月別集計!$B11,入出金NFT結果!$A:$A,\">=\"&月別集計!AL$1,入出金NFT結果!$A:$A,\"<=\"&月別集計!AL$2)","v":0},{"$f":"SUMIFS(入出金NFT結果!$D:$D,入出金NFT結果!$I:$I,\"=\"&月別集計!$B11,入出金NFT結果!$A:$A,\">=\"&月別集計!AM$1,入出金NFT結果!$A:$A,\"<=\"&月別集計!AM$2)","v":0},{"$f":"SUMIFS(入出金NFT結果!$D:$D,入出金NFT結果!$I:$I,\"=\"&月別集計!$B11,入出金NFT結果!$A:$A,\">=\"&月別集計!AN$1,入出金NFT結果!$A:$A,\"<=\"&月別集計!AN$2)","v":0},{"$f":"SUMIFS(入出金NFT結果!$D:$D,入出金NFT結果!$I:$I,\"=\"&月別集計!$B11,入出金NFT結果!$A:$A,\">=\"&月別集計!AO$1,入出金NFT結果!$A:$A,\"<=\"&月別集計!AO$2)","v":0},{"$f":"SUMIFS(入出金NFT結果!$D:$D,入出金NFT結果!$I:$I,\"=\"&月別集計!$B11,入出金NFT結果!$A:$A,\">=\"&月別集計!AP$1,入出金NFT結果!$A:$A,\"<=\"&月別集計!AP$2)","v":0},{"$f":"SUMIFS(入出金NFT結果!$D:$D,入出金NFT結果!$I:$I,\"=\"&月別集計!$B11,入出金NFT結果!$A:$A,\">=\"&月別集計!AQ$1,入出金NFT結果!$A:$A,\"<=\"&月別集計!AQ$2)","v":0},{"$f":"SUMIFS(入出金NFT結果!$D:$D,入出金NFT結果!$I:$I,\"=\"&月別集計!$B11,入出金NFT結果!$A:$A,\">=\"&月別集計!AR$1,入出金NFT結果!$A:$A,\"<=\"&月別集計!AR$2)","v":0},{"$f":"SUMIFS(入出金NFT結果!$D:$D,入出金NFT結果!$I:$I,\"=\"&月別集計!$B11,入出金NFT結果!$A:$A,\">=\"&月別集計!AS$1,入出金NFT結果!$A:$A,\"<=\"&月別集計!AS$2)","v":0},{"$f":"SUMIFS(入出金NFT結果!$D:$D,入出金NFT結果!$I:$I,\"=\"&月別集計!$B11,入出金NFT結果!$A:$A,\">=\"&月別集計!AT$1,入出金NFT結果!$A:$A,\"<=\"&月別集計!AT$2)","v":0},{"$f":"SUMIFS(入出金NFT結果!$D:$D,入出金NFT結果!$I:$I,\"=\"&月別集計!$B11,入出金NFT結果!$A:$A,\">=\"&月別集計!AU$1,入出金NFT結果!$A:$A,\"<=\"&月別集計!AU$2)","v":0},{"$f":"SUMIFS(入出金NFT結果!$D:$D,入出金NFT結果!$I:$I,\"=\"&月別集計!$B11,入出金NFT結果!$A:$A,\">=\"&月別集計!AV$1,入出金NFT結果!$A:$A,\"<=\"&月別集計!AV$2)","v":0},{"$f":"SUMIFS(入出金NFT結果!$D:$D,入出金NFT結果!$I:$I,\"=\"&月別集計!$B11,入出金NFT結果!$A:$A,\">=\"&月別集計!AW$1,入出金NFT結果!$A:$A,\"<=\"&月別集計!AW$2)","v":0},{"$f":"SUMIFS(入出金NFT結果!$D:$D,入出金NFT結果!$I:$I,\"=\"&月別集計!$B11,入出金NFT結果!$A:$A,\">=\"&月別集計!AX$1,入出金NFT結果!$A:$A,\"<=\"&月別集計!AX$2)","v":0},{"$f":"SUMIFS(入出金NFT結果!$D:$D,入出金NFT結果!$I:$I,\"=\"&月別集計!$B11,入出金NFT結果!$A:$A,\">=\"&月別集計!AY$1,入出金NFT結果!$A:$A,\"<=\"&月別集計!AY$2)","v":0},{"$f":"SUMIFS(入出金NFT結果!$D:$D,入出金NFT結果!$I:$I,\"=\"&月別集計!$B11,入出金NFT結果!$A:$A,\">=\"&月別集計!AZ$1,入出金NFT結果!$A:$A,\"<=\"&月別集計!AZ$2)","v":0},{"$f":"SUMIFS(入出金NFT結果!$D:$D,入出金NFT結果!$I:$I,\"=\"&月別集計!$B11,入出金NFT結果!$A:$A,\">=\"&月別集計!BA$1,入出金NFT結果!$A:$A,\"<=\"&月別集計!BA$2)","v":0},{"$f":"SUMIFS(入出金NFT結果!$D:$D,入出金NFT結果!$I:$I,\"=\"&月別集計!$B11,入出金NFT結果!$A:$A,\">=\"&月別集計!BB$1,入出金NFT結果!$A:$A,\"<=\"&月別集計!BB$2)","v":0},{"$f":"SUMIFS(入出金NFT結果!$D:$D,入出金NFT結果!$I:$I,\"=\"&月別集計!$B11,入出金NFT結果!$A:$A,\">=\"&月別集計!BC$1,入出金NFT結果!$A:$A,\"<=\"&月別集計!BC$2)","v":0},{"$f":"SUMIFS(入出金NFT結果!$D:$D,入出金NFT結果!$I:$I,\"=\"&月別集計!$B11,入出金NFT結果!$A:$A,\">=\"&月別集計!BD$1,入出金NFT結果!$A:$A,\"<=\"&月別集計!BD$2)","v":0},{"$f":"SUMIFS(入出金NFT結果!$D:$D,入出金NFT結果!$I:$I,\"=\"&月別集計!$B11,入出金NFT結果!$A:$A,\">=\"&月別集計!BE$1,入出金NFT結果!$A:$A,\"<=\"&月別集計!BE$2)","v":0},{"$f":"SUMIFS(入出金NFT結果!$D:$D,入出金NFT結果!$I:$I,\"=\"&月別集計!$B11,入出金NFT結果!$A:$A,\">=\"&月別集計!BF$1,入出金NFT結果!$A:$A,\"<=\"&月別集計!BF$2)","v":0},{"$f":"SUMIFS(入出金NFT結果!$D:$D,入出金NFT結果!$I:$I,\"=\"&月別集計!$B11,入出金NFT結果!$A:$A,\">=\"&月別集計!BG$1,入出金NFT結果!$A:$A,\"<=\"&月別集計!BG$2)","v":0},{"$f":"SUMIFS(入出金NFT結果!$D:$D,入出金NFT結果!$I:$I,\"=\"&月別集計!$B11,入出金NFT結果!$A:$A,\">=\"&月別集計!BH$1,入出金NFT結果!$A:$A,\"<=\"&月別集計!BH$2)","v":0},{"$f":"SUMIFS(入出金NFT結果!$D:$D,入出金NFT結果!$I:$I,\"=\"&月別集計!$B11,入出金NFT結果!$A:$A,\">=\"&月別集計!BI$1,入出金NFT結果!$A:$A,\"<=\"&月別集計!BI$2)","v":0},{"$f":"SUMIFS(入出金NFT結果!$D:$D,入出金NFT結果!$I:$I,\"=\"&月別集計!$B11,入出金NFT結果!$A:$A,\">=\"&月別集計!BJ$1,入出金NFT結果!$A:$A,\"<=\"&月別集計!BJ$2)","v":0},{"$f":"SUMIFS(入出金NFT結果!$D:$D,入出金NFT結果!$I:$I,\"=\"&月別集計!$B11,入出金NFT結果!$A:$A,\">=\"&月別集計!BK$1,入出金NFT結果!$A:$A,\"<=\"&月別集計!BK$2)","v":0},{"$f":"SUMIFS(入出金NFT結果!$D:$D,入出金NFT結果!$I:$I,\"=\"&月別集計!$B11,入出金NFT結果!$A:$A,\">=\"&月別集計!BL$1,入出金NFT結果!$A:$A,\"<=\"&月別集計!BL$2)","v":0},{"$f":"SUMIFS(入出金NFT結果!$D:$D,入出金NFT結果!$I:$I,\"=\"&月別集計!$B11,入出金NFT結果!$A:$A,\">=\"&月別集計!BM$1,入出金NFT結果!$A:$A,\"<=\"&月別集計!BM$2)","v":0}]
[null,{"$f":"推定用途置換ルール!G9","v":"Rogue Roll Ruler's　報酬1"},{"$f":"SUMIFS(入出金NFT結果!$D:$D,入出金NFT結果!$I:$I,\"=\"&月別集計!$B12,入出金NFT結果!$A:$A,\">=\"&月別集計!C$1,入出金NFT結果!$A:$A,\"<=\"&月別集計!C$2)","v":0},{"$f":"SUMIFS(入出金NFT結果!$D:$D,入出金NFT結果!$I:$I,\"=\"&月別集計!$B12,入出金NFT結果!$A:$A,\">=\"&月別集計!D$1,入出金NFT結果!$A:$A,\"<=\"&月別集計!D$2)","v":0},{"$f":"SUMIFS(入出金NFT結果!$D:$D,入出金NFT結果!$I:$I,\"=\"&月別集計!$B12,入出金NFT結果!$A:$A,\">=\"&月別集計!E$1,入出金NFT結果!$A:$A,\"<=\"&月別集計!E$2)","v":0},{"$f":"SUMIFS(入出金NFT結果!$D:$D,入出金NFT結果!$I:$I,\"=\"&月別集計!$B12,入出金NFT結果!$A:$A,\">=\"&月別集計!F$1,入出金NFT結果!$A:$A,\"<=\"&月別集計!F$2)","v":0},{"$f":"SUMIFS(入出金NFT結果!$D:$D,入出金NFT結果!$I:$I,\"=\"&月別集計!$B12,入出金NFT結果!$A:$A,\">=\"&月別集計!G$1,入出金NFT結果!$A:$A,\"<=\"&月別集計!G$2)","v":0},{"$f":"SUMIFS(入出金NFT結果!$D:$D,入出金NFT結果!$I:$I,\"=\"&月別集計!$B12,入出金NFT結果!$A:$A,\">=\"&月別集計!H$1,入出金NFT結果!$A:$A,\"<=\"&月別集計!H$2)","v":0},{"$f":"SUMIFS(入出金NFT結果!$D:$D,入出金NFT結果!$I:$I,\"=\"&月別集計!$B12,入出金NFT結果!$A:$A,\">=\"&月別集計!I$1,入出金NFT結果!$A:$A,\"<=\"&月別集計!I$2)","v":0},{"$f":"SUMIFS(入出金NFT結果!$D:$D,入出金NFT結果!$I:$I,\"=\"&月別集計!$B12,入出金NFT結果!$A:$A,\">=\"&月別集計!J$1,入出金NFT結果!$A:$A,\"<=\"&月別集計!J$2)","v":0},{"$f":"SUMIFS(入出金NFT結果!$D:$D,入出金NFT結果!$I:$I,\"=\"&月別集計!$B12,入出金NFT結果!$A:$A,\">=\"&月別集計!K$1,入出金NFT結果!$A:$A,\"<=\"&月別集計!K$2)","v":0},{"$f":"SUMIFS(入出金NFT結果!$D:$D,入出金NFT結果!$I:$I,\"=\"&月別集計!$B12,入出金NFT結果!$A:$A,\">=\"&月別集計!L$1,入出金NFT結果!$A:$A,\"<=\"&月別集計!L$2)","v":0},{"$f":"SUMIFS(入出金NFT結果!$D:$D,入出金NFT結果!$I:$I,\"=\"&月別集計!$B12,入出金NFT結果!$A:$A,\">=\"&月別集計!M$1,入出金NFT結果!$A:$A,\"<=\"&月別集計!M$2)","v":0},{"$f":"SUMIFS(入出金NFT結果!$D:$D,入出金NFT結果!$I:$I,\"=\"&月別集計!$B12,入出金NFT結果!$A:$A,\">=\"&月別集計!N$1,入出金NFT結果!$A:$A,\"<=\"&月別集計!N$2)","v":0},{"$f":"SUMIFS(入出金NFT結果!$D:$D,入出金NFT結果!$I:$I,\"=\"&月別集計!$B12,入出金NFT結果!$A:$A,\">=\"&月別集計!O$1,入出金NFT結果!$A:$A,\"<=\"&月別集計!O$2)","v":0},{"$f":"SUMIFS(入出金NFT結果!$D:$D,入出金NFT結果!$I:$I,\"=\"&月別集計!$B12,入出金NFT結果!$A:$A,\">=\"&月別集計!P$1,入出金NFT結果!$A:$A,\"<=\"&月別集計!P$2)","v":0},{"$f":"SUMIFS(入出金NFT結果!$D:$D,入出金NFT結果!$I:$I,\"=\"&月別集計!$B12,入出金NFT結果!$A:$A,\">=\"&月別集計!Q$1,入出金NFT結果!$A:$A,\"<=\"&月別集計!Q$2)","v":0},{"$f":"SUMIFS(入出金NFT結果!$D:$D,入出金NFT結果!$I:$I,\"=\"&月別集計!$B12,入出金NFT結果!$A:$A,\">=\"&月別集計!R$1,入出金NFT結果!$A:$A,\"<=\"&月別集計!R$2)","v":0},{"$f":"SUMIFS(入出金NFT結果!$D:$D,入出金NFT結果!$I:$I,\"=\"&月別集計!$B12,入出金NFT結果!$A:$A,\">=\"&月別集計!S$1,入出金NFT結果!$A:$A,\"<=\"&月別集計!S$2)","v":0},{"$f":"SUMIFS(入出金NFT結果!$D:$D,入出金NFT結果!$I:$I,\"=\"&月別集計!$B12,入出金NFT結果!$A:$A,\">=\"&月別集計!T$1,入出金NFT結果!$A:$A,\"<=\"&月別集計!T$2)","v":0},{"$f":"SUMIFS(入出金NFT結果!$D:$D,入出金NFT結果!$I:$I,\"=\"&月別集計!$B12,入出金NFT結果!$A:$A,\">=\"&月別集計!U$1,入出金NFT結果!$A:$A,\"<=\"&月別集計!U$2)","v":0},{"$f":"SUMIFS(入出金NFT結果!$D:$D,入出金NFT結果!$I:$I,\"=\"&月別集計!$B12,入出金NFT結果!$A:$A,\">=\"&月別集計!V$1,入出金NFT結果!$A:$A,\"<=\"&月別集計!V$2)","v":0},{"$f":"SUMIFS(入出金NFT結果!$D:$D,入出金NFT結果!$I:$I,\"=\"&月別集計!$B12,入出金NFT結果!$A:$A,\">=\"&月別集計!W$1,入出金NFT結果!$A:$A,\"<=\"&月別集計!W$2)","v":0},{"$f":"SUMIFS(入出金NFT結果!$D:$D,入出金NFT結果!$I:$I,\"=\"&月別集計!$B12,入出金NFT結果!$A:$A,\">=\"&月別集計!X$1,入出金NFT結果!$A:$A,\"<=\"&月別集計!X$2)","v":0},{"$f":"SUMIFS(入出金NFT結果!$D:$D,入出金NFT結果!$I:$I,\"=\"&月別集計!$B12,入出金NFT結果!$A:$A,\">=\"&月別集計!Y$1,入出金NFT結果!$A:$A,\"<=\"&月別集計!Y$2)","v":0},{"$f":"SUMIFS(入出金NFT結果!$D:$D,入出金NFT結果!$I:$I,\"=\"&月別集計!$B12,入出金NFT結果!$A:$A,\">=\"&月別集計!Z$1,入出金NFT結果!$A:$A,\"<=\"&月別集計!Z$2)","v":0},{"$f":"SUMIFS(入出金NFT結果!$D:$D,入出金NFT結果!$I:$I,\"=\"&月別集計!$B12,入出金NFT結果!$A:$A,\">=\"&月別集計!AA$1,入出金NFT結果!$A:$A,\"<=\"&月別集計!AA$2)","v":0},{"$f":"SUMIFS(入出金NFT結果!$D:$D,入出金NFT結果!$I:$I,\"=\"&月別集計!$B12,入出金NFT結果!$A:$A,\">=\"&月別集計!AB$1,入出金NFT結果!$A:$A,\"<=\"&月別集計!AB$2)","v":0},{"$f":"SUMIFS(入出金NFT結果!$D:$D,入出金NFT結果!$I:$I,\"=\"&月別集計!$B12,入出金NFT結果!$A:$A,\">=\"&月別集計!AC$1,入出金NFT結果!$A:$A,\"<=\"&月別集計!AC$2)","v":0},{"$f":"SUMIFS(入出金NFT結果!$D:$D,入出金NFT結果!$I:$I,\"=\"&月別集計!$B12,入出金NFT結果!$A:$A,\">=\"&月別集計!AD$1,入出金NFT結果!$A:$A,\"<=\"&月別集計!AD$2)","v":0},{"$f":"SUMIFS(入出金NFT結果!$D:$D,入出金NFT結果!$I:$I,\"=\"&月別集計!$B12,入出金NFT結果!$A:$A,\">=\"&月別集計!AE$1,入出金NFT結果!$A:$A,\"<=\"&月別集計!AE$2)","v":0},{"$f":"SUMIFS(入出金NFT結果!$D:$D,入出金NFT結果!$I:$I,\"=\"&月別集計!$B12,入出金NFT結果!$A:$A,\">=\"&月別集計!AF$1,入出金NFT結果!$A:$A,\"<=\"&月別集計!AF$2)","v":0},{"$f":"SUMIFS(入出金NFT結果!$D:$D,入出金NFT結果!$I:$I,\"=\"&月別集計!$B12,入出金NFT結果!$A:$A,\">=\"&月別集計!AG$1,入出金NFT結果!$A:$A,\"<=\"&月別集計!AG$2)","v":0},{"$f":"SUMIFS(入出金NFT結果!$D:$D,入出金NFT結果!$I:$I,\"=\"&月別集計!$B12,入出金NFT結果!$A:$A,\">=\"&月別集計!AH$1,入出金NFT結果!$A:$A,\"<=\"&月別集計!AH$2)","v":0},{"$f":"SUMIFS(入出金NFT結果!$D:$D,入出金NFT結果!$I:$I,\"=\"&月別集計!$B12,入出金NFT結果!$A:$A,\">=\"&月別集計!AI$1,入出金NFT結果!$A:$A,\"<=\"&月別集計!AI$2)","v":0},{"$f":"SUMIFS(入出金NFT結果!$D:$D,入出金NFT結果!$I:$I,\"=\"&月別集計!$B12,入出金NFT結果!$A:$A,\">=\"&月別集計!AJ$1,入出金NFT結果!$A:$A,\"<=\"&月別集計!AJ$2)","v":0},{"$f":"SUMIFS(入出金NFT結果!$D:$D,入出金NFT結果!$I:$I,\"=\"&月別集計!$B12,入出金NFT結果!$A:$A,\">=\"&月別集計!AK$1,入出金NFT結果!$A:$A,\"<=\"&月別集計!AK$2)","v":0},{"$f":"SUMIFS(入出金NFT結果!$D:$D,入出金NFT結果!$I:$I,\"=\"&月別集計!$B12,入出金NFT結果!$A:$A,\">=\"&月別集計!AL$1,入出金NFT結果!$A:$A,\"<=\"&月別集計!AL$2)","v":0},{"$f":"SUMIFS(入出金NFT結果!$D:$D,入出金NFT結果!$I:$I,\"=\"&月別集計!$B12,入出金NFT結果!$A:$A,\">=\"&月別集計!AM$1,入出金NFT結果!$A:$A,\"<=\"&月別集計!AM$2)","v":0},{"$f":"SUMIFS(入出金NFT結果!$D:$D,入出金NFT結果!$I:$I,\"=\"&月別集計!$B12,入出金NFT結果!$A:$A,\">=\"&月別集計!AN$1,入出金NFT結果!$A:$A,\"<=\"&月別集計!AN$2)","v":0},{"$f":"SUMIFS(入出金NFT結果!$D:$D,入出金NFT結果!$I:$I,\"=\"&月別集計!$B12,入出金NFT結果!$A:$A,\">=\"&月別集計!AO$1,入出金NFT結果!$A:$A,\"<=\"&月別集計!AO$2)","v":0},{"$f":"SUMIFS(入出金NFT結果!$D:$D,入出金NFT結果!$I:$I,\"=\"&月別集計!$B12,入出金NFT結果!$A:$A,\">=\"&月別集計!AP$1,入出金NFT結果!$A:$A,\"<=\"&月別集計!AP$2)","v":0},{"$f":"SUMIFS(入出金NFT結果!$D:$D,入出金NFT結果!$I:$I,\"=\"&月別集計!$B12,入出金NFT結果!$A:$A,\">=\"&月別集計!AQ$1,入出金NFT結果!$A:$A,\"<=\"&月別集計!AQ$2)","v":0},{"$f":"SUMIFS(入出金NFT結果!$D:$D,入出金NFT結果!$I:$I,\"=\"&月別集計!$B12,入出金NFT結果!$A:$A,\">=\"&月別集計!AR$1,入出金NFT結果!$A:$A,\"<=\"&月別集計!AR$2)","v":0},{"$f":"SUMIFS(入出金NFT結果!$D:$D,入出金NFT結果!$I:$I,\"=\"&月別集計!$B12,入出金NFT結果!$A:$A,\">=\"&月別集計!AS$1,入出金NFT結果!$A:$A,\"<=\"&月別集計!AS$2)","v":0},{"$f":"SUMIFS(入出金NFT結果!$D:$D,入出金NFT結果!$I:$I,\"=\"&月別集計!$B12,入出金NFT結果!$A:$A,\">=\"&月別集計!AT$1,入出金NFT結果!$A:$A,\"<=\"&月別集計!AT$2)","v":0},{"$f":"SUMIFS(入出金NFT結果!$D:$D,入出金NFT結果!$I:$I,\"=\"&月別集計!$B12,入出金NFT結果!$A:$A,\">=\"&月別集計!AU$1,入出金NFT結果!$A:$A,\"<=\"&月別集計!AU$2)","v":0},{"$f":"SUMIFS(入出金NFT結果!$D:$D,入出金NFT結果!$I:$I,\"=\"&月別集計!$B12,入出金NFT結果!$A:$A,\">=\"&月別集計!AV$1,入出金NFT結果!$A:$A,\"<=\"&月別集計!AV$2)","v":0},{"$f":"SUMIFS(入出金NFT結果!$D:$D,入出金NFT結果!$I:$I,\"=\"&月別集計!$B12,入出金NFT結果!$A:$A,\">=\"&月別集計!AW$1,入出金NFT結果!$A:$A,\"<=\"&月別集計!AW$2)","v":0},{"$f":"SUMIFS(入出金NFT結果!$D:$D,入出金NFT結果!$I:$I,\"=\"&月別集計!$B12,入出金NFT結果!$A:$A,\">=\"&月別集計!AX$1,入出金NFT結果!$A:$A,\"<=\"&月別集計!AX$2)","v":0},{"$f":"SUMIFS(入出金NFT結果!$D:$D,入出金NFT結果!$I:$I,\"=\"&月別集計!$B12,入出金NFT結果!$A:$A,\">=\"&月別集計!AY$1,入出金NFT結果!$A:$A,\"<=\"&月別集計!AY$2)","v":0},{"$f":"SUMIFS(入出金NFT結果!$D:$D,入出金NFT結果!$I:$I,\"=\"&月別集計!$B12,入出金NFT結果!$A:$A,\">=\"&月別集計!AZ$1,入出金NFT結果!$A:$A,\"<=\"&月別集計!AZ$2)","v":0},{"$f":"SUMIFS(入出金NFT結果!$D:$D,入出金NFT結果!$I:$I,\"=\"&月別集計!$B12,入出金NFT結果!$A:$A,\">=\"&月別集計!BA$1,入出金NFT結果!$A:$A,\"<=\"&月別集計!BA$2)","v":0},{"$f":"SUMIFS(入出金NFT結果!$D:$D,入出金NFT結果!$I:$I,\"=\"&月別集計!$B12,入出金NFT結果!$A:$A,\">=\"&月別集計!BB$1,入出金NFT結果!$A:$A,\"<=\"&月別集計!BB$2)","v":0},{"$f":"SUMIFS(入出金NFT結果!$D:$D,入出金NFT結果!$I:$I,\"=\"&月別集計!$B12,入出金NFT結果!$A:$A,\">=\"&月別集計!BC$1,入出金NFT結果!$A:$A,\"<=\"&月別集計!BC$2)","v":0},{"$f":"SUMIFS(入出金NFT結果!$D:$D,入出金NFT結果!$I:$I,\"=\"&月別集計!$B12,入出金NFT結果!$A:$A,\">=\"&月別集計!BD$1,入出金NFT結果!$A:$A,\"<=\"&月別集計!BD$2)","v":0},{"$f":"SUMIFS(入出金NFT結果!$D:$D,入出金NFT結果!$I:$I,\"=\"&月別集計!$B12,入出金NFT結果!$A:$A,\">=\"&月別集計!BE$1,入出金NFT結果!$A:$A,\"<=\"&月別集計!BE$2)","v":0},{"$f":"SUMIFS(入出金NFT結果!$D:$D,入出金NFT結果!$I:$I,\"=\"&月別集計!$B12,入出金NFT結果!$A:$A,\">=\"&月別集計!BF$1,入出金NFT結果!$A:$A,\"<=\"&月別集計!BF$2)","v":0},{"$f":"SUMIFS(入出金NFT結果!$D:$D,入出金NFT結果!$I:$I,\"=\"&月別集計!$B12,入出金NFT結果!$A:$A,\">=\"&月別集計!BG$1,入出金NFT結果!$A:$A,\"<=\"&月別集計!BG$2)","v":0},{"$f":"SUMIFS(入出金NFT結果!$D:$D,入出金NFT結果!$I:$I,\"=\"&月別集計!$B12,入出金NFT結果!$A:$A,\">=\"&月別集計!BH$1,入出金NFT結果!$A:$A,\"<=\"&月別集計!BH$2)","v":0},{"$f":"SUMIFS(入出金NFT結果!$D:$D,入出金NFT結果!$I:$I,\"=\"&月別集計!$B12,入出金NFT結果!$A:$A,\">=\"&月別集計!BI$1,入出金NFT結果!$A:$A,\"<=\"&月別集計!BI$2)","v":0},{"$f":"SUMIFS(入出金NFT結果!$D:$D,入出金NFT結果!$I:$I,\"=\"&月別集計!$B12,入出金NFT結果!$A:$A,\">=\"&月別集計!BJ$1,入出金NFT結果!$A:$A,\"<=\"&月別集計!BJ$2)","v":0},{"$f":"SUMIFS(入出金NFT結果!$D:$D,入出金NFT結果!$I:$I,\"=\"&月別集計!$B12,入出金NFT結果!$A:$A,\">=\"&月別集計!BK$1,入出金NFT結果!$A:$A,\"<=\"&月別集計!BK$2)","v":0},{"$f":"SUMIFS(入出金NFT結果!$D:$D,入出金NFT結果!$I:$I,\"=\"&月別集計!$B12,入出金NFT結果!$A:$A,\">=\"&月別集計!BL$1,入出金NFT結果!$A:$A,\"<=\"&月別集計!BL$2)","v":0},{"$f":"SUMIFS(入出金NFT結果!$D:$D,入出金NFT結果!$I:$I,\"=\"&月別集計!$B12,入出金NFT結果!$A:$A,\">=\"&月別集計!BM$1,入出金NFT結果!$A:$A,\"<=\"&月別集計!BM$2)","v":0}]
[null,{"$f":"推定用途置換ルール!G11","v":"その他入金、取引所からの入金（2022.9以前）"},{"$f":"SUMIFS(入出金NFT結果!$D:$D,入出金NFT結果!$I:$I,\"=\"&月別集計!$B13,入出金NFT結果!$A:$A,\">=\"&月別集計!C$1,入出金NFT結果!$A:$A,\"<=\"&月別集計!C$2)","v":0},{"$f":"SUMIFS(入出金NFT結果!$D:$D,入出金NFT結果!$I:$I,\"=\"&月別集計!$B13,入出金NFT結果!$A:$A,\">=\"&月別集計!D$1,入出金NFT結果!$A:$A,\"<=\"&月別集計!D$2)","v":0},{"$f":"SUMIFS(入出金NFT結果!$D:$D,入出金NFT結果!$I:$I,\"=\"&月別集計!$B13,入出金NFT結果!$A:$A,\">=\"&月別集計!E$1,入出金NFT結果!$A:$A,\"<=\"&月別集計!E$2)","v":0},{"$f":"SUMIFS(入出金NFT結果!$D:$D,入出金NFT結果!$I:$I,\"=\"&月別集計!$B13,入出金NFT結果!$A:$A,\">=\"&月別集計!F$1,入出金NFT結果!$A:$A,\"<=\"&月別集計!F$2)","v":0},{"$f":"SUMIFS(入出金NFT結果!$D:$D,入出金NFT結果!$I:$I,\"=\"&月別集計!$B13,入出金NFT結果!$A:$A,\">=\"&月別集計!G$1,入出金NFT結果!$A:$A,\"<=\"&月別集計!G$2)","v":0},{"$f":"SUMIFS(入出金NFT結果!$D:$D,入出金NFT結果!$I:$I,\"=\"&月別集計!$B13,入出金NFT結果!$A:$A,\">=\"&月別集計!H$1,入出金NFT結果!$A:$A,\"<=\"&月別集計!H$2)","v":0},{"$f":"SUMIFS(入出金NFT結果!$D:$D,入出金NFT結果!$I:$I,\"=\"&月別集計!$B13,入出金NFT結果!$A:$A,\">=\"&月別集計!I$1,入出金NFT結果!$A:$A,\"<=\"&月別集計!I$2)","v":0},{"$f":"SUMIFS(入出金NFT結果!$D:$D,入出金NFT結果!$I:$I,\"=\"&月別集計!$B13,入出金NFT結果!$A:$A,\">=\"&月別集計!J$1,入出金NFT結果!$A:$A,\"<=\"&月別集計!J$2)","v":0},{"$f":"SUMIFS(入出金NFT結果!$D:$D,入出金NFT結果!$I:$I,\"=\"&月別集計!$B13,入出金NFT結果!$A:$A,\">=\"&月別集計!K$1,入出金NFT結果!$A:$A,\"<=\"&月別集計!K$2)","v":0},{"$f":"SUMIFS(入出金NFT結果!$D:$D,入出金NFT結果!$I:$I,\"=\"&月別集計!$B13,入出金NFT結果!$A:$A,\">=\"&月別集計!L$1,入出金NFT結果!$A:$A,\"<=\"&月別集計!L$2)","v":0},{"$f":"SUMIFS(入出金NFT結果!$D:$D,入出金NFT結果!$I:$I,\"=\"&月別集計!$B13,入出金NFT結果!$A:$A,\">=\"&月別集計!M$1,入出金NFT結果!$A:$A,\"<=\"&月別集計!M$2)","v":0},{"$f":"SUMIFS(入出金NFT結果!$D:$D,入出金NFT結果!$I:$I,\"=\"&月別集計!$B13,入出金NFT結果!$A:$A,\">=\"&月別集計!N$1,入出金NFT結果!$A:$A,\"<=\"&月別集計!N$2)","v":0},{"$f":"SUMIFS(入出金NFT結果!$D:$D,入出金NFT結果!$I:$I,\"=\"&月別集計!$B13,入出金NFT結果!$A:$A,\">=\"&月別集計!O$1,入出金NFT結果!$A:$A,\"<=\"&月別集計!O$2)","v":0},{"$f":"SUMIFS(入出金NFT結果!$D:$D,入出金NFT結果!$I:$I,\"=\"&月別集計!$B13,入出金NFT結果!$A:$A,\">=\"&月別集計!P$1,入出金NFT結果!$A:$A,\"<=\"&月別集計!P$2)","v":0},{"$f":"SUMIFS(入出金NFT結果!$D:$D,入出金NFT結果!$I:$I,\"=\"&月別集計!$B13,入出金NFT結果!$A:$A,\">=\"&月別集計!Q$1,入出金NFT結果!$A:$A,\"<=\"&月別集計!Q$2)","v":0},{"$f":"SUMIFS(入出金NFT結果!$D:$D,入出金NFT結果!$I:$I,\"=\"&月別集計!$B13,入出金NFT結果!$A:$A,\">=\"&月別集計!R$1,入出金NFT結果!$A:$A,\"<=\"&月別集計!R$2)","v":0},{"$f":"SUMIFS(入出金NFT結果!$D:$D,入出金NFT結果!$I:$I,\"=\"&月別集計!$B13,入出金NFT結果!$A:$A,\">=\"&月別集計!S$1,入出金NFT結果!$A:$A,\"<=\"&月別集計!S$2)","v":0},{"$f":"SUMIFS(入出金NFT結果!$D:$D,入出金NFT結果!$I:$I,\"=\"&月別集計!$B13,入出金NFT結果!$A:$A,\">=\"&月別集計!T$1,入出金NFT結果!$A:$A,\"<=\"&月別集計!T$2)","v":0},{"$f":"SUMIFS(入出金NFT結果!$D:$D,入出金NFT結果!$I:$I,\"=\"&月別集計!$B13,入出金NFT結果!$A:$A,\">=\"&月別集計!U$1,入出金NFT結果!$A:$A,\"<=\"&月別集計!U$2)","v":0},{"$f":"SUMIFS(入出金NFT結果!$D:$D,入出金NFT結果!$I:$I,\"=\"&月別集計!$B13,入出金NFT結果!$A:$A,\">=\"&月別集計!V$1,入出金NFT結果!$A:$A,\"<=\"&月別集計!V$2)","v":0},{"$f":"SUMIFS(入出金NFT結果!$D:$D,入出金NFT結果!$I:$I,\"=\"&月別集計!$B13,入出金NFT結果!$A:$A,\">=\"&月別集計!W$1,入出金NFT結果!$A:$A,\"<=\"&月別集計!W$2)","v":0},{"$f":"SUMIFS(入出金NFT結果!$D:$D,入出金NFT結果!$I:$I,\"=\"&月別集計!$B13,入出金NFT結果!$A:$A,\">=\"&月別集計!X$1,入出金NFT結果!$A:$A,\"<=\"&月別集計!X$2)","v":0},{"$f":"SUMIFS(入出金NFT結果!$D:$D,入出金NFT結果!$I:$I,\"=\"&月別集計!$B13,入出金NFT結果!$A:$A,\">=\"&月別集計!Y$1,入出金NFT結果!$A:$A,\"<=\"&月別集計!Y$2)","v":0},{"$f":"SUMIFS(入出金NFT結果!$D:$D,入出金NFT結果!$I:$I,\"=\"&月別集計!$B13,入出金NFT結果!$A:$A,\">=\"&月別集計!Z$1,入出金NFT結果!$A:$A,\"<=\"&月別集計!Z$2)","v":0},{"$f":"SUMIFS(入出金NFT結果!$D:$D,入出金NFT結果!$I:$I,\"=\"&月別集計!$B13,入出金NFT結果!$A:$A,\">=\"&月別集計!AA$1,入出金NFT結果!$A:$A,\"<=\"&月別集計!AA$2)","v":0},{"$f":"SUMIFS(入出金NFT結果!$D:$D,入出金NFT結果!$I:$I,\"=\"&月別集計!$B13,入出金NFT結果!$A:$A,\">=\"&月別集計!AB$1,入出金NFT結果!$A:$A,\"<=\"&月別集計!AB$2)","v":0},{"$f":"SUMIFS(入出金NFT結果!$D:$D,入出金NFT結果!$I:$I,\"=\"&月別集計!$B13,入出金NFT結果!$A:$A,\">=\"&月別集計!AC$1,入出金NFT結果!$A:$A,\"<=\"&月別集計!AC$2)","v":0},{"$f":"SUMIFS(入出金NFT結果!$D:$D,入出金NFT結果!$I:$I,\"=\"&月別集計!$B13,入出金NFT結果!$A:$A,\">=\"&月別集計!AD$1,入出金NFT結果!$A:$A,\"<=\"&月別集計!AD$2)","v":0},{"$f":"SUMIFS(入出金NFT結果!$D:$D,入出金NFT結果!$I:$I,\"=\"&月別集計!$B13,入出金NFT結果!$A:$A,\">=\"&月別集計!AE$1,入出金NFT結果!$A:$A,\"<=\"&月別集計!AE$2)","v":0},{"$f":"SUMIFS(入出金NFT結果!$D:$D,入出金NFT結果!$I:$I,\"=\"&月別集計!$B13,入出金NFT結果!$A:$A,\">=\"&月別集計!AF$1,入出金NFT結果!$A:$A,\"<=\"&月別集計!AF$2)","v":0},{"$f":"SUMIFS(入出金NFT結果!$D:$D,入出金NFT結果!$I:$I,\"=\"&月別集計!$B13,入出金NFT結果!$A:$A,\">=\"&月別集計!AG$1,入出金NFT結果!$A:$A,\"<=\"&月別集計!AG$2)","v":0},{"$f":"SUMIFS(入出金NFT結果!$D:$D,入出金NFT結果!$I:$I,\"=\"&月別集計!$B13,入出金NFT結果!$A:$A,\">=\"&月別集計!AH$1,入出金NFT結果!$A:$A,\"<=\"&月別集計!AH$2)","v":0},{"$f":"SUMIFS(入出金NFT結果!$D:$D,入出金NFT結果!$I:$I,\"=\"&月別集計!$B13,入出金NFT結果!$A:$A,\">=\"&月別集計!AI$1,入出金NFT結果!$A:$A,\"<=\"&月別集計!AI$2)","v":0},{"$f":"SUMIFS(入出金NFT結果!$D:$D,入出金NFT結果!$I:$I,\"=\"&月別集計!$B13,入出金NFT結果!$A:$A,\">=\"&月別集計!AJ$1,入出金NFT結果!$A:$A,\"<=\"&月別集計!AJ$2)","v":0},{"$f":"SUMIFS(入出金NFT結果!$D:$D,入出金NFT結果!$I:$I,\"=\"&月別集計!$B13,入出金NFT結果!$A:$A,\">=\"&月別集計!AK$1,入出金NFT結果!$A:$A,\"<=\"&月別集計!AK$2)","v":0},{"$f":"SUMIFS(入出金NFT結果!$D:$D,入出金NFT結果!$I:$I,\"=\"&月別集計!$B13,入出金NFT結果!$A:$A,\">=\"&月別集計!AL$1,入出金NFT結果!$A:$A,\"<=\"&月別集計!AL$2)","v":0},{"$f":"SUMIFS(入出金NFT結果!$D:$D,入出金NFT結果!$I:$I,\"=\"&月別集計!$B13,入出金NFT結果!$A:$A,\">=\"&月別集計!AM$1,入出金NFT結果!$A:$A,\"<=\"&月別集計!AM$2)","v":0},{"$f":"SUMIFS(入出金NFT結果!$D:$D,入出金NFT結果!$I:$I,\"=\"&月別集計!$B13,入出金NFT結果!$A:$A,\">=\"&月別集計!AN$1,入出金NFT結果!$A:$A,\"<=\"&月別集計!AN$2)","v":0},{"$f":"SUMIFS(入出金NFT結果!$D:$D,入出金NFT結果!$I:$I,\"=\"&月別集計!$B13,入出金NFT結果!$A:$A,\">=\"&月別集計!AO$1,入出金NFT結果!$A:$A,\"<=\"&月別集計!AO$2)","v":0},{"$f":"SUMIFS(入出金NFT結果!$D:$D,入出金NFT結果!$I:$I,\"=\"&月別集計!$B13,入出金NFT結果!$A:$A,\">=\"&月別集計!AP$1,入出金NFT結果!$A:$A,\"<=\"&月別集計!AP$2)","v":0},{"$f":"SUMIFS(入出金NFT結果!$D:$D,入出金NFT結果!$I:$I,\"=\"&月別集計!$B13,入出金NFT結果!$A:$A,\">=\"&月別集計!AQ$1,入出金NFT結果!$A:$A,\"<=\"&月別集計!AQ$2)","v":0},{"$f":"SUMIFS(入出金NFT結果!$D:$D,入出金NFT結果!$I:$I,\"=\"&月別集計!$B13,入出金NFT結果!$A:$A,\">=\"&月別集計!AR$1,入出金NFT結果!$A:$A,\"<=\"&月別集計!AR$2)","v":0},{"$f":"SUMIFS(入出金NFT結果!$D:$D,入出金NFT結果!$I:$I,\"=\"&月別集計!$B13,入出金NFT結果!$A:$A,\">=\"&月別集計!AS$1,入出金NFT結果!$A:$A,\"<=\"&月別集計!AS$2)","v":0},{"$f":"SUMIFS(入出金NFT結果!$D:$D,入出金NFT結果!$I:$I,\"=\"&月別集計!$B13,入出金NFT結果!$A:$A,\">=\"&月別集計!AT$1,入出金NFT結果!$A:$A,\"<=\"&月別集計!AT$2)","v":0},{"$f":"SUMIFS(入出金NFT結果!$D:$D,入出金NFT結果!$I:$I,\"=\"&月別集計!$B13,入出金NFT結果!$A:$A,\">=\"&月別集計!AU$1,入出金NFT結果!$A:$A,\"<=\"&月別集計!AU$2)","v":0},{"$f":"SUMIFS(入出金NFT結果!$D:$D,入出金NFT結果!$I:$I,\"=\"&月別集計!$B13,入出金NFT結果!$A:$A,\">=\"&月別集計!AV$1,入出金NFT結果!$A:$A,\"<=\"&月別集計!AV$2)","v":0},{"$f":"SUMIFS(入出金NFT結果!$D:$D,入出金NFT結果!$I:$I,\"=\"&月別集計!$B13,入出金NFT結果!$A:$A,\">=\"&月別集計!AW$1,入出金NFT結果!$A:$A,\"<=\"&月別集計!AW$2)","v":0},{"$f":"SUMIFS(入出金NFT結果!$D:$D,入出金NFT結果!$I:$I,\"=\"&月別集計!$B13,入出金NFT結果!$A:$A,\">=\"&月別集計!AX$1,入出金NFT結果!$A:$A,\"<=\"&月別集計!AX$2)","v":0},{"$f":"SUMIFS(入出金NFT結果!$D:$D,入出金NFT結果!$I:$I,\"=\"&月別集計!$B13,入出金NFT結果!$A:$A,\">=\"&月別集計!AY$1,入出金NFT結果!$A:$A,\"<=\"&月別集計!AY$2)","v":0},{"$f":"SUMIFS(入出金NFT結果!$D:$D,入出金NFT結果!$I:$I,\"=\"&月別集計!$B13,入出金NFT結果!$A:$A,\">=\"&月別集計!AZ$1,入出金NFT結果!$A:$A,\"<=\"&月別集計!AZ$2)","v":0},{"$f":"SUMIFS(入出金NFT結果!$D:$D,入出金NFT結果!$I:$I,\"=\"&月別集計!$B13,入出金NFT結果!$A:$A,\">=\"&月別集計!BA$1,入出金NFT結果!$A:$A,\"<=\"&月別集計!BA$2)","v":0},{"$f":"SUMIFS(入出金NFT結果!$D:$D,入出金NFT結果!$I:$I,\"=\"&月別集計!$B13,入出金NFT結果!$A:$A,\">=\"&月別集計!BB$1,入出金NFT結果!$A:$A,\"<=\"&月別集計!BB$2)","v":0},{"$f":"SUMIFS(入出金NFT結果!$D:$D,入出金NFT結果!$I:$I,\"=\"&月別集計!$B13,入出金NFT結果!$A:$A,\">=\"&月別集計!BC$1,入出金NFT結果!$A:$A,\"<=\"&月別集計!BC$2)","v":0},{"$f":"SUMIFS(入出金NFT結果!$D:$D,入出金NFT結果!$I:$I,\"=\"&月別集計!$B13,入出金NFT結果!$A:$A,\">=\"&月別集計!BD$1,入出金NFT結果!$A:$A,\"<=\"&月別集計!BD$2)","v":0},{"$f":"SUMIFS(入出金NFT結果!$D:$D,入出金NFT結果!$I:$I,\"=\"&月別集計!$B13,入出金NFT結果!$A:$A,\">=\"&月別集計!BE$1,入出金NFT結果!$A:$A,\"<=\"&月別集計!BE$2)","v":0},{"$f":"SUMIFS(入出金NFT結果!$D:$D,入出金NFT結果!$I:$I,\"=\"&月別集計!$B13,入出金NFT結果!$A:$A,\">=\"&月別集計!BF$1,入出金NFT結果!$A:$A,\"<=\"&月別集計!BF$2)","v":0},{"$f":"SUMIFS(入出金NFT結果!$D:$D,入出金NFT結果!$I:$I,\"=\"&月別集計!$B13,入出金NFT結果!$A:$A,\">=\"&月別集計!BG$1,入出金NFT結果!$A:$A,\"<=\"&月別集計!BG$2)","v":0},{"$f":"SUMIFS(入出金NFT結果!$D:$D,入出金NFT結果!$I:$I,\"=\"&月別集計!$B13,入出金NFT結果!$A:$A,\">=\"&月別集計!BH$1,入出金NFT結果!$A:$A,\"<=\"&月別集計!BH$2)","v":0},{"$f":"SUMIFS(入出金NFT結果!$D:$D,入出金NFT結果!$I:$I,\"=\"&月別集計!$B13,入出金NFT結果!$A:$A,\">=\"&月別集計!BI$1,入出金NFT結果!$A:$A,\"<=\"&月別集計!BI$2)","v":0},{"$f":"SUMIFS(入出金NFT結果!$D:$D,入出金NFT結果!$I:$I,\"=\"&月別集計!$B13,入出金NFT結果!$A:$A,\">=\"&月別集計!BJ$1,入出金NFT結果!$A:$A,\"<=\"&月別集計!BJ$2)","v":0},{"$f":"SUMIFS(入出金NFT結果!$D:$D,入出金NFT結果!$I:$I,\"=\"&月別集計!$B13,入出金NFT結果!$A:$A,\">=\"&月別集計!BK$1,入出金NFT結果!$A:$A,\"<=\"&月別集計!BK$2)","v":0},{"$f":"SUMIFS(入出金NFT結果!$D:$D,入出金NFT結果!$I:$I,\"=\"&月別集計!$B13,入出金NFT結果!$A:$A,\">=\"&月別集計!BL$1,入出金NFT結果!$A:$A,\"<=\"&月別集計!BL$2)","v":0},{"$f":"SUMIFS(入出金NFT結果!$D:$D,入出金NFT結果!$I:$I,\"=\"&月別集計!$B13,入出金NFT結果!$A:$A,\">=\"&月別集計!BM$1,入出金NFT結果!$A:$A,\"<=\"&月別集計!BM$2)","v":0}]
[null,{"$f":"推定用途置換ルール!G12","v":"取引所からの入金（2022.10以降）"},{"$f":"SUMIFS(入出金NFT結果!$D:$D,入出金NFT結果!$I:$I,\"=\"&月別集計!$B14,入出金NFT結果!$A:$A,\">=\"&月別集計!C$1,入出金NFT結果!$A:$A,\"<=\"&月別集計!C$2)","v":0},{"$f":"SUMIFS(入出金NFT結果!$D:$D,入出金NFT結果!$I:$I,\"=\"&月別集計!$B14,入出金NFT結果!$A:$A,\">=\"&月別集計!D$1,入出金NFT結果!$A:$A,\"<=\"&月別集計!D$2)","v":0},{"$f":"SUMIFS(入出金NFT結果!$D:$D,入出金NFT結果!$I:$I,\"=\"&月別集計!$B14,入出金NFT結果!$A:$A,\">=\"&月別集計!E$1,入出金NFT結果!$A:$A,\"<=\"&月別集計!E$2)","v":0},{"$f":"SUMIFS(入出金NFT結果!$D:$D,入出金NFT結果!$I:$I,\"=\"&月別集計!$B14,入出金NFT結果!$A:$A,\">=\"&月別集計!F$1,入出金NFT結果!$A:$A,\"<=\"&月別集計!F$2)","v":0},{"$f":"SUMIFS(入出金NFT結果!$D:$D,入出金NFT結果!$I:$I,\"=\"&月別集計!$B14,入出金NFT結果!$A:$A,\">=\"&月別集計!G$1,入出金NFT結果!$A:$A,\"<=\"&月別集計!G$2)","v":0},{"$f":"SUMIFS(入出金NFT結果!$D:$D,入出金NFT結果!$I:$I,\"=\"&月別集計!$B14,入出金NFT結果!$A:$A,\">=\"&月別集計!H$1,入出金NFT結果!$A:$A,\"<=\"&月別集計!H$2)","v":0},{"$f":"SUMIFS(入出金NFT結果!$D:$D,入出金NFT結果!$I:$I,\"=\"&月別集計!$B14,入出金NFT結果!$A:$A,\">=\"&月別集計!I$1,入出金NFT結果!$A:$A,\"<=\"&月別集計!I$2)","v":0},{"$f":"SUMIFS(入出金NFT結果!$D:$D,入出金NFT結果!$I:$I,\"=\"&月別集計!$B14,入出金NFT結果!$A:$A,\">=\"&月別集計!J$1,入出金NFT結果!$A:$A,\"<=\"&月別集計!J$2)","v":0},{"$f":"SUMIFS(入出金NFT結果!$D:$D,入出金NFT結果!$I:$I,\"=\"&月別集計!$B14,入出金NFT結果!$A:$A,\">=\"&月別集計!K$1,入出金NFT結果!$A:$A,\"<=\"&月別集計!K$2)","v":0},{"$f":"SUMIFS(入出金NFT結果!$D:$D,入出金NFT結果!$I:$I,\"=\"&月別集計!$B14,入出金NFT結果!$A:$A,\">=\"&月別集計!L$1,入出金NFT結果!$A:$A,\"<=\"&月別集計!L$2)","v":0},{"$f":"SUMIFS(入出金NFT結果!$D:$D,入出金NFT結果!$I:$I,\"=\"&月別集計!$B14,入出金NFT結果!$A:$A,\">=\"&月別集計!M$1,入出金NFT結果!$A:$A,\"<=\"&月別集計!M$2)","v":0},{"$f":"SUMIFS(入出金NFT結果!$D:$D,入出金NFT結果!$I:$I,\"=\"&月別集計!$B14,入出金NFT結果!$A:$A,\">=\"&月別集計!N$1,入出金NFT結果!$A:$A,\"<=\"&月別集計!N$2)","v":0},{"$f":"SUMIFS(入出金NFT結果!$D:$D,入出金NFT結果!$I:$I,\"=\"&月別集計!$B14,入出金NFT結果!$A:$A,\">=\"&月別集計!O$1,入出金NFT結果!$A:$A,\"<=\"&月別集計!O$2)","v":0},{"$f":"SUMIFS(入出金NFT結果!$D:$D,入出金NFT結果!$I:$I,\"=\"&月別集計!$B14,入出金NFT結果!$A:$A,\">=\"&月別集計!P$1,入出金NFT結果!$A:$A,\"<=\"&月別集計!P$2)","v":0},{"$f":"SUMIFS(入出金NFT結果!$D:$D,入出金NFT結果!$I:$I,\"=\"&月別集計!$B14,入出金NFT結果!$A:$A,\">=\"&月別集計!Q$1,入出金NFT結果!$A:$A,\"<=\"&月別集計!Q$2)","v":0},{"$f":"SUMIFS(入出金NFT結果!$D:$D,入出金NFT結果!$I:$I,\"=\"&月別集計!$B14,入出金NFT結果!$A:$A,\">=\"&月別集計!R$1,入出金NFT結果!$A:$A,\"<=\"&月別集計!R$2)","v":0},{"$f":"SUMIFS(入出金NFT結果!$D:$D,入出金NFT結果!$I:$I,\"=\"&月別集計!$B14,入出金NFT結果!$A:$A,\">=\"&月別集計!S$1,入出金NFT結果!$A:$A,\"<=\"&月別集計!S$2)","v":0},{"$f":"SUMIFS(入出金NFT結果!$D:$D,入出金NFT結果!$I:$I,\"=\"&月別集計!$B14,入出金NFT結果!$A:$A,\">=\"&月別集計!T$1,入出金NFT結果!$A:$A,\"<=\"&月別集計!T$2)","v":0},{"$f":"SUMIFS(入出金NFT結果!$D:$D,入出金NFT結果!$I:$I,\"=\"&月別集計!$B14,入出金NFT結果!$A:$A,\">=\"&月別集計!U$1,入出金NFT結果!$A:$A,\"<=\"&月別集計!U$2)","v":0},{"$f":"SUMIFS(入出金NFT結果!$D:$D,入出金NFT結果!$I:$I,\"=\"&月別集計!$B14,入出金NFT結果!$A:$A,\">=\"&月別集計!V$1,入出金NFT結果!$A:$A,\"<=\"&月別集計!V$2)","v":0},{"$f":"SUMIFS(入出金NFT結果!$D:$D,入出金NFT結果!$I:$I,\"=\"&月別集計!$B14,入出金NFT結果!$A:$A,\">=\"&月別集計!W$1,入出金NFT結果!$A:$A,\"<=\"&月別集計!W$2)","v":0},{"$f":"SUMIFS(入出金NFT結果!$D:$D,入出金NFT結果!$I:$I,\"=\"&月別集計!$B14,入出金NFT結果!$A:$A,\">=\"&月別集計!X$1,入出金NFT結果!$A:$A,\"<=\"&月別集計!X$2)","v":0},{"$f":"SUMIFS(入出金NFT結果!$D:$D,入出金NFT結果!$I:$I,\"=\"&月別集計!$B14,入出金NFT結果!$A:$A,\">=\"&月別集計!Y$1,入出金NFT結果!$A:$A,\"<=\"&月別集計!Y$2)","v":0},{"$f":"SUMIFS(入出金NFT結果!$D:$D,入出金NFT結果!$I:$I,\"=\"&月別集計!$B14,入出金NFT結果!$A:$A,\">=\"&月別集計!Z$1,入出金NFT結果!$A:$A,\"<=\"&月別集計!Z$2)","v":0},{"$f":"SUMIFS(入出金NFT結果!$D:$D,入出金NFT結果!$I:$I,\"=\"&月別集計!$B14,入出金NFT結果!$A:$A,\">=\"&月別集計!AA$1,入出金NFT結果!$A:$A,\"<=\"&月別集計!AA$2)","v":0},{"$f":"SUMIFS(入出金NFT結果!$D:$D,入出金NFT結果!$I:$I,\"=\"&月別集計!$B14,入出金NFT結果!$A:$A,\">=\"&月別集計!AB$1,入出金NFT結果!$A:$A,\"<=\"&月別集計!AB$2)","v":0},{"$f":"SUMIFS(入出金NFT結果!$D:$D,入出金NFT結果!$I:$I,\"=\"&月別集計!$B14,入出金NFT結果!$A:$A,\">=\"&月別集計!AC$1,入出金NFT結果!$A:$A,\"<=\"&月別集計!AC$2)","v":0},{"$f":"SUMIFS(入出金NFT結果!$D:$D,入出金NFT結果!$I:$I,\"=\"&月別集計!$B14,入出金NFT結果!$A:$A,\">=\"&月別集計!AD$1,入出金NFT結果!$A:$A,\"<=\"&月別集計!AD$2)","v":0},{"$f":"SUMIFS(入出金NFT結果!$D:$D,入出金NFT結果!$I:$I,\"=\"&月別集計!$B14,入出金NFT結果!$A:$A,\">=\"&月別集計!AE$1,入出金NFT結果!$A:$A,\"<=\"&月別集計!AE$2)","v":0},{"$f":"SUMIFS(入出金NFT結果!$D:$D,入出金NFT結果!$I:$I,\"=\"&月別集計!$B14,入出金NFT結果!$A:$A,\">=\"&月別集計!AF$1,入出金NFT結果!$A:$A,\"<=\"&月別集計!AF$2)","v":0},{"$f":"SUMIFS(入出金NFT結果!$D:$D,入出金NFT結果!$I:$I,\"=\"&月別集計!$B14,入出金NFT結果!$A:$A,\">=\"&月別集計!AG$1,入出金NFT結果!$A:$A,\"<=\"&月別集計!AG$2)","v":0},{"$f":"SUMIFS(入出金NFT結果!$D:$D,入出金NFT結果!$I:$I,\"=\"&月別集計!$B14,入出金NFT結果!$A:$A,\">=\"&月別集計!AH$1,入出金NFT結果!$A:$A,\"<=\"&月別集計!AH$2)","v":0},{"$f":"SUMIFS(入出金NFT結果!$D:$D,入出金NFT結果!$I:$I,\"=\"&月別集計!$B14,入出金NFT結果!$A:$A,\">=\"&月別集計!AI$1,入出金NFT結果!$A:$A,\"<=\"&月別集計!AI$2)","v":0},{"$f":"SUMIFS(入出金NFT結果!$D:$D,入出金NFT結果!$I:$I,\"=\"&月別集計!$B14,入出金NFT結果!$A:$A,\">=\"&月別集計!AJ$1,入出金NFT結果!$A:$A,\"<=\"&月別集計!AJ$2)","v":0},{"$f":"SUMIFS(入出金NFT結果!$D:$D,入出金NFT結果!$I:$I,\"=\"&月別集計!$B14,入出金NFT結果!$A:$A,\">=\"&月別集計!AK$1,入出金NFT結果!$A:$A,\"<=\"&月別集計!AK$2)","v":0},{"$f":"SUMIFS(入出金NFT結果!$D:$D,入出金NFT結果!$I:$I,\"=\"&月別集計!$B14,入出金NFT結果!$A:$A,\">=\"&月別集計!AL$1,入出金NFT結果!$A:$A,\"<=\"&月別集計!AL$2)","v":0},{"$f":"SUMIFS(入出金NFT結果!$D:$D,入出金NFT結果!$I:$I,\"=\"&月別集計!$B14,入出金NFT結果!$A:$A,\">=\"&月別集計!AM$1,入出金NFT結果!$A:$A,\"<=\"&月別集計!AM$2)","v":0},{"$f":"SUMIFS(入出金NFT結果!$D:$D,入出金NFT結果!$I:$I,\"=\"&月別集計!$B14,入出金NFT結果!$A:$A,\">=\"&月別集計!AN$1,入出金NFT結果!$A:$A,\"<=\"&月別集計!AN$2)","v":0},{"$f":"SUMIFS(入出金NFT結果!$D:$D,入出金NFT結果!$I:$I,\"=\"&月別集計!$B14,入出金NFT結果!$A:$A,\">=\"&月別集計!AO$1,入出金NFT結果!$A:$A,\"<=\"&月別集計!AO$2)","v":0},{"$f":"SUMIFS(入出金NFT結果!$D:$D,入出金NFT結果!$I:$I,\"=\"&月別集計!$B14,入出金NFT結果!$A:$A,\">=\"&月別集計!AP$1,入出金NFT結果!$A:$A,\"<=\"&月別集計!AP$2)","v":0},{"$f":"SUMIFS(入出金NFT結果!$D:$D,入出金NFT結果!$I:$I,\"=\"&月別集計!$B14,入出金NFT結果!$A:$A,\">=\"&月別集計!AQ$1,入出金NFT結果!$A:$A,\"<=\"&月別集計!AQ$2)","v":0},{"$f":"SUMIFS(入出金NFT結果!$D:$D,入出金NFT結果!$I:$I,\"=\"&月別集計!$B14,入出金NFT結果!$A:$A,\">=\"&月別集計!AR$1,入出金NFT結果!$A:$A,\"<=\"&月別集計!AR$2)","v":0},{"$f":"SUMIFS(入出金NFT結果!$D:$D,入出金NFT結果!$I:$I,\"=\"&月別集計!$B14,入出金NFT結果!$A:$A,\">=\"&月別集計!AS$1,入出金NFT結果!$A:$A,\"<=\"&月別集計!AS$2)","v":0},{"$f":"SUMIFS(入出金NFT結果!$D:$D,入出金NFT結果!$I:$I,\"=\"&月別集計!$B14,入出金NFT結果!$A:$A,\">=\"&月別集計!AT$1,入出金NFT結果!$A:$A,\"<=\"&月別集計!AT$2)","v":0},{"$f":"SUMIFS(入出金NFT結果!$D:$D,入出金NFT結果!$I:$I,\"=\"&月別集計!$B14,入出金NFT結果!$A:$A,\">=\"&月別集計!AU$1,入出金NFT結果!$A:$A,\"<=\"&月別集計!AU$2)","v":0},{"$f":"SUMIFS(入出金NFT結果!$D:$D,入出金NFT結果!$I:$I,\"=\"&月別集計!$B14,入出金NFT結果!$A:$A,\">=\"&月別集計!AV$1,入出金NFT結果!$A:$A,\"<=\"&月別集計!AV$2)","v":0},{"$f":"SUMIFS(入出金NFT結果!$D:$D,入出金NFT結果!$I:$I,\"=\"&月別集計!$B14,入出金NFT結果!$A:$A,\">=\"&月別集計!AW$1,入出金NFT結果!$A:$A,\"<=\"&月別集計!AW$2)","v":0},{"$f":"SUMIFS(入出金NFT結果!$D:$D,入出金NFT結果!$I:$I,\"=\"&月別集計!$B14,入出金NFT結果!$A:$A,\">=\"&月別集計!AX$1,入出金NFT結果!$A:$A,\"<=\"&月別集計!AX$2)","v":0},{"$f":"SUMIFS(入出金NFT結果!$D:$D,入出金NFT結果!$I:$I,\"=\"&月別集計!$B14,入出金NFT結果!$A:$A,\">=\"&月別集計!AY$1,入出金NFT結果!$A:$A,\"<=\"&月別集計!AY$2)","v":0},{"$f":"SUMIFS(入出金NFT結果!$D:$D,入出金NFT結果!$I:$I,\"=\"&月別集計!$B14,入出金NFT結果!$A:$A,\">=\"&月別集計!AZ$1,入出金NFT結果!$A:$A,\"<=\"&月別集計!AZ$2)","v":0},{"$f":"SUMIFS(入出金NFT結果!$D:$D,入出金NFT結果!$I:$I,\"=\"&月別集計!$B14,入出金NFT結果!$A:$A,\">=\"&月別集計!BA$1,入出金NFT結果!$A:$A,\"<=\"&月別集計!BA$2)","v":0},{"$f":"SUMIFS(入出金NFT結果!$D:$D,入出金NFT結果!$I:$I,\"=\"&月別集計!$B14,入出金NFT結果!$A:$A,\">=\"&月別集計!BB$1,入出金NFT結果!$A:$A,\"<=\"&月別集計!BB$2)","v":0},{"$f":"SUMIFS(入出金NFT結果!$D:$D,入出金NFT結果!$I:$I,\"=\"&月別集計!$B14,入出金NFT結果!$A:$A,\">=\"&月別集計!BC$1,入出金NFT結果!$A:$A,\"<=\"&月別集計!BC$2)","v":0},{"$f":"SUMIFS(入出金NFT結果!$D:$D,入出金NFT結果!$I:$I,\"=\"&月別集計!$B14,入出金NFT結果!$A:$A,\">=\"&月別集計!BD$1,入出金NFT結果!$A:$A,\"<=\"&月別集計!BD$2)","v":0},{"$f":"SUMIFS(入出金NFT結果!$D:$D,入出金NFT結果!$I:$I,\"=\"&月別集計!$B14,入出金NFT結果!$A:$A,\">=\"&月別集計!BE$1,入出金NFT結果!$A:$A,\"<=\"&月別集計!BE$2)","v":0},{"$f":"SUMIFS(入出金NFT結果!$D:$D,入出金NFT結果!$I:$I,\"=\"&月別集計!$B14,入出金NFT結果!$A:$A,\">=\"&月別集計!BF$1,入出金NFT結果!$A:$A,\"<=\"&月別集計!BF$2)","v":0},{"$f":"SUMIFS(入出金NFT結果!$D:$D,入出金NFT結果!$I:$I,\"=\"&月別集計!$B14,入出金NFT結果!$A:$A,\">=\"&月別集計!BG$1,入出金NFT結果!$A:$A,\"<=\"&月別集計!BG$2)","v":0},{"$f":"SUMIFS(入出金NFT結果!$D:$D,入出金NFT結果!$I:$I,\"=\"&月別集計!$B14,入出金NFT結果!$A:$A,\">=\"&月別集計!BH$1,入出金NFT結果!$A:$A,\"<=\"&月別集計!BH$2)","v":0},{"$f":"SUMIFS(入出金NFT結果!$D:$D,入出金NFT結果!$I:$I,\"=\"&月別集計!$B14,入出金NFT結果!$A:$A,\">=\"&月別集計!BI$1,入出金NFT結果!$A:$A,\"<=\"&月別集計!BI$2)","v":0},{"$f":"SUMIFS(入出金NFT結果!$D:$D,入出金NFT結果!$I:$I,\"=\"&月別集計!$B14,入出金NFT結果!$A:$A,\">=\"&月別集計!BJ$1,入出金NFT結果!$A:$A,\"<=\"&月別集計!BJ$2)","v":0},{"$f":"SUMIFS(入出金NFT結果!$D:$D,入出金NFT結果!$I:$I,\"=\"&月別集計!$B14,入出金NFT結果!$A:$A,\">=\"&月別集計!BK$1,入出金NFT結果!$A:$A,\"<=\"&月別集計!BK$2)","v":0},{"$f":"SUMIFS(入出金NFT結果!$D:$D,入出金NFT結果!$I:$I,\"=\"&月別集計!$B14,入出金NFT結果!$A:$A,\">=\"&月別集計!BL$1,入出金NFT結果!$A:$A,\"<=\"&月別集計!BL$2)","v":0},{"$f":"SUMIFS(入出金NFT結果!$D:$D,入出金NFT結果!$I:$I,\"=\"&月別集計!$B14,入出金NFT結果!$A:$A,\">=\"&月別集計!BM$1,入出金NFT結果!$A:$A,\"<=\"&月別集計!BM$2)","v":0}]
[null,{"$f":"推定用途置換ルール!G13","v":"PlaysiaTV：動画視聴くじ報酬"},{"$f":"SUMIFS(入出金NFT結果!$D:$D,入出金NFT結果!$I:$I,\"=\"&月別集計!$B15,入出金NFT結果!$A:$A,\">=\"&月別集計!C$1,入出金NFT結果!$A:$A,\"<=\"&月別集計!C$2)","v":0},{"$f":"SUMIFS(入出金NFT結果!$D:$D,入出金NFT結果!$I:$I,\"=\"&月別集計!$B15,入出金NFT結果!$A:$A,\">=\"&月別集計!D$1,入出金NFT結果!$A:$A,\"<=\"&月別集計!D$2)","v":0},{"$f":"SUMIFS(入出金NFT結果!$D:$D,入出金NFT結果!$I:$I,\"=\"&月別集計!$B15,入出金NFT結果!$A:$A,\">=\"&月別集計!E$1,入出金NFT結果!$A:$A,\"<=\"&月別集計!E$2)","v":0},{"$f":"SUMIFS(入出金NFT結果!$D:$D,入出金NFT結果!$I:$I,\"=\"&月別集計!$B15,入出金NFT結果!$A:$A,\">=\"&月別集計!F$1,入出金NFT結果!$A:$A,\"<=\"&月別集計!F$2)","v":0},{"$f":"SUMIFS(入出金NFT結果!$D:$D,入出金NFT結果!$I:$I,\"=\"&月別集計!$B15,入出金NFT結果!$A:$A,\">=\"&月別集計!G$1,入出金NFT結果!$A:$A,\"<=\"&月別集計!G$2)","v":0},{"$f":"SUMIFS(入出金NFT結果!$D:$D,入出金NFT結果!$I:$I,\"=\"&月別集計!$B15,入出金NFT結果!$A:$A,\">=\"&月別集計!H$1,入出金NFT結果!$A:$A,\"<=\"&月別集計!H$2)","v":0},{"$f":"SUMIFS(入出金NFT結果!$D:$D,入出金NFT結果!$I:$I,\"=\"&月別集計!$B15,入出金NFT結果!$A:$A,\">=\"&月別集計!I$1,入出金NFT結果!$A:$A,\"<=\"&月別集計!I$2)","v":0},{"$f":"SUMIFS(入出金NFT結果!$D:$D,入出金NFT結果!$I:$I,\"=\"&月別集計!$B15,入出金NFT結果!$A:$A,\">=\"&月別集計!J$1,入出金NFT結果!$A:$A,\"<=\"&月別集計!J$2)","v":0},{"$f":"SUMIFS(入出金NFT結果!$D:$D,入出金NFT結果!$I:$I,\"=\"&月別集計!$B15,入出金NFT結果!$A:$A,\">=\"&月別集計!K$1,入出金NFT結果!$A:$A,\"<=\"&月別集計!K$2)","v":0},{"$f":"SUMIFS(入出金NFT結果!$D:$D,入出金NFT結果!$I:$I,\"=\"&月別集計!$B15,入出金NFT結果!$A:$A,\">=\"&月別集計!L$1,入出金NFT結果!$A:$A,\"<=\"&月別集計!L$2)","v":0},{"$f":"SUMIFS(入出金NFT結果!$D:$D,入出金NFT結果!$I:$I,\"=\"&月別集計!$B15,入出金NFT結果!$A:$A,\">=\"&月別集計!M$1,入出金NFT結果!$A:$A,\"<=\"&月別集計!M$2)","v":0},{"$f":"SUMIFS(入出金NFT結果!$D:$D,入出金NFT結果!$I:$I,\"=\"&月別集計!$B15,入出金NFT結果!$A:$A,\">=\"&月別集計!N$1,入出金NFT結果!$A:$A,\"<=\"&月別集計!N$2)","v":0},{"$f":"SUMIFS(入出金NFT結果!$D:$D,入出金NFT結果!$I:$I,\"=\"&月別集計!$B15,入出金NFT結果!$A:$A,\">=\"&月別集計!O$1,入出金NFT結果!$A:$A,\"<=\"&月別集計!O$2)","v":0},{"$f":"SUMIFS(入出金NFT結果!$D:$D,入出金NFT結果!$I:$I,\"=\"&月別集計!$B15,入出金NFT結果!$A:$A,\">=\"&月別集計!P$1,入出金NFT結果!$A:$A,\"<=\"&月別集計!P$2)","v":0},{"$f":"SUMIFS(入出金NFT結果!$D:$D,入出金NFT結果!$I:$I,\"=\"&月別集計!$B15,入出金NFT結果!$A:$A,\">=\"&月別集計!Q$1,入出金NFT結果!$A:$A,\"<=\"&月別集計!Q$2)","v":0},{"$f":"SUMIFS(入出金NFT結果!$D:$D,入出金NFT結果!$I:$I,\"=\"&月別集計!$B15,入出金NFT結果!$A:$A,\">=\"&月別集計!R$1,入出金NFT結果!$A:$A,\"<=\"&月別集計!R$2)","v":0},{"$f":"SUMIFS(入出金NFT結果!$D:$D,入出金NFT結果!$I:$I,\"=\"&月別集計!$B15,入出金NFT結果!$A:$A,\">=\"&月別集計!S$1,入出金NFT結果!$A:$A,\"<=\"&月別集計!S$2)","v":0},{"$f":"SUMIFS(入出金NFT結果!$D:$D,入出金NFT結果!$I:$I,\"=\"&月別集計!$B15,入出金NFT結果!$A:$A,\">=\"&月別集計!T$1,入出金NFT結果!$A:$A,\"<=\"&月別集計!T$2)","v":0},{"$f":"SUMIFS(入出金NFT結果!$D:$D,入出金NFT結果!$I:$I,\"=\"&月別集計!$B15,入出金NFT結果!$A:$A,\">=\"&月別集計!U$1,入出金NFT結果!$A:$A,\"<=\"&月別集計!U$2)","v":0},{"$f":"SUMIFS(入出金NFT結果!$D:$D,入出金NFT結果!$I:$I,\"=\"&月別集計!$B15,入出金NFT結果!$A:$A,\">=\"&月別集計!V$1,入出金NFT結果!$A:$A,\"<=\"&月別集計!V$2)","v":0},{"$f":"SUMIFS(入出金NFT結果!$D:$D,入出金NFT結果!$I:$I,\"=\"&月別集計!$B15,入出金NFT結果!$A:$A,\">=\"&月別集計!W$1,入出金NFT結果!$A:$A,\"<=\"&月別集計!W$2)","v":0},{"$f":"SUMIFS(入出金NFT結果!$D:$D,入出金NFT結果!$I:$I,\"=\"&月別集計!$B15,入出金NFT結果!$A:$A,\">=\"&月別集計!X$1,入出金NFT結果!$A:$A,\"<=\"&月別集計!X$2)","v":0},{"$f":"SUMIFS(入出金NFT結果!$D:$D,入出金NFT結果!$I:$I,\"=\"&月別集計!$B15,入出金NFT結果!$A:$A,\">=\"&月別集計!Y$1,入出金NFT結果!$A:$A,\"<=\"&月別集計!Y$2)","v":0},{"$f":"SUMIFS(入出金NFT結果!$D:$D,入出金NFT結果!$I:$I,\"=\"&月別集計!$B15,入出金NFT結果!$A:$A,\">=\"&月別集計!Z$1,入出金NFT結果!$A:$A,\"<=\"&月別集計!Z$2)","v":0},{"$f":"SUMIFS(入出金NFT結果!$D:$D,入出金NFT結果!$I:$I,\"=\"&月別集計!$B15,入出金NFT結果!$A:$A,\">=\"&月別集計!AA$1,入出金NFT結果!$A:$A,\"<=\"&月別集計!AA$2)","v":0},{"$f":"SUMIFS(入出金NFT結果!$D:$D,入出金NFT結果!$I:$I,\"=\"&月別集計!$B15,入出金NFT結果!$A:$A,\">=\"&月別集計!AB$1,入出金NFT結果!$A:$A,\"<=\"&月別集計!AB$2)","v":0},{"$f":"SUMIFS(入出金NFT結果!$D:$D,入出金NFT結果!$I:$I,\"=\"&月別集計!$B15,入出金NFT結果!$A:$A,\">=\"&月別集計!AC$1,入出金NFT結果!$A:$A,\"<=\"&月別集計!AC$2)","v":0},{"$f":"SUMIFS(入出金NFT結果!$D:$D,入出金NFT結果!$I:$I,\"=\"&月別集計!$B15,入出金NFT結果!$A:$A,\">=\"&月別集計!AD$1,入出金NFT結果!$A:$A,\"<=\"&月別集計!AD$2)","v":0},{"$f":"SUMIFS(入出金NFT結果!$D:$D,入出金NFT結果!$I:$I,\"=\"&月別集計!$B15,入出金NFT結果!$A:$A,\">=\"&月別集計!AE$1,入出金NFT結果!$A:$A,\"<=\"&月別集計!AE$2)","v":0},{"$f":"SUMIFS(入出金NFT結果!$D:$D,入出金NFT結果!$I:$I,\"=\"&月別集計!$B15,入出金NFT結果!$A:$A,\">=\"&月別集計!AF$1,入出金NFT結果!$A:$A,\"<=\"&月別集計!AF$2)","v":0},{"$f":"SUMIFS(入出金NFT結果!$D:$D,入出金NFT結果!$I:$I,\"=\"&月別集計!$B15,入出金NFT結果!$A:$A,\">=\"&月別集計!AG$1,入出金NFT結果!$A:$A,\"<=\"&月別集計!AG$2)","v":0},{"$f":"SUMIFS(入出金NFT結果!$D:$D,入出金NFT結果!$I:$I,\"=\"&月別集計!$B15,入出金NFT結果!$A:$A,\">=\"&月別集計!AH$1,入出金NFT結果!$A:$A,\"<=\"&月別集計!AH$2)","v":0},{"$f":"SUMIFS(入出金NFT結果!$D:$D,入出金NFT結果!$I:$I,\"=\"&月別集計!$B15,入出金NFT結果!$A:$A,\">=\"&月別集計!AI$1,入出金NFT結果!$A:$A,\"<=\"&月別集計!AI$2)","v":0},{"$f":"SUMIFS(入出金NFT結果!$D:$D,入出金NFT結果!$I:$I,\"=\"&月別集計!$B15,入出金NFT結果!$A:$A,\">=\"&月別集計!AJ$1,入出金NFT結果!$A:$A,\"<=\"&月別集計!AJ$2)","v":0},{"$f":"SUMIFS(入出金NFT結果!$D:$D,入出金NFT結果!$I:$I,\"=\"&月別集計!$B15,入出金NFT結果!$A:$A,\">=\"&月別集計!AK$1,入出金NFT結果!$A:$A,\"<=\"&月別集計!AK$2)","v":0},{"$f":"SUMIFS(入出金NFT結果!$D:$D,入出金NFT結果!$I:$I,\"=\"&月別集計!$B15,入出金NFT結果!$A:$A,\">=\"&月別集計!AL$1,入出金NFT結果!$A:$A,\"<=\"&月別集計!AL$2)","v":0},{"$f":"SUMIFS(入出金NFT結果!$D:$D,入出金NFT結果!$I:$I,\"=\"&月別集計!$B15,入出金NFT結果!$A:$A,\">=\"&月別集計!AM$1,入出金NFT結果!$A:$A,\"<=\"&月別集計!AM$2)","v":0},{"$f":"SUMIFS(入出金NFT結果!$D:$D,入出金NFT結果!$I:$I,\"=\"&月別集計!$B15,入出金NFT結果!$A:$A,\">=\"&月別集計!AN$1,入出金NFT結果!$A:$A,\"<=\"&月別集計!AN$2)","v":0},{"$f":"SUMIFS(入出金NFT結果!$D:$D,入出金NFT結果!$I:$I,\"=\"&月別集計!$B15,入出金NFT結果!$A:$A,\">=\"&月別集計!AO$1,入出金NFT結果!$A:$A,\"<=\"&月別集計!AO$2)","v":0},{"$f":"SUMIFS(入出金NFT結果!$D:$D,入出金NFT結果!$I:$I,\"=\"&月別集計!$B15,入出金NFT結果!$A:$A,\">=\"&月別集計!AP$1,入出金NFT結果!$A:$A,\"<=\"&月別集計!AP$2)","v":0},{"$f":"SUMIFS(入出金NFT結果!$D:$D,入出金NFT結果!$I:$I,\"=\"&月別集計!$B15,入出金NFT結果!$A:$A,\">=\"&月別集計!AQ$1,入出金NFT結果!$A:$A,\"<=\"&月別集計!AQ$2)","v":0},{"$f":"SUMIFS(入出金NFT結果!$D:$D,入出金NFT結果!$I:$I,\"=\"&月別集計!$B15,入出金NFT結果!$A:$A,\">=\"&月別集計!AR$1,入出金NFT結果!$A:$A,\"<=\"&月別集計!AR$2)","v":0},{"$f":"SUMIFS(入出金NFT結果!$D:$D,入出金NFT結果!$I:$I,\"=\"&月別集計!$B15,入出金NFT結果!$A:$A,\">=\"&月別集計!AS$1,入出金NFT結果!$A:$A,\"<=\"&月別集計!AS$2)","v":0},{"$f":"SUMIFS(入出金NFT結果!$D:$D,入出金NFT結果!$I:$I,\"=\"&月別集計!$B15,入出金NFT結果!$A:$A,\">=\"&月別集計!AT$1,入出金NFT結果!$A:$A,\"<=\"&月別集計!AT$2)","v":0},{"$f":"SUMIFS(入出金NFT結果!$D:$D,入出金NFT結果!$I:$I,\"=\"&月別集計!$B15,入出金NFT結果!$A:$A,\">=\"&月別集計!AU$1,入出金NFT結果!$A:$A,\"<=\"&月別集計!AU$2)","v":0},{"$f":"SUMIFS(入出金NFT結果!$D:$D,入出金NFT結果!$I:$I,\"=\"&月別集計!$B15,入出金NFT結果!$A:$A,\">=\"&月別集計!AV$1,入出金NFT結果!$A:$A,\"<=\"&月別集計!AV$2)","v":0},{"$f":"SUMIFS(入出金NFT結果!$D:$D,入出金NFT結果!$I:$I,\"=\"&月別集計!$B15,入出金NFT結果!$A:$A,\">=\"&月別集計!AW$1,入出金NFT結果!$A:$A,\"<=\"&月別集計!AW$2)","v":0},{"$f":"SUMIFS(入出金NFT結果!$D:$D,入出金NFT結果!$I:$I,\"=\"&月別集計!$B15,入出金NFT結果!$A:$A,\">=\"&月別集計!AX$1,入出金NFT結果!$A:$A,\"<=\"&月別集計!AX$2)","v":0},{"$f":"SUMIFS(入出金NFT結果!$D:$D,入出金NFT結果!$I:$I,\"=\"&月別集計!$B15,入出金NFT結果!$A:$A,\">=\"&月別集計!AY$1,入出金NFT結果!$A:$A,\"<=\"&月別集計!AY$2)","v":0},{"$f":"SUMIFS(入出金NFT結果!$D:$D,入出金NFT結果!$I:$I,\"=\"&月別集計!$B15,入出金NFT結果!$A:$A,\">=\"&月別集計!AZ$1,入出金NFT結果!$A:$A,\"<=\"&月別集計!AZ$2)","v":0},{"$f":"SUMIFS(入出金NFT結果!$D:$D,入出金NFT結果!$I:$I,\"=\"&月別集計!$B15,入出金NFT結果!$A:$A,\">=\"&月別集計!BA$1,入出金NFT結果!$A:$A,\"<=\"&月別集計!BA$2)","v":0},{"$f":"SUMIFS(入出金NFT結果!$D:$D,入出金NFT結果!$I:$I,\"=\"&月別集計!$B15,入出金NFT結果!$A:$A,\">=\"&月別集計!BB$1,入出金NFT結果!$A:$A,\"<=\"&月別集計!BB$2)","v":0},{"$f":"SUMIFS(入出金NFT結果!$D:$D,入出金NFT結果!$I:$I,\"=\"&月別集計!$B15,入出金NFT結果!$A:$A,\">=\"&月別集計!BC$1,入出金NFT結果!$A:$A,\"<=\"&月別集計!BC$2)","v":0},{"$f":"SUMIFS(入出金NFT結果!$D:$D,入出金NFT結果!$I:$I,\"=\"&月別集計!$B15,入出金NFT結果!$A:$A,\">=\"&月別集計!BD$1,入出金NFT結果!$A:$A,\"<=\"&月別集計!BD$2)","v":0},{"$f":"SUMIFS(入出金NFT結果!$D:$D,入出金NFT結果!$I:$I,\"=\"&月別集計!$B15,入出金NFT結果!$A:$A,\">=\"&月別集計!BE$1,入出金NFT結果!$A:$A,\"<=\"&月別集計!BE$2)","v":0},{"$f":"SUMIFS(入出金NFT結果!$D:$D,入出金NFT結果!$I:$I,\"=\"&月別集計!$B15,入出金NFT結果!$A:$A,\">=\"&月別集計!BF$1,入出金NFT結果!$A:$A,\"<=\"&月別集計!BF$2)","v":0},{"$f":"SUMIFS(入出金NFT結果!$D:$D,入出金NFT結果!$I:$I,\"=\"&月別集計!$B15,入出金NFT結果!$A:$A,\">=\"&月別集計!BG$1,入出金NFT結果!$A:$A,\"<=\"&月別集計!BG$2)","v":0},{"$f":"SUMIFS(入出金NFT結果!$D:$D,入出金NFT結果!$I:$I,\"=\"&月別集計!$B15,入出金NFT結果!$A:$A,\">=\"&月別集計!BH$1,入出金NFT結果!$A:$A,\"<=\"&月別集計!BH$2)","v":0},{"$f":"SUMIFS(入出金NFT結果!$D:$D,入出金NFT結果!$I:$I,\"=\"&月別集計!$B15,入出金NFT結果!$A:$A,\">=\"&月別集計!BI$1,入出金NFT結果!$A:$A,\"<=\"&月別集計!BI$2)","v":0},{"$f":"SUMIFS(入出金NFT結果!$D:$D,入出金NFT結果!$I:$I,\"=\"&月別集計!$B15,入出金NFT結果!$A:$A,\">=\"&月別集計!BJ$1,入出金NFT結果!$A:$A,\"<=\"&月別集計!BJ$2)","v":0},{"$f":"SUMIFS(入出金NFT結果!$D:$D,入出金NFT結果!$I:$I,\"=\"&月別集計!$B15,入出金NFT結果!$A:$A,\">=\"&月別集計!BK$1,入出金NFT結果!$A:$A,\"<=\"&月別集計!BK$2)","v":0},{"$f":"SUMIFS(入出金NFT結果!$D:$D,入出金NFT結果!$I:$I,\"=\"&月別集計!$B15,入出金NFT結果!$A:$A,\">=\"&月別集計!BL$1,入出金NFT結果!$A:$A,\"<=\"&月別集計!BL$2)","v":0},{"$f":"SUMIFS(入出金NFT結果!$D:$D,入出金NFT結果!$I:$I,\"=\"&月別集計!$B15,入出金NFT結果!$A:$A,\">=\"&月別集計!BM$1,入出金NFT結果!$A:$A,\"<=\"&月別集計!BM$2)","v":0}]
[null,{"$f":"推定用途置換ルール!G14","v":"Cookin’ Burger：給料報酬"},{"$f":"SUMIFS(入出金NFT結果!$D:$D,入出金NFT結果!$I:$I,\"=\"&月別集計!$B16,入出金NFT結果!$A:$A,\">=\"&月別集計!C$1,入出金NFT結果!$A:$A,\"<=\"&月別集計!C$2)","v":0},{"$f":"SUMIFS(入出金NFT結果!$D:$D,入出金NFT結果!$I:$I,\"=\"&月別集計!$B16,入出金NFT結果!$A:$A,\">=\"&月別集計!D$1,入出金NFT結果!$A:$A,\"<=\"&月別集計!D$2)","v":0},{"$f":"SUMIFS(入出金NFT結果!$D:$D,入出金NFT結果!$I:$I,\"=\"&月別集計!$B16,入出金NFT結果!$A:$A,\">=\"&月別集計!E$1,入出金NFT結果!$A:$A,\"<=\"&月別集計!E$2)","v":0},{"$f":"SUMIFS(入出金NFT結果!$D:$D,入出金NFT結果!$I:$I,\"=\"&月別集計!$B16,入出金NFT結果!$A:$A,\">=\"&月別集計!F$1,入出金NFT結果!$A:$A,\"<=\"&月別集計!F$2)","v":0},{"$f":"SUMIFS(入出金NFT結果!$D:$D,入出金NFT結果!$I:$I,\"=\"&月別集計!$B16,入出金NFT結果!$A:$A,\">=\"&月別集計!G$1,入出金NFT結果!$A:$A,\"<=\"&月別集計!G$2)","v":0},{"$f":"SUMIFS(入出金NFT結果!$D:$D,入出金NFT結果!$I:$I,\"=\"&月別集計!$B16,入出金NFT結果!$A:$A,\">=\"&月別集計!H$1,入出金NFT結果!$A:$A,\"<=\"&月別集計!H$2)","v":0},{"$f":"SUMIFS(入出金NFT結果!$D:$D,入出金NFT結果!$I:$I,\"=\"&月別集計!$B16,入出金NFT結果!$A:$A,\">=\"&月別集計!I$1,入出金NFT結果!$A:$A,\"<=\"&月別集計!I$2)","v":0},{"$f":"SUMIFS(入出金NFT結果!$D:$D,入出金NFT結果!$I:$I,\"=\"&月別集計!$B16,入出金NFT結果!$A:$A,\">=\"&月別集計!J$1,入出金NFT結果!$A:$A,\"<=\"&月別集計!J$2)","v":0},{"$f":"SUMIFS(入出金NFT結果!$D:$D,入出金NFT結果!$I:$I,\"=\"&月別集計!$B16,入出金NFT結果!$A:$A,\">=\"&月別集計!K$1,入出金NFT結果!$A:$A,\"<=\"&月別集計!K$2)","v":0},{"$f":"SUMIFS(入出金NFT結果!$D:$D,入出金NFT結果!$I:$I,\"=\"&月別集計!$B16,入出金NFT結果!$A:$A,\">=\"&月別集計!L$1,入出金NFT結果!$A:$A,\"<=\"&月別集計!L$2)","v":0},{"$f":"SUMIFS(入出金NFT結果!$D:$D,入出金NFT結果!$I:$I,\"=\"&月別集計!$B16,入出金NFT結果!$A:$A,\">=\"&月別集計!M$1,入出金NFT結果!$A:$A,\"<=\"&月別集計!M$2)","v":0},{"$f":"SUMIFS(入出金NFT結果!$D:$D,入出金NFT結果!$I:$I,\"=\"&月別集計!$B16,入出金NFT結果!$A:$A,\">=\"&月別集計!N$1,入出金NFT結果!$A:$A,\"<=\"&月別集計!N$2)","v":0},{"$f":"SUMIFS(入出金NFT結果!$D:$D,入出金NFT結果!$I:$I,\"=\"&月別集計!$B16,入出金NFT結果!$A:$A,\">=\"&月別集計!O$1,入出金NFT結果!$A:$A,\"<=\"&月別集計!O$2)","v":0},{"$f":"SUMIFS(入出金NFT結果!$D:$D,入出金NFT結果!$I:$I,\"=\"&月別集計!$B16,入出金NFT結果!$A:$A,\">=\"&月別集計!P$1,入出金NFT結果!$A:$A,\"<=\"&月別集計!P$2)","v":0},{"$f":"SUMIFS(入出金NFT結果!$D:$D,入出金NFT結果!$I:$I,\"=\"&月別集計!$B16,入出金NFT結果!$A:$A,\">=\"&月別集計!Q$1,入出金NFT結果!$A:$A,\"<=\"&月別集計!Q$2)","v":0},{"$f":"SUMIFS(入出金NFT結果!$D:$D,入出金NFT結果!$I:$I,\"=\"&月別集計!$B16,入出金NFT結果!$A:$A,\">=\"&月別集計!R$1,入出金NFT結果!$A:$A,\"<=\"&月別集計!R$2)","v":0},{"$f":"SUMIFS(入出金NFT結果!$D:$D,入出金NFT結果!$I:$I,\"=\"&月別集計!$B16,入出金NFT結果!$A:$A,\">=\"&月別集計!S$1,入出金NFT結果!$A:$A,\"<=\"&月別集計!S$2)","v":0},{"$f":"SUMIFS(入出金NFT結果!$D:$D,入出金NFT結果!$I:$I,\"=\"&月別集計!$B16,入出金NFT結果!$A:$A,\">=\"&月別集計!T$1,入出金NFT結果!$A:$A,\"<=\"&月別集計!T$2)","v":0},{"$f":"SUMIFS(入出金NFT結果!$D:$D,入出金NFT結果!$I:$I,\"=\"&月別集計!$B16,入出金NFT結果!$A:$A,\">=\"&月別集計!U$1,入出金NFT結果!$A:$A,\"<=\"&月別集計!U$2)","v":0},{"$f":"SUMIFS(入出金NFT結果!$D:$D,入出金NFT結果!$I:$I,\"=\"&月別集計!$B16,入出金NFT結果!$A:$A,\">=\"&月別集計!V$1,入出金NFT結果!$A:$A,\"<=\"&月別集計!V$2)","v":0},{"$f":"SUMIFS(入出金NFT結果!$D:$D,入出金NFT結果!$I:$I,\"=\"&月別集計!$B16,入出金NFT結果!$A:$A,\">=\"&月別集計!W$1,入出金NFT結果!$A:$A,\"<=\"&月別集計!W$2)","v":0},{"$f":"SUMIFS(入出金NFT結果!$D:$D,入出金NFT結果!$I:$I,\"=\"&月別集計!$B16,入出金NFT結果!$A:$A,\">=\"&月別集計!X$1,入出金NFT結果!$A:$A,\"<=\"&月別集計!X$2)","v":0},{"$f":"SUMIFS(入出金NFT結果!$D:$D,入出金NFT結果!$I:$I,\"=\"&月別集計!$B16,入出金NFT結果!$A:$A,\">=\"&月別集計!Y$1,入出金NFT結果!$A:$A,\"<=\"&月別集計!Y$2)","v":0},{"$f":"SUMIFS(入出金NFT結果!$D:$D,入出金NFT結果!$I:$I,\"=\"&月別集計!$B16,入出金NFT結果!$A:$A,\">=\"&月別集計!Z$1,入出金NFT結果!$A:$A,\"<=\"&月別集計!Z$2)","v":0},{"$f":"SUMIFS(入出金NFT結果!$D:$D,入出金NFT結果!$I:$I,\"=\"&月別集計!$B16,入出金NFT結果!$A:$A,\">=\"&月別集計!AA$1,入出金NFT結果!$A:$A,\"<=\"&月別集計!AA$2)","v":0},{"$f":"SUMIFS(入出金NFT結果!$D:$D,入出金NFT結果!$I:$I,\"=\"&月別集計!$B16,入出金NFT結果!$A:$A,\">=\"&月別集計!AB$1,入出金NFT結果!$A:$A,\"<=\"&月別集計!AB$2)","v":0},{"$f":"SUMIFS(入出金NFT結果!$D:$D,入出金NFT結果!$I:$I,\"=\"&月別集計!$B16,入出金NFT結果!$A:$A,\">=\"&月別集計!AC$1,入出金NFT結果!$A:$A,\"<=\"&月別集計!AC$2)","v":0},{"$f":"SUMIFS(入出金NFT結果!$D:$D,入出金NFT結果!$I:$I,\"=\"&月別集計!$B16,入出金NFT結果!$A:$A,\">=\"&月別集計!AD$1,入出金NFT結果!$A:$A,\"<=\"&月別集計!AD$2)","v":0},{"$f":"SUMIFS(入出金NFT結果!$D:$D,入出金NFT結果!$I:$I,\"=\"&月別集計!$B16,入出金NFT結果!$A:$A,\">=\"&月別集計!AE$1,入出金NFT結果!$A:$A,\"<=\"&月別集計!AE$2)","v":0},{"$f":"SUMIFS(入出金NFT結果!$D:$D,入出金NFT結果!$I:$I,\"=\"&月別集計!$B16,入出金NFT結果!$A:$A,\">=\"&月別集計!AF$1,入出金NFT結果!$A:$A,\"<=\"&月別集計!AF$2)","v":0},{"$f":"SUMIFS(入出金NFT結果!$D:$D,入出金NFT結果!$I:$I,\"=\"&月別集計!$B16,入出金NFT結果!$A:$A,\">=\"&月別集計!AG$1,入出金NFT結果!$A:$A,\"<=\"&月別集計!AG$2)","v":0},{"$f":"SUMIFS(入出金NFT結果!$D:$D,入出金NFT結果!$I:$I,\"=\"&月別集計!$B16,入出金NFT結果!$A:$A,\">=\"&月別集計!AH$1,入出金NFT結果!$A:$A,\"<=\"&月別集計!AH$2)","v":0},{"$f":"SUMIFS(入出金NFT結果!$D:$D,入出金NFT結果!$I:$I,\"=\"&月別集計!$B16,入出金NFT結果!$A:$A,\">=\"&月別集計!AI$1,入出金NFT結果!$A:$A,\"<=\"&月別集計!AI$2)","v":0},{"$f":"SUMIFS(入出金NFT結果!$D:$D,入出金NFT結果!$I:$I,\"=\"&月別集計!$B16,入出金NFT結果!$A:$A,\">=\"&月別集計!AJ$1,入出金NFT結果!$A:$A,\"<=\"&月別集計!AJ$2)","v":0},{"$f":"SUMIFS(入出金NFT結果!$D:$D,入出金NFT結果!$I:$I,\"=\"&月別集計!$B16,入出金NFT結果!$A:$A,\">=\"&月別集計!AK$1,入出金NFT結果!$A:$A,\"<=\"&月別集計!AK$2)","v":0},{"$f":"SUMIFS(入出金NFT結果!$D:$D,入出金NFT結果!$I:$I,\"=\"&月別集計!$B16,入出金NFT結果!$A:$A,\">=\"&月別集計!AL$1,入出金NFT結果!$A:$A,\"<=\"&月別集計!AL$2)","v":0},{"$f":"SUMIFS(入出金NFT結果!$D:$D,入出金NFT結果!$I:$I,\"=\"&月別集計!$B16,入出金NFT結果!$A:$A,\">=\"&月別集計!AM$1,入出金NFT結果!$A:$A,\"<=\"&月別集計!AM$2)","v":0},{"$f":"SUMIFS(入出金NFT結果!$D:$D,入出金NFT結果!$I:$I,\"=\"&月別集計!$B16,入出金NFT結果!$A:$A,\">=\"&月別集計!AN$1,入出金NFT結果!$A:$A,\"<=\"&月別集計!AN$2)","v":0},{"$f":"SUMIFS(入出金NFT結果!$D:$D,入出金NFT結果!$I:$I,\"=\"&月別集計!$B16,入出金NFT結果!$A:$A,\">=\"&月別集計!AO$1,入出金NFT結果!$A:$A,\"<=\"&月別集計!AO$2)","v":0},{"$f":"SUMIFS(入出金NFT結果!$D:$D,入出金NFT結果!$I:$I,\"=\"&月別集計!$B16,入出金NFT結果!$A:$A,\">=\"&月別集計!AP$1,入出金NFT結果!$A:$A,\"<=\"&月別集計!AP$2)","v":0},{"$f":"SUMIFS(入出金NFT結果!$D:$D,入出金NFT結果!$I:$I,\"=\"&月別集計!$B16,入出金NFT結果!$A:$A,\">=\"&月別集計!AQ$1,入出金NFT結果!$A:$A,\"<=\"&月別集計!AQ$2)","v":0},{"$f":"SUMIFS(入出金NFT結果!$D:$D,入出金NFT結果!$I:$I,\"=\"&月別集計!$B16,入出金NFT結果!$A:$A,\">=\"&月別集計!AR$1,入出金NFT結果!$A:$A,\"<=\"&月別集計!AR$2)","v":0},{"$f":"SUMIFS(入出金NFT結果!$D:$D,入出金NFT結果!$I:$I,\"=\"&月別集計!$B16,入出金NFT結果!$A:$A,\">=\"&月別集計!AS$1,入出金NFT結果!$A:$A,\"<=\"&月別集計!AS$2)","v":0},{"$f":"SUMIFS(入出金NFT結果!$D:$D,入出金NFT結果!$I:$I,\"=\"&月別集計!$B16,入出金NFT結果!$A:$A,\">=\"&月別集計!AT$1,入出金NFT結果!$A:$A,\"<=\"&月別集計!AT$2)","v":0},{"$f":"SUMIFS(入出金NFT結果!$D:$D,入出金NFT結果!$I:$I,\"=\"&月別集計!$B16,入出金NFT結果!$A:$A,\">=\"&月別集計!AU$1,入出金NFT結果!$A:$A,\"<=\"&月別集計!AU$2)","v":0},{"$f":"SUMIFS(入出金NFT結果!$D:$D,入出金NFT結果!$I:$I,\"=\"&月別集計!$B16,入出金NFT結果!$A:$A,\">=\"&月別集計!AV$1,入出金NFT結果!$A:$A,\"<=\"&月別集計!AV$2)","v":0},{"$f":"SUMIFS(入出金NFT結果!$D:$D,入出金NFT結果!$I:$I,\"=\"&月別集計!$B16,入出金NFT結果!$A:$A,\">=\"&月別集計!AW$1,入出金NFT結果!$A:$A,\"<=\"&月別集計!AW$2)","v":0},{"$f":"SUMIFS(入出金NFT結果!$D:$D,入出金NFT結果!$I:$I,\"=\"&月別集計!$B16,入出金NFT結果!$A:$A,\">=\"&月別集計!AX$1,入出金NFT結果!$A:$A,\"<=\"&月別集計!AX$2)","v":0},{"$f":"SUMIFS(入出金NFT結果!$D:$D,入出金NFT結果!$I:$I,\"=\"&月別集計!$B16,入出金NFT結果!$A:$A,\">=\"&月別集計!AY$1,入出金NFT結果!$A:$A,\"<=\"&月別集計!AY$2)","v":0},{"$f":"SUMIFS(入出金NFT結果!$D:$D,入出金NFT結果!$I:$I,\"=\"&月別集計!$B16,入出金NFT結果!$A:$A,\">=\"&月別集計!AZ$1,入出金NFT結果!$A:$A,\"<=\"&月別集計!AZ$2)","v":0},{"$f":"SUMIFS(入出金NFT結果!$D:$D,入出金NFT結果!$I:$I,\"=\"&月別集計!$B16,入出金NFT結果!$A:$A,\">=\"&月別集計!BA$1,入出金NFT結果!$A:$A,\"<=\"&月別集計!BA$2)","v":0},{"$f":"SUMIFS(入出金NFT結果!$D:$D,入出金NFT結果!$I:$I,\"=\"&月別集計!$B16,入出金NFT結果!$A:$A,\">=\"&月別集計!BB$1,入出金NFT結果!$A:$A,\"<=\"&月別集計!BB$2)","v":0},{"$f":"SUMIFS(入出金NFT結果!$D:$D,入出金NFT結果!$I:$I,\"=\"&月別集計!$B16,入出金NFT結果!$A:$A,\">=\"&月別集計!BC$1,入出金NFT結果!$A:$A,\"<=\"&月別集計!BC$2)","v":0},{"$f":"SUMIFS(入出金NFT結果!$D:$D,入出金NFT結果!$I:$I,\"=\"&月別集計!$B16,入出金NFT結果!$A:$A,\">=\"&月別集計!BD$1,入出金NFT結果!$A:$A,\"<=\"&月別集計!BD$2)","v":0},{"$f":"SUMIFS(入出金NFT結果!$D:$D,入出金NFT結果!$I:$I,\"=\"&月別集計!$B16,入出金NFT結果!$A:$A,\">=\"&月別集計!BE$1,入出金NFT結果!$A:$A,\"<=\"&月別集計!BE$2)","v":0},{"$f":"SUMIFS(入出金NFT結果!$D:$D,入出金NFT結果!$I:$I,\"=\"&月別集計!$B16,入出金NFT結果!$A:$A,\">=\"&月別集計!BF$1,入出金NFT結果!$A:$A,\"<=\"&月別集計!BF$2)","v":0},{"$f":"SUMIFS(入出金NFT結果!$D:$D,入出金NFT結果!$I:$I,\"=\"&月別集計!$B16,入出金NFT結果!$A:$A,\">=\"&月別集計!BG$1,入出金NFT結果!$A:$A,\"<=\"&月別集計!BG$2)","v":0},{"$f":"SUMIFS(入出金NFT結果!$D:$D,入出金NFT結果!$I:$I,\"=\"&月別集計!$B16,入出金NFT結果!$A:$A,\">=\"&月別集計!BH$1,入出金NFT結果!$A:$A,\"<=\"&月別集計!BH$2)","v":0},{"$f":"SUMIFS(入出金NFT結果!$D:$D,入出金NFT結果!$I:$I,\"=\"&月別集計!$B16,入出金NFT結果!$A:$A,\">=\"&月別集計!BI$1,入出金NFT結果!$A:$A,\"<=\"&月別集計!BI$2)","v":0},{"$f":"SUMIFS(入出金NFT結果!$D:$D,入出金NFT結果!$I:$I,\"=\"&月別集計!$B16,入出金NFT結果!$A:$A,\">=\"&月別集計!BJ$1,入出金NFT結果!$A:$A,\"<=\"&月別集計!BJ$2)","v":0},{"$f":"SUMIFS(入出金NFT結果!$D:$D,入出金NFT結果!$I:$I,\"=\"&月別集計!$B16,入出金NFT結果!$A:$A,\">=\"&月別集計!BK$1,入出金NFT結果!$A:$A,\"<=\"&月別集計!BK$2)","v":0},{"$f":"SUMIFS(入出金NFT結果!$D:$D,入出金NFT結果!$I:$I,\"=\"&月別集計!$B16,入出金NFT結果!$A:$A,\">=\"&月別集計!BL$1,入出金NFT結果!$A:$A,\"<=\"&月別集計!BL$2)","v":0},{"$f":"SUMIFS(入出金NFT結果!$D:$D,入出金NFT結果!$I:$I,\"=\"&月別集計!$B16,入出金NFT結果!$A:$A,\">=\"&月別集計!BM$1,入出金NFT結果!$A:$A,\"<=\"&月別集計!BM$2)","v":0}]
[null,{"$f":"推定用途置換ルール!G15","v":"LuckyFarmer：ランキング賞金"},{"$f":"SUMIFS(入出金NFT結果!$D:$D,入出金NFT結果!$I:$I,\"=\"&月別集計!$B17,入出金NFT結果!$A:$A,\">=\"&月別集計!C$1,入出金NFT結果!$A:$A,\"<=\"&月別集計!C$2)","v":0},{"$f":"SUMIFS(入出金NFT結果!$D:$D,入出金NFT結果!$I:$I,\"=\"&月別集計!$B17,入出金NFT結果!$A:$A,\">=\"&月別集計!D$1,入出金NFT結果!$A:$A,\"<=\"&月別集計!D$2)","v":0},{"$f":"SUMIFS(入出金NFT結果!$D:$D,入出金NFT結果!$I:$I,\"=\"&月別集計!$B17,入出金NFT結果!$A:$A,\">=\"&月別集計!E$1,入出金NFT結果!$A:$A,\"<=\"&月別集計!E$2)","v":0},{"$f":"SUMIFS(入出金NFT結果!$D:$D,入出金NFT結果!$I:$I,\"=\"&月別集計!$B17,入出金NFT結果!$A:$A,\">=\"&月別集計!F$1,入出金NFT結果!$A:$A,\"<=\"&月別集計!F$2)","v":0},{"$f":"SUMIFS(入出金NFT結果!$D:$D,入出金NFT結果!$I:$I,\"=\"&月別集計!$B17,入出金NFT結果!$A:$A,\">=\"&月別集計!G$1,入出金NFT結果!$A:$A,\"<=\"&月別集計!G$2)","v":0},{"$f":"SUMIFS(入出金NFT結果!$D:$D,入出金NFT結果!$I:$I,\"=\"&月別集計!$B17,入出金NFT結果!$A:$A,\">=\"&月別集計!H$1,入出金NFT結果!$A:$A,\"<=\"&月別集計!H$2)","v":0},{"$f":"SUMIFS(入出金NFT結果!$D:$D,入出金NFT結果!$I:$I,\"=\"&月別集計!$B17,入出金NFT結果!$A:$A,\">=\"&月別集計!I$1,入出金NFT結果!$A:$A,\"<=\"&月別集計!I$2)","v":0},{"$f":"SUMIFS(入出金NFT結果!$D:$D,入出金NFT結果!$I:$I,\"=\"&月別集計!$B17,入出金NFT結果!$A:$A,\">=\"&月別集計!J$1,入出金NFT結果!$A:$A,\"<=\"&月別集計!J$2)","v":0},{"$f":"SUMIFS(入出金NFT結果!$D:$D,入出金NFT結果!$I:$I,\"=\"&月別集計!$B17,入出金NFT結果!$A:$A,\">=\"&月別集計!K$1,入出金NFT結果!$A:$A,\"<=\"&月別集計!K$2)","v":0},{"$f":"SUMIFS(入出金NFT結果!$D:$D,入出金NFT結果!$I:$I,\"=\"&月別集計!$B17,入出金NFT結果!$A:$A,\">=\"&月別集計!L$1,入出金NFT結果!$A:$A,\"<=\"&月別集計!L$2)","v":0},{"$f":"SUMIFS(入出金NFT結果!$D:$D,入出金NFT結果!$I:$I,\"=\"&月別集計!$B17,入出金NFT結果!$A:$A,\">=\"&月別集計!M$1,入出金NFT結果!$A:$A,\"<=\"&月別集計!M$2)","v":0},{"$f":"SUMIFS(入出金NFT結果!$D:$D,入出金NFT結果!$I:$I,\"=\"&月別集計!$B17,入出金NFT結果!$A:$A,\">=\"&月別集計!N$1,入出金NFT結果!$A:$A,\"<=\"&月別集計!N$2)","v":0},{"$f":"SUMIFS(入出金NFT結果!$D:$D,入出金NFT結果!$I:$I,\"=\"&月別集計!$B17,入出金NFT結果!$A:$A,\">=\"&月別集計!O$1,入出金NFT結果!$A:$A,\"<=\"&月別集計!O$2)","v":0},{"$f":"SUMIFS(入出金NFT結果!$D:$D,入出金NFT結果!$I:$I,\"=\"&月別集計!$B17,入出金NFT結果!$A:$A,\">=\"&月別集計!P$1,入出金NFT結果!$A:$A,\"<=\"&月別集計!P$2)","v":0},{"$f":"SUMIFS(入出金NFT結果!$D:$D,入出金NFT結果!$I:$I,\"=\"&月別集計!$B17,入出金NFT結果!$A:$A,\">=\"&月別集計!Q$1,入出金NFT結果!$A:$A,\"<=\"&月別集計!Q$2)","v":0},{"$f":"SUMIFS(入出金NFT結果!$D:$D,入出金NFT結果!$I:$I,\"=\"&月別集計!$B17,入出金NFT結果!$A:$A,\">=\"&月別集計!R$1,入出金NFT結果!$A:$A,\"<=\"&月別集計!R$2)","v":0},{"$f":"SUMIFS(入出金NFT結果!$D:$D,入出金NFT結果!$I:$I,\"=\"&月別集計!$B17,入出金NFT結果!$A:$A,\">=\"&月別集計!S$1,入出金NFT結果!$A:$A,\"<=\"&月別集計!S$2)","v":0},{"$f":"SUMIFS(入出金NFT結果!$D:$D,入出金NFT結果!$I:$I,\"=\"&月別集計!$B17,入出金NFT結果!$A:$A,\">=\"&月別集計!T$1,入出金NFT結果!$A:$A,\"<=\"&月別集計!T$2)","v":0},{"$f":"SUMIFS(入出金NFT結果!$D:$D,入出金NFT結果!$I:$I,\"=\"&月別集計!$B17,入出金NFT結果!$A:$A,\">=\"&月別集計!U$1,入出金NFT結果!$A:$A,\"<=\"&月別集計!U$2)","v":0},{"$f":"SUMIFS(入出金NFT結果!$D:$D,入出金NFT結果!$I:$I,\"=\"&月別集計!$B17,入出金NFT結果!$A:$A,\">=\"&月別集計!V$1,入出金NFT結果!$A:$A,\"<=\"&月別集計!V$2)","v":0},{"$f":"SUMIFS(入出金NFT結果!$D:$D,入出金NFT結果!$I:$I,\"=\"&月別集計!$B17,入出金NFT結果!$A:$A,\">=\"&月別集計!W$1,入出金NFT結果!$A:$A,\"<=\"&月別集計!W$2)","v":0},{"$f":"SUMIFS(入出金NFT結果!$D:$D,入出金NFT結果!$I:$I,\"=\"&月別集計!$B17,入出金NFT結果!$A:$A,\">=\"&月別集計!X$1,入出金NFT結果!$A:$A,\"<=\"&月別集計!X$2)","v":0},{"$f":"SUMIFS(入出金NFT結果!$D:$D,入出金NFT結果!$I:$I,\"=\"&月別集計!$B17,入出金NFT結果!$A:$A,\">=\"&月別集計!Y$1,入出金NFT結果!$A:$A,\"<=\"&月別集計!Y$2)","v":0},{"$f":"SUMIFS(入出金NFT結果!$D:$D,入出金NFT結果!$I:$I,\"=\"&月別集計!$B17,入出金NFT結果!$A:$A,\">=\"&月別集計!Z$1,入出金NFT結果!$A:$A,\"<=\"&月別集計!Z$2)","v":0},{"$f":"SUMIFS(入出金NFT結果!$D:$D,入出金NFT結果!$I:$I,\"=\"&月別集計!$B17,入出金NFT結果!$A:$A,\">=\"&月別集計!AA$1,入出金NFT結果!$A:$A,\"<=\"&月別集計!AA$2)","v":0},{"$f":"SUMIFS(入出金NFT結果!$D:$D,入出金NFT結果!$I:$I,\"=\"&月別集計!$B17,入出金NFT結果!$A:$A,\">=\"&月別集計!AB$1,入出金NFT結果!$A:$A,\"<=\"&月別集計!AB$2)","v":0},{"$f":"SUMIFS(入出金NFT結果!$D:$D,入出金NFT結果!$I:$I,\"=\"&月別集計!$B17,入出金NFT結果!$A:$A,\">=\"&月別集計!AC$1,入出金NFT結果!$A:$A,\"<=\"&月別集計!AC$2)","v":0},{"$f":"SUMIFS(入出金NFT結果!$D:$D,入出金NFT結果!$I:$I,\"=\"&月別集計!$B17,入出金NFT結果!$A:$A,\">=\"&月別集計!AD$1,入出金NFT結果!$A:$A,\"<=\"&月別集計!AD$2)","v":0},{"$f":"SUMIFS(入出金NFT結果!$D:$D,入出金NFT結果!$I:$I,\"=\"&月別集計!$B17,入出金NFT結果!$A:$A,\">=\"&月別集計!AE$1,入出金NFT結果!$A:$A,\"<=\"&月別集計!AE$2)","v":0},{"$f":"SUMIFS(入出金NFT結果!$D:$D,入出金NFT結果!$I:$I,\"=\"&月別集計!$B17,入出金NFT結果!$A:$A,\">=\"&月別集計!AF$1,入出金NFT結果!$A:$A,\"<=\"&月別集計!AF$2)","v":0},{"$f":"SUMIFS(入出金NFT結果!$D:$D,入出金NFT結果!$I:$I,\"=\"&月別集計!$B17,入出金NFT結果!$A:$A,\">=\"&月別集計!AG$1,入出金NFT結果!$A:$A,\"<=\"&月別集計!AG$2)","v":0},{"$f":"SUMIFS(入出金NFT結果!$D:$D,入出金NFT結果!$I:$I,\"=\"&月別集計!$B17,入出金NFT結果!$A:$A,\">=\"&月別集計!AH$1,入出金NFT結果!$A:$A,\"<=\"&月別集計!AH$2)","v":0},{"$f":"SUMIFS(入出金NFT結果!$D:$D,入出金NFT結果!$I:$I,\"=\"&月別集計!$B17,入出金NFT結果!$A:$A,\">=\"&月別集計!AI$1,入出金NFT結果!$A:$A,\"<=\"&月別集計!AI$2)","v":0},{"$f":"SUMIFS(入出金NFT結果!$D:$D,入出金NFT結果!$I:$I,\"=\"&月別集計!$B17,入出金NFT結果!$A:$A,\">=\"&月別集計!AJ$1,入出金NFT結果!$A:$A,\"<=\"&月別集計!AJ$2)","v":0},{"$f":"SUMIFS(入出金NFT結果!$D:$D,入出金NFT結果!$I:$I,\"=\"&月別集計!$B17,入出金NFT結果!$A:$A,\">=\"&月別集計!AK$1,入出金NFT結果!$A:$A,\"<=\"&月別集計!AK$2)","v":0},{"$f":"SUMIFS(入出金NFT結果!$D:$D,入出金NFT結果!$I:$I,\"=\"&月別集計!$B17,入出金NFT結果!$A:$A,\">=\"&月別集計!AL$1,入出金NFT結果!$A:$A,\"<=\"&月別集計!AL$2)","v":0},{"$f":"SUMIFS(入出金NFT結果!$D:$D,入出金NFT結果!$I:$I,\"=\"&月別集計!$B17,入出金NFT結果!$A:$A,\">=\"&月別集計!AM$1,入出金NFT結果!$A:$A,\"<=\"&月別集計!AM$2)","v":0},{"$f":"SUMIFS(入出金NFT結果!$D:$D,入出金NFT結果!$I:$I,\"=\"&月別集計!$B17,入出金NFT結果!$A:$A,\">=\"&月別集計!AN$1,入出金NFT結果!$A:$A,\"<=\"&月別集計!AN$2)","v":0},{"$f":"SUMIFS(入出金NFT結果!$D:$D,入出金NFT結果!$I:$I,\"=\"&月別集計!$B17,入出金NFT結果!$A:$A,\">=\"&月別集計!AO$1,入出金NFT結果!$A:$A,\"<=\"&月別集計!AO$2)","v":0},{"$f":"SUMIFS(入出金NFT結果!$D:$D,入出金NFT結果!$I:$I,\"=\"&月別集計!$B17,入出金NFT結果!$A:$A,\">=\"&月別集計!AP$1,入出金NFT結果!$A:$A,\"<=\"&月別集計!AP$2)","v":0},{"$f":"SUMIFS(入出金NFT結果!$D:$D,入出金NFT結果!$I:$I,\"=\"&月別集計!$B17,入出金NFT結果!$A:$A,\">=\"&月別集計!AQ$1,入出金NFT結果!$A:$A,\"<=\"&月別集計!AQ$2)","v":0},{"$f":"SUMIFS(入出金NFT結果!$D:$D,入出金NFT結果!$I:$I,\"=\"&月別集計!$B17,入出金NFT結果!$A:$A,\">=\"&月別集計!AR$1,入出金NFT結果!$A:$A,\"<=\"&月別集計!AR$2)","v":0},{"$f":"SUMIFS(入出金NFT結果!$D:$D,入出金NFT結果!$I:$I,\"=\"&月別集計!$B17,入出金NFT結果!$A:$A,\">=\"&月別集計!AS$1,入出金NFT結果!$A:$A,\"<=\"&月別集計!AS$2)","v":0},{"$f":"SUMIFS(入出金NFT結果!$D:$D,入出金NFT結果!$I:$I,\"=\"&月別集計!$B17,入出金NFT結果!$A:$A,\">=\"&月別集計!AT$1,入出金NFT結果!$A:$A,\"<=\"&月別集計!AT$2)","v":0},{"$f":"SUMIFS(入出金NFT結果!$D:$D,入出金NFT結果!$I:$I,\"=\"&月別集計!$B17,入出金NFT結果!$A:$A,\">=\"&月別集計!AU$1,入出金NFT結果!$A:$A,\"<=\"&月別集計!AU$2)","v":0},{"$f":"SUMIFS(入出金NFT結果!$D:$D,入出金NFT結果!$I:$I,\"=\"&月別集計!$B17,入出金NFT結果!$A:$A,\">=\"&月別集計!AV$1,入出金NFT結果!$A:$A,\"<=\"&月別集計!AV$2)","v":0},{"$f":"SUMIFS(入出金NFT結果!$D:$D,入出金NFT結果!$I:$I,\"=\"&月別集計!$B17,入出金NFT結果!$A:$A,\">=\"&月別集計!AW$1,入出金NFT結果!$A:$A,\"<=\"&月別集計!AW$2)","v":0},{"$f":"SUMIFS(入出金NFT結果!$D:$D,入出金NFT結果!$I:$I,\"=\"&月別集計!$B17,入出金NFT結果!$A:$A,\">=\"&月別集計!AX$1,入出金NFT結果!$A:$A,\"<=\"&月別集計!AX$2)","v":0},{"$f":"SUMIFS(入出金NFT結果!$D:$D,入出金NFT結果!$I:$I,\"=\"&月別集計!$B17,入出金NFT結果!$A:$A,\">=\"&月別集計!AY$1,入出金NFT結果!$A:$A,\"<=\"&月別集計!AY$2)","v":0},{"$f":"SUMIFS(入出金NFT結果!$D:$D,入出金NFT結果!$I:$I,\"=\"&月別集計!$B17,入出金NFT結果!$A:$A,\">=\"&月別集計!AZ$1,入出金NFT結果!$A:$A,\"<=\"&月別集計!AZ$2)","v":0},{"$f":"SUMIFS(入出金NFT結果!$D:$D,入出金NFT結果!$I:$I,\"=\"&月別集計!$B17,入出金NFT結果!$A:$A,\">=\"&月別集計!BA$1,入出金NFT結果!$A:$A,\"<=\"&月別集計!BA$2)","v":0},{"$f":"SUMIFS(入出金NFT結果!$D:$D,入出金NFT結果!$I:$I,\"=\"&月別集計!$B17,入出金NFT結果!$A:$A,\">=\"&月別集計!BB$1,入出金NFT結果!$A:$A,\"<=\"&月別集計!BB$2)","v":0},{"$f":"SUMIFS(入出金NFT結果!$D:$D,入出金NFT結果!$I:$I,\"=\"&月別集計!$B17,入出金NFT結果!$A:$A,\">=\"&月別集計!BC$1,入出金NFT結果!$A:$A,\"<=\"&月別集計!BC$2)","v":0},{"$f":"SUMIFS(入出金NFT結果!$D:$D,入出金NFT結果!$I:$I,\"=\"&月別集計!$B17,入出金NFT結果!$A:$A,\">=\"&月別集計!BD$1,入出金NFT結果!$A:$A,\"<=\"&月別集計!BD$2)","v":0},{"$f":"SUMIFS(入出金NFT結果!$D:$D,入出金NFT結果!$I:$I,\"=\"&月別集計!$B17,入出金NFT結果!$A:$A,\">=\"&月別集計!BE$1,入出金NFT結果!$A:$A,\"<=\"&月別集計!BE$2)","v":0},{"$f":"SUMIFS(入出金NFT結果!$D:$D,入出金NFT結果!$I:$I,\"=\"&月別集計!$B17,入出金NFT結果!$A:$A,\">=\"&月別集計!BF$1,入出金NFT結果!$A:$A,\"<=\"&月別集計!BF$2)","v":0},{"$f":"SUMIFS(入出金NFT結果!$D:$D,入出金NFT結果!$I:$I,\"=\"&月別集計!$B17,入出金NFT結果!$A:$A,\">=\"&月別集計!BG$1,入出金NFT結果!$A:$A,\"<=\"&月別集計!BG$2)","v":0},{"$f":"SUMIFS(入出金NFT結果!$D:$D,入出金NFT結果!$I:$I,\"=\"&月別集計!$B17,入出金NFT結果!$A:$A,\">=\"&月別集計!BH$1,入出金NFT結果!$A:$A,\"<=\"&月別集計!BH$2)","v":0},{"$f":"SUMIFS(入出金NFT結果!$D:$D,入出金NFT結果!$I:$I,\"=\"&月別集計!$B17,入出金NFT結果!$A:$A,\">=\"&月別集計!BI$1,入出金NFT結果!$A:$A,\"<=\"&月別集計!BI$2)","v":0},{"$f":"SUMIFS(入出金NFT結果!$D:$D,入出金NFT結果!$I:$I,\"=\"&月別集計!$B17,入出金NFT結果!$A:$A,\">=\"&月別集計!BJ$1,入出金NFT結果!$A:$A,\"<=\"&月別集計!BJ$2)","v":0},{"$f":"SUMIFS(入出金NFT結果!$D:$D,入出金NFT結果!$I:$I,\"=\"&月別集計!$B17,入出金NFT結果!$A:$A,\">=\"&月別集計!BK$1,入出金NFT結果!$A:$A,\"<=\"&月別集計!BK$2)","v":0},{"$f":"SUMIFS(入出金NFT結果!$D:$D,入出金NFT結果!$I:$I,\"=\"&月別集計!$B17,入出金NFT結果!$A:$A,\">=\"&月別集計!BL$1,入出金NFT結果!$A:$A,\"<=\"&月別集計!BL$2)","v":0},{"$f":"SUMIFS(入出金NFT結果!$D:$D,入出金NFT結果!$I:$I,\"=\"&月別集計!$B17,入出金NFT結果!$A:$A,\">=\"&月別集計!BM$1,入出金NFT結果!$A:$A,\"<=\"&月別集計!BM$2)","v":0}]
[null,{"$f":"推定用途置換ルール!G16","v":"カムイバース：リーダー報酬、依頼書報酬"},{"$f":"SUMIFS(入出金NFT結果!$D:$D,入出金NFT結果!$I:$I,\"=\"&月別集計!$B18,入出金NFT結果!$A:$A,\">=\"&月別集計!C$1,入出金NFT結果!$A:$A,\"<=\"&月別集計!C$2)","v":0},{"$f":"SUMIFS(入出金NFT結果!$D:$D,入出金NFT結果!$I:$I,\"=\"&月別集計!$B18,入出金NFT結果!$A:$A,\">=\"&月別集計!D$1,入出金NFT結果!$A:$A,\"<=\"&月別集計!D$2)","v":0},{"$f":"SUMIFS(入出金NFT結果!$D:$D,入出金NFT結果!$I:$I,\"=\"&月別集計!$B18,入出金NFT結果!$A:$A,\">=\"&月別集計!E$1,入出金NFT結果!$A:$A,\"<=\"&月別集計!E$2)","v":0},{"$f":"SUMIFS(入出金NFT結果!$D:$D,入出金NFT結果!$I:$I,\"=\"&月別集計!$B18,入出金NFT結果!$A:$A,\">=\"&月別集計!F$1,入出金NFT結果!$A:$A,\"<=\"&月別集計!F$2)","v":0},{"$f":"SUMIFS(入出金NFT結果!$D:$D,入出金NFT結果!$I:$I,\"=\"&月別集計!$B18,入出金NFT結果!$A:$A,\">=\"&月別集計!G$1,入出金NFT結果!$A:$A,\"<=\"&月別集計!G$2)","v":0},{"$f":"SUMIFS(入出金NFT結果!$D:$D,入出金NFT結果!$I:$I,\"=\"&月別集計!$B18,入出金NFT結果!$A:$A,\">=\"&月別集計!H$1,入出金NFT結果!$A:$A,\"<=\"&月別集計!H$2)","v":0},{"$f":"SUMIFS(入出金NFT結果!$D:$D,入出金NFT結果!$I:$I,\"=\"&月別集計!$B18,入出金NFT結果!$A:$A,\">=\"&月別集計!I$1,入出金NFT結果!$A:$A,\"<=\"&月別集計!I$2)","v":0},{"$f":"SUMIFS(入出金NFT結果!$D:$D,入出金NFT結果!$I:$I,\"=\"&月別集計!$B18,入出金NFT結果!$A:$A,\">=\"&月別集計!J$1,入出金NFT結果!$A:$A,\"<=\"&月別集計!J$2)","v":0},{"$f":"SUMIFS(入出金NFT結果!$D:$D,入出金NFT結果!$I:$I,\"=\"&月別集計!$B18,入出金NFT結果!$A:$A,\">=\"&月別集計!K$1,入出金NFT結果!$A:$A,\"<=\"&月別集計!K$2)","v":0},{"$f":"SUMIFS(入出金NFT結果!$D:$D,入出金NFT結果!$I:$I,\"=\"&月別集計!$B18,入出金NFT結果!$A:$A,\">=\"&月別集計!L$1,入出金NFT結果!$A:$A,\"<=\"&月別集計!L$2)","v":0},{"$f":"SUMIFS(入出金NFT結果!$D:$D,入出金NFT結果!$I:$I,\"=\"&月別集計!$B18,入出金NFT結果!$A:$A,\">=\"&月別集計!M$1,入出金NFT結果!$A:$A,\"<=\"&月別集計!M$2)","v":0},{"$f":"SUMIFS(入出金NFT結果!$D:$D,入出金NFT結果!$I:$I,\"=\"&月別集計!$B18,入出金NFT結果!$A:$A,\">=\"&月別集計!N$1,入出金NFT結果!$A:$A,\"<=\"&月別集計!N$2)","v":0},{"$f":"SUMIFS(入出金NFT結果!$D:$D,入出金NFT結果!$I:$I,\"=\"&月別集計!$B18,入出金NFT結果!$A:$A,\">=\"&月別集計!O$1,入出金NFT結果!$A:$A,\"<=\"&月別集計!O$2)","v":0},{"$f":"SUMIFS(入出金NFT結果!$D:$D,入出金NFT結果!$I:$I,\"=\"&月別集計!$B18,入出金NFT結果!$A:$A,\">=\"&月別集計!P$1,入出金NFT結果!$A:$A,\"<=\"&月別集計!P$2)","v":0},{"$f":"SUMIFS(入出金NFT結果!$D:$D,入出金NFT結果!$I:$I,\"=\"&月別集計!$B18,入出金NFT結果!$A:$A,\">=\"&月別集計!Q$1,入出金NFT結果!$A:$A,\"<=\"&月別集計!Q$2)","v":0},{"$f":"SUMIFS(入出金NFT結果!$D:$D,入出金NFT結果!$I:$I,\"=\"&月別集計!$B18,入出金NFT結果!$A:$A,\">=\"&月別集計!R$1,入出金NFT結果!$A:$A,\"<=\"&月別集計!R$2)","v":0},{"$f":"SUMIFS(入出金NFT結果!$D:$D,入出金NFT結果!$I:$I,\"=\"&月別集計!$B18,入出金NFT結果!$A:$A,\">=\"&月別集計!S$1,入出金NFT結果!$A:$A,\"<=\"&月別集計!S$2)","v":0},{"$f":"SUMIFS(入出金NFT結果!$D:$D,入出金NFT結果!$I:$I,\"=\"&月別集計!$B18,入出金NFT結果!$A:$A,\">=\"&月別集計!T$1,入出金NFT結果!$A:$A,\"<=\"&月別集計!T$2)","v":0},{"$f":"SUMIFS(入出金NFT結果!$D:$D,入出金NFT結果!$I:$I,\"=\"&月別集計!$B18,入出金NFT結果!$A:$A,\">=\"&月別集計!U$1,入出金NFT結果!$A:$A,\"<=\"&月別集計!U$2)","v":0},{"$f":"SUMIFS(入出金NFT結果!$D:$D,入出金NFT結果!$I:$I,\"=\"&月別集計!$B18,入出金NFT結果!$A:$A,\">=\"&月別集計!V$1,入出金NFT結果!$A:$A,\"<=\"&月別集計!V$2)","v":0},{"$f":"SUMIFS(入出金NFT結果!$D:$D,入出金NFT結果!$I:$I,\"=\"&月別集計!$B18,入出金NFT結果!$A:$A,\">=\"&月別集計!W$1,入出金NFT結果!$A:$A,\"<=\"&月別集計!W$2)","v":0},{"$f":"SUMIFS(入出金NFT結果!$D:$D,入出金NFT結果!$I:$I,\"=\"&月別集計!$B18,入出金NFT結果!$A:$A,\">=\"&月別集計!X$1,入出金NFT結果!$A:$A,\"<=\"&月別集計!X$2)","v":0},{"$f":"SUMIFS(入出金NFT結果!$D:$D,入出金NFT結果!$I:$I,\"=\"&月別集計!$B18,入出金NFT結果!$A:$A,\">=\"&月別集計!Y$1,入出金NFT結果!$A:$A,\"<=\"&月別集計!Y$2)","v":0},{"$f":"SUMIFS(入出金NFT結果!$D:$D,入出金NFT結果!$I:$I,\"=\"&月別集計!$B18,入出金NFT結果!$A:$A,\">=\"&月別集計!Z$1,入出金NFT結果!$A:$A,\"<=\"&月別集計!Z$2)","v":0},{"$f":"SUMIFS(入出金NFT結果!$D:$D,入出金NFT結果!$I:$I,\"=\"&月別集計!$B18,入出金NFT結果!$A:$A,\">=\"&月別集計!AA$1,入出金NFT結果!$A:$A,\"<=\"&月別集計!AA$2)","v":0},{"$f":"SUMIFS(入出金NFT結果!$D:$D,入出金NFT結果!$I:$I,\"=\"&月別集計!$B18,入出金NFT結果!$A:$A,\">=\"&月別集計!AB$1,入出金NFT結果!$A:$A,\"<=\"&月別集計!AB$2)","v":0},{"$f":"SUMIFS(入出金NFT結果!$D:$D,入出金NFT結果!$I:$I,\"=\"&月別集計!$B18,入出金NFT結果!$A:$A,\">=\"&月別集計!AC$1,入出金NFT結果!$A:$A,\"<=\"&月別集計!AC$2)","v":0},{"$f":"SUMIFS(入出金NFT結果!$D:$D,入出金NFT結果!$I:$I,\"=\"&月別集計!$B18,入出金NFT結果!$A:$A,\">=\"&月別集計!AD$1,入出金NFT結果!$A:$A,\"<=\"&月別集計!AD$2)","v":0},{"$f":"SUMIFS(入出金NFT結果!$D:$D,入出金NFT結果!$I:$I,\"=\"&月別集計!$B18,入出金NFT結果!$A:$A,\">=\"&月別集計!AE$1,入出金NFT結果!$A:$A,\"<=\"&月別集計!AE$2)","v":0},{"$f":"SUMIFS(入出金NFT結果!$D:$D,入出金NFT結果!$I:$I,\"=\"&月別集計!$B18,入出金NFT結果!$A:$A,\">=\"&月別集計!AF$1,入出金NFT結果!$A:$A,\"<=\"&月別集計!AF$2)","v":0},{"$f":"SUMIFS(入出金NFT結果!$D:$D,入出金NFT結果!$I:$I,\"=\"&月別集計!$B18,入出金NFT結果!$A:$A,\">=\"&月別集計!AG$1,入出金NFT結果!$A:$A,\"<=\"&月別集計!AG$2)","v":0},{"$f":"SUMIFS(入出金NFT結果!$D:$D,入出金NFT結果!$I:$I,\"=\"&月別集計!$B18,入出金NFT結果!$A:$A,\">=\"&月別集計!AH$1,入出金NFT結果!$A:$A,\"<=\"&月別集計!AH$2)","v":0},{"$f":"SUMIFS(入出金NFT結果!$D:$D,入出金NFT結果!$I:$I,\"=\"&月別集計!$B18,入出金NFT結果!$A:$A,\">=\"&月別集計!AI$1,入出金NFT結果!$A:$A,\"<=\"&月別集計!AI$2)","v":0},{"$f":"SUMIFS(入出金NFT結果!$D:$D,入出金NFT結果!$I:$I,\"=\"&月別集計!$B18,入出金NFT結果!$A:$A,\">=\"&月別集計!AJ$1,入出金NFT結果!$A:$A,\"<=\"&月別集計!AJ$2)","v":0},{"$f":"SUMIFS(入出金NFT結果!$D:$D,入出金NFT結果!$I:$I,\"=\"&月別集計!$B18,入出金NFT結果!$A:$A,\">=\"&月別集計!AK$1,入出金NFT結果!$A:$A,\"<=\"&月別集計!AK$2)","v":0},{"$f":"SUMIFS(入出金NFT結果!$D:$D,入出金NFT結果!$I:$I,\"=\"&月別集計!$B18,入出金NFT結果!$A:$A,\">=\"&月別集計!AL$1,入出金NFT結果!$A:$A,\"<=\"&月別集計!AL$2)","v":0},{"$f":"SUMIFS(入出金NFT結果!$D:$D,入出金NFT結果!$I:$I,\"=\"&月別集計!$B18,入出金NFT結果!$A:$A,\">=\"&月別集計!AM$1,入出金NFT結果!$A:$A,\"<=\"&月別集計!AM$2)","v":0},{"$f":"SUMIFS(入出金NFT結果!$D:$D,入出金NFT結果!$I:$I,\"=\"&月別集計!$B18,入出金NFT結果!$A:$A,\">=\"&月別集計!AN$1,入出金NFT結果!$A:$A,\"<=\"&月別集計!AN$2)","v":0},{"$f":"SUMIFS(入出金NFT結果!$D:$D,入出金NFT結果!$I:$I,\"=\"&月別集計!$B18,入出金NFT結果!$A:$A,\">=\"&月別集計!AO$1,入出金NFT結果!$A:$A,\"<=\"&月別集計!AO$2)","v":0},{"$f":"SUMIFS(入出金NFT結果!$D:$D,入出金NFT結果!$I:$I,\"=\"&月別集計!$B18,入出金NFT結果!$A:$A,\">=\"&月別集計!AP$1,入出金NFT結果!$A:$A,\"<=\"&月別集計!AP$2)","v":0},{"$f":"SUMIFS(入出金NFT結果!$D:$D,入出金NFT結果!$I:$I,\"=\"&月別集計!$B18,入出金NFT結果!$A:$A,\">=\"&月別集計!AQ$1,入出金NFT結果!$A:$A,\"<=\"&月別集計!AQ$2)","v":0},{"$f":"SUMIFS(入出金NFT結果!$D:$D,入出金NFT結果!$I:$I,\"=\"&月別集計!$B18,入出金NFT結果!$A:$A,\">=\"&月別集計!AR$1,入出金NFT結果!$A:$A,\"<=\"&月別集計!AR$2)","v":0},{"$f":"SUMIFS(入出金NFT結果!$D:$D,入出金NFT結果!$I:$I,\"=\"&月別集計!$B18,入出金NFT結果!$A:$A,\">=\"&月別集計!AS$1,入出金NFT結果!$A:$A,\"<=\"&月別集計!AS$2)","v":0},{"$f":"SUMIFS(入出金NFT結果!$D:$D,入出金NFT結果!$I:$I,\"=\"&月別集計!$B18,入出金NFT結果!$A:$A,\">=\"&月別集計!AT$1,入出金NFT結果!$A:$A,\"<=\"&月別集計!AT$2)","v":0},{"$f":"SUMIFS(入出金NFT結果!$D:$D,入出金NFT結果!$I:$I,\"=\"&月別集計!$B18,入出金NFT結果!$A:$A,\">=\"&月別集計!AU$1,入出金NFT結果!$A:$A,\"<=\"&月別集計!AU$2)","v":0},{"$f":"SUMIFS(入出金NFT結果!$D:$D,入出金NFT結果!$I:$I,\"=\"&月別集計!$B18,入出金NFT結果!$A:$A,\">=\"&月別集計!AV$1,入出金NFT結果!$A:$A,\"<=\"&月別集計!AV$2)","v":0},{"$f":"SUMIFS(入出金NFT結果!$D:$D,入出金NFT結果!$I:$I,\"=\"&月別集計!$B18,入出金NFT結果!$A:$A,\">=\"&月別集計!AW$1,入出金NFT結果!$A:$A,\"<=\"&月別集計!AW$2)","v":0},{"$f":"SUMIFS(入出金NFT結果!$D:$D,入出金NFT結果!$I:$I,\"=\"&月別集計!$B18,入出金NFT結果!$A:$A,\">=\"&月別集計!AX$1,入出金NFT結果!$A:$A,\"<=\"&月別集計!AX$2)","v":0},{"$f":"SUMIFS(入出金NFT結果!$D:$D,入出金NFT結果!$I:$I,\"=\"&月別集計!$B18,入出金NFT結果!$A:$A,\">=\"&月別集計!AY$1,入出金NFT結果!$A:$A,\"<=\"&月別集計!AY$2)","v":0},{"$f":"SUMIFS(入出金NFT結果!$D:$D,入出金NFT結果!$I:$I,\"=\"&月別集計!$B18,入出金NFT結果!$A:$A,\">=\"&月別集計!AZ$1,入出金NFT結果!$A:$A,\"<=\"&月別集計!AZ$2)","v":0},{"$f":"SUMIFS(入出金NFT結果!$D:$D,入出金NFT結果!$I:$I,\"=\"&月別集計!$B18,入出金NFT結果!$A:$A,\">=\"&月別集計!BA$1,入出金NFT結果!$A:$A,\"<=\"&月別集計!BA$2)","v":0},{"$f":"SUMIFS(入出金NFT結果!$D:$D,入出金NFT結果!$I:$I,\"=\"&月別集計!$B18,入出金NFT結果!$A:$A,\">=\"&月別集計!BB$1,入出金NFT結果!$A:$A,\"<=\"&月別集計!BB$2)","v":0},{"$f":"SUMIFS(入出金NFT結果!$D:$D,入出金NFT結果!$I:$I,\"=\"&月別集計!$B18,入出金NFT結果!$A:$A,\">=\"&月別集計!BC$1,入出金NFT結果!$A:$A,\"<=\"&月別集計!BC$2)","v":0},{"$f":"SUMIFS(入出金NFT結果!$D:$D,入出金NFT結果!$I:$I,\"=\"&月別集計!$B18,入出金NFT結果!$A:$A,\">=\"&月別集計!BD$1,入出金NFT結果!$A:$A,\"<=\"&月別集計!BD$2)","v":0},{"$f":"SUMIFS(入出金NFT結果!$D:$D,入出金NFT結果!$I:$I,\"=\"&月別集計!$B18,入出金NFT結果!$A:$A,\">=\"&月別集計!BE$1,入出金NFT結果!$A:$A,\"<=\"&月別集計!BE$2)","v":0},{"$f":"SUMIFS(入出金NFT結果!$D:$D,入出金NFT結果!$I:$I,\"=\"&月別集計!$B18,入出金NFT結果!$A:$A,\">=\"&月別集計!BF$1,入出金NFT結果!$A:$A,\"<=\"&月別集計!BF$2)","v":0},{"$f":"SUMIFS(入出金NFT結果!$D:$D,入出金NFT結果!$I:$I,\"=\"&月別集計!$B18,入出金NFT結果!$A:$A,\">=\"&月別集計!BG$1,入出金NFT結果!$A:$A,\"<=\"&月別集計!BG$2)","v":0},{"$f":"SUMIFS(入出金NFT結果!$D:$D,入出金NFT結果!$I:$I,\"=\"&月別集計!$B18,入出金NFT結果!$A:$A,\">=\"&月別集計!BH$1,入出金NFT結果!$A:$A,\"<=\"&月別集計!BH$2)","v":0},{"$f":"SUMIFS(入出金NFT結果!$D:$D,入出金NFT結果!$I:$I,\"=\"&月別集計!$B18,入出金NFT結果!$A:$A,\">=\"&月別集計!BI$1,入出金NFT結果!$A:$A,\"<=\"&月別集計!BI$2)","v":0},{"$f":"SUMIFS(入出金NFT結果!$D:$D,入出金NFT結果!$I:$I,\"=\"&月別集計!$B18,入出金NFT結果!$A:$A,\">=\"&月別集計!BJ$1,入出金NFT結果!$A:$A,\"<=\"&月別集計!BJ$2)","v":0},{"$f":"SUMIFS(入出金NFT結果!$D:$D,入出金NFT結果!$I:$I,\"=\"&月別集計!$B18,入出金NFT結果!$A:$A,\">=\"&月別集計!BK$1,入出金NFT結果!$A:$A,\"<=\"&月別集計!BK$2)","v":0},{"$f":"SUMIFS(入出金NFT結果!$D:$D,入出金NFT結果!$I:$I,\"=\"&月別集計!$B18,入出金NFT結果!$A:$A,\">=\"&月別集計!BL$1,入出金NFT結果!$A:$A,\"<=\"&月別集計!BL$2)","v":0},{"$f":"SUMIFS(入出金NFT結果!$D:$D,入出金NFT結果!$I:$I,\"=\"&月別集計!$B18,入出金NFT結果!$A:$A,\">=\"&月別集計!BM$1,入出金NFT結果!$A:$A,\"<=\"&月別集計!BM$2)","v":0}]
[null,{"$f":"推定用途置換ルール!G17","v":"SOUL_Fusers：返金処理"},{"$f":"SUMIFS(入出金NFT結果!$D:$D,入出金NFT結果!$I:$I,\"=\"&月別集計!$B19,入出金NFT結果!$A:$A,\">=\"&月別集計!C$1,入出金NFT結果!$A:$A,\"<=\"&月別集計!C$2)","v":0},{"$f":"SUMIFS(入出金NFT結果!$D:$D,入出金NFT結果!$I:$I,\"=\"&月別集計!$B19,入出金NFT結果!$A:$A,\">=\"&月別集計!D$1,入出金NFT結果!$A:$A,\"<=\"&月別集計!D$2)","v":0},{"$f":"SUMIFS(入出金NFT結果!$D:$D,入出金NFT結果!$I:$I,\"=\"&月別集計!$B19,入出金NFT結果!$A:$A,\">=\"&月別集計!E$1,入出金NFT結果!$A:$A,\"<=\"&月別集計!E$2)","v":0},{"$f":"SUMIFS(入出金NFT結果!$D:$D,入出金NFT結果!$I:$I,\"=\"&月別集計!$B19,入出金NFT結果!$A:$A,\">=\"&月別集計!F$1,入出金NFT結果!$A:$A,\"<=\"&月別集計!F$2)","v":0},{"$f":"SUMIFS(入出金NFT結果!$D:$D,入出金NFT結果!$I:$I,\"=\"&月別集計!$B19,入出金NFT結果!$A:$A,\">=\"&月別集計!G$1,入出金NFT結果!$A:$A,\"<=\"&月別集計!G$2)","v":0},{"$f":"SUMIFS(入出金NFT結果!$D:$D,入出金NFT結果!$I:$I,\"=\"&月別集計!$B19,入出金NFT結果!$A:$A,\">=\"&月別集計!H$1,入出金NFT結果!$A:$A,\"<=\"&月別集計!H$2)","v":0},{"$f":"SUMIFS(入出金NFT結果!$D:$D,入出金NFT結果!$I:$I,\"=\"&月別集計!$B19,入出金NFT結果!$A:$A,\">=\"&月別集計!I$1,入出金NFT結果!$A:$A,\"<=\"&月別集計!I$2)","v":0},{"$f":"SUMIFS(入出金NFT結果!$D:$D,入出金NFT結果!$I:$I,\"=\"&月別集計!$B19,入出金NFT結果!$A:$A,\">=\"&月別集計!J$1,入出金NFT結果!$A:$A,\"<=\"&月別集計!J$2)","v":0},{"$f":"SUMIFS(入出金NFT結果!$D:$D,入出金NFT結果!$I:$I,\"=\"&月別集計!$B19,入出金NFT結果!$A:$A,\">=\"&月別集計!K$1,入出金NFT結果!$A:$A,\"<=\"&月別集計!K$2)","v":0},{"$f":"SUMIFS(入出金NFT結果!$D:$D,入出金NFT結果!$I:$I,\"=\"&月別集計!$B19,入出金NFT結果!$A:$A,\">=\"&月別集計!L$1,入出金NFT結果!$A:$A,\"<=\"&月別集計!L$2)","v":0},{"$f":"SUMIFS(入出金NFT結果!$D:$D,入出金NFT結果!$I:$I,\"=\"&月別集計!$B19,入出金NFT結果!$A:$A,\">=\"&月別集計!M$1,入出金NFT結果!$A:$A,\"<=\"&月別集計!M$2)","v":0},{"$f":"SUMIFS(入出金NFT結果!$D:$D,入出金NFT結果!$I:$I,\"=\"&月別集計!$B19,入出金NFT結果!$A:$A,\">=\"&月別集計!N$1,入出金NFT結果!$A:$A,\"<=\"&月別集計!N$2)","v":0},{"$f":"SUMIFS(入出金NFT結果!$D:$D,入出金NFT結果!$I:$I,\"=\"&月別集計!$B19,入出金NFT結果!$A:$A,\">=\"&月別集計!O$1,入出金NFT結果!$A:$A,\"<=\"&月別集計!O$2)","v":0},{"$f":"SUMIFS(入出金NFT結果!$D:$D,入出金NFT結果!$I:$I,\"=\"&月別集計!$B19,入出金NFT結果!$A:$A,\">=\"&月別集計!P$1,入出金NFT結果!$A:$A,\"<=\"&月別集計!P$2)","v":0},{"$f":"SUMIFS(入出金NFT結果!$D:$D,入出金NFT結果!$I:$I,\"=\"&月別集計!$B19,入出金NFT結果!$A:$A,\">=\"&月別集計!Q$1,入出金NFT結果!$A:$A,\"<=\"&月別集計!Q$2)","v":0},{"$f":"SUMIFS(入出金NFT結果!$D:$D,入出金NFT結果!$I:$I,\"=\"&月別集計!$B19,入出金NFT結果!$A:$A,\">=\"&月別集計!R$1,入出金NFT結果!$A:$A,\"<=\"&月別集計!R$2)","v":0},{"$f":"SUMIFS(入出金NFT結果!$D:$D,入出金NFT結果!$I:$I,\"=\"&月別集計!$B19,入出金NFT結果!$A:$A,\">=\"&月別集計!S$1,入出金NFT結果!$A:$A,\"<=\"&月別集計!S$2)","v":0},{"$f":"SUMIFS(入出金NFT結果!$D:$D,入出金NFT結果!$I:$I,\"=\"&月別集計!$B19,入出金NFT結果!$A:$A,\">=\"&月別集計!T$1,入出金NFT結果!$A:$A,\"<=\"&月別集計!T$2)","v":0},{"$f":"SUMIFS(入出金NFT結果!$D:$D,入出金NFT結果!$I:$I,\"=\"&月別集計!$B19,入出金NFT結果!$A:$A,\">=\"&月別集計!U$1,入出金NFT結果!$A:$A,\"<=\"&月別集計!U$2)","v":0},{"$f":"SUMIFS(入出金NFT結果!$D:$D,入出金NFT結果!$I:$I,\"=\"&月別集計!$B19,入出金NFT結果!$A:$A,\">=\"&月別集計!V$1,入出金NFT結果!$A:$A,\"<=\"&月別集計!V$2)","v":0},{"$f":"SUMIFS(入出金NFT結果!$D:$D,入出金NFT結果!$I:$I,\"=\"&月別集計!$B19,入出金NFT結果!$A:$A,\">=\"&月別集計!W$1,入出金NFT結果!$A:$A,\"<=\"&月別集計!W$2)","v":0},{"$f":"SUMIFS(入出金NFT結果!$D:$D,入出金NFT結果!$I:$I,\"=\"&月別集計!$B19,入出金NFT結果!$A:$A,\">=\"&月別集計!X$1,入出金NFT結果!$A:$A,\"<=\"&月別集計!X$2)","v":0},{"$f":"SUMIFS(入出金NFT結果!$D:$D,入出金NFT結果!$I:$I,\"=\"&月別集計!$B19,入出金NFT結果!$A:$A,\">=\"&月別集計!Y$1,入出金NFT結果!$A:$A,\"<=\"&月別集計!Y$2)","v":0},{"$f":"SUMIFS(入出金NFT結果!$D:$D,入出金NFT結果!$I:$I,\"=\"&月別集計!$B19,入出金NFT結果!$A:$A,\">=\"&月別集計!Z$1,入出金NFT結果!$A:$A,\"<=\"&月別集計!Z$2)","v":0},{"$f":"SUMIFS(入出金NFT結果!$D:$D,入出金NFT結果!$I:$I,\"=\"&月別集計!$B19,入出金NFT結果!$A:$A,\">=\"&月別集計!AA$1,入出金NFT結果!$A:$A,\"<=\"&月別集計!AA$2)","v":0},{"$f":"SUMIFS(入出金NFT結果!$D:$D,入出金NFT結果!$I:$I,\"=\"&月別集計!$B19,入出金NFT結果!$A:$A,\">=\"&月別集計!AB$1,入出金NFT結果!$A:$A,\"<=\"&月別集計!AB$2)","v":0},{"$f":"SUMIFS(入出金NFT結果!$D:$D,入出金NFT結果!$I:$I,\"=\"&月別集計!$B19,入出金NFT結果!$A:$A,\">=\"&月別集計!AC$1,入出金NFT結果!$A:$A,\"<=\"&月別集計!AC$2)","v":0},{"$f":"SUMIFS(入出金NFT結果!$D:$D,入出金NFT結果!$I:$I,\"=\"&月別集計!$B19,入出金NFT結果!$A:$A,\">=\"&月別集計!AD$1,入出金NFT結果!$A:$A,\"<=\"&月別集計!AD$2)","v":0},{"$f":"SUMIFS(入出金NFT結果!$D:$D,入出金NFT結果!$I:$I,\"=\"&月別集計!$B19,入出金NFT結果!$A:$A,\">=\"&月別集計!AE$1,入出金NFT結果!$A:$A,\"<=\"&月別集計!AE$2)","v":0},{"$f":"SUMIFS(入出金NFT結果!$D:$D,入出金NFT結果!$I:$I,\"=\"&月別集計!$B19,入出金NFT結果!$A:$A,\">=\"&月別集計!AF$1,入出金NFT結果!$A:$A,\"<=\"&月別集計!AF$2)","v":0},{"$f":"SUMIFS(入出金NFT結果!$D:$D,入出金NFT結果!$I:$I,\"=\"&月別集計!$B19,入出金NFT結果!$A:$A,\">=\"&月別集計!AG$1,入出金NFT結果!$A:$A,\"<=\"&月別集計!AG$2)","v":0},{"$f":"SUMIFS(入出金NFT結果!$D:$D,入出金NFT結果!$I:$I,\"=\"&月別集計!$B19,入出金NFT結果!$A:$A,\">=\"&月別集計!AH$1,入出金NFT結果!$A:$A,\"<=\"&月別集計!AH$2)","v":0},{"$f":"SUMIFS(入出金NFT結果!$D:$D,入出金NFT結果!$I:$I,\"=\"&月別集計!$B19,入出金NFT結果!$A:$A,\">=\"&月別集計!AI$1,入出金NFT結果!$A:$A,\"<=\"&月別集計!AI$2)","v":0},{"$f":"SUMIFS(入出金NFT結果!$D:$D,入出金NFT結果!$I:$I,\"=\"&月別集計!$B19,入出金NFT結果!$A:$A,\">=\"&月別集計!AJ$1,入出金NFT結果!$A:$A,\"<=\"&月別集計!AJ$2)","v":0},{"$f":"SUMIFS(入出金NFT結果!$D:$D,入出金NFT結果!$I:$I,\"=\"&月別集計!$B19,入出金NFT結果!$A:$A,\">=\"&月別集計!AK$1,入出金NFT結果!$A:$A,\"<=\"&月別集計!AK$2)","v":0},{"$f":"SUMIFS(入出金NFT結果!$D:$D,入出金NFT結果!$I:$I,\"=\"&月別集計!$B19,入出金NFT結果!$A:$A,\">=\"&月別集計!AL$1,入出金NFT結果!$A:$A,\"<=\"&月別集計!AL$2)","v":0},{"$f":"SUMIFS(入出金NFT結果!$D:$D,入出金NFT結果!$I:$I,\"=\"&月別集計!$B19,入出金NFT結果!$A:$A,\">=\"&月別集計!AM$1,入出金NFT結果!$A:$A,\"<=\"&月別集計!AM$2)","v":0},{"$f":"SUMIFS(入出金NFT結果!$D:$D,入出金NFT結果!$I:$I,\"=\"&月別集計!$B19,入出金NFT結果!$A:$A,\">=\"&月別集計!AN$1,入出金NFT結果!$A:$A,\"<=\"&月別集計!AN$2)","v":0},{"$f":"SUMIFS(入出金NFT結果!$D:$D,入出金NFT結果!$I:$I,\"=\"&月別集計!$B19,入出金NFT結果!$A:$A,\">=\"&月別集計!AO$1,入出金NFT結果!$A:$A,\"<=\"&月別集計!AO$2)","v":0},{"$f":"SUMIFS(入出金NFT結果!$D:$D,入出金NFT結果!$I:$I,\"=\"&月別集計!$B19,入出金NFT結果!$A:$A,\">=\"&月別集計!AP$1,入出金NFT結果!$A:$A,\"<=\"&月別集計!AP$2)","v":0},{"$f":"SUMIFS(入出金NFT結果!$D:$D,入出金NFT結果!$I:$I,\"=\"&月別集計!$B19,入出金NFT結果!$A:$A,\">=\"&月別集計!AQ$1,入出金NFT結果!$A:$A,\"<=\"&月別集計!AQ$2)","v":0},{"$f":"SUMIFS(入出金NFT結果!$D:$D,入出金NFT結果!$I:$I,\"=\"&月別集計!$B19,入出金NFT結果!$A:$A,\">=\"&月別集計!AR$1,入出金NFT結果!$A:$A,\"<=\"&月別集計!AR$2)","v":0},{"$f":"SUMIFS(入出金NFT結果!$D:$D,入出金NFT結果!$I:$I,\"=\"&月別集計!$B19,入出金NFT結果!$A:$A,\">=\"&月別集計!AS$1,入出金NFT結果!$A:$A,\"<=\"&月別集計!AS$2)","v":0},{"$f":"SUMIFS(入出金NFT結果!$D:$D,入出金NFT結果!$I:$I,\"=\"&月別集計!$B19,入出金NFT結果!$A:$A,\">=\"&月別集計!AT$1,入出金NFT結果!$A:$A,\"<=\"&月別集計!AT$2)","v":0},{"$f":"SUMIFS(入出金NFT結果!$D:$D,入出金NFT結果!$I:$I,\"=\"&月別集計!$B19,入出金NFT結果!$A:$A,\">=\"&月別集計!AU$1,入出金NFT結果!$A:$A,\"<=\"&月別集計!AU$2)","v":0},{"$f":"SUMIFS(入出金NFT結果!$D:$D,入出金NFT結果!$I:$I,\"=\"&月別集計!$B19,入出金NFT結果!$A:$A,\">=\"&月別集計!AV$1,入出金NFT結果!$A:$A,\"<=\"&月別集計!AV$2)","v":0},{"$f":"SUMIFS(入出金NFT結果!$D:$D,入出金NFT結果!$I:$I,\"=\"&月別集計!$B19,入出金NFT結果!$A:$A,\">=\"&月別集計!AW$1,入出金NFT結果!$A:$A,\"<=\"&月別集計!AW$2)","v":0},{"$f":"SUMIFS(入出金NFT結果!$D:$D,入出金NFT結果!$I:$I,\"=\"&月別集計!$B19,入出金NFT結果!$A:$A,\">=\"&月別集計!AX$1,入出金NFT結果!$A:$A,\"<=\"&月別集計!AX$2)","v":0},{"$f":"SUMIFS(入出金NFT結果!$D:$D,入出金NFT結果!$I:$I,\"=\"&月別集計!$B19,入出金NFT結果!$A:$A,\">=\"&月別集計!AY$1,入出金NFT結果!$A:$A,\"<=\"&月別集計!AY$2)","v":0},{"$f":"SUMIFS(入出金NFT結果!$D:$D,入出金NFT結果!$I:$I,\"=\"&月別集計!$B19,入出金NFT結果!$A:$A,\">=\"&月別集計!AZ$1,入出金NFT結果!$A:$A,\"<=\"&月別集計!AZ$2)","v":0},{"$f":"SUMIFS(入出金NFT結果!$D:$D,入出金NFT結果!$I:$I,\"=\"&月別集計!$B19,入出金NFT結果!$A:$A,\">=\"&月別集計!BA$1,入出金NFT結果!$A:$A,\"<=\"&月別集計!BA$2)","v":0},{"$f":"SUMIFS(入出金NFT結果!$D:$D,入出金NFT結果!$I:$I,\"=\"&月別集計!$B19,入出金NFT結果!$A:$A,\">=\"&月別集計!BB$1,入出金NFT結果!$A:$A,\"<=\"&月別集計!BB$2)","v":0},{"$f":"SUMIFS(入出金NFT結果!$D:$D,入出金NFT結果!$I:$I,\"=\"&月別集計!$B19,入出金NFT結果!$A:$A,\">=\"&月別集計!BC$1,入出金NFT結果!$A:$A,\"<=\"&月別集計!BC$2)","v":0},{"$f":"SUMIFS(入出金NFT結果!$D:$D,入出金NFT結果!$I:$I,\"=\"&月別集計!$B19,入出金NFT結果!$A:$A,\">=\"&月別集計!BD$1,入出金NFT結果!$A:$A,\"<=\"&月別集計!BD$2)","v":0},{"$f":"SUMIFS(入出金NFT結果!$D:$D,入出金NFT結果!$I:$I,\"=\"&月別集計!$B19,入出金NFT結果!$A:$A,\">=\"&月別集計!BE$1,入出金NFT結果!$A:$A,\"<=\"&月別集計!BE$2)","v":0},{"$f":"SUMIFS(入出金NFT結果!$D:$D,入出金NFT結果!$I:$I,\"=\"&月別集計!$B19,入出金NFT結果!$A:$A,\">=\"&月別集計!BF$1,入出金NFT結果!$A:$A,\"<=\"&月別集計!BF$2)","v":0},{"$f":"SUMIFS(入出金NFT結果!$D:$D,入出金NFT結果!$I:$I,\"=\"&月別集計!$B19,入出金NFT結果!$A:$A,\">=\"&月別集計!BG$1,入出金NFT結果!$A:$A,\"<=\"&月別集計!BG$2)","v":0},{"$f":"SUMIFS(入出金NFT結果!$D:$D,入出金NFT結果!$I:$I,\"=\"&月別集計!$B19,入出金NFT結果!$A:$A,\">=\"&月別集計!BH$1,入出金NFT結果!$A:$A,\"<=\"&月別集計!BH$2)","v":0},{"$f":"SUMIFS(入出金NFT結果!$D:$D,入出金NFT結果!$I:$I,\"=\"&月別集計!$B19,入出金NFT結果!$A:$A,\">=\"&月別集計!BI$1,入出金NFT結果!$A:$A,\"<=\"&月別集計!BI$2)","v":0},{"$f":"SUMIFS(入出金NFT結果!$D:$D,入出金NFT結果!$I:$I,\"=\"&月別集計!$B19,入出金NFT結果!$A:$A,\">=\"&月別集計!BJ$1,入出金NFT結果!$A:$A,\"<=\"&月別集計!BJ$2)","v":0},{"$f":"SUMIFS(入出金NFT結果!$D:$D,入出金NFT結果!$I:$I,\"=\"&月別集計!$B19,入出金NFT結果!$A:$A,\">=\"&月別集計!BK$1,入出金NFT結果!$A:$A,\"<=\"&月別集計!BK$2)","v":0},{"$f":"SUMIFS(入出金NFT結果!$D:$D,入出金NFT結果!$I:$I,\"=\"&月別集計!$B19,入出金NFT結果!$A:$A,\">=\"&月別集計!BL$1,入出金NFT結果!$A:$A,\"<=\"&月別集計!BL$2)","v":0},{"$f":"SUMIFS(入出金NFT結果!$D:$D,入出金NFT結果!$I:$I,\"=\"&月別集計!$B19,入出金NFT結果!$A:$A,\">=\"&月別集計!BM$1,入出金NFT結果!$A:$A,\"<=\"&月別集計!BM$2)","v":0}]
[null,{"$f":"推定用途置換ルール!G18","v":"SOUL_Fusers：NFTクエスト報酬"},{"$f":"SUMIFS(入出金NFT結果!$D:$D,入出金NFT結果!$I:$I,\"=\"&月別集計!$B20,入出金NFT結果!$A:$A,\">=\"&月別集計!C$1,入出金NFT結果!$A:$A,\"<=\"&月別集計!C$2)","v":0},{"$f":"SUMIFS(入出金NFT結果!$D:$D,入出金NFT結果!$I:$I,\"=\"&月別集計!$B20,入出金NFT結果!$A:$A,\">=\"&月別集計!D$1,入出金NFT結果!$A:$A,\"<=\"&月別集計!D$2)","v":0},{"$f":"SUMIFS(入出金NFT結果!$D:$D,入出金NFT結果!$I:$I,\"=\"&月別集計!$B20,入出金NFT結果!$A:$A,\">=\"&月別集計!E$1,入出金NFT結果!$A:$A,\"<=\"&月別集計!E$2)","v":0},{"$f":"SUMIFS(入出金NFT結果!$D:$D,入出金NFT結果!$I:$I,\"=\"&月別集計!$B20,入出金NFT結果!$A:$A,\">=\"&月別集計!F$1,入出金NFT結果!$A:$A,\"<=\"&月別集計!F$2)","v":0},{"$f":"SUMIFS(入出金NFT結果!$D:$D,入出金NFT結果!$I:$I,\"=\"&月別集計!$B20,入出金NFT結果!$A:$A,\">=\"&月別集計!G$1,入出金NFT結果!$A:$A,\"<=\"&月別集計!G$2)","v":0},{"$f":"SUMIFS(入出金NFT結果!$D:$D,入出金NFT結果!$I:$I,\"=\"&月別集計!$B20,入出金NFT結果!$A:$A,\">=\"&月別集計!H$1,入出金NFT結果!$A:$A,\"<=\"&月別集計!H$2)","v":0},{"$f":"SUMIFS(入出金NFT結果!$D:$D,入出金NFT結果!$I:$I,\"=\"&月別集計!$B20,入出金NFT結果!$A:$A,\">=\"&月別集計!I$1,入出金NFT結果!$A:$A,\"<=\"&月別集計!I$2)","v":0},{"$f":"SUMIFS(入出金NFT結果!$D:$D,入出金NFT結果!$I:$I,\"=\"&月別集計!$B20,入出金NFT結果!$A:$A,\">=\"&月別集計!J$1,入出金NFT結果!$A:$A,\"<=\"&月別集計!J$2)","v":0},{"$f":"SUMIFS(入出金NFT結果!$D:$D,入出金NFT結果!$I:$I,\"=\"&月別集計!$B20,入出金NFT結果!$A:$A,\">=\"&月別集計!K$1,入出金NFT結果!$A:$A,\"<=\"&月別集計!K$2)","v":0},{"$f":"SUMIFS(入出金NFT結果!$D:$D,入出金NFT結果!$I:$I,\"=\"&月別集計!$B20,入出金NFT結果!$A:$A,\">=\"&月別集計!L$1,入出金NFT結果!$A:$A,\"<=\"&月別集計!L$2)","v":0},{"$f":"SUMIFS(入出金NFT結果!$D:$D,入出金NFT結果!$I:$I,\"=\"&月別集計!$B20,入出金NFT結果!$A:$A,\">=\"&月別集計!M$1,入出金NFT結果!$A:$A,\"<=\"&月別集計!M$2)","v":0},{"$f":"SUMIFS(入出金NFT結果!$D:$D,入出金NFT結果!$I:$I,\"=\"&月別集計!$B20,入出金NFT結果!$A:$A,\">=\"&月別集計!N$1,入出金NFT結果!$A:$A,\"<=\"&月別集計!N$2)","v":0},{"$f":"SUMIFS(入出金NFT結果!$D:$D,入出金NFT結果!$I:$I,\"=\"&月別集計!$B20,入出金NFT結果!$A:$A,\">=\"&月別集計!O$1,入出金NFT結果!$A:$A,\"<=\"&月別集計!O$2)","v":0},{"$f":"SUMIFS(入出金NFT結果!$D:$D,入出金NFT結果!$I:$I,\"=\"&月別集計!$B20,入出金NFT結果!$A:$A,\">=\"&月別集計!P$1,入出金NFT結果!$A:$A,\"<=\"&月別集計!P$2)","v":0},{"$f":"SUMIFS(入出金NFT結果!$D:$D,入出金NFT結果!$I:$I,\"=\"&月別集計!$B20,入出金NFT結果!$A:$A,\">=\"&月別集計!Q$1,入出金NFT結果!$A:$A,\"<=\"&月別集計!Q$2)","v":0},{"$f":"SUMIFS(入出金NFT結果!$D:$D,入出金NFT結果!$I:$I,\"=\"&月別集計!$B20,入出金NFT結果!$A:$A,\">=\"&月別集計!R$1,入出金NFT結果!$A:$A,\"<=\"&月別集計!R$2)","v":0},{"$f":"SUMIFS(入出金NFT結果!$D:$D,入出金NFT結果!$I:$I,\"=\"&月別集計!$B20,入出金NFT結果!$A:$A,\">=\"&月別集計!S$1,入出金NFT結果!$A:$A,\"<=\"&月別集計!S$2)","v":0},{"$f":"SUMIFS(入出金NFT結果!$D:$D,入出金NFT結果!$I:$I,\"=\"&月別集計!$B20,入出金NFT結果!$A:$A,\">=\"&月別集計!T$1,入出金NFT結果!$A:$A,\"<=\"&月別集計!T$2)","v":0},{"$f":"SUMIFS(入出金NFT結果!$D:$D,入出金NFT結果!$I:$I,\"=\"&月別集計!$B20,入出金NFT結果!$A:$A,\">=\"&月別集計!U$1,入出金NFT結果!$A:$A,\"<=\"&月別集計!U$2)","v":0},{"$f":"SUMIFS(入出金NFT結果!$D:$D,入出金NFT結果!$I:$I,\"=\"&月別集計!$B20,入出金NFT結果!$A:$A,\">=\"&月別集計!V$1,入出金NFT結果!$A:$A,\"<=\"&月別集計!V$2)","v":0},{"$f":"SUMIFS(入出金NFT結果!$D:$D,入出金NFT結果!$I:$I,\"=\"&月別集計!$B20,入出金NFT結果!$A:$A,\">=\"&月別集計!W$1,入出金NFT結果!$A:$A,\"<=\"&月別集計!W$2)","v":0},{"$f":"SUMIFS(入出金NFT結果!$D:$D,入出金NFT結果!$I:$I,\"=\"&月別集計!$B20,入出金NFT結果!$A:$A,\">=\"&月別集計!X$1,入出金NFT結果!$A:$A,\"<=\"&月別集計!X$2)","v":0},{"$f":"SUMIFS(入出金NFT結果!$D:$D,入出金NFT結果!$I:$I,\"=\"&月別集計!$B20,入出金NFT結果!$A:$A,\">=\"&月別集計!Y$1,入出金NFT結果!$A:$A,\"<=\"&月別集計!Y$2)","v":0},{"$f":"SUMIFS(入出金NFT結果!$D:$D,入出金NFT結果!$I:$I,\"=\"&月別集計!$B20,入出金NFT結果!$A:$A,\">=\"&月別集計!Z$1,入出金NFT結果!$A:$A,\"<=\"&月別集計!Z$2)","v":0},{"$f":"SUMIFS(入出金NFT結果!$D:$D,入出金NFT結果!$I:$I,\"=\"&月別集計!$B20,入出金NFT結果!$A:$A,\">=\"&月別集計!AA$1,入出金NFT結果!$A:$A,\"<=\"&月別集計!AA$2)","v":0},{"$f":"SUMIFS(入出金NFT結果!$D:$D,入出金NFT結果!$I:$I,\"=\"&月別集計!$B20,入出金NFT結果!$A:$A,\">=\"&月別集計!AB$1,入出金NFT結果!$A:$A,\"<=\"&月別集計!AB$2)","v":0},{"$f":"SUMIFS(入出金NFT結果!$D:$D,入出金NFT結果!$I:$I,\"=\"&月別集計!$B20,入出金NFT結果!$A:$A,\">=\"&月別集計!AC$1,入出金NFT結果!$A:$A,\"<=\"&月別集計!AC$2)","v":0},{"$f":"SUMIFS(入出金NFT結果!$D:$D,入出金NFT結果!$I:$I,\"=\"&月別集計!$B20,入出金NFT結果!$A:$A,\">=\"&月別集計!AD$1,入出金NFT結果!$A:$A,\"<=\"&月別集計!AD$2)","v":0},{"$f":"SUMIFS(入出金NFT結果!$D:$D,入出金NFT結果!$I:$I,\"=\"&月別集計!$B20,入出金NFT結果!$A:$A,\">=\"&月別集計!AE$1,入出金NFT結果!$A:$A,\"<=\"&月別集計!AE$2)","v":0},{"$f":"SUMIFS(入出金NFT結果!$D:$D,入出金NFT結果!$I:$I,\"=\"&月別集計!$B20,入出金NFT結果!$A:$A,\">=\"&月別集計!AF$1,入出金NFT結果!$A:$A,\"<=\"&月別集計!AF$2)","v":0},{"$f":"SUMIFS(入出金NFT結果!$D:$D,入出金NFT結果!$I:$I,\"=\"&月別集計!$B20,入出金NFT結果!$A:$A,\">=\"&月別集計!AG$1,入出金NFT結果!$A:$A,\"<=\"&月別集計!AG$2)","v":0},{"$f":"SUMIFS(入出金NFT結果!$D:$D,入出金NFT結果!$I:$I,\"=\"&月別集計!$B20,入出金NFT結果!$A:$A,\">=\"&月別集計!AH$1,入出金NFT結果!$A:$A,\"<=\"&月別集計!AH$2)","v":0},{"$f":"SUMIFS(入出金NFT結果!$D:$D,入出金NFT結果!$I:$I,\"=\"&月別集計!$B20,入出金NFT結果!$A:$A,\">=\"&月別集計!AI$1,入出金NFT結果!$A:$A,\"<=\"&月別集計!AI$2)","v":0},{"$f":"SUMIFS(入出金NFT結果!$D:$D,入出金NFT結果!$I:$I,\"=\"&月別集計!$B20,入出金NFT結果!$A:$A,\">=\"&月別集計!AJ$1,入出金NFT結果!$A:$A,\"<=\"&月別集計!AJ$2)","v":0},{"$f":"SUMIFS(入出金NFT結果!$D:$D,入出金NFT結果!$I:$I,\"=\"&月別集計!$B20,入出金NFT結果!$A:$A,\">=\"&月別集計!AK$1,入出金NFT結果!$A:$A,\"<=\"&月別集計!AK$2)","v":0},{"$f":"SUMIFS(入出金NFT結果!$D:$D,入出金NFT結果!$I:$I,\"=\"&月別集計!$B20,入出金NFT結果!$A:$A,\">=\"&月別集計!AL$1,入出金NFT結果!$A:$A,\"<=\"&月別集計!AL$2)","v":0},{"$f":"SUMIFS(入出金NFT結果!$D:$D,入出金NFT結果!$I:$I,\"=\"&月別集計!$B20,入出金NFT結果!$A:$A,\">=\"&月別集計!AM$1,入出金NFT結果!$A:$A,\"<=\"&月別集計!AM$2)","v":0},{"$f":"SUMIFS(入出金NFT結果!$D:$D,入出金NFT結果!$I:$I,\"=\"&月別集計!$B20,入出金NFT結果!$A:$A,\">=\"&月別集計!AN$1,入出金NFT結果!$A:$A,\"<=\"&月別集計!AN$2)","v":0},{"$f":"SUMIFS(入出金NFT結果!$D:$D,入出金NFT結果!$I:$I,\"=\"&月別集計!$B20,入出金NFT結果!$A:$A,\">=\"&月別集計!AO$1,入出金NFT結果!$A:$A,\"<=\"&月別集計!AO$2)","v":0},{"$f":"SUMIFS(入出金NFT結果!$D:$D,入出金NFT結果!$I:$I,\"=\"&月別集計!$B20,入出金NFT結果!$A:$A,\">=\"&月別集計!AP$1,入出金NFT結果!$A:$A,\"<=\"&月別集計!AP$2)","v":0},{"$f":"SUMIFS(入出金NFT結果!$D:$D,入出金NFT結果!$I:$I,\"=\"&月別集計!$B20,入出金NFT結果!$A:$A,\">=\"&月別集計!AQ$1,入出金NFT結果!$A:$A,\"<=\"&月別集計!AQ$2)","v":0},{"$f":"SUMIFS(入出金NFT結果!$D:$D,入出金NFT結果!$I:$I,\"=\"&月別集計!$B20,入出金NFT結果!$A:$A,\">=\"&月別集計!AR$1,入出金NFT結果!$A:$A,\"<=\"&月別集計!AR$2)","v":0},{"$f":"SUMIFS(入出金NFT結果!$D:$D,入出金NFT結果!$I:$I,\"=\"&月別集計!$B20,入出金NFT結果!$A:$A,\">=\"&月別集計!AS$1,入出金NFT結果!$A:$A,\"<=\"&月別集計!AS$2)","v":0},{"$f":"SUMIFS(入出金NFT結果!$D:$D,入出金NFT結果!$I:$I,\"=\"&月別集計!$B20,入出金NFT結果!$A:$A,\">=\"&月別集計!AT$1,入出金NFT結果!$A:$A,\"<=\"&月別集計!AT$2)","v":0},{"$f":"SUMIFS(入出金NFT結果!$D:$D,入出金NFT結果!$I:$I,\"=\"&月別集計!$B20,入出金NFT結果!$A:$A,\">=\"&月別集計!AU$1,入出金NFT結果!$A:$A,\"<=\"&月別集計!AU$2)","v":0},{"$f":"SUMIFS(入出金NFT結果!$D:$D,入出金NFT結果!$I:$I,\"=\"&月別集計!$B20,入出金NFT結果!$A:$A,\">=\"&月別集計!AV$1,入出金NFT結果!$A:$A,\"<=\"&月別集計!AV$2)","v":0},{"$f":"SUMIFS(入出金NFT結果!$D:$D,入出金NFT結果!$I:$I,\"=\"&月別集計!$B20,入出金NFT結果!$A:$A,\">=\"&月別集計!AW$1,入出金NFT結果!$A:$A,\"<=\"&月別集計!AW$2)","v":0},{"$f":"SUMIFS(入出金NFT結果!$D:$D,入出金NFT結果!$I:$I,\"=\"&月別集計!$B20,入出金NFT結果!$A:$A,\">=\"&月別集計!AX$1,入出金NFT結果!$A:$A,\"<=\"&月別集計!AX$2)","v":0},{"$f":"SUMIFS(入出金NFT結果!$D:$D,入出金NFT結果!$I:$I,\"=\"&月別集計!$B20,入出金NFT結果!$A:$A,\">=\"&月別集計!AY$1,入出金NFT結果!$A:$A,\"<=\"&月別集計!AY$2)","v":0},{"$f":"SUMIFS(入出金NFT結果!$D:$D,入出金NFT結果!$I:$I,\"=\"&月別集計!$B20,入出金NFT結果!$A:$A,\">=\"&月別集計!AZ$1,入出金NFT結果!$A:$A,\"<=\"&月別集計!AZ$2)","v":0},{"$f":"SUMIFS(入出金NFT結果!$D:$D,入出金NFT結果!$I:$I,\"=\"&月別集計!$B20,入出金NFT結果!$A:$A,\">=\"&月別集計!BA$1,入出金NFT結果!$A:$A,\"<=\"&月別集計!BA$2)","v":0},{"$f":"SUMIFS(入出金NFT結果!$D:$D,入出金NFT結果!$I:$I,\"=\"&月別集計!$B20,入出金NFT結果!$A:$A,\">=\"&月別集計!BB$1,入出金NFT結果!$A:$A,\"<=\"&月別集計!BB$2)","v":0},{"$f":"SUMIFS(入出金NFT結果!$D:$D,入出金NFT結果!$I:$I,\"=\"&月別集計!$B20,入出金NFT結果!$A:$A,\">=\"&月別集計!BC$1,入出金NFT結果!$A:$A,\"<=\"&月別集計!BC$2)","v":0},{"$f":"SUMIFS(入出金NFT結果!$D:$D,入出金NFT結果!$I:$I,\"=\"&月別集計!$B20,入出金NFT結果!$A:$A,\">=\"&月別集計!BD$1,入出金NFT結果!$A:$A,\"<=\"&月別集計!BD$2)","v":0},{"$f":"SUMIFS(入出金NFT結果!$D:$D,入出金NFT結果!$I:$I,\"=\"&月別集計!$B20,入出金NFT結果!$A:$A,\">=\"&月別集計!BE$1,入出金NFT結果!$A:$A,\"<=\"&月別集計!BE$2)","v":0},{"$f":"SUMIFS(入出金NFT結果!$D:$D,入出金NFT結果!$I:$I,\"=\"&月別集計!$B20,入出金NFT結果!$A:$A,\">=\"&月別集計!BF$1,入出金NFT結果!$A:$A,\"<=\"&月別集計!BF$2)","v":0},{"$f":"SUMIFS(入出金NFT結果!$D:$D,入出金NFT結果!$I:$I,\"=\"&月別集計!$B20,入出金NFT結果!$A:$A,\">=\"&月別集計!BG$1,入出金NFT結果!$A:$A,\"<=\"&月別集計!BG$2)","v":0},{"$f":"SUMIFS(入出金NFT結果!$D:$D,入出金NFT結果!$I:$I,\"=\"&月別集計!$B20,入出金NFT結果!$A:$A,\">=\"&月別集計!BH$1,入出金NFT結果!$A:$A,\"<=\"&月別集計!BH$2)","v":0},{"$f":"SUMIFS(入出金NFT結果!$D:$D,入出金NFT結果!$I:$I,\"=\"&月別集計!$B20,入出金NFT結果!$A:$A,\">=\"&月別集計!BI$1,入出金NFT結果!$A:$A,\"<=\"&月別集計!BI$2)","v":0},{"$f":"SUMIFS(入出金NFT結果!$D:$D,入出金NFT結果!$I:$I,\"=\"&月別集計!$B20,入出金NFT結果!$A:$A,\">=\"&月別集計!BJ$1,入出金NFT結果!$A:$A,\"<=\"&月別集計!BJ$2)","v":0},{"$f":"SUMIFS(入出金NFT結果!$D:$D,入出金NFT結果!$I:$I,\"=\"&月別集計!$B20,入出金NFT結果!$A:$A,\">=\"&月別集計!BK$1,入出金NFT結果!$A:$A,\"<=\"&月別集計!BK$2)","v":0},{"$f":"SUMIFS(入出金NFT結果!$D:$D,入出金NFT結果!$I:$I,\"=\"&月別集計!$B20,入出金NFT結果!$A:$A,\">=\"&月別集計!BL$1,入出金NFT結果!$A:$A,\"<=\"&月別集計!BL$2)","v":0},{"$f":"SUMIFS(入出金NFT結果!$D:$D,入出金NFT結果!$I:$I,\"=\"&月別集計!$B20,入出金NFT結果!$A:$A,\">=\"&月別集計!BM$1,入出金NFT結果!$A:$A,\"<=\"&月別集計!BM$2)","v":0}]
[null,{"$f":"推定用途置換ルール!G19","v":"SOUL_Fusers：アリーナ報酬"},{"$f":"SUMIFS(入出金NFT結果!$D:$D,入出金NFT結果!$I:$I,\"=\"&月別集計!$B21,入出金NFT結果!$A:$A,\">=\"&月別集計!C$1,入出金NFT結果!$A:$A,\"<=\"&月別集計!C$2)","v":0},{"$f":"SUMIFS(入出金NFT結果!$D:$D,入出金NFT結果!$I:$I,\"=\"&月別集計!$B21,入出金NFT結果!$A:$A,\">=\"&月別集計!D$1,入出金NFT結果!$A:$A,\"<=\"&月別集計!D$2)","v":0},{"$f":"SUMIFS(入出金NFT結果!$D:$D,入出金NFT結果!$I:$I,\"=\"&月別集計!$B21,入出金NFT結果!$A:$A,\">=\"&月別集計!E$1,入出金NFT結果!$A:$A,\"<=\"&月別集計!E$2)","v":0},{"$f":"SUMIFS(入出金NFT結果!$D:$D,入出金NFT結果!$I:$I,\"=\"&月別集計!$B21,入出金NFT結果!$A:$A,\">=\"&月別集計!F$1,入出金NFT結果!$A:$A,\"<=\"&月別集計!F$2)","v":0},{"$f":"SUMIFS(入出金NFT結果!$D:$D,入出金NFT結果!$I:$I,\"=\"&月別集計!$B21,入出金NFT結果!$A:$A,\">=\"&月別集計!G$1,入出金NFT結果!$A:$A,\"<=\"&月別集計!G$2)","v":0},{"$f":"SUMIFS(入出金NFT結果!$D:$D,入出金NFT結果!$I:$I,\"=\"&月別集計!$B21,入出金NFT結果!$A:$A,\">=\"&月別集計!H$1,入出金NFT結果!$A:$A,\"<=\"&月別集計!H$2)","v":0},{"$f":"SUMIFS(入出金NFT結果!$D:$D,入出金NFT結果!$I:$I,\"=\"&月別集計!$B21,入出金NFT結果!$A:$A,\">=\"&月別集計!I$1,入出金NFT結果!$A:$A,\"<=\"&月別集計!I$2)","v":0},{"$f":"SUMIFS(入出金NFT結果!$D:$D,入出金NFT結果!$I:$I,\"=\"&月別集計!$B21,入出金NFT結果!$A:$A,\">=\"&月別集計!J$1,入出金NFT結果!$A:$A,\"<=\"&月別集計!J$2)","v":0},{"$f":"SUMIFS(入出金NFT結果!$D:$D,入出金NFT結果!$I:$I,\"=\"&月別集計!$B21,入出金NFT結果!$A:$A,\">=\"&月別集計!K$1,入出金NFT結果!$A:$A,\"<=\"&月別集計!K$2)","v":0},{"$f":"SUMIFS(入出金NFT結果!$D:$D,入出金NFT結果!$I:$I,\"=\"&月別集計!$B21,入出金NFT結果!$A:$A,\">=\"&月別集計!L$1,入出金NFT結果!$A:$A,\"<=\"&月別集計!L$2)","v":0},{"$f":"SUMIFS(入出金NFT結果!$D:$D,入出金NFT結果!$I:$I,\"=\"&月別集計!$B21,入出金NFT結果!$A:$A,\">=\"&月別集計!M$1,入出金NFT結果!$A:$A,\"<=\"&月別集計!M$2)","v":0},{"$f":"SUMIFS(入出金NFT結果!$D:$D,入出金NFT結果!$I:$I,\"=\"&月別集計!$B21,入出金NFT結果!$A:$A,\">=\"&月別集計!N$1,入出金NFT結果!$A:$A,\"<=\"&月別集計!N$2)","v":0},{"$f":"SUMIFS(入出金NFT結果!$D:$D,入出金NFT結果!$I:$I,\"=\"&月別集計!$B21,入出金NFT結果!$A:$A,\">=\"&月別集計!O$1,入出金NFT結果!$A:$A,\"<=\"&月別集計!O$2)","v":0},{"$f":"SUMIFS(入出金NFT結果!$D:$D,入出金NFT結果!$I:$I,\"=\"&月別集計!$B21,入出金NFT結果!$A:$A,\">=\"&月別集計!P$1,入出金NFT結果!$A:$A,\"<=\"&月別集計!P$2)","v":0},{"$f":"SUMIFS(入出金NFT結果!$D:$D,入出金NFT結果!$I:$I,\"=\"&月別集計!$B21,入出金NFT結果!$A:$A,\">=\"&月別集計!Q$1,入出金NFT結果!$A:$A,\"<=\"&月別集計!Q$2)","v":0},{"$f":"SUMIFS(入出金NFT結果!$D:$D,入出金NFT結果!$I:$I,\"=\"&月別集計!$B21,入出金NFT結果!$A:$A,\">=\"&月別集計!R$1,入出金NFT結果!$A:$A,\"<=\"&月別集計!R$2)","v":0},{"$f":"SUMIFS(入出金NFT結果!$D:$D,入出金NFT結果!$I:$I,\"=\"&月別集計!$B21,入出金NFT結果!$A:$A,\">=\"&月別集計!S$1,入出金NFT結果!$A:$A,\"<=\"&月別集計!S$2)","v":0},{"$f":"SUMIFS(入出金NFT結果!$D:$D,入出金NFT結果!$I:$I,\"=\"&月別集計!$B21,入出金NFT結果!$A:$A,\">=\"&月別集計!T$1,入出金NFT結果!$A:$A,\"<=\"&月別集計!T$2)","v":0},{"$f":"SUMIFS(入出金NFT結果!$D:$D,入出金NFT結果!$I:$I,\"=\"&月別集計!$B21,入出金NFT結果!$A:$A,\">=\"&月別集計!U$1,入出金NFT結果!$A:$A,\"<=\"&月別集計!U$2)","v":0},{"$f":"SUMIFS(入出金NFT結果!$D:$D,入出金NFT結果!$I:$I,\"=\"&月別集計!$B21,入出金NFT結果!$A:$A,\">=\"&月別集計!V$1,入出金NFT結果!$A:$A,\"<=\"&月別集計!V$2)","v":0},{"$f":"SUMIFS(入出金NFT結果!$D:$D,入出金NFT結果!$I:$I,\"=\"&月別集計!$B21,入出金NFT結果!$A:$A,\">=\"&月別集計!W$1,入出金NFT結果!$A:$A,\"<=\"&月別集計!W$2)","v":0},{"$f":"SUMIFS(入出金NFT結果!$D:$D,入出金NFT結果!$I:$I,\"=\"&月別集計!$B21,入出金NFT結果!$A:$A,\">=\"&月別集計!X$1,入出金NFT結果!$A:$A,\"<=\"&月別集計!X$2)","v":0},{"$f":"SUMIFS(入出金NFT結果!$D:$D,入出金NFT結果!$I:$I,\"=\"&月別集計!$B21,入出金NFT結果!$A:$A,\">=\"&月別集計!Y$1,入出金NFT結果!$A:$A,\"<=\"&月別集計!Y$2)","v":0},{"$f":"SUMIFS(入出金NFT結果!$D:$D,入出金NFT結果!$I:$I,\"=\"&月別集計!$B21,入出金NFT結果!$A:$A,\">=\"&月別集計!Z$1,入出金NFT結果!$A:$A,\"<=\"&月別集計!Z$2)","v":0},{"$f":"SUMIFS(入出金NFT結果!$D:$D,入出金NFT結果!$I:$I,\"=\"&月別集計!$B21,入出金NFT結果!$A:$A,\">=\"&月別集計!AA$1,入出金NFT結果!$A:$A,\"<=\"&月別集計!AA$2)","v":0},{"$f":"SUMIFS(入出金NFT結果!$D:$D,入出金NFT結果!$I:$I,\"=\"&月別集計!$B21,入出金NFT結果!$A:$A,\">=\"&月別集計!AB$1,入出金NFT結果!$A:$A,\"<=\"&月別集計!AB$2)","v":0},{"$f":"SUMIFS(入出金NFT結果!$D:$D,入出金NFT結果!$I:$I,\"=\"&月別集計!$B21,入出金NFT結果!$A:$A,\">=\"&月別集計!AC$1,入出金NFT結果!$A:$A,\"<=\"&月別集計!AC$2)","v":0},{"$f":"SUMIFS(入出金NFT結果!$D:$D,入出金NFT結果!$I:$I,\"=\"&月別集計!$B21,入出金NFT結果!$A:$A,\">=\"&月別集計!AD$1,入出金NFT結果!$A:$A,\"<=\"&月別集計!AD$2)","v":0},{"$f":"SUMIFS(入出金NFT結果!$D:$D,入出金NFT結果!$I:$I,\"=\"&月別集計!$B21,入出金NFT結果!$A:$A,\">=\"&月別集計!AE$1,入出金NFT結果!$A:$A,\"<=\"&月別集計!AE$2)","v":0},{"$f":"SUMIFS(入出金NFT結果!$D:$D,入出金NFT結果!$I:$I,\"=\"&月別集計!$B21,入出金NFT結果!$A:$A,\">=\"&月別集計!AF$1,入出金NFT結果!$A:$A,\"<=\"&月別集計!AF$2)","v":0},{"$f":"SUMIFS(入出金NFT結果!$D:$D,入出金NFT結果!$I:$I,\"=\"&月別集計!$B21,入出金NFT結果!$A:$A,\">=\"&月別集計!AG$1,入出金NFT結果!$A:$A,\"<=\"&月別集計!AG$2)","v":0},{"$f":"SUMIFS(入出金NFT結果!$D:$D,入出金NFT結果!$I:$I,\"=\"&月別集計!$B21,入出金NFT結果!$A:$A,\">=\"&月別集計!AH$1,入出金NFT結果!$A:$A,\"<=\"&月別集計!AH$2)","v":0},{"$f":"SUMIFS(入出金NFT結果!$D:$D,入出金NFT結果!$I:$I,\"=\"&月別集計!$B21,入出金NFT結果!$A:$A,\">=\"&月別集計!AI$1,入出金NFT結果!$A:$A,\"<=\"&月別集計!AI$2)","v":0},{"$f":"SUMIFS(入出金NFT結果!$D:$D,入出金NFT結果!$I:$I,\"=\"&月別集計!$B21,入出金NFT結果!$A:$A,\">=\"&月別集計!AJ$1,入出金NFT結果!$A:$A,\"<=\"&月別集計!AJ$2)","v":0},{"$f":"SUMIFS(入出金NFT結果!$D:$D,入出金NFT結果!$I:$I,\"=\"&月別集計!$B21,入出金NFT結果!$A:$A,\">=\"&月別集計!AK$1,入出金NFT結果!$A:$A,\"<=\"&月別集計!AK$2)","v":0},{"$f":"SUMIFS(入出金NFT結果!$D:$D,入出金NFT結果!$I:$I,\"=\"&月別集計!$B21,入出金NFT結果!$A:$A,\">=\"&月別集計!AL$1,入出金NFT結果!$A:$A,\"<=\"&月別集計!AL$2)","v":0},{"$f":"SUMIFS(入出金NFT結果!$D:$D,入出金NFT結果!$I:$I,\"=\"&月別集計!$B21,入出金NFT結果!$A:$A,\">=\"&月別集計!AM$1,入出金NFT結果!$A:$A,\"<=\"&月別集計!AM$2)","v":0},{"$f":"SUMIFS(入出金NFT結果!$D:$D,入出金NFT結果!$I:$I,\"=\"&月別集計!$B21,入出金NFT結果!$A:$A,\">=\"&月別集計!AN$1,入出金NFT結果!$A:$A,\"<=\"&月別集計!AN$2)","v":0},{"$f":"SUMIFS(入出金NFT結果!$D:$D,入出金NFT結果!$I:$I,\"=\"&月別集計!$B21,入出金NFT結果!$A:$A,\">=\"&月別集計!AO$1,入出金NFT結果!$A:$A,\"<=\"&月別集計!AO$2)","v":0},{"$f":"SUMIFS(入出金NFT結果!$D:$D,入出金NFT結果!$I:$I,\"=\"&月別集計!$B21,入出金NFT結果!$A:$A,\">=\"&月別集計!AP$1,入出金NFT結果!$A:$A,\"<=\"&月別集計!AP$2)","v":0},{"$f":"SUMIFS(入出金NFT結果!$D:$D,入出金NFT結果!$I:$I,\"=\"&月別集計!$B21,入出金NFT結果!$A:$A,\">=\"&月別集計!AQ$1,入出金NFT結果!$A:$A,\"<=\"&月別集計!AQ$2)","v":0},{"$f":"SUMIFS(入出金NFT結果!$D:$D,入出金NFT結果!$I:$I,\"=\"&月別集計!$B21,入出金NFT結果!$A:$A,\">=\"&月別集計!AR$1,入出金NFT結果!$A:$A,\"<=\"&月別集計!AR$2)","v":0},{"$f":"SUMIFS(入出金NFT結果!$D:$D,入出金NFT結果!$I:$I,\"=\"&月別集計!$B21,入出金NFT結果!$A:$A,\">=\"&月別集計!AS$1,入出金NFT結果!$A:$A,\"<=\"&月別集計!AS$2)","v":0},{"$f":"SUMIFS(入出金NFT結果!$D:$D,入出金NFT結果!$I:$I,\"=\"&月別集計!$B21,入出金NFT結果!$A:$A,\">=\"&月別集計!AT$1,入出金NFT結果!$A:$A,\"<=\"&月別集計!AT$2)","v":0},{"$f":"SUMIFS(入出金NFT結果!$D:$D,入出金NFT結果!$I:$I,\"=\"&月別集計!$B21,入出金NFT結果!$A:$A,\">=\"&月別集計!AU$1,入出金NFT結果!$A:$A,\"<=\"&月別集計!AU$2)","v":0},{"$f":"SUMIFS(入出金NFT結果!$D:$D,入出金NFT結果!$I:$I,\"=\"&月別集計!$B21,入出金NFT結果!$A:$A,\">=\"&月別集計!AV$1,入出金NFT結果!$A:$A,\"<=\"&月別集計!AV$2)","v":0},{"$f":"SUMIFS(入出金NFT結果!$D:$D,入出金NFT結果!$I:$I,\"=\"&月別集計!$B21,入出金NFT結果!$A:$A,\">=\"&月別集計!AW$1,入出金NFT結果!$A:$A,\"<=\"&月別集計!AW$2)","v":0},{"$f":"SUMIFS(入出金NFT結果!$D:$D,入出金NFT結果!$I:$I,\"=\"&月別集計!$B21,入出金NFT結果!$A:$A,\">=\"&月別集計!AX$1,入出金NFT結果!$A:$A,\"<=\"&月別集計!AX$2)","v":0},{"$f":"SUMIFS(入出金NFT結果!$D:$D,入出金NFT結果!$I:$I,\"=\"&月別集計!$B21,入出金NFT結果!$A:$A,\">=\"&月別集計!AY$1,入出金NFT結果!$A:$A,\"<=\"&月別集計!AY$2)","v":0},{"$f":"SUMIFS(入出金NFT結果!$D:$D,入出金NFT結果!$I:$I,\"=\"&月別集計!$B21,入出金NFT結果!$A:$A,\">=\"&月別集計!AZ$1,入出金NFT結果!$A:$A,\"<=\"&月別集計!AZ$2)","v":0},{"$f":"SUMIFS(入出金NFT結果!$D:$D,入出金NFT結果!$I:$I,\"=\"&月別集計!$B21,入出金NFT結果!$A:$A,\">=\"&月別集計!BA$1,入出金NFT結果!$A:$A,\"<=\"&月別集計!BA$2)","v":0},{"$f":"SUMIFS(入出金NFT結果!$D:$D,入出金NFT結果!$I:$I,\"=\"&月別集計!$B21,入出金NFT結果!$A:$A,\">=\"&月別集計!BB$1,入出金NFT結果!$A:$A,\"<=\"&月別集計!BB$2)","v":0},{"$f":"SUMIFS(入出金NFT結果!$D:$D,入出金NFT結果!$I:$I,\"=\"&月別集計!$B21,入出金NFT結果!$A:$A,\">=\"&月別集計!BC$1,入出金NFT結果!$A:$A,\"<=\"&月別集計!BC$2)","v":0},{"$f":"SUMIFS(入出金NFT結果!$D:$D,入出金NFT結果!$I:$I,\"=\"&月別集計!$B21,入出金NFT結果!$A:$A,\">=\"&月別集計!BD$1,入出金NFT結果!$A:$A,\"<=\"&月別集計!BD$2)","v":0},{"$f":"SUMIFS(入出金NFT結果!$D:$D,入出金NFT結果!$I:$I,\"=\"&月別集計!$B21,入出金NFT結果!$A:$A,\">=\"&月別集計!BE$1,入出金NFT結果!$A:$A,\"<=\"&月別集計!BE$2)","v":0},{"$f":"SUMIFS(入出金NFT結果!$D:$D,入出金NFT結果!$I:$I,\"=\"&月別集計!$B21,入出金NFT結果!$A:$A,\">=\"&月別集計!BF$1,入出金NFT結果!$A:$A,\"<=\"&月別集計!BF$2)","v":0},{"$f":"SUMIFS(入出金NFT結果!$D:$D,入出金NFT結果!$I:$I,\"=\"&月別集計!$B21,入出金NFT結果!$A:$A,\">=\"&月別集計!BG$1,入出金NFT結果!$A:$A,\"<=\"&月別集計!BG$2)","v":0},{"$f":"SUMIFS(入出金NFT結果!$D:$D,入出金NFT結果!$I:$I,\"=\"&月別集計!$B21,入出金NFT結果!$A:$A,\">=\"&月別集計!BH$1,入出金NFT結果!$A:$A,\"<=\"&月別集計!BH$2)","v":0},{"$f":"SUMIFS(入出金NFT結果!$D:$D,入出金NFT結果!$I:$I,\"=\"&月別集計!$B21,入出金NFT結果!$A:$A,\">=\"&月別集計!BI$1,入出金NFT結果!$A:$A,\"<=\"&月別集計!BI$2)","v":0},{"$f":"SUMIFS(入出金NFT結果!$D:$D,入出金NFT結果!$I:$I,\"=\"&月別集計!$B21,入出金NFT結果!$A:$A,\">=\"&月別集計!BJ$1,入出金NFT結果!$A:$A,\"<=\"&月別集計!BJ$2)","v":0},{"$f":"SUMIFS(入出金NFT結果!$D:$D,入出金NFT結果!$I:$I,\"=\"&月別集計!$B21,入出金NFT結果!$A:$A,\">=\"&月別集計!BK$1,入出金NFT結果!$A:$A,\"<=\"&月別集計!BK$2)","v":0},{"$f":"SUMIFS(入出金NFT結果!$D:$D,入出金NFT結果!$I:$I,\"=\"&月別集計!$B21,入出金NFT結果!$A:$A,\">=\"&月別集計!BL$1,入出金NFT結果!$A:$A,\"<=\"&月別集計!BL$2)","v":0},{"$f":"SUMIFS(入出金NFT結果!$D:$D,入出金NFT結果!$I:$I,\"=\"&月別集計!$B21,入出金NFT結果!$A:$A,\">=\"&月別集計!BM$1,入出金NFT結果!$A:$A,\"<=\"&月別集計!BM$2)","v":0}]
[null,{"$f":"推定用途置換ルール!G20","v":"Answer to Earn：報酬"},{"$f":"SUMIFS(入出金NFT結果!$D:$D,入出金NFT結果!$I:$I,\"=\"&月別集計!$B22,入出金NFT結果!$A:$A,\">=\"&月別集計!C$1,入出金NFT結果!$A:$A,\"<=\"&月別集計!C$2)","v":0},{"$f":"SUMIFS(入出金NFT結果!$D:$D,入出金NFT結果!$I:$I,\"=\"&月別集計!$B22,入出金NFT結果!$A:$A,\">=\"&月別集計!D$1,入出金NFT結果!$A:$A,\"<=\"&月別集計!D$2)","v":0},{"$f":"SUMIFS(入出金NFT結果!$D:$D,入出金NFT結果!$I:$I,\"=\"&月別集計!$B22,入出金NFT結果!$A:$A,\">=\"&月別集計!E$1,入出金NFT結果!$A:$A,\"<=\"&月別集計!E$2)","v":0},{"$f":"SUMIFS(入出金NFT結果!$D:$D,入出金NFT結果!$I:$I,\"=\"&月別集計!$B22,入出金NFT結果!$A:$A,\">=\"&月別集計!F$1,入出金NFT結果!$A:$A,\"<=\"&月別集計!F$2)","v":0},{"$f":"SUMIFS(入出金NFT結果!$D:$D,入出金NFT結果!$I:$I,\"=\"&月別集計!$B22,入出金NFT結果!$A:$A,\">=\"&月別集計!G$1,入出金NFT結果!$A:$A,\"<=\"&月別集計!G$2)","v":0},{"$f":"SUMIFS(入出金NFT結果!$D:$D,入出金NFT結果!$I:$I,\"=\"&月別集計!$B22,入出金NFT結果!$A:$A,\">=\"&月別集計!H$1,入出金NFT結果!$A:$A,\"<=\"&月別集計!H$2)","v":0},{"$f":"SUMIFS(入出金NFT結果!$D:$D,入出金NFT結果!$I:$I,\"=\"&月別集計!$B22,入出金NFT結果!$A:$A,\">=\"&月別集計!I$1,入出金NFT結果!$A:$A,\"<=\"&月別集計!I$2)","v":0},{"$f":"SUMIFS(入出金NFT結果!$D:$D,入出金NFT結果!$I:$I,\"=\"&月別集計!$B22,入出金NFT結果!$A:$A,\">=\"&月別集計!J$1,入出金NFT結果!$A:$A,\"<=\"&月別集計!J$2)","v":0},{"$f":"SUMIFS(入出金NFT結果!$D:$D,入出金NFT結果!$I:$I,\"=\"&月別集計!$B22,入出金NFT結果!$A:$A,\">=\"&月別集計!K$1,入出金NFT結果!$A:$A,\"<=\"&月別集計!K$2)","v":0},{"$f":"SUMIFS(入出金NFT結果!$D:$D,入出金NFT結果!$I:$I,\"=\"&月別集計!$B22,入出金NFT結果!$A:$A,\">=\"&月別集計!L$1,入出金NFT結果!$A:$A,\"<=\"&月別集計!L$2)","v":0},{"$f":"SUMIFS(入出金NFT結果!$D:$D,入出金NFT結果!$I:$I,\"=\"&月別集計!$B22,入出金NFT結果!$A:$A,\">=\"&月別集計!M$1,入出金NFT結果!$A:$A,\"<=\"&月別集計!M$2)","v":0},{"$f":"SUMIFS(入出金NFT結果!$D:$D,入出金NFT結果!$I:$I,\"=\"&月別集計!$B22,入出金NFT結果!$A:$A,\">=\"&月別集計!N$1,入出金NFT結果!$A:$A,\"<=\"&月別集計!N$2)","v":0},{"$f":"SUMIFS(入出金NFT結果!$D:$D,入出金NFT結果!$I:$I,\"=\"&月別集計!$B22,入出金NFT結果!$A:$A,\">=\"&月別集計!O$1,入出金NFT結果!$A:$A,\"<=\"&月別集計!O$2)","v":0},{"$f":"SUMIFS(入出金NFT結果!$D:$D,入出金NFT結果!$I:$I,\"=\"&月別集計!$B22,入出金NFT結果!$A:$A,\">=\"&月別集計!P$1,入出金NFT結果!$A:$A,\"<=\"&月別集計!P$2)","v":0},{"$f":"SUMIFS(入出金NFT結果!$D:$D,入出金NFT結果!$I:$I,\"=\"&月別集計!$B22,入出金NFT結果!$A:$A,\">=\"&月別集計!Q$1,入出金NFT結果!$A:$A,\"<=\"&月別集計!Q$2)","v":0},{"$f":"SUMIFS(入出金NFT結果!$D:$D,入出金NFT結果!$I:$I,\"=\"&月別集計!$B22,入出金NFT結果!$A:$A,\">=\"&月別集計!R$1,入出金NFT結果!$A:$A,\"<=\"&月別集計!R$2)","v":0},{"$f":"SUMIFS(入出金NFT結果!$D:$D,入出金NFT結果!$I:$I,\"=\"&月別集計!$B22,入出金NFT結果!$A:$A,\">=\"&月別集計!S$1,入出金NFT結果!$A:$A,\"<=\"&月別集計!S$2)","v":0},{"$f":"SUMIFS(入出金NFT結果!$D:$D,入出金NFT結果!$I:$I,\"=\"&月別集計!$B22,入出金NFT結果!$A:$A,\">=\"&月別集計!T$1,入出金NFT結果!$A:$A,\"<=\"&月別集計!T$2)","v":0},{"$f":"SUMIFS(入出金NFT結果!$D:$D,入出金NFT結果!$I:$I,\"=\"&月別集計!$B22,入出金NFT結果!$A:$A,\">=\"&月別集計!U$1,入出金NFT結果!$A:$A,\"<=\"&月別集計!U$2)","v":0},{"$f":"SUMIFS(入出金NFT結果!$D:$D,入出金NFT結果!$I:$I,\"=\"&月別集計!$B22,入出金NFT結果!$A:$A,\">=\"&月別集計!V$1,入出金NFT結果!$A:$A,\"<=\"&月別集計!V$2)","v":0},{"$f":"SUMIFS(入出金NFT結果!$D:$D,入出金NFT結果!$I:$I,\"=\"&月別集計!$B22,入出金NFT結果!$A:$A,\">=\"&月別集計!W$1,入出金NFT結果!$A:$A,\"<=\"&月別集計!W$2)","v":0},{"$f":"SUMIFS(入出金NFT結果!$D:$D,入出金NFT結果!$I:$I,\"=\"&月別集計!$B22,入出金NFT結果!$A:$A,\">=\"&月別集計!X$1,入出金NFT結果!$A:$A,\"<=\"&月別集計!X$2)","v":0},{"$f":"SUMIFS(入出金NFT結果!$D:$D,入出金NFT結果!$I:$I,\"=\"&月別集計!$B22,入出金NFT結果!$A:$A,\">=\"&月別集計!Y$1,入出金NFT結果!$A:$A,\"<=\"&月別集計!Y$2)","v":0},{"$f":"SUMIFS(入出金NFT結果!$D:$D,入出金NFT結果!$I:$I,\"=\"&月別集計!$B22,入出金NFT結果!$A:$A,\">=\"&月別集計!Z$1,入出金NFT結果!$A:$A,\"<=\"&月別集計!Z$2)","v":0},{"$f":"SUMIFS(入出金NFT結果!$D:$D,入出金NFT結果!$I:$I,\"=\"&月別集計!$B22,入出金NFT結果!$A:$A,\">=\"&月別集計!AA$1,入出金NFT結果!$A:$A,\"<=\"&月別集計!AA$2)","v":0},{"$f":"SUMIFS(入出金NFT結果!$D:$D,入出金NFT結果!$I:$I,\"=\"&月別集計!$B22,入出金NFT結果!$A:$A,\">=\"&月別集計!AB$1,入出金NFT結果!$A:$A,\"<=\"&月別集計!AB$2)","v":0},{"$f":"SUMIFS(入出金NFT結果!$D:$D,入出金NFT結果!$I:$I,\"=\"&月別集計!$B22,入出金NFT結果!$A:$A,\">=\"&月別集計!AC$1,入出金NFT結果!$A:$A,\"<=\"&月別集計!AC$2)","v":0},{"$f":"SUMIFS(入出金NFT結果!$D:$D,入出金NFT結果!$I:$I,\"=\"&月別集計!$B22,入出金NFT結果!$A:$A,\">=\"&月別集計!AD$1,入出金NFT結果!$A:$A,\"<=\"&月別集計!AD$2)","v":0},{"$f":"SUMIFS(入出金NFT結果!$D:$D,入出金NFT結果!$I:$I,\"=\"&月別集計!$B22,入出金NFT結果!$A:$A,\">=\"&月別集計!AE$1,入出金NFT結果!$A:$A,\"<=\"&月別集計!AE$2)","v":0},{"$f":"SUMIFS(入出金NFT結果!$D:$D,入出金NFT結果!$I:$I,\"=\"&月別集計!$B22,入出金NFT結果!$A:$A,\">=\"&月別集計!AF$1,入出金NFT結果!$A:$A,\"<=\"&月別集計!AF$2)","v":0},{"$f":"SUMIFS(入出金NFT結果!$D:$D,入出金NFT結果!$I:$I,\"=\"&月別集計!$B22,入出金NFT結果!$A:$A,\">=\"&月別集計!AG$1,入出金NFT結果!$A:$A,\"<=\"&月別集計!AG$2)","v":0},{"$f":"SUMIFS(入出金NFT結果!$D:$D,入出金NFT結果!$I:$I,\"=\"&月別集計!$B22,入出金NFT結果!$A:$A,\">=\"&月別集計!AH$1,入出金NFT結果!$A:$A,\"<=\"&月別集計!AH$2)","v":0},{"$f":"SUMIFS(入出金NFT結果!$D:$D,入出金NFT結果!$I:$I,\"=\"&月別集計!$B22,入出金NFT結果!$A:$A,\">=\"&月別集計!AI$1,入出金NFT結果!$A:$A,\"<=\"&月別集計!AI$2)","v":0},{"$f":"SUMIFS(入出金NFT結果!$D:$D,入出金NFT結果!$I:$I,\"=\"&月別集計!$B22,入出金NFT結果!$A:$A,\">=\"&月別集計!AJ$1,入出金NFT結果!$A:$A,\"<=\"&月別集計!AJ$2)","v":0},{"$f":"SUMIFS(入出金NFT結果!$D:$D,入出金NFT結果!$I:$I,\"=\"&月別集計!$B22,入出金NFT結果!$A:$A,\">=\"&月別集計!AK$1,入出金NFT結果!$A:$A,\"<=\"&月別集計!AK$2)","v":0},{"$f":"SUMIFS(入出金NFT結果!$D:$D,入出金NFT結果!$I:$I,\"=\"&月別集計!$B22,入出金NFT結果!$A:$A,\">=\"&月別集計!AL$1,入出金NFT結果!$A:$A,\"<=\"&月別集計!AL$2)","v":0},{"$f":"SUMIFS(入出金NFT結果!$D:$D,入出金NFT結果!$I:$I,\"=\"&月別集計!$B22,入出金NFT結果!$A:$A,\">=\"&月別集計!AM$1,入出金NFT結果!$A:$A,\"<=\"&月別集計!AM$2)","v":0},{"$f":"SUMIFS(入出金NFT結果!$D:$D,入出金NFT結果!$I:$I,\"=\"&月別集計!$B22,入出金NFT結果!$A:$A,\">=\"&月別集計!AN$1,入出金NFT結果!$A:$A,\"<=\"&月別集計!AN$2)","v":0},{"$f":"SUMIFS(入出金NFT結果!$D:$D,入出金NFT結果!$I:$I,\"=\"&月別集計!$B22,入出金NFT結果!$A:$A,\">=\"&月別集計!AO$1,入出金NFT結果!$A:$A,\"<=\"&月別集計!AO$2)","v":0},{"$f":"SUMIFS(入出金NFT結果!$D:$D,入出金NFT結果!$I:$I,\"=\"&月別集計!$B22,入出金NFT結果!$A:$A,\">=\"&月別集計!AP$1,入出金NFT結果!$A:$A,\"<=\"&月別集計!AP$2)","v":0},{"$f":"SUMIFS(入出金NFT結果!$D:$D,入出金NFT結果!$I:$I,\"=\"&月別集計!$B22,入出金NFT結果!$A:$A,\">=\"&月別集計!AQ$1,入出金NFT結果!$A:$A,\"<=\"&月別集計!AQ$2)","v":0},{"$f":"SUMIFS(入出金NFT結果!$D:$D,入出金NFT結果!$I:$I,\"=\"&月別集計!$B22,入出金NFT結果!$A:$A,\">=\"&月別集計!AR$1,入出金NFT結果!$A:$A,\"<=\"&月別集計!AR$2)","v":0},{"$f":"SUMIFS(入出金NFT結果!$D:$D,入出金NFT結果!$I:$I,\"=\"&月別集計!$B22,入出金NFT結果!$A:$A,\">=\"&月別集計!AS$1,入出金NFT結果!$A:$A,\"<=\"&月別集計!AS$2)","v":0},{"$f":"SUMIFS(入出金NFT結果!$D:$D,入出金NFT結果!$I:$I,\"=\"&月別集計!$B22,入出金NFT結果!$A:$A,\">=\"&月別集計!AT$1,入出金NFT結果!$A:$A,\"<=\"&月別集計!AT$2)","v":0},{"$f":"SUMIFS(入出金NFT結果!$D:$D,入出金NFT結果!$I:$I,\"=\"&月別集計!$B22,入出金NFT結果!$A:$A,\">=\"&月別集計!AU$1,入出金NFT結果!$A:$A,\"<=\"&月別集計!AU$2)","v":0},{"$f":"SUMIFS(入出金NFT結果!$D:$D,入出金NFT結果!$I:$I,\"=\"&月別集計!$B22,入出金NFT結果!$A:$A,\">=\"&月別集計!AV$1,入出金NFT結果!$A:$A,\"<=\"&月別集計!AV$2)","v":0},{"$f":"SUMIFS(入出金NFT結果!$D:$D,入出金NFT結果!$I:$I,\"=\"&月別集計!$B22,入出金NFT結果!$A:$A,\">=\"&月別集計!AW$1,入出金NFT結果!$A:$A,\"<=\"&月別集計!AW$2)","v":0},{"$f":"SUMIFS(入出金NFT結果!$D:$D,入出金NFT結果!$I:$I,\"=\"&月別集計!$B22,入出金NFT結果!$A:$A,\">=\"&月別集計!AX$1,入出金NFT結果!$A:$A,\"<=\"&月別集計!AX$2)","v":0},{"$f":"SUMIFS(入出金NFT結果!$D:$D,入出金NFT結果!$I:$I,\"=\"&月別集計!$B22,入出金NFT結果!$A:$A,\">=\"&月別集計!AY$1,入出金NFT結果!$A:$A,\"<=\"&月別集計!AY$2)","v":0},{"$f":"SUMIFS(入出金NFT結果!$D:$D,入出金NFT結果!$I:$I,\"=\"&月別集計!$B22,入出金NFT結果!$A:$A,\">=\"&月別集計!AZ$1,入出金NFT結果!$A:$A,\"<=\"&月別集計!AZ$2)","v":0},{"$f":"SUMIFS(入出金NFT結果!$D:$D,入出金NFT結果!$I:$I,\"=\"&月別集計!$B22,入出金NFT結果!$A:$A,\">=\"&月別集計!BA$1,入出金NFT結果!$A:$A,\"<=\"&月別集計!BA$2)","v":0},{"$f":"SUMIFS(入出金NFT結果!$D:$D,入出金NFT結果!$I:$I,\"=\"&月別集計!$B22,入出金NFT結果!$A:$A,\">=\"&月別集計!BB$1,入出金NFT結果!$A:$A,\"<=\"&月別集計!BB$2)","v":0},{"$f":"SUMIFS(入出金NFT結果!$D:$D,入出金NFT結果!$I:$I,\"=\"&月別集計!$B22,入出金NFT結果!$A:$A,\">=\"&月別集計!BC$1,入出金NFT結果!$A:$A,\"<=\"&月別集計!BC$2)","v":0},{"$f":"SUMIFS(入出金NFT結果!$D:$D,入出金NFT結果!$I:$I,\"=\"&月別集計!$B22,入出金NFT結果!$A:$A,\">=\"&月別集計!BD$1,入出金NFT結果!$A:$A,\"<=\"&月別集計!BD$2)","v":0},{"$f":"SUMIFS(入出金NFT結果!$D:$D,入出金NFT結果!$I:$I,\"=\"&月別集計!$B22,入出金NFT結果!$A:$A,\">=\"&月別集計!BE$1,入出金NFT結果!$A:$A,\"<=\"&月別集計!BE$2)","v":0},{"$f":"SUMIFS(入出金NFT結果!$D:$D,入出金NFT結果!$I:$I,\"=\"&月別集計!$B22,入出金NFT結果!$A:$A,\">=\"&月別集計!BF$1,入出金NFT結果!$A:$A,\"<=\"&月別集計!BF$2)","v":0},{"$f":"SUMIFS(入出金NFT結果!$D:$D,入出金NFT結果!$I:$I,\"=\"&月別集計!$B22,入出金NFT結果!$A:$A,\">=\"&月別集計!BG$1,入出金NFT結果!$A:$A,\"<=\"&月別集計!BG$2)","v":0},{"$f":"SUMIFS(入出金NFT結果!$D:$D,入出金NFT結果!$I:$I,\"=\"&月別集計!$B22,入出金NFT結果!$A:$A,\">=\"&月別集計!BH$1,入出金NFT結果!$A:$A,\"<=\"&月別集計!BH$2)","v":0},{"$f":"SUMIFS(入出金NFT結果!$D:$D,入出金NFT結果!$I:$I,\"=\"&月別集計!$B22,入出金NFT結果!$A:$A,\">=\"&月別集計!BI$1,入出金NFT結果!$A:$A,\"<=\"&月別集計!BI$2)","v":0},{"$f":"SUMIFS(入出金NFT結果!$D:$D,入出金NFT結果!$I:$I,\"=\"&月別集計!$B22,入出金NFT結果!$A:$A,\">=\"&月別集計!BJ$1,入出金NFT結果!$A:$A,\"<=\"&月別集計!BJ$2)","v":0},{"$f":"SUMIFS(入出金NFT結果!$D:$D,入出金NFT結果!$I:$I,\"=\"&月別集計!$B22,入出金NFT結果!$A:$A,\">=\"&月別集計!BK$1,入出金NFT結果!$A:$A,\"<=\"&月別集計!BK$2)","v":0},{"$f":"SUMIFS(入出金NFT結果!$D:$D,入出金NFT結果!$I:$I,\"=\"&月別集計!$B22,入出金NFT結果!$A:$A,\">=\"&月別集計!BL$1,入出金NFT結果!$A:$A,\"<=\"&月別集計!BL$2)","v":0},{"$f":"SUMIFS(入出金NFT結果!$D:$D,入出金NFT結果!$I:$I,\"=\"&月別集計!$B22,入出金NFT結果!$A:$A,\">=\"&月別集計!BM$1,入出金NFT結果!$A:$A,\"<=\"&月別集計!BM$2)","v":0}]
[null,{"$f":"推定用途置換ルール!G21","v":"エアドロップ関連"},{"$f":"SUMIFS(入出金NFT結果!$D:$D,入出金NFT結果!$I:$I,\"=\"&月別集計!$B23,入出金NFT結果!$A:$A,\">=\"&月別集計!C$1,入出金NFT結果!$A:$A,\"<=\"&月別集計!C$2)","v":0},{"$f":"SUMIFS(入出金NFT結果!$D:$D,入出金NFT結果!$I:$I,\"=\"&月別集計!$B23,入出金NFT結果!$A:$A,\">=\"&月別集計!D$1,入出金NFT結果!$A:$A,\"<=\"&月別集計!D$2)","v":0},{"$f":"SUMIFS(入出金NFT結果!$D:$D,入出金NFT結果!$I:$I,\"=\"&月別集計!$B23,入出金NFT結果!$A:$A,\">=\"&月別集計!E$1,入出金NFT結果!$A:$A,\"<=\"&月別集計!E$2)","v":0},{"$f":"SUMIFS(入出金NFT結果!$D:$D,入出金NFT結果!$I:$I,\"=\"&月別集計!$B23,入出金NFT結果!$A:$A,\">=\"&月別集計!F$1,入出金NFT結果!$A:$A,\"<=\"&月別集計!F$2)","v":0},{"$f":"SUMIFS(入出金NFT結果!$D:$D,入出金NFT結果!$I:$I,\"=\"&月別集計!$B23,入出金NFT結果!$A:$A,\">=\"&月別集計!G$1,入出金NFT結果!$A:$A,\"<=\"&月別集計!G$2)","v":0},{"$f":"SUMIFS(入出金NFT結果!$D:$D,入出金NFT結果!$I:$I,\"=\"&月別集計!$B23,入出金NFT結果!$A:$A,\">=\"&月別集計!H$1,入出金NFT結果!$A:$A,\"<=\"&月別集計!H$2)","v":0},{"$f":"SUMIFS(入出金NFT結果!$D:$D,入出金NFT結果!$I:$I,\"=\"&月別集計!$B23,入出金NFT結果!$A:$A,\">=\"&月別集計!I$1,入出金NFT結果!$A:$A,\"<=\"&月別集計!I$2)","v":0},{"$f":"SUMIFS(入出金NFT結果!$D:$D,入出金NFT結果!$I:$I,\"=\"&月別集計!$B23,入出金NFT結果!$A:$A,\">=\"&月別集計!J$1,入出金NFT結果!$A:$A,\"<=\"&月別集計!J$2)","v":0},{"$f":"SUMIFS(入出金NFT結果!$D:$D,入出金NFT結果!$I:$I,\"=\"&月別集計!$B23,入出金NFT結果!$A:$A,\">=\"&月別集計!K$1,入出金NFT結果!$A:$A,\"<=\"&月別集計!K$2)","v":0},{"$f":"SUMIFS(入出金NFT結果!$D:$D,入出金NFT結果!$I:$I,\"=\"&月別集計!$B23,入出金NFT結果!$A:$A,\">=\"&月別集計!L$1,入出金NFT結果!$A:$A,\"<=\"&月別集計!L$2)","v":0},{"$f":"SUMIFS(入出金NFT結果!$D:$D,入出金NFT結果!$I:$I,\"=\"&月別集計!$B23,入出金NFT結果!$A:$A,\">=\"&月別集計!M$1,入出金NFT結果!$A:$A,\"<=\"&月別集計!M$2)","v":0},{"$f":"SUMIFS(入出金NFT結果!$D:$D,入出金NFT結果!$I:$I,\"=\"&月別集計!$B23,入出金NFT結果!$A:$A,\">=\"&月別集計!N$1,入出金NFT結果!$A:$A,\"<=\"&月別集計!N$2)","v":0},{"$f":"SUMIFS(入出金NFT結果!$D:$D,入出金NFT結果!$I:$I,\"=\"&月別集計!$B23,入出金NFT結果!$A:$A,\">=\"&月別集計!O$1,入出金NFT結果!$A:$A,\"<=\"&月別集計!O$2)","v":0},{"$f":"SUMIFS(入出金NFT結果!$D:$D,入出金NFT結果!$I:$I,\"=\"&月別集計!$B23,入出金NFT結果!$A:$A,\">=\"&月別集計!P$1,入出金NFT結果!$A:$A,\"<=\"&月別集計!P$2)","v":0},{"$f":"SUMIFS(入出金NFT結果!$D:$D,入出金NFT結果!$I:$I,\"=\"&月別集計!$B23,入出金NFT結果!$A:$A,\">=\"&月別集計!Q$1,入出金NFT結果!$A:$A,\"<=\"&月別集計!Q$2)","v":0},{"$f":"SUMIFS(入出金NFT結果!$D:$D,入出金NFT結果!$I:$I,\"=\"&月別集計!$B23,入出金NFT結果!$A:$A,\">=\"&月別集計!R$1,入出金NFT結果!$A:$A,\"<=\"&月別集計!R$2)","v":0},{"$f":"SUMIFS(入出金NFT結果!$D:$D,入出金NFT結果!$I:$I,\"=\"&月別集計!$B23,入出金NFT結果!$A:$A,\">=\"&月別集計!S$1,入出金NFT結果!$A:$A,\"<=\"&月別集計!S$2)","v":0},{"$f":"SUMIFS(入出金NFT結果!$D:$D,入出金NFT結果!$I:$I,\"=\"&月別集計!$B23,入出金NFT結果!$A:$A,\">=\"&月別集計!T$1,入出金NFT結果!$A:$A,\"<=\"&月別集計!T$2)","v":0},{"$f":"SUMIFS(入出金NFT結果!$D:$D,入出金NFT結果!$I:$I,\"=\"&月別集計!$B23,入出金NFT結果!$A:$A,\">=\"&月別集計!U$1,入出金NFT結果!$A:$A,\"<=\"&月別集計!U$2)","v":0},{"$f":"SUMIFS(入出金NFT結果!$D:$D,入出金NFT結果!$I:$I,\"=\"&月別集計!$B23,入出金NFT結果!$A:$A,\">=\"&月別集計!V$1,入出金NFT結果!$A:$A,\"<=\"&月別集計!V$2)","v":0},{"$f":"SUMIFS(入出金NFT結果!$D:$D,入出金NFT結果!$I:$I,\"=\"&月別集計!$B23,入出金NFT結果!$A:$A,\">=\"&月別集計!W$1,入出金NFT結果!$A:$A,\"<=\"&月別集計!W$2)","v":0},{"$f":"SUMIFS(入出金NFT結果!$D:$D,入出金NFT結果!$I:$I,\"=\"&月別集計!$B23,入出金NFT結果!$A:$A,\">=\"&月別集計!X$1,入出金NFT結果!$A:$A,\"<=\"&月別集計!X$2)","v":0},{"$f":"SUMIFS(入出金NFT結果!$D:$D,入出金NFT結果!$I:$I,\"=\"&月別集計!$B23,入出金NFT結果!$A:$A,\">=\"&月別集計!Y$1,入出金NFT結果!$A:$A,\"<=\"&月別集計!Y$2)","v":0},{"$f":"SUMIFS(入出金NFT結果!$D:$D,入出金NFT結果!$I:$I,\"=\"&月別集計!$B23,入出金NFT結果!$A:$A,\">=\"&月別集計!Z$1,入出金NFT結果!$A:$A,\"<=\"&月別集計!Z$2)","v":0},{"$f":"SUMIFS(入出金NFT結果!$D:$D,入出金NFT結果!$I:$I,\"=\"&月別集計!$B23,入出金NFT結果!$A:$A,\">=\"&月別集計!AA$1,入出金NFT結果!$A:$A,\"<=\"&月別集計!AA$2)","v":0},{"$f":"SUMIFS(入出金NFT結果!$D:$D,入出金NFT結果!$I:$I,\"=\"&月別集計!$B23,入出金NFT結果!$A:$A,\">=\"&月別集計!AB$1,入出金NFT結果!$A:$A,\"<=\"&月別集計!AB$2)","v":0},{"$f":"SUMIFS(入出金NFT結果!$D:$D,入出金NFT結果!$I:$I,\"=\"&月別集計!$B23,入出金NFT結果!$A:$A,\">=\"&月別集計!AC$1,入出金NFT結果!$A:$A,\"<=\"&月別集計!AC$2)","v":0},{"$f":"SUMIFS(入出金NFT結果!$D:$D,入出金NFT結果!$I:$I,\"=\"&月別集計!$B23,入出金NFT結果!$A:$A,\">=\"&月別集計!AD$1,入出金NFT結果!$A:$A,\"<=\"&月別集計!AD$2)","v":0},{"$f":"SUMIFS(入出金NFT結果!$D:$D,入出金NFT結果!$I:$I,\"=\"&月別集計!$B23,入出金NFT結果!$A:$A,\">=\"&月別集計!AE$1,入出金NFT結果!$A:$A,\"<=\"&月別集計!AE$2)","v":0},{"$f":"SUMIFS(入出金NFT結果!$D:$D,入出金NFT結果!$I:$I,\"=\"&月別集計!$B23,入出金NFT結果!$A:$A,\">=\"&月別集計!AF$1,入出金NFT結果!$A:$A,\"<=\"&月別集計!AF$2)","v":0},{"$f":"SUMIFS(入出金NFT結果!$D:$D,入出金NFT結果!$I:$I,\"=\"&月別集計!$B23,入出金NFT結果!$A:$A,\">=\"&月別集計!AG$1,入出金NFT結果!$A:$A,\"<=\"&月別集計!AG$2)","v":0},{"$f":"SUMIFS(入出金NFT結果!$D:$D,入出金NFT結果!$I:$I,\"=\"&月別集計!$B23,入出金NFT結果!$A:$A,\">=\"&月別集計!AH$1,入出金NFT結果!$A:$A,\"<=\"&月別集計!AH$2)","v":0},{"$f":"SUMIFS(入出金NFT結果!$D:$D,入出金NFT結果!$I:$I,\"=\"&月別集計!$B23,入出金NFT結果!$A:$A,\">=\"&月別集計!AI$1,入出金NFT結果!$A:$A,\"<=\"&月別集計!AI$2)","v":0},{"$f":"SUMIFS(入出金NFT結果!$D:$D,入出金NFT結果!$I:$I,\"=\"&月別集計!$B23,入出金NFT結果!$A:$A,\">=\"&月別集計!AJ$1,入出金NFT結果!$A:$A,\"<=\"&月別集計!AJ$2)","v":0},{"$f":"SUMIFS(入出金NFT結果!$D:$D,入出金NFT結果!$I:$I,\"=\"&月別集計!$B23,入出金NFT結果!$A:$A,\">=\"&月別集計!AK$1,入出金NFT結果!$A:$A,\"<=\"&月別集計!AK$2)","v":0},{"$f":"SUMIFS(入出金NFT結果!$D:$D,入出金NFT結果!$I:$I,\"=\"&月別集計!$B23,入出金NFT結果!$A:$A,\">=\"&月別集計!AL$1,入出金NFT結果!$A:$A,\"<=\"&月別集計!AL$2)","v":0},{"$f":"SUMIFS(入出金NFT結果!$D:$D,入出金NFT結果!$I:$I,\"=\"&月別集計!$B23,入出金NFT結果!$A:$A,\">=\"&月別集計!AM$1,入出金NFT結果!$A:$A,\"<=\"&月別集計!AM$2)","v":0},{"$f":"SUMIFS(入出金NFT結果!$D:$D,入出金NFT結果!$I:$I,\"=\"&月別集計!$B23,入出金NFT結果!$A:$A,\">=\"&月別集計!AN$1,入出金NFT結果!$A:$A,\"<=\"&月別集計!AN$2)","v":0},{"$f":"SUMIFS(入出金NFT結果!$D:$D,入出金NFT結果!$I:$I,\"=\"&月別集計!$B23,入出金NFT結果!$A:$A,\">=\"&月別集計!AO$1,入出金NFT結果!$A:$A,\"<=\"&月別集計!AO$2)","v":0},{"$f":"SUMIFS(入出金NFT結果!$D:$D,入出金NFT結果!$I:$I,\"=\"&月別集計!$B23,入出金NFT結果!$A:$A,\">=\"&月別集計!AP$1,入出金NFT結果!$A:$A,\"<=\"&月別集計!AP$2)","v":0},{"$f":"SUMIFS(入出金NFT結果!$D:$D,入出金NFT結果!$I:$I,\"=\"&月別集計!$B23,入出金NFT結果!$A:$A,\">=\"&月別集計!AQ$1,入出金NFT結果!$A:$A,\"<=\"&月別集計!AQ$2)","v":0},{"$f":"SUMIFS(入出金NFT結果!$D:$D,入出金NFT結果!$I:$I,\"=\"&月別集計!$B23,入出金NFT結果!$A:$A,\">=\"&月別集計!AR$1,入出金NFT結果!$A:$A,\"<=\"&月別集計!AR$2)","v":0},{"$f":"SUMIFS(入出金NFT結果!$D:$D,入出金NFT結果!$I:$I,\"=\"&月別集計!$B23,入出金NFT結果!$A:$A,\">=\"&月別集計!AS$1,入出金NFT結果!$A:$A,\"<=\"&月別集計!AS$2)","v":0},{"$f":"SUMIFS(入出金NFT結果!$D:$D,入出金NFT結果!$I:$I,\"=\"&月別集計!$B23,入出金NFT結果!$A:$A,\">=\"&月別集計!AT$1,入出金NFT結果!$A:$A,\"<=\"&月別集計!AT$2)","v":0},{"$f":"SUMIFS(入出金NFT結果!$D:$D,入出金NFT結果!$I:$I,\"=\"&月別集計!$B23,入出金NFT結果!$A:$A,\">=\"&月別集計!AU$1,入出金NFT結果!$A:$A,\"<=\"&月別集計!AU$2)","v":0},{"$f":"SUMIFS(入出金NFT結果!$D:$D,入出金NFT結果!$I:$I,\"=\"&月別集計!$B23,入出金NFT結果!$A:$A,\">=\"&月別集計!AV$1,入出金NFT結果!$A:$A,\"<=\"&月別集計!AV$2)","v":0},{"$f":"SUMIFS(入出金NFT結果!$D:$D,入出金NFT結果!$I:$I,\"=\"&月別集計!$B23,入出金NFT結果!$A:$A,\">=\"&月別集計!AW$1,入出金NFT結果!$A:$A,\"<=\"&月別集計!AW$2)","v":0},{"$f":"SUMIFS(入出金NFT結果!$D:$D,入出金NFT結果!$I:$I,\"=\"&月別集計!$B23,入出金NFT結果!$A:$A,\">=\"&月別集計!AX$1,入出金NFT結果!$A:$A,\"<=\"&月別集計!AX$2)","v":0},{"$f":"SUMIFS(入出金NFT結果!$D:$D,入出金NFT結果!$I:$I,\"=\"&月別集計!$B23,入出金NFT結果!$A:$A,\">=\"&月別集計!AY$1,入出金NFT結果!$A:$A,\"<=\"&月別集計!AY$2)","v":0},{"$f":"SUMIFS(入出金NFT結果!$D:$D,入出金NFT結果!$I:$I,\"=\"&月別集計!$B23,入出金NFT結果!$A:$A,\">=\"&月別集計!AZ$1,入出金NFT結果!$A:$A,\"<=\"&月別集計!AZ$2)","v":0},{"$f":"SUMIFS(入出金NFT結果!$D:$D,入出金NFT結果!$I:$I,\"=\"&月別集計!$B23,入出金NFT結果!$A:$A,\">=\"&月別集計!BA$1,入出金NFT結果!$A:$A,\"<=\"&月別集計!BA$2)","v":0},{"$f":"SUMIFS(入出金NFT結果!$D:$D,入出金NFT結果!$I:$I,\"=\"&月別集計!$B23,入出金NFT結果!$A:$A,\">=\"&月別集計!BB$1,入出金NFT結果!$A:$A,\"<=\"&月別集計!BB$2)","v":0},{"$f":"SUMIFS(入出金NFT結果!$D:$D,入出金NFT結果!$I:$I,\"=\"&月別集計!$B23,入出金NFT結果!$A:$A,\">=\"&月別集計!BC$1,入出金NFT結果!$A:$A,\"<=\"&月別集計!BC$2)","v":0},{"$f":"SUMIFS(入出金NFT結果!$D:$D,入出金NFT結果!$I:$I,\"=\"&月別集計!$B23,入出金NFT結果!$A:$A,\">=\"&月別集計!BD$1,入出金NFT結果!$A:$A,\"<=\"&月別集計!BD$2)","v":0},{"$f":"SUMIFS(入出金NFT結果!$D:$D,入出金NFT結果!$I:$I,\"=\"&月別集計!$B23,入出金NFT結果!$A:$A,\">=\"&月別集計!BE$1,入出金NFT結果!$A:$A,\"<=\"&月別集計!BE$2)","v":0},{"$f":"SUMIFS(入出金NFT結果!$D:$D,入出金NFT結果!$I:$I,\"=\"&月別集計!$B23,入出金NFT結果!$A:$A,\">=\"&月別集計!BF$1,入出金NFT結果!$A:$A,\"<=\"&月別集計!BF$2)","v":0},{"$f":"SUMIFS(入出金NFT結果!$D:$D,入出金NFT結果!$I:$I,\"=\"&月別集計!$B23,入出金NFT結果!$A:$A,\">=\"&月別集計!BG$1,入出金NFT結果!$A:$A,\"<=\"&月別集計!BG$2)","v":0},{"$f":"SUMIFS(入出金NFT結果!$D:$D,入出金NFT結果!$I:$I,\"=\"&月別集計!$B23,入出金NFT結果!$A:$A,\">=\"&月別集計!BH$1,入出金NFT結果!$A:$A,\"<=\"&月別集計!BH$2)","v":0},{"$f":"SUMIFS(入出金NFT結果!$D:$D,入出金NFT結果!$I:$I,\"=\"&月別集計!$B23,入出金NFT結果!$A:$A,\">=\"&月別集計!BI$1,入出金NFT結果!$A:$A,\"<=\"&月別集計!BI$2)","v":0},{"$f":"SUMIFS(入出金NFT結果!$D:$D,入出金NFT結果!$I:$I,\"=\"&月別集計!$B23,入出金NFT結果!$A:$A,\">=\"&月別集計!BJ$1,入出金NFT結果!$A:$A,\"<=\"&月別集計!BJ$2)","v":0},{"$f":"SUMIFS(入出金NFT結果!$D:$D,入出金NFT結果!$I:$I,\"=\"&月別集計!$B23,入出金NFT結果!$A:$A,\">=\"&月別集計!BK$1,入出金NFT結果!$A:$A,\"<=\"&月別集計!BK$2)","v":0},{"$f":"SUMIFS(入出金NFT結果!$D:$D,入出金NFT結果!$I:$I,\"=\"&月別集計!$B23,入出金NFT結果!$A:$A,\">=\"&月別集計!BL$1,入出金NFT結果!$A:$A,\"<=\"&月別集計!BL$2)","v":0},{"$f":"SUMIFS(入出金NFT結果!$D:$D,入出金NFT結果!$I:$I,\"=\"&月別集計!$B23,入出金NFT結果!$A:$A,\">=\"&月別集計!BM$1,入出金NFT結果!$A:$A,\"<=\"&月別集計!BM$2)","v":0}]
[null,{"$f":"推定用途置換ルール!G22","v":"NFT売却"},{"$f":"SUMIFS(入出金NFT結果!$D:$D,入出金NFT結果!$I:$I,\"=\"&月別集計!$B24,入出金NFT結果!$A:$A,\">=\"&月別集計!C$1,入出金NFT結果!$A:$A,\"<=\"&月別集計!C$2)","v":0},{"$f":"SUMIFS(入出金NFT結果!$D:$D,入出金NFT結果!$I:$I,\"=\"&月別集計!$B24,入出金NFT結果!$A:$A,\">=\"&月別集計!D$1,入出金NFT結果!$A:$A,\"<=\"&月別集計!D$2)","v":0},{"$f":"SUMIFS(入出金NFT結果!$D:$D,入出金NFT結果!$I:$I,\"=\"&月別集計!$B24,入出金NFT結果!$A:$A,\">=\"&月別集計!E$1,入出金NFT結果!$A:$A,\"<=\"&月別集計!E$2)","v":0},{"$f":"SUMIFS(入出金NFT結果!$D:$D,入出金NFT結果!$I:$I,\"=\"&月別集計!$B24,入出金NFT結果!$A:$A,\">=\"&月別集計!F$1,入出金NFT結果!$A:$A,\"<=\"&月別集計!F$2)","v":0},{"$f":"SUMIFS(入出金NFT結果!$D:$D,入出金NFT結果!$I:$I,\"=\"&月別集計!$B24,入出金NFT結果!$A:$A,\">=\"&月別集計!G$1,入出金NFT結果!$A:$A,\"<=\"&月別集計!G$2)","v":0},{"$f":"SUMIFS(入出金NFT結果!$D:$D,入出金NFT結果!$I:$I,\"=\"&月別集計!$B24,入出金NFT結果!$A:$A,\">=\"&月別集計!H$1,入出金NFT結果!$A:$A,\"<=\"&月別集計!H$2)","v":0},{"$f":"SUMIFS(入出金NFT結果!$D:$D,入出金NFT結果!$I:$I,\"=\"&月別集計!$B24,入出金NFT結果!$A:$A,\">=\"&月別集計!I$1,入出金NFT結果!$A:$A,\"<=\"&月別集計!I$2)","v":0},{"$f":"SUMIFS(入出金NFT結果!$D:$D,入出金NFT結果!$I:$I,\"=\"&月別集計!$B24,入出金NFT結果!$A:$A,\">=\"&月別集計!J$1,入出金NFT結果!$A:$A,\"<=\"&月別集計!J$2)","v":0},{"$f":"SUMIFS(入出金NFT結果!$D:$D,入出金NFT結果!$I:$I,\"=\"&月別集計!$B24,入出金NFT結果!$A:$A,\">=\"&月別集計!K$1,入出金NFT結果!$A:$A,\"<=\"&月別集計!K$2)","v":0},{"$f":"SUMIFS(入出金NFT結果!$D:$D,入出金NFT結果!$I:$I,\"=\"&月別集計!$B24,入出金NFT結果!$A:$A,\">=\"&月別集計!L$1,入出金NFT結果!$A:$A,\"<=\"&月別集計!L$2)","v":0},{"$f":"SUMIFS(入出金NFT結果!$D:$D,入出金NFT結果!$I:$I,\"=\"&月別集計!$B24,入出金NFT結果!$A:$A,\">=\"&月別集計!M$1,入出金NFT結果!$A:$A,\"<=\"&月別集計!M$2)","v":0},{"$f":"SUMIFS(入出金NFT結果!$D:$D,入出金NFT結果!$I:$I,\"=\"&月別集計!$B24,入出金NFT結果!$A:$A,\">=\"&月別集計!N$1,入出金NFT結果!$A:$A,\"<=\"&月別集計!N$2)","v":0},{"$f":"SUMIFS(入出金NFT結果!$D:$D,入出金NFT結果!$I:$I,\"=\"&月別集計!$B24,入出金NFT結果!$A:$A,\">=\"&月別集計!O$1,入出金NFT結果!$A:$A,\"<=\"&月別集計!O$2)","v":0},{"$f":"SUMIFS(入出金NFT結果!$D:$D,入出金NFT結果!$I:$I,\"=\"&月別集計!$B24,入出金NFT結果!$A:$A,\">=\"&月別集計!P$1,入出金NFT結果!$A:$A,\"<=\"&月別集計!P$2)","v":0},{"$f":"SUMIFS(入出金NFT結果!$D:$D,入出金NFT結果!$I:$I,\"=\"&月別集計!$B24,入出金NFT結果!$A:$A,\">=\"&月別集計!Q$1,入出金NFT結果!$A:$A,\"<=\"&月別集計!Q$2)","v":0},{"$f":"SUMIFS(入出金NFT結果!$D:$D,入出金NFT結果!$I:$I,\"=\"&月別集計!$B24,入出金NFT結果!$A:$A,\">=\"&月別集計!R$1,入出金NFT結果!$A:$A,\"<=\"&月別集計!R$2)","v":0},{"$f":"SUMIFS(入出金NFT結果!$D:$D,入出金NFT結果!$I:$I,\"=\"&月別集計!$B24,入出金NFT結果!$A:$A,\">=\"&月別集計!S$1,入出金NFT結果!$A:$A,\"<=\"&月別集計!S$2)","v":0},{"$f":"SUMIFS(入出金NFT結果!$D:$D,入出金NFT結果!$I:$I,\"=\"&月別集計!$B24,入出金NFT結果!$A:$A,\">=\"&月別集計!T$1,入出金NFT結果!$A:$A,\"<=\"&月別集計!T$2)","v":0},{"$f":"SUMIFS(入出金NFT結果!$D:$D,入出金NFT結果!$I:$I,\"=\"&月別集計!$B24,入出金NFT結果!$A:$A,\">=\"&月別集計!U$1,入出金NFT結果!$A:$A,\"<=\"&月別集計!U$2)","v":0},{"$f":"SUMIFS(入出金NFT結果!$D:$D,入出金NFT結果!$I:$I,\"=\"&月別集計!$B24,入出金NFT結果!$A:$A,\">=\"&月別集計!V$1,入出金NFT結果!$A:$A,\"<=\"&月別集計!V$2)","v":0},{"$f":"SUMIFS(入出金NFT結果!$D:$D,入出金NFT結果!$I:$I,\"=\"&月別集計!$B24,入出金NFT結果!$A:$A,\">=\"&月別集計!W$1,入出金NFT結果!$A:$A,\"<=\"&月別集計!W$2)","v":0},{"$f":"SUMIFS(入出金NFT結果!$D:$D,入出金NFT結果!$I:$I,\"=\"&月別集計!$B24,入出金NFT結果!$A:$A,\">=\"&月別集計!X$1,入出金NFT結果!$A:$A,\"<=\"&月別集計!X$2)","v":0},{"$f":"SUMIFS(入出金NFT結果!$D:$D,入出金NFT結果!$I:$I,\"=\"&月別集計!$B24,入出金NFT結果!$A:$A,\">=\"&月別集計!Y$1,入出金NFT結果!$A:$A,\"<=\"&月別集計!Y$2)","v":0},{"$f":"SUMIFS(入出金NFT結果!$D:$D,入出金NFT結果!$I:$I,\"=\"&月別集計!$B24,入出金NFT結果!$A:$A,\">=\"&月別集計!Z$1,入出金NFT結果!$A:$A,\"<=\"&月別集計!Z$2)","v":0},{"$f":"SUMIFS(入出金NFT結果!$D:$D,入出金NFT結果!$I:$I,\"=\"&月別集計!$B24,入出金NFT結果!$A:$A,\">=\"&月別集計!AA$1,入出金NFT結果!$A:$A,\"<=\"&月別集計!AA$2)","v":0},{"$f":"SUMIFS(入出金NFT結果!$D:$D,入出金NFT結果!$I:$I,\"=\"&月別集計!$B24,入出金NFT結果!$A:$A,\">=\"&月別集計!AB$1,入出金NFT結果!$A:$A,\"<=\"&月別集計!AB$2)","v":0},{"$f":"SUMIFS(入出金NFT結果!$D:$D,入出金NFT結果!$I:$I,\"=\"&月別集計!$B24,入出金NFT結果!$A:$A,\">=\"&月別集計!AC$1,入出金NFT結果!$A:$A,\"<=\"&月別集計!AC$2)","v":0},{"$f":"SUMIFS(入出金NFT結果!$D:$D,入出金NFT結果!$I:$I,\"=\"&月別集計!$B24,入出金NFT結果!$A:$A,\">=\"&月別集計!AD$1,入出金NFT結果!$A:$A,\"<=\"&月別集計!AD$2)","v":0},{"$f":"SUMIFS(入出金NFT結果!$D:$D,入出金NFT結果!$I:$I,\"=\"&月別集計!$B24,入出金NFT結果!$A:$A,\">=\"&月別集計!AE$1,入出金NFT結果!$A:$A,\"<=\"&月別集計!AE$2)","v":0},{"$f":"SUMIFS(入出金NFT結果!$D:$D,入出金NFT結果!$I:$I,\"=\"&月別集計!$B24,入出金NFT結果!$A:$A,\">=\"&月別集計!AF$1,入出金NFT結果!$A:$A,\"<=\"&月別集計!AF$2)","v":0},{"$f":"SUMIFS(入出金NFT結果!$D:$D,入出金NFT結果!$I:$I,\"=\"&月別集計!$B24,入出金NFT結果!$A:$A,\">=\"&月別集計!AG$1,入出金NFT結果!$A:$A,\"<=\"&月別集計!AG$2)","v":0},{"$f":"SUMIFS(入出金NFT結果!$D:$D,入出金NFT結果!$I:$I,\"=\"&月別集計!$B24,入出金NFT結果!$A:$A,\">=\"&月別集計!AH$1,入出金NFT結果!$A:$A,\"<=\"&月別集計!AH$2)","v":0},{"$f":"SUMIFS(入出金NFT結果!$D:$D,入出金NFT結果!$I:$I,\"=\"&月別集計!$B24,入出金NFT結果!$A:$A,\">=\"&月別集計!AI$1,入出金NFT結果!$A:$A,\"<=\"&月別集計!AI$2)","v":0},{"$f":"SUMIFS(入出金NFT結果!$D:$D,入出金NFT結果!$I:$I,\"=\"&月別集計!$B24,入出金NFT結果!$A:$A,\">=\"&月別集計!AJ$1,入出金NFT結果!$A:$A,\"<=\"&月別集計!AJ$2)","v":0},{"$f":"SUMIFS(入出金NFT結果!$D:$D,入出金NFT結果!$I:$I,\"=\"&月別集計!$B24,入出金NFT結果!$A:$A,\">=\"&月別集計!AK$1,入出金NFT結果!$A:$A,\"<=\"&月別集計!AK$2)","v":0},{"$f":"SUMIFS(入出金NFT結果!$D:$D,入出金NFT結果!$I:$I,\"=\"&月別集計!$B24,入出金NFT結果!$A:$A,\">=\"&月別集計!AL$1,入出金NFT結果!$A:$A,\"<=\"&月別集計!AL$2)","v":0},{"$f":"SUMIFS(入出金NFT結果!$D:$D,入出金NFT結果!$I:$I,\"=\"&月別集計!$B24,入出金NFT結果!$A:$A,\">=\"&月別集計!AM$1,入出金NFT結果!$A:$A,\"<=\"&月別集計!AM$2)","v":0},{"$f":"SUMIFS(入出金NFT結果!$D:$D,入出金NFT結果!$I:$I,\"=\"&月別集計!$B24,入出金NFT結果!$A:$A,\">=\"&月別集計!AN$1,入出金NFT結果!$A:$A,\"<=\"&月別集計!AN$2)","v":0},{"$f":"SUMIFS(入出金NFT結果!$D:$D,入出金NFT結果!$I:$I,\"=\"&月別集計!$B24,入出金NFT結果!$A:$A,\">=\"&月別集計!AO$1,入出金NFT結果!$A:$A,\"<=\"&月別集計!AO$2)","v":0},{"$f":"SUMIFS(入出金NFT結果!$D:$D,入出金NFT結果!$I:$I,\"=\"&月別集計!$B24,入出金NFT結果!$A:$A,\">=\"&月別集計!AP$1,入出金NFT結果!$A:$A,\"<=\"&月別集計!AP$2)","v":0},{"$f":"SUMIFS(入出金NFT結果!$D:$D,入出金NFT結果!$I:$I,\"=\"&月別集計!$B24,入出金NFT結果!$A:$A,\">=\"&月別集計!AQ$1,入出金NFT結果!$A:$A,\"<=\"&月別集計!AQ$2)","v":0},{"$f":"SUMIFS(入出金NFT結果!$D:$D,入出金NFT結果!$I:$I,\"=\"&月別集計!$B24,入出金NFT結果!$A:$A,\">=\"&月別集計!AR$1,入出金NFT結果!$A:$A,\"<=\"&月別集計!AR$2)","v":0},{"$f":"SUMIFS(入出金NFT結果!$D:$D,入出金NFT結果!$I:$I,\"=\"&月別集計!$B24,入出金NFT結果!$A:$A,\">=\"&月別集計!AS$1,入出金NFT結果!$A:$A,\"<=\"&月別集計!AS$2)","v":0},{"$f":"SUMIFS(入出金NFT結果!$D:$D,入出金NFT結果!$I:$I,\"=\"&月別集計!$B24,入出金NFT結果!$A:$A,\">=\"&月別集計!AT$1,入出金NFT結果!$A:$A,\"<=\"&月別集計!AT$2)","v":0},{"$f":"SUMIFS(入出金NFT結果!$D:$D,入出金NFT結果!$I:$I,\"=\"&月別集計!$B24,入出金NFT結果!$A:$A,\">=\"&月別集計!AU$1,入出金NFT結果!$A:$A,\"<=\"&月別集計!AU$2)","v":0},{"$f":"SUMIFS(入出金NFT結果!$D:$D,入出金NFT結果!$I:$I,\"=\"&月別集計!$B24,入出金NFT結果!$A:$A,\">=\"&月別集計!AV$1,入出金NFT結果!$A:$A,\"<=\"&月別集計!AV$2)","v":0},{"$f":"SUMIFS(入出金NFT結果!$D:$D,入出金NFT結果!$I:$I,\"=\"&月別集計!$B24,入出金NFT結果!$A:$A,\">=\"&月別集計!AW$1,入出金NFT結果!$A:$A,\"<=\"&月別集計!AW$2)","v":0},{"$f":"SUMIFS(入出金NFT結果!$D:$D,入出金NFT結果!$I:$I,\"=\"&月別集計!$B24,入出金NFT結果!$A:$A,\">=\"&月別集計!AX$1,入出金NFT結果!$A:$A,\"<=\"&月別集計!AX$2)","v":0},{"$f":"SUMIFS(入出金NFT結果!$D:$D,入出金NFT結果!$I:$I,\"=\"&月別集計!$B24,入出金NFT結果!$A:$A,\">=\"&月別集計!AY$1,入出金NFT結果!$A:$A,\"<=\"&月別集計!AY$2)","v":0},{"$f":"SUMIFS(入出金NFT結果!$D:$D,入出金NFT結果!$I:$I,\"=\"&月別集計!$B24,入出金NFT結果!$A:$A,\">=\"&月別集計!AZ$1,入出金NFT結果!$A:$A,\"<=\"&月別集計!AZ$2)","v":0},{"$f":"SUMIFS(入出金NFT結果!$D:$D,入出金NFT結果!$I:$I,\"=\"&月別集計!$B24,入出金NFT結果!$A:$A,\">=\"&月別集計!BA$1,入出金NFT結果!$A:$A,\"<=\"&月別集計!BA$2)","v":0},{"$f":"SUMIFS(入出金NFT結果!$D:$D,入出金NFT結果!$I:$I,\"=\"&月別集計!$B24,入出金NFT結果!$A:$A,\">=\"&月別集計!BB$1,入出金NFT結果!$A:$A,\"<=\"&月別集計!BB$2)","v":0},{"$f":"SUMIFS(入出金NFT結果!$D:$D,入出金NFT結果!$I:$I,\"=\"&月別集計!$B24,入出金NFT結果!$A:$A,\">=\"&月別集計!BC$1,入出金NFT結果!$A:$A,\"<=\"&月別集計!BC$2)","v":0},{"$f":"SUMIFS(入出金NFT結果!$D:$D,入出金NFT結果!$I:$I,\"=\"&月別集計!$B24,入出金NFT結果!$A:$A,\">=\"&月別集計!BD$1,入出金NFT結果!$A:$A,\"<=\"&月別集計!BD$2)","v":0},{"$f":"SUMIFS(入出金NFT結果!$D:$D,入出金NFT結果!$I:$I,\"=\"&月別集計!$B24,入出金NFT結果!$A:$A,\">=\"&月別集計!BE$1,入出金NFT結果!$A:$A,\"<=\"&月別集計!BE$2)","v":0},{"$f":"SUMIFS(入出金NFT結果!$D:$D,入出金NFT結果!$I:$I,\"=\"&月別集計!$B24,入出金NFT結果!$A:$A,\">=\"&月別集計!BF$1,入出金NFT結果!$A:$A,\"<=\"&月別集計!BF$2)","v":0},{"$f":"SUMIFS(入出金NFT結果!$D:$D,入出金NFT結果!$I:$I,\"=\"&月別集計!$B24,入出金NFT結果!$A:$A,\">=\"&月別集計!BG$1,入出金NFT結果!$A:$A,\"<=\"&月別集計!BG$2)","v":0},{"$f":"SUMIFS(入出金NFT結果!$D:$D,入出金NFT結果!$I:$I,\"=\"&月別集計!$B24,入出金NFT結果!$A:$A,\">=\"&月別集計!BH$1,入出金NFT結果!$A:$A,\"<=\"&月別集計!BH$2)","v":0},{"$f":"SUMIFS(入出金NFT結果!$D:$D,入出金NFT結果!$I:$I,\"=\"&月別集計!$B24,入出金NFT結果!$A:$A,\">=\"&月別集計!BI$1,入出金NFT結果!$A:$A,\"<=\"&月別集計!BI$2)","v":0},{"$f":"SUMIFS(入出金NFT結果!$D:$D,入出金NFT結果!$I:$I,\"=\"&月別集計!$B24,入出金NFT結果!$A:$A,\">=\"&月別集計!BJ$1,入出金NFT結果!$A:$A,\"<=\"&月別集計!BJ$2)","v":0},{"$f":"SUMIFS(入出金NFT結果!$D:$D,入出金NFT結果!$I:$I,\"=\"&月別集計!$B24,入出金NFT結果!$A:$A,\">=\"&月別集計!BK$1,入出金NFT結果!$A:$A,\"<=\"&月別集計!BK$2)","v":0},{"$f":"SUMIFS(入出金NFT結果!$D:$D,入出金NFT結果!$I:$I,\"=\"&月別集計!$B24,入出金NFT結果!$A:$A,\">=\"&月別集計!BL$1,入出金NFT結果!$A:$A,\"<=\"&月別集計!BL$2)","v":0},{"$f":"SUMIFS(入出金NFT結果!$D:$D,入出金NFT結果!$I:$I,\"=\"&月別集計!$B24,入出金NFT結果!$A:$A,\">=\"&月別集計!BM$1,入出金NFT結果!$A:$A,\"<=\"&月別集計!BM$2)","v":0}]
[null,{"$f":"推定用途置換ルール!G23","v":"送金による入金"},{"$f":"SUMIFS(入出金NFT結果!$D:$D,入出金NFT結果!$I:$I,\"=\"&月別集計!$B25,入出金NFT結果!$A:$A,\">=\"&月別集計!C$1,入出金NFT結果!$A:$A,\"<=\"&月別集計!C$2)","v":0},{"$f":"SUMIFS(入出金NFT結果!$D:$D,入出金NFT結果!$I:$I,\"=\"&月別集計!$B25,入出金NFT結果!$A:$A,\">=\"&月別集計!D$1,入出金NFT結果!$A:$A,\"<=\"&月別集計!D$2)","v":0},{"$f":"SUMIFS(入出金NFT結果!$D:$D,入出金NFT結果!$I:$I,\"=\"&月別集計!$B25,入出金NFT結果!$A:$A,\">=\"&月別集計!E$1,入出金NFT結果!$A:$A,\"<=\"&月別集計!E$2)","v":0},{"$f":"SUMIFS(入出金NFT結果!$D:$D,入出金NFT結果!$I:$I,\"=\"&月別集計!$B25,入出金NFT結果!$A:$A,\">=\"&月別集計!F$1,入出金NFT結果!$A:$A,\"<=\"&月別集計!F$2)","v":0},{"$f":"SUMIFS(入出金NFT結果!$D:$D,入出金NFT結果!$I:$I,\"=\"&月別集計!$B25,入出金NFT結果!$A:$A,\">=\"&月別集計!G$1,入出金NFT結果!$A:$A,\"<=\"&月別集計!G$2)","v":0},{"$f":"SUMIFS(入出金NFT結果!$D:$D,入出金NFT結果!$I:$I,\"=\"&月別集計!$B25,入出金NFT結果!$A:$A,\">=\"&月別集計!H$1,入出金NFT結果!$A:$A,\"<=\"&月別集計!H$2)","v":0},{"$f":"SUMIFS(入出金NFT結果!$D:$D,入出金NFT結果!$I:$I,\"=\"&月別集計!$B25,入出金NFT結果!$A:$A,\">=\"&月別集計!I$1,入出金NFT結果!$A:$A,\"<=\"&月別集計!I$2)","v":0},{"$f":"SUMIFS(入出金NFT結果!$D:$D,入出金NFT結果!$I:$I,\"=\"&月別集計!$B25,入出金NFT結果!$A:$A,\">=\"&月別集計!J$1,入出金NFT結果!$A:$A,\"<=\"&月別集計!J$2)","v":0},{"$f":"SUMIFS(入出金NFT結果!$D:$D,入出金NFT結果!$I:$I,\"=\"&月別集計!$B25,入出金NFT結果!$A:$A,\">=\"&月別集計!K$1,入出金NFT結果!$A:$A,\"<=\"&月別集計!K$2)","v":0},{"$f":"SUMIFS(入出金NFT結果!$D:$D,入出金NFT結果!$I:$I,\"=\"&月別集計!$B25,入出金NFT結果!$A:$A,\">=\"&月別集計!L$1,入出金NFT結果!$A:$A,\"<=\"&月別集計!L$2)","v":0},{"$f":"SUMIFS(入出金NFT結果!$D:$D,入出金NFT結果!$I:$I,\"=\"&月別集計!$B25,入出金NFT結果!$A:$A,\">=\"&月別集計!M$1,入出金NFT結果!$A:$A,\"<=\"&月別集計!M$2)","v":0},{"$f":"SUMIFS(入出金NFT結果!$D:$D,入出金NFT結果!$I:$I,\"=\"&月別集計!$B25,入出金NFT結果!$A:$A,\">=\"&月別集計!N$1,入出金NFT結果!$A:$A,\"<=\"&月別集計!N$2)","v":0},{"$f":"SUMIFS(入出金NFT結果!$D:$D,入出金NFT結果!$I:$I,\"=\"&月別集計!$B25,入出金NFT結果!$A:$A,\">=\"&月別集計!O$1,入出金NFT結果!$A:$A,\"<=\"&月別集計!O$2)","v":0},{"$f":"SUMIFS(入出金NFT結果!$D:$D,入出金NFT結果!$I:$I,\"=\"&月別集計!$B25,入出金NFT結果!$A:$A,\">=\"&月別集計!P$1,入出金NFT結果!$A:$A,\"<=\"&月別集計!P$2)","v":0},{"$f":"SUMIFS(入出金NFT結果!$D:$D,入出金NFT結果!$I:$I,\"=\"&月別集計!$B25,入出金NFT結果!$A:$A,\">=\"&月別集計!Q$1,入出金NFT結果!$A:$A,\"<=\"&月別集計!Q$2)","v":0},{"$f":"SUMIFS(入出金NFT結果!$D:$D,入出金NFT結果!$I:$I,\"=\"&月別集計!$B25,入出金NFT結果!$A:$A,\">=\"&月別集計!R$1,入出金NFT結果!$A:$A,\"<=\"&月別集計!R$2)","v":0},{"$f":"SUMIFS(入出金NFT結果!$D:$D,入出金NFT結果!$I:$I,\"=\"&月別集計!$B25,入出金NFT結果!$A:$A,\">=\"&月別集計!S$1,入出金NFT結果!$A:$A,\"<=\"&月別集計!S$2)","v":0},{"$f":"SUMIFS(入出金NFT結果!$D:$D,入出金NFT結果!$I:$I,\"=\"&月別集計!$B25,入出金NFT結果!$A:$A,\">=\"&月別集計!T$1,入出金NFT結果!$A:$A,\"<=\"&月別集計!T$2)","v":0},{"$f":"SUMIFS(入出金NFT結果!$D:$D,入出金NFT結果!$I:$I,\"=\"&月別集計!$B25,入出金NFT結果!$A:$A,\">=\"&月別集計!U$1,入出金NFT結果!$A:$A,\"<=\"&月別集計!U$2)","v":0},{"$f":"SUMIFS(入出金NFT結果!$D:$D,入出金NFT結果!$I:$I,\"=\"&月別集計!$B25,入出金NFT結果!$A:$A,\">=\"&月別集計!V$1,入出金NFT結果!$A:$A,\"<=\"&月別集計!V$2)","v":0},{"$f":"SUMIFS(入出金NFT結果!$D:$D,入出金NFT結果!$I:$I,\"=\"&月別集計!$B25,入出金NFT結果!$A:$A,\">=\"&月別集計!W$1,入出金NFT結果!$A:$A,\"<=\"&月別集計!W$2)","v":0},{"$f":"SUMIFS(入出金NFT結果!$D:$D,入出金NFT結果!$I:$I,\"=\"&月別集計!$B25,入出金NFT結果!$A:$A,\">=\"&月別集計!X$1,入出金NFT結果!$A:$A,\"<=\"&月別集計!X$2)","v":0},{"$f":"SUMIFS(入出金NFT結果!$D:$D,入出金NFT結果!$I:$I,\"=\"&月別集計!$B25,入出金NFT結果!$A:$A,\">=\"&月別集計!Y$1,入出金NFT結果!$A:$A,\"<=\"&月別集計!Y$2)","v":0},{"$f":"SUMIFS(入出金NFT結果!$D:$D,入出金NFT結果!$I:$I,\"=\"&月別集計!$B25,入出金NFT結果!$A:$A,\">=\"&月別集計!Z$1,入出金NFT結果!$A:$A,\"<=\"&月別集計!Z$2)","v":0},{"$f":"SUMIFS(入出金NFT結果!$D:$D,入出金NFT結果!$I:$I,\"=\"&月別集計!$B25,入出金NFT結果!$A:$A,\">=\"&月別集計!AA$1,入出金NFT結果!$A:$A,\"<=\"&月別集計!AA$2)","v":0},{"$f":"SUMIFS(入出金NFT結果!$D:$D,入出金NFT結果!$I:$I,\"=\"&月別集計!$B25,入出金NFT結果!$A:$A,\">=\"&月別集計!AB$1,入出金NFT結果!$A:$A,\"<=\"&月別集計!AB$2)","v":0},{"$f":"SUMIFS(入出金NFT結果!$D:$D,入出金NFT結果!$I:$I,\"=\"&月別集計!$B25,入出金NFT結果!$A:$A,\">=\"&月別集計!AC$1,入出金NFT結果!$A:$A,\"<=\"&月別集計!AC$2)","v":0},{"$f":"SUMIFS(入出金NFT結果!$D:$D,入出金NFT結果!$I:$I,\"=\"&月別集計!$B25,入出金NFT結果!$A:$A,\">=\"&月別集計!AD$1,入出金NFT結果!$A:$A,\"<=\"&月別集計!AD$2)","v":0},{"$f":"SUMIFS(入出金NFT結果!$D:$D,入出金NFT結果!$I:$I,\"=\"&月別集計!$B25,入出金NFT結果!$A:$A,\">=\"&月別集計!AE$1,入出金NFT結果!$A:$A,\"<=\"&月別集計!AE$2)","v":0},{"$f":"SUMIFS(入出金NFT結果!$D:$D,入出金NFT結果!$I:$I,\"=\"&月別集計!$B25,入出金NFT結果!$A:$A,\">=\"&月別集計!AF$1,入出金NFT結果!$A:$A,\"<=\"&月別集計!AF$2)","v":0},{"$f":"SUMIFS(入出金NFT結果!$D:$D,入出金NFT結果!$I:$I,\"=\"&月別集計!$B25,入出金NFT結果!$A:$A,\">=\"&月別集計!AG$1,入出金NFT結果!$A:$A,\"<=\"&月別集計!AG$2)","v":0},{"$f":"SUMIFS(入出金NFT結果!$D:$D,入出金NFT結果!$I:$I,\"=\"&月別集計!$B25,入出金NFT結果!$A:$A,\">=\"&月別集計!AH$1,入出金NFT結果!$A:$A,\"<=\"&月別集計!AH$2)","v":0},{"$f":"SUMIFS(入出金NFT結果!$D:$D,入出金NFT結果!$I:$I,\"=\"&月別集計!$B25,入出金NFT結果!$A:$A,\">=\"&月別集計!AI$1,入出金NFT結果!$A:$A,\"<=\"&月別集計!AI$2)","v":0},{"$f":"SUMIFS(入出金NFT結果!$D:$D,入出金NFT結果!$I:$I,\"=\"&月別集計!$B25,入出金NFT結果!$A:$A,\">=\"&月別集計!AJ$1,入出金NFT結果!$A:$A,\"<=\"&月別集計!AJ$2)","v":0},{"$f":"SUMIFS(入出金NFT結果!$D:$D,入出金NFT結果!$I:$I,\"=\"&月別集計!$B25,入出金NFT結果!$A:$A,\">=\"&月別集計!AK$1,入出金NFT結果!$A:$A,\"<=\"&月別集計!AK$2)","v":0},{"$f":"SUMIFS(入出金NFT結果!$D:$D,入出金NFT結果!$I:$I,\"=\"&月別集計!$B25,入出金NFT結果!$A:$A,\">=\"&月別集計!AL$1,入出金NFT結果!$A:$A,\"<=\"&月別集計!AL$2)","v":0},{"$f":"SUMIFS(入出金NFT結果!$D:$D,入出金NFT結果!$I:$I,\"=\"&月別集計!$B25,入出金NFT結果!$A:$A,\">=\"&月別集計!AM$1,入出金NFT結果!$A:$A,\"<=\"&月別集計!AM$2)","v":0},{"$f":"SUMIFS(入出金NFT結果!$D:$D,入出金NFT結果!$I:$I,\"=\"&月別集計!$B25,入出金NFT結果!$A:$A,\">=\"&月別集計!AN$1,入出金NFT結果!$A:$A,\"<=\"&月別集計!AN$2)","v":0},{"$f":"SUMIFS(入出金NFT結果!$D:$D,入出金NFT結果!$I:$I,\"=\"&月別集計!$B25,入出金NFT結果!$A:$A,\">=\"&月別集計!AO$1,入出金NFT結果!$A:$A,\"<=\"&月別集計!AO$2)","v":0},{"$f":"SUMIFS(入出金NFT結果!$D:$D,入出金NFT結果!$I:$I,\"=\"&月別集計!$B25,入出金NFT結果!$A:$A,\">=\"&月別集計!AP$1,入出金NFT結果!$A:$A,\"<=\"&月別集計!AP$2)","v":0},{"$f":"SUMIFS(入出金NFT結果!$D:$D,入出金NFT結果!$I:$I,\"=\"&月別集計!$B25,入出金NFT結果!$A:$A,\">=\"&月別集計!AQ$1,入出金NFT結果!$A:$A,\"<=\"&月別集計!AQ$2)","v":0},{"$f":"SUMIFS(入出金NFT結果!$D:$D,入出金NFT結果!$I:$I,\"=\"&月別集計!$B25,入出金NFT結果!$A:$A,\">=\"&月別集計!AR$1,入出金NFT結果!$A:$A,\"<=\"&月別集計!AR$2)","v":0},{"$f":"SUMIFS(入出金NFT結果!$D:$D,入出金NFT結果!$I:$I,\"=\"&月別集計!$B25,入出金NFT結果!$A:$A,\">=\"&月別集計!AS$1,入出金NFT結果!$A:$A,\"<=\"&月別集計!AS$2)","v":0},{"$f":"SUMIFS(入出金NFT結果!$D:$D,入出金NFT結果!$I:$I,\"=\"&月別集計!$B25,入出金NFT結果!$A:$A,\">=\"&月別集計!AT$1,入出金NFT結果!$A:$A,\"<=\"&月別集計!AT$2)","v":0},{"$f":"SUMIFS(入出金NFT結果!$D:$D,入出金NFT結果!$I:$I,\"=\"&月別集計!$B25,入出金NFT結果!$A:$A,\">=\"&月別集計!AU$1,入出金NFT結果!$A:$A,\"<=\"&月別集計!AU$2)","v":0},{"$f":"SUMIFS(入出金NFT結果!$D:$D,入出金NFT結果!$I:$I,\"=\"&月別集計!$B25,入出金NFT結果!$A:$A,\">=\"&月別集計!AV$1,入出金NFT結果!$A:$A,\"<=\"&月別集計!AV$2)","v":0},{"$f":"SUMIFS(入出金NFT結果!$D:$D,入出金NFT結果!$I:$I,\"=\"&月別集計!$B25,入出金NFT結果!$A:$A,\">=\"&月別集計!AW$1,入出金NFT結果!$A:$A,\"<=\"&月別集計!AW$2)","v":0},{"$f":"SUMIFS(入出金NFT結果!$D:$D,入出金NFT結果!$I:$I,\"=\"&月別集計!$B25,入出金NFT結果!$A:$A,\">=\"&月別集計!AX$1,入出金NFT結果!$A:$A,\"<=\"&月別集計!AX$2)","v":0},{"$f":"SUMIFS(入出金NFT結果!$D:$D,入出金NFT結果!$I:$I,\"=\"&月別集計!$B25,入出金NFT結果!$A:$A,\">=\"&月別集計!AY$1,入出金NFT結果!$A:$A,\"<=\"&月別集計!AY$2)","v":0},{"$f":"SUMIFS(入出金NFT結果!$D:$D,入出金NFT結果!$I:$I,\"=\"&月別集計!$B25,入出金NFT結果!$A:$A,\">=\"&月別集計!AZ$1,入出金NFT結果!$A:$A,\"<=\"&月別集計!AZ$2)","v":0},{"$f":"SUMIFS(入出金NFT結果!$D:$D,入出金NFT結果!$I:$I,\"=\"&月別集計!$B25,入出金NFT結果!$A:$A,\">=\"&月別集計!BA$1,入出金NFT結果!$A:$A,\"<=\"&月別集計!BA$2)","v":0},{"$f":"SUMIFS(入出金NFT結果!$D:$D,入出金NFT結果!$I:$I,\"=\"&月別集計!$B25,入出金NFT結果!$A:$A,\">=\"&月別集計!BB$1,入出金NFT結果!$A:$A,\"<=\"&月別集計!BB$2)","v":0},{"$f":"SUMIFS(入出金NFT結果!$D:$D,入出金NFT結果!$I:$I,\"=\"&月別集計!$B25,入出金NFT結果!$A:$A,\">=\"&月別集計!BC$1,入出金NFT結果!$A:$A,\"<=\"&月別集計!BC$2)","v":0},{"$f":"SUMIFS(入出金NFT結果!$D:$D,入出金NFT結果!$I:$I,\"=\"&月別集計!$B25,入出金NFT結果!$A:$A,\">=\"&月別集計!BD$1,入出金NFT結果!$A:$A,\"<=\"&月別集計!BD$2)","v":0},{"$f":"SUMIFS(入出金NFT結果!$D:$D,入出金NFT結果!$I:$I,\"=\"&月別集計!$B25,入出金NFT結果!$A:$A,\">=\"&月別集計!BE$1,入出金NFT結果!$A:$A,\"<=\"&月別集計!BE$2)","v":0},{"$f":"SUMIFS(入出金NFT結果!$D:$D,入出金NFT結果!$I:$I,\"=\"&月別集計!$B25,入出金NFT結果!$A:$A,\">=\"&月別集計!BF$1,入出金NFT結果!$A:$A,\"<=\"&月別集計!BF$2)","v":0},{"$f":"SUMIFS(入出金NFT結果!$D:$D,入出金NFT結果!$I:$I,\"=\"&月別集計!$B25,入出金NFT結果!$A:$A,\">=\"&月別集計!BG$1,入出金NFT結果!$A:$A,\"<=\"&月別集計!BG$2)","v":0},{"$f":"SUMIFS(入出金NFT結果!$D:$D,入出金NFT結果!$I:$I,\"=\"&月別集計!$B25,入出金NFT結果!$A:$A,\">=\"&月別集計!BH$1,入出金NFT結果!$A:$A,\"<=\"&月別集計!BH$2)","v":0},{"$f":"SUMIFS(入出金NFT結果!$D:$D,入出金NFT結果!$I:$I,\"=\"&月別集計!$B25,入出金NFT結果!$A:$A,\">=\"&月別集計!BI$1,入出金NFT結果!$A:$A,\"<=\"&月別集計!BI$2)","v":0},{"$f":"SUMIFS(入出金NFT結果!$D:$D,入出金NFT結果!$I:$I,\"=\"&月別集計!$B25,入出金NFT結果!$A:$A,\">=\"&月別集計!BJ$1,入出金NFT結果!$A:$A,\"<=\"&月別集計!BJ$2)","v":0},{"$f":"SUMIFS(入出金NFT結果!$D:$D,入出金NFT結果!$I:$I,\"=\"&月別集計!$B25,入出金NFT結果!$A:$A,\">=\"&月別集計!BK$1,入出金NFT結果!$A:$A,\"<=\"&月別集計!BK$2)","v":0},{"$f":"SUMIFS(入出金NFT結果!$D:$D,入出金NFT結果!$I:$I,\"=\"&月別集計!$B25,入出金NFT結果!$A:$A,\">=\"&月別集計!BL$1,入出金NFT結果!$A:$A,\"<=\"&月別集計!BL$2)","v":0},{"$f":"SUMIFS(入出金NFT結果!$D:$D,入出金NFT結果!$I:$I,\"=\"&月別集計!$B25,入出金NFT結果!$A:$A,\">=\"&月別集計!BM$1,入出金NFT結果!$A:$A,\"<=\"&月別集計!BM$2)","v":0}]
[]
["支出","合計（DEP）",{"$f":"SUM(C28:C53)","v":0},0,0,0,0,0,0,0,0,0,0,0,0,0,0,0,0,0,0,0,0,0,0,0,0,0,0,0,0,0,0,0,{"$f":"SUM(AI28:AI53)","v":0},0,0,0,0,0,0,0,0,0,0,0,0,0,0,0,0,0,0,{"$f":"SUM(BB28:BB53)","v":0},0,0,0,0,0,0,0,0,0,0,0]
[null,{"$f":"推定用途置換ルール!P2","v":"JobTribes：限界突破アイテム購入"},{"$f":"SUMIFS(入出金NFT結果!$D:$D,入出金NFT結果!$I:$I,\"=\"&月別集計!$B28,入出金NFT結果!$A:$A,\">=\"&月別集計!C$1,入出金NFT結果!$A:$A,\"<=\"&月別集計!C$2)","v":0},{"$f":"SUMIFS(入出金NFT結果!$D:$D,入出金NFT結果!$I:$I,\"=\"&月別集計!$B28,入出金NFT結果!$A:$A,\">=\"&月別集計!D$1,入出金NFT結果!$A:$A,\"<=\"&月別集計!D$2)","v":0},{"$f":"SUMIFS(入出金NFT結果!$D:$D,入出金NFT結果!$I:$I,\"=\"&月別集計!$B28,入出金NFT結果!$A:$A,\">=\"&月別集計!E$1,入出金NFT結果!$A:$A,\"<=\"&月別集計!E$2)","v":0},{"$f":"SUMIFS(入出金NFT結果!$D:$D,入出金NFT結果!$I:$I,\"=\"&月別集計!$B28,入出金NFT結果!$A:$A,\">=\"&月別集計!F$1,入出金NFT結果!$A:$A,\"<=\"&月別集計!F$2)","v":0},{"$f":"SUMIFS(入出金NFT結果!$D:$D,入出金NFT結果!$I:$I,\"=\"&月別集計!$B28,入出金NFT結果!$A:$A,\">=\"&月別集計!G$1,入出金NFT結果!$A:$A,\"<=\"&月別集計!G$2)","v":0},{"$f":"SUMIFS(入出金NFT結果!$D:$D,入出金NFT結果!$I:$I,\"=\"&月別集計!$B28,入出金NFT結果!$A:$A,\">=\"&月別集計!H$1,入出金NFT結果!$A:$A,\"<=\"&月別集計!H$2)","v":0},{"$f":"SUMIFS(入出金NFT結果!$D:$D,入出金NFT結果!$I:$I,\"=\"&月別集計!$B28,入出金NFT結果!$A:$A,\">=\"&月別集計!I$1,入出金NFT結果!$A:$A,\"<=\"&月別集計!I$2)","v":0},{"$f":"SUMIFS(入出金NFT結果!$D:$D,入出金NFT結果!$I:$I,\"=\"&月別集計!$B28,入出金NFT結果!$A:$A,\">=\"&月別集計!J$1,入出金NFT結果!$A:$A,\"<=\"&月別集計!J$2)","v":0},{"$f":"SUMIFS(入出金NFT結果!$D:$D,入出金NFT結果!$I:$I,\"=\"&月別集計!$B28,入出金NFT結果!$A:$A,\">=\"&月別集計!K$1,入出金NFT結果!$A:$A,\"<=\"&月別集計!K$2)","v":0},{"$f":"SUMIFS(入出金NFT結果!$D:$D,入出金NFT結果!$I:$I,\"=\"&月別集計!$B28,入出金NFT結果!$A:$A,\">=\"&月別集計!L$1,入出金NFT結果!$A:$A,\"<=\"&月別集計!L$2)","v":0},{"$f":"SUMIFS(入出金NFT結果!$D:$D,入出金NFT結果!$I:$I,\"=\"&月別集計!$B28,入出金NFT結果!$A:$A,\">=\"&月別集計!M$1,入出金NFT結果!$A:$A,\"<=\"&月別集計!M$2)","v":0},{"$f":"SUMIFS(入出金NFT結果!$D:$D,入出金NFT結果!$I:$I,\"=\"&月別集計!$B28,入出金NFT結果!$A:$A,\">=\"&月別集計!N$1,入出金NFT結果!$A:$A,\"<=\"&月別集計!N$2)","v":0},{"$f":"SUMIFS(入出金NFT結果!$D:$D,入出金NFT結果!$I:$I,\"=\"&月別集計!$B28,入出金NFT結果!$A:$A,\">=\"&月別集計!O$1,入出金NFT結果!$A:$A,\"<=\"&月別集計!O$2)","v":0},{"$f":"SUMIFS(入出金NFT結果!$D:$D,入出金NFT結果!$I:$I,\"=\"&月別集計!$B28,入出金NFT結果!$A:$A,\">=\"&月別集計!P$1,入出金NFT結果!$A:$A,\"<=\"&月別集計!P$2)","v":0},{"$f":"SUMIFS(入出金NFT結果!$D:$D,入出金NFT結果!$I:$I,\"=\"&月別集計!$B28,入出金NFT結果!$A:$A,\">=\"&月別集計!Q$1,入出金NFT結果!$A:$A,\"<=\"&月別集計!Q$2)","v":0},{"$f":"SUMIFS(入出金NFT結果!$D:$D,入出金NFT結果!$I:$I,\"=\"&月別集計!$B28,入出金NFT結果!$A:$A,\">=\"&月別集計!R$1,入出金NFT結果!$A:$A,\"<=\"&月別集計!R$2)","v":0},{"$f":"SUMIFS(入出金NFT結果!$D:$D,入出金NFT結果!$I:$I,\"=\"&月別集計!$B28,入出金NFT結果!$A:$A,\">=\"&月別集計!S$1,入出金NFT結果!$A:$A,\"<=\"&月別集計!S$2)","v":0},{"$f":"SUMIFS(入出金NFT結果!$D:$D,入出金NFT結果!$I:$I,\"=\"&月別集計!$B28,入出金NFT結果!$A:$A,\">=\"&月別集計!T$1,入出金NFT結果!$A:$A,\"<=\"&月別集計!T$2)","v":0},{"$f":"SUMIFS(入出金NFT結果!$D:$D,入出金NFT結果!$I:$I,\"=\"&月別集計!$B28,入出金NFT結果!$A:$A,\">=\"&月別集計!U$1,入出金NFT結果!$A:$A,\"<=\"&月別集計!U$2)","v":0},{"$f":"SUMIFS(入出金NFT結果!$D:$D,入出金NFT結果!$I:$I,\"=\"&月別集計!$B28,入出金NFT結果!$A:$A,\">=\"&月別集計!V$1,入出金NFT結果!$A:$A,\"<=\"&月別集計!V$2)","v":0},{"$f":"SUMIFS(入出金NFT結果!$D:$D,入出金NFT結果!$I:$I,\"=\"&月別集計!$B28,入出金NFT結果!$A:$A,\">=\"&月別集計!W$1,入出金NFT結果!$A:$A,\"<=\"&月別集計!W$2)","v":0},{"$f":"SUMIFS(入出金NFT結果!$D:$D,入出金NFT結果!$I:$I,\"=\"&月別集計!$B28,入出金NFT結果!$A:$A,\">=\"&月別集計!X$1,入出金NFT結果!$A:$A,\"<=\"&月別集計!X$2)","v":0},{"$f":"SUMIFS(入出金NFT結果!$D:$D,入出金NFT結果!$I:$I,\"=\"&月別集計!$B28,入出金NFT結果!$A:$A,\">=\"&月別集計!Y$1,入出金NFT結果!$A:$A,\"<=\"&月別集計!Y$2)","v":0},{"$f":"SUMIFS(入出金NFT結果!$D:$D,入出金NFT結果!$I:$I,\"=\"&月別集計!$B28,入出金NFT結果!$A:$A,\">=\"&月別集計!Z$1,入出金NFT結果!$A:$A,\"<=\"&月別集計!Z$2)","v":0},{"$f":"SUMIFS(入出金NFT結果!$D:$D,入出金NFT結果!$I:$I,\"=\"&月別集計!$B28,入出金NFT結果!$A:$A,\">=\"&月別集計!AA$1,入出金NFT結果!$A:$A,\"<=\"&月別集計!AA$2)","v":0},{"$f":"SUMIFS(入出金NFT結果!$D:$D,入出金NFT結果!$I:$I,\"=\"&月別集計!$B28,入出金NFT結果!$A:$A,\">=\"&月別集計!AB$1,入出金NFT結果!$A:$A,\"<=\"&月別集計!AB$2)","v":0},{"$f":"SUMIFS(入出金NFT結果!$D:$D,入出金NFT結果!$I:$I,\"=\"&月別集計!$B28,入出金NFT結果!$A:$A,\">=\"&月別集計!AC$1,入出金NFT結果!$A:$A,\"<=\"&月別集計!AC$2)","v":0},{"$f":"SUMIFS(入出金NFT結果!$D:$D,入出金NFT結果!$I:$I,\"=\"&月別集計!$B28,入出金NFT結果!$A:$A,\">=\"&月別集計!AD$1,入出金NFT結果!$A:$A,\"<=\"&月別集計!AD$2)","v":0},{"$f":"SUMIFS(入出金NFT結果!$D:$D,入出金NFT結果!$I:$I,\"=\"&月別集計!$B28,入出金NFT結果!$A:$A,\">=\"&月別集計!AE$1,入出金NFT結果!$A:$A,\"<=\"&月別集計!AE$2)","v":0},{"$f":"SUMIFS(入出金NFT結果!$D:$D,入出金NFT結果!$I:$I,\"=\"&月別集計!$B28,入出金NFT結果!$A:$A,\">=\"&月別集計!AF$1,入出金NFT結果!$A:$A,\"<=\"&月別集計!AF$2)","v":0},{"$f":"SUMIFS(入出金NFT結果!$D:$D,入出金NFT結果!$I:$I,\"=\"&月別集計!$B28,入出金NFT結果!$A:$A,\">=\"&月別集計!AG$1,入出金NFT結果!$A:$A,\"<=\"&月別集計!AG$2)","v":0},{"$f":"SUMIFS(入出金NFT結果!$D:$D,入出金NFT結果!$I:$I,\"=\"&月別集計!$B28,入出金NFT結果!$A:$A,\">=\"&月別集計!AH$1,入出金NFT結果!$A:$A,\"<=\"&月別集計!AH$2)","v":0},{"$f":"SUMIFS(入出金NFT結果!$D:$D,入出金NFT結果!$I:$I,\"=\"&月別集計!$B28,入出金NFT結果!$A:$A,\">=\"&月別集計!AI$1,入出金NFT結果!$A:$A,\"<=\"&月別集計!AI$2)","v":0},{"$f":"SUMIFS(入出金NFT結果!$D:$D,入出金NFT結果!$I:$I,\"=\"&月別集計!$B28,入出金NFT結果!$A:$A,\">=\"&月別集計!AJ$1,入出金NFT結果!$A:$A,\"<=\"&月別集計!AJ$2)","v":0},{"$f":"SUMIFS(入出金NFT結果!$D:$D,入出金NFT結果!$I:$I,\"=\"&月別集計!$B28,入出金NFT結果!$A:$A,\">=\"&月別集計!AK$1,入出金NFT結果!$A:$A,\"<=\"&月別集計!AK$2)","v":0},{"$f":"SUMIFS(入出金NFT結果!$D:$D,入出金NFT結果!$I:$I,\"=\"&月別集計!$B28,入出金NFT結果!$A:$A,\">=\"&月別集計!AL$1,入出金NFT結果!$A:$A,\"<=\"&月別集計!AL$2)","v":0},{"$f":"SUMIFS(入出金NFT結果!$D:$D,入出金NFT結果!$I:$I,\"=\"&月別集計!$B28,入出金NFT結果!$A:$A,\">=\"&月別集計!AM$1,入出金NFT結果!$A:$A,\"<=\"&月別集計!AM$2)","v":0},{"$f":"SUMIFS(入出金NFT結果!$D:$D,入出金NFT結果!$I:$I,\"=\"&月別集計!$B28,入出金NFT結果!$A:$A,\">=\"&月別集計!AN$1,入出金NFT結果!$A:$A,\"<=\"&月別集計!AN$2)","v":0},{"$f":"SUMIFS(入出金NFT結果!$D:$D,入出金NFT結果!$I:$I,\"=\"&月別集計!$B28,入出金NFT結果!$A:$A,\">=\"&月別集計!AO$1,入出金NFT結果!$A:$A,\"<=\"&月別集計!AO$2)","v":0},{"$f":"SUMIFS(入出金NFT結果!$D:$D,入出金NFT結果!$I:$I,\"=\"&月別集計!$B28,入出金NFT結果!$A:$A,\">=\"&月別集計!AP$1,入出金NFT結果!$A:$A,\"<=\"&月別集計!AP$2)","v":0},{"$f":"SUMIFS(入出金NFT結果!$D:$D,入出金NFT結果!$I:$I,\"=\"&月別集計!$B28,入出金NFT結果!$A:$A,\">=\"&月別集計!AQ$1,入出金NFT結果!$A:$A,\"<=\"&月別集計!AQ$2)","v":0},{"$f":"SUMIFS(入出金NFT結果!$D:$D,入出金NFT結果!$I:$I,\"=\"&月別集計!$B28,入出金NFT結果!$A:$A,\">=\"&月別集計!AR$1,入出金NFT結果!$A:$A,\"<=\"&月別集計!AR$2)","v":0},{"$f":"SUMIFS(入出金NFT結果!$D:$D,入出金NFT結果!$I:$I,\"=\"&月別集計!$B28,入出金NFT結果!$A:$A,\">=\"&月別集計!AS$1,入出金NFT結果!$A:$A,\"<=\"&月別集計!AS$2)","v":0},{"$f":"SUMIFS(入出金NFT結果!$D:$D,入出金NFT結果!$I:$I,\"=\"&月別集計!$B28,入出金NFT結果!$A:$A,\">=\"&月別集計!AT$1,入出金NFT結果!$A:$A,\"<=\"&月別集計!AT$2)","v":0},{"$f":"SUMIFS(入出金NFT結果!$D:$D,入出金NFT結果!$I:$I,\"=\"&月別集計!$B28,入出金NFT結果!$A:$A,\">=\"&月別集計!AU$1,入出金NFT結果!$A:$A,\"<=\"&月別集計!AU$2)","v":0},{"$f":"SUMIFS(入出金NFT結果!$D:$D,入出金NFT結果!$I:$I,\"=\"&月別集計!$B28,入出金NFT結果!$A:$A,\">=\"&月別集計!AV$1,入出金NFT結果!$A:$A,\"<=\"&月別集計!AV$2)","v":0},{"$f":"SUMIFS(入出金NFT結果!$D:$D,入出金NFT結果!$I:$I,\"=\"&月別集計!$B28,入出金NFT結果!$A:$A,\">=\"&月別集計!AW$1,入出金NFT結果!$A:$A,\"<=\"&月別集計!AW$2)","v":0},{"$f":"SUMIFS(入出金NFT結果!$D:$D,入出金NFT結果!$I:$I,\"=\"&月別集計!$B28,入出金NFT結果!$A:$A,\">=\"&月別集計!AX$1,入出金NFT結果!$A:$A,\"<=\"&月別集計!AX$2)","v":0},{"$f":"SUMIFS(入出金NFT結果!$D:$D,入出金NFT結果!$I:$I,\"=\"&月別集計!$B28,入出金NFT結果!$A:$A,\">=\"&月別集計!AY$1,入出金NFT結果!$A:$A,\"<=\"&月別集計!AY$2)","v":0},{"$f":"SUMIFS(入出金NFT結果!$D:$D,入出金NFT結果!$I:$I,\"=\"&月別集計!$B28,入出金NFT結果!$A:$A,\">=\"&月別集計!AZ$1,入出金NFT結果!$A:$A,\"<=\"&月別集計!AZ$2)","v":0},{"$f":"SUMIFS(入出金NFT結果!$D:$D,入出金NFT結果!$I:$I,\"=\"&月別集計!$B28,入出金NFT結果!$A:$A,\">=\"&月別集計!BA$1,入出金NFT結果!$A:$A,\"<=\"&月別集計!BA$2)","v":0},{"$f":"SUMIFS(入出金NFT結果!$D:$D,入出金NFT結果!$I:$I,\"=\"&月別集計!$B28,入出金NFT結果!$A:$A,\">=\"&月別集計!BB$1,入出金NFT結果!$A:$A,\"<=\"&月別集計!BB$2)","v":0},{"$f":"SUMIFS(入出金NFT結果!$D:$D,入出金NFT結果!$I:$I,\"=\"&月別集計!$B28,入出金NFT結果!$A:$A,\">=\"&月別集計!BC$1,入出金NFT結果!$A:$A,\"<=\"&月別集計!BC$2)","v":0},{"$f":"SUMIFS(入出金NFT結果!$D:$D,入出金NFT結果!$I:$I,\"=\"&月別集計!$B28,入出金NFT結果!$A:$A,\">=\"&月別集計!BD$1,入出金NFT結果!$A:$A,\"<=\"&月別集計!BD$2)","v":0},{"$f":"SUMIFS(入出金NFT結果!$D:$D,入出金NFT結果!$I:$I,\"=\"&月別集計!$B28,入出金NFT結果!$A:$A,\">=\"&月別集計!BE$1,入出金NFT結果!$A:$A,\"<=\"&月別集計!BE$2)","v":0},{"$f":"SUMIFS(入出金NFT結果!$D:$D,入出金NFT結果!$I:$I,\"=\"&月別集計!$B28,入出金NFT結果!$A:$A,\">=\"&月別集計!BF$1,入出金NFT結果!$A:$A,\"<=\"&月別集計!BF$2)","v":0},{"$f":"SUMIFS(入出金NFT結果!$D:$D,入出金NFT結果!$I:$I,\"=\"&月別集計!$B28,入出金NFT結果!$A:$A,\">=\"&月別集計!BG$1,入出金NFT結果!$A:$A,\"<=\"&月別集計!BG$2)","v":0},{"$f":"SUMIFS(入出金NFT結果!$D:$D,入出金NFT結果!$I:$I,\"=\"&月別集計!$B28,入出金NFT結果!$A:$A,\">=\"&月別集計!BH$1,入出金NFT結果!$A:$A,\"<=\"&月別集計!BH$2)","v":0},{"$f":"SUMIFS(入出金NFT結果!$D:$D,入出金NFT結果!$I:$I,\"=\"&月別集計!$B28,入出金NFT結果!$A:$A,\">=\"&月別集計!BI$1,入出金NFT結果!$A:$A,\"<=\"&月別集計!BI$2)","v":0},{"$f":"SUMIFS(入出金NFT結果!$D:$D,入出金NFT結果!$I:$I,\"=\"&月別集計!$B28,入出金NFT結果!$A:$A,\">=\"&月別集計!BJ$1,入出金NFT結果!$A:$A,\"<=\"&月別集計!BJ$2)","v":0},{"$f":"SUMIFS(入出金NFT結果!$D:$D,入出金NFT結果!$I:$I,\"=\"&月別集計!$B28,入出金NFT結果!$A:$A,\">=\"&月別集計!BK$1,入出金NFT結果!$A:$A,\"<=\"&月別集計!BK$2)","v":0},{"$f":"SUMIFS(入出金NFT結果!$D:$D,入出金NFT結果!$I:$I,\"=\"&月別集計!$B28,入出金NFT結果!$A:$A,\">=\"&月別集計!BL$1,入出金NFT結果!$A:$A,\"<=\"&月別集計!BL$2)","v":0},{"$f":"SUMIFS(入出金NFT結果!$D:$D,入出金NFT結果!$I:$I,\"=\"&月別集計!$B28,入出金NFT結果!$A:$A,\">=\"&月別集計!BM$1,入出金NFT結果!$A:$A,\"<=\"&月別集計!BM$2)","v":0}]
[null,{"$f":"推定用途置換ルール!P3","v":"JobTribes：育成アイテム購入"},{"$f":"SUMIFS(入出金NFT結果!$D:$D,入出金NFT結果!$I:$I,\"=\"&月別集計!$B29,入出金NFT結果!$A:$A,\">=\"&月別集計!C$1,入出金NFT結果!$A:$A,\"<=\"&月別集計!C$2)","v":0},{"$f":"SUMIFS(入出金NFT結果!$D:$D,入出金NFT結果!$I:$I,\"=\"&月別集計!$B29,入出金NFT結果!$A:$A,\">=\"&月別集計!D$1,入出金NFT結果!$A:$A,\"<=\"&月別集計!D$2)","v":0},{"$f":"SUMIFS(入出金NFT結果!$D:$D,入出金NFT結果!$I:$I,\"=\"&月別集計!$B29,入出金NFT結果!$A:$A,\">=\"&月別集計!E$1,入出金NFT結果!$A:$A,\"<=\"&月別集計!E$2)","v":0},{"$f":"SUMIFS(入出金NFT結果!$D:$D,入出金NFT結果!$I:$I,\"=\"&月別集計!$B29,入出金NFT結果!$A:$A,\">=\"&月別集計!F$1,入出金NFT結果!$A:$A,\"<=\"&月別集計!F$2)","v":0},{"$f":"SUMIFS(入出金NFT結果!$D:$D,入出金NFT結果!$I:$I,\"=\"&月別集計!$B29,入出金NFT結果!$A:$A,\">=\"&月別集計!G$1,入出金NFT結果!$A:$A,\"<=\"&月別集計!G$2)","v":0},{"$f":"SUMIFS(入出金NFT結果!$D:$D,入出金NFT結果!$I:$I,\"=\"&月別集計!$B29,入出金NFT結果!$A:$A,\">=\"&月別集計!H$1,入出金NFT結果!$A:$A,\"<=\"&月別集計!H$2)","v":0},{"$f":"SUMIFS(入出金NFT結果!$D:$D,入出金NFT結果!$I:$I,\"=\"&月別集計!$B29,入出金NFT結果!$A:$A,\">=\"&月別集計!I$1,入出金NFT結果!$A:$A,\"<=\"&月別集計!I$2)","v":0},{"$f":"SUMIFS(入出金NFT結果!$D:$D,入出金NFT結果!$I:$I,\"=\"&月別集計!$B29,入出金NFT結果!$A:$A,\">=\"&月別集計!J$1,入出金NFT結果!$A:$A,\"<=\"&月別集計!J$2)","v":0},{"$f":"SUMIFS(入出金NFT結果!$D:$D,入出金NFT結果!$I:$I,\"=\"&月別集計!$B29,入出金NFT結果!$A:$A,\">=\"&月別集計!K$1,入出金NFT結果!$A:$A,\"<=\"&月別集計!K$2)","v":0},{"$f":"SUMIFS(入出金NFT結果!$D:$D,入出金NFT結果!$I:$I,\"=\"&月別集計!$B29,入出金NFT結果!$A:$A,\">=\"&月別集計!L$1,入出金NFT結果!$A:$A,\"<=\"&月別集計!L$2)","v":0},{"$f":"SUMIFS(入出金NFT結果!$D:$D,入出金NFT結果!$I:$I,\"=\"&月別集計!$B29,入出金NFT結果!$A:$A,\">=\"&月別集計!M$1,入出金NFT結果!$A:$A,\"<=\"&月別集計!M$2)","v":0},{"$f":"SUMIFS(入出金NFT結果!$D:$D,入出金NFT結果!$I:$I,\"=\"&月別集計!$B29,入出金NFT結果!$A:$A,\">=\"&月別集計!N$1,入出金NFT結果!$A:$A,\"<=\"&月別集計!N$2)","v":0},{"$f":"SUMIFS(入出金NFT結果!$D:$D,入出金NFT結果!$I:$I,\"=\"&月別集計!$B29,入出金NFT結果!$A:$A,\">=\"&月別集計!O$1,入出金NFT結果!$A:$A,\"<=\"&月別集計!O$2)","v":0},{"$f":"SUMIFS(入出金NFT結果!$D:$D,入出金NFT結果!$I:$I,\"=\"&月別集計!$B29,入出金NFT結果!$A:$A,\">=\"&月別集計!P$1,入出金NFT結果!$A:$A,\"<=\"&月別集計!P$2)","v":0},{"$f":"SUMIFS(入出金NFT結果!$D:$D,入出金NFT結果!$I:$I,\"=\"&月別集計!$B29,入出金NFT結果!$A:$A,\">=\"&月別集計!Q$1,入出金NFT結果!$A:$A,\"<=\"&月別集計!Q$2)","v":0},{"$f":"SUMIFS(入出金NFT結果!$D:$D,入出金NFT結果!$I:$I,\"=\"&月別集計!$B29,入出金NFT結果!$A:$A,\">=\"&月別集計!R$1,入出金NFT結果!$A:$A,\"<=\"&月別集計!R$2)","v":0},{"$f":"SUMIFS(入出金NFT結果!$D:$D,入出金NFT結果!$I:$I,\"=\"&月別集計!$B29,入出金NFT結果!$A:$A,\">=\"&月別集計!S$1,入出金NFT結果!$A:$A,\"<=\"&月別集計!S$2)","v":0},{"$f":"SUMIFS(入出金NFT結果!$D:$D,入出金NFT結果!$I:$I,\"=\"&月別集計!$B29,入出金NFT結果!$A:$A,\">=\"&月別集計!T$1,入出金NFT結果!$A:$A,\"<=\"&月別集計!T$2)","v":0},{"$f":"SUMIFS(入出金NFT結果!$D:$D,入出金NFT結果!$I:$I,\"=\"&月別集計!$B29,入出金NFT結果!$A:$A,\">=\"&月別集計!U$1,入出金NFT結果!$A:$A,\"<=\"&月別集計!U$2)","v":0},{"$f":"SUMIFS(入出金NFT結果!$D:$D,入出金NFT結果!$I:$I,\"=\"&月別集計!$B29,入出金NFT結果!$A:$A,\">=\"&月別集計!V$1,入出金NFT結果!$A:$A,\"<=\"&月別集計!V$2)","v":0},{"$f":"SUMIFS(入出金NFT結果!$D:$D,入出金NFT結果!$I:$I,\"=\"&月別集計!$B29,入出金NFT結果!$A:$A,\">=\"&月別集計!W$1,入出金NFT結果!$A:$A,\"<=\"&月別集計!W$2)","v":0},{"$f":"SUMIFS(入出金NFT結果!$D:$D,入出金NFT結果!$I:$I,\"=\"&月別集計!$B29,入出金NFT結果!$A:$A,\">=\"&月別集計!X$1,入出金NFT結果!$A:$A,\"<=\"&月別集計!X$2)","v":0},{"$f":"SUMIFS(入出金NFT結果!$D:$D,入出金NFT結果!$I:$I,\"=\"&月別集計!$B29,入出金NFT結果!$A:$A,\">=\"&月別集計!Y$1,入出金NFT結果!$A:$A,\"<=\"&月別集計!Y$2)","v":0},{"$f":"SUMIFS(入出金NFT結果!$D:$D,入出金NFT結果!$I:$I,\"=\"&月別集計!$B29,入出金NFT結果!$A:$A,\">=\"&月別集計!Z$1,入出金NFT結果!$A:$A,\"<=\"&月別集計!Z$2)","v":0},{"$f":"SUMIFS(入出金NFT結果!$D:$D,入出金NFT結果!$I:$I,\"=\"&月別集計!$B29,入出金NFT結果!$A:$A,\">=\"&月別集計!AA$1,入出金NFT結果!$A:$A,\"<=\"&月別集計!AA$2)","v":0},{"$f":"SUMIFS(入出金NFT結果!$D:$D,入出金NFT結果!$I:$I,\"=\"&月別集計!$B29,入出金NFT結果!$A:$A,\">=\"&月別集計!AB$1,入出金NFT結果!$A:$A,\"<=\"&月別集計!AB$2)","v":0},{"$f":"SUMIFS(入出金NFT結果!$D:$D,入出金NFT結果!$I:$I,\"=\"&月別集計!$B29,入出金NFT結果!$A:$A,\">=\"&月別集計!AC$1,入出金NFT結果!$A:$A,\"<=\"&月別集計!AC$2)","v":0},{"$f":"SUMIFS(入出金NFT結果!$D:$D,入出金NFT結果!$I:$I,\"=\"&月別集計!$B29,入出金NFT結果!$A:$A,\">=\"&月別集計!AD$1,入出金NFT結果!$A:$A,\"<=\"&月別集計!AD$2)","v":0},{"$f":"SUMIFS(入出金NFT結果!$D:$D,入出金NFT結果!$I:$I,\"=\"&月別集計!$B29,入出金NFT結果!$A:$A,\">=\"&月別集計!AE$1,入出金NFT結果!$A:$A,\"<=\"&月別集計!AE$2)","v":0},{"$f":"SUMIFS(入出金NFT結果!$D:$D,入出金NFT結果!$I:$I,\"=\"&月別集計!$B29,入出金NFT結果!$A:$A,\">=\"&月別集計!AF$1,入出金NFT結果!$A:$A,\"<=\"&月別集計!AF$2)","v":0},{"$f":"SUMIFS(入出金NFT結果!$D:$D,入出金NFT結果!$I:$I,\"=\"&月別集計!$B29,入出金NFT結果!$A:$A,\">=\"&月別集計!AG$1,入出金NFT結果!$A:$A,\"<=\"&月別集計!AG$2)","v":0},{"$f":"SUMIFS(入出金NFT結果!$D:$D,入出金NFT結果!$I:$I,\"=\"&月別集計!$B29,入出金NFT結果!$A:$A,\">=\"&月別集計!AH$1,入出金NFT結果!$A:$A,\"<=\"&月別集計!AH$2)","v":0},{"$f":"SUMIFS(入出金NFT結果!$D:$D,入出金NFT結果!$I:$I,\"=\"&月別集計!$B29,入出金NFT結果!$A:$A,\">=\"&月別集計!AI$1,入出金NFT結果!$A:$A,\"<=\"&月別集計!AI$2)","v":0},{"$f":"SUMIFS(入出金NFT結果!$D:$D,入出金NFT結果!$I:$I,\"=\"&月別集計!$B29,入出金NFT結果!$A:$A,\">=\"&月別集計!AJ$1,入出金NFT結果!$A:$A,\"<=\"&月別集計!AJ$2)","v":0},{"$f":"SUMIFS(入出金NFT結果!$D:$D,入出金NFT結果!$I:$I,\"=\"&月別集計!$B29,入出金NFT結果!$A:$A,\">=\"&月別集計!AK$1,入出金NFT結果!$A:$A,\"<=\"&月別集計!AK$2)","v":0},{"$f":"SUMIFS(入出金NFT結果!$D:$D,入出金NFT結果!$I:$I,\"=\"&月別集計!$B29,入出金NFT結果!$A:$A,\">=\"&月別集計!AL$1,入出金NFT結果!$A:$A,\"<=\"&月別集計!AL$2)","v":0},{"$f":"SUMIFS(入出金NFT結果!$D:$D,入出金NFT結果!$I:$I,\"=\"&月別集計!$B29,入出金NFT結果!$A:$A,\">=\"&月別集計!AM$1,入出金NFT結果!$A:$A,\"<=\"&月別集計!AM$2)","v":0},{"$f":"SUMIFS(入出金NFT結果!$D:$D,入出金NFT結果!$I:$I,\"=\"&月別集計!$B29,入出金NFT結果!$A:$A,\">=\"&月別集計!AN$1,入出金NFT結果!$A:$A,\"<=\"&月別集計!AN$2)","v":0},{"$f":"SUMIFS(入出金NFT結果!$D:$D,入出金NFT結果!$I:$I,\"=\"&月別集計!$B29,入出金NFT結果!$A:$A,\">=\"&月別集計!AO$1,入出金NFT結果!$A:$A,\"<=\"&月別集計!AO$2)","v":0},{"$f":"SUMIFS(入出金NFT結果!$D:$D,入出金NFT結果!$I:$I,\"=\"&月別集計!$B29,入出金NFT結果!$A:$A,\">=\"&月別集計!AP$1,入出金NFT結果!$A:$A,\"<=\"&月別集計!AP$2)","v":0},{"$f":"SUMIFS(入出金NFT結果!$D:$D,入出金NFT結果!$I:$I,\"=\"&月別集計!$B29,入出金NFT結果!$A:$A,\">=\"&月別集計!AQ$1,入出金NFT結果!$A:$A,\"<=\"&月別集計!AQ$2)","v":0},{"$f":"SUMIFS(入出金NFT結果!$D:$D,入出金NFT結果!$I:$I,\"=\"&月別集計!$B29,入出金NFT結果!$A:$A,\">=\"&月別集計!AR$1,入出金NFT結果!$A:$A,\"<=\"&月別集計!AR$2)","v":0},{"$f":"SUMIFS(入出金NFT結果!$D:$D,入出金NFT結果!$I:$I,\"=\"&月別集計!$B29,入出金NFT結果!$A:$A,\">=\"&月別集計!AS$1,入出金NFT結果!$A:$A,\"<=\"&月別集計!AS$2)","v":0},{"$f":"SUMIFS(入出金NFT結果!$D:$D,入出金NFT結果!$I:$I,\"=\"&月別集計!$B29,入出金NFT結果!$A:$A,\">=\"&月別集計!AT$1,入出金NFT結果!$A:$A,\"<=\"&月別集計!AT$2)","v":0},{"$f":"SUMIFS(入出金NFT結果!$D:$D,入出金NFT結果!$I:$I,\"=\"&月別集計!$B29,入出金NFT結果!$A:$A,\">=\"&月別集計!AU$1,入出金NFT結果!$A:$A,\"<=\"&月別集計!AU$2)","v":0},{"$f":"SUMIFS(入出金NFT結果!$D:$D,入出金NFT結果!$I:$I,\"=\"&月別集計!$B29,入出金NFT結果!$A:$A,\">=\"&月別集計!AV$1,入出金NFT結果!$A:$A,\"<=\"&月別集計!AV$2)","v":0},{"$f":"SUMIFS(入出金NFT結果!$D:$D,入出金NFT結果!$I:$I,\"=\"&月別集計!$B29,入出金NFT結果!$A:$A,\">=\"&月別集計!AW$1,入出金NFT結果!$A:$A,\"<=\"&月別集計!AW$2)","v":0},{"$f":"SUMIFS(入出金NFT結果!$D:$D,入出金NFT結果!$I:$I,\"=\"&月別集計!$B29,入出金NFT結果!$A:$A,\">=\"&月別集計!AX$1,入出金NFT結果!$A:$A,\"<=\"&月別集計!AX$2)","v":0},{"$f":"SUMIFS(入出金NFT結果!$D:$D,入出金NFT結果!$I:$I,\"=\"&月別集計!$B29,入出金NFT結果!$A:$A,\">=\"&月別集計!AY$1,入出金NFT結果!$A:$A,\"<=\"&月別集計!AY$2)","v":0},{"$f":"SUMIFS(入出金NFT結果!$D:$D,入出金NFT結果!$I:$I,\"=\"&月別集計!$B29,入出金NFT結果!$A:$A,\">=\"&月別集計!AZ$1,入出金NFT結果!$A:$A,\"<=\"&月別集計!AZ$2)","v":0},{"$f":"SUMIFS(入出金NFT結果!$D:$D,入出金NFT結果!$I:$I,\"=\"&月別集計!$B29,入出金NFT結果!$A:$A,\">=\"&月別集計!BA$1,入出金NFT結果!$A:$A,\"<=\"&月別集計!BA$2)","v":0},{"$f":"SUMIFS(入出金NFT結果!$D:$D,入出金NFT結果!$I:$I,\"=\"&月別集計!$B29,入出金NFT結果!$A:$A,\">=\"&月別集計!BB$1,入出金NFT結果!$A:$A,\"<=\"&月別集計!BB$2)","v":0},{"$f":"SUMIFS(入出金NFT結果!$D:$D,入出金NFT結果!$I:$I,\"=\"&月別集計!$B29,入出金NFT結果!$A:$A,\">=\"&月別集計!BC$1,入出金NFT結果!$A:$A,\"<=\"&月別集計!BC$2)","v":0},{"$f":"SUMIFS(入出金NFT結果!$D:$D,入出金NFT結果!$I:$I,\"=\"&月別集計!$B29,入出金NFT結果!$A:$A,\">=\"&月別集計!BD$1,入出金NFT結果!$A:$A,\"<=\"&月別集計!BD$2)","v":0},{"$f":"SUMIFS(入出金NFT結果!$D:$D,入出金NFT結果!$I:$I,\"=\"&月別集計!$B29,入出金NFT結果!$A:$A,\">=\"&月別集計!BE$1,入出金NFT結果!$A:$A,\"<=\"&月別集計!BE$2)","v":0},{"$f":"SUMIFS(入出金NFT結果!$D:$D,入出金NFT結果!$I:$I,\"=\"&月別集計!$B29,入出金NFT結果!$A:$A,\">=\"&月別集計!BF$1,入出金NFT結果!$A:$A,\"<=\"&月別集計!BF$2)","v":0},{"$f":"SUMIFS(入出金NFT結果!$D:$D,入出金NFT結果!$I:$I,\"=\"&月別集計!$B29,入出金NFT結果!$A:$A,\">=\"&月別集計!BG$1,入出金NFT結果!$A:$A,\"<=\"&月別集計!BG$2)","v":0},{"$f":"SUMIFS(入出金NFT結果!$D:$D,入出金NFT結果!$I:$I,\"=\"&月別集計!$B29,入出金NFT結果!$A:$A,\">=\"&月別集計!BH$1,入出金NFT結果!$A:$A,\"<=\"&月別集計!BH$2)","v":0},{"$f":"SUMIFS(入出金NFT結果!$D:$D,入出金NFT結果!$I:$I,\"=\"&月別集計!$B29,入出金NFT結果!$A:$A,\">=\"&月別集計!BI$1,入出金NFT結果!$A:$A,\"<=\"&月別集計!BI$2)","v":0},{"$f":"SUMIFS(入出金NFT結果!$D:$D,入出金NFT結果!$I:$I,\"=\"&月別集計!$B29,入出金NFT結果!$A:$A,\">=\"&月別集計!BJ$1,入出金NFT結果!$A:$A,\"<=\"&月別集計!BJ$2)","v":0},{"$f":"SUMIFS(入出金NFT結果!$D:$D,入出金NFT結果!$I:$I,\"=\"&月別集計!$B29,入出金NFT結果!$A:$A,\">=\"&月別集計!BK$1,入出金NFT結果!$A:$A,\"<=\"&月別集計!BK$2)","v":0},{"$f":"SUMIFS(入出金NFT結果!$D:$D,入出金NFT結果!$I:$I,\"=\"&月別集計!$B29,入出金NFT結果!$A:$A,\">=\"&月別集計!BL$1,入出金NFT結果!$A:$A,\"<=\"&月別集計!BL$2)","v":0},{"$f":"SUMIFS(入出金NFT結果!$D:$D,入出金NFT結果!$I:$I,\"=\"&月別集計!$B29,入出金NFT結果!$A:$A,\">=\"&月別集計!BM$1,入出金NFT結果!$A:$A,\"<=\"&月別集計!BM$2)","v":0}]
[null,{"$f":"推定用途置換ルール!P4","v":"メンドラ：DEAPcoinショップ"},{"$f":"SUMIFS(入出金NFT結果!$D:$D,入出金NFT結果!$I:$I,\"=\"&月別集計!$B30,入出金NFT結果!$A:$A,\">=\"&月別集計!C$1,入出金NFT結果!$A:$A,\"<=\"&月別集計!C$2)","v":0},{"$f":"SUMIFS(入出金NFT結果!$D:$D,入出金NFT結果!$I:$I,\"=\"&月別集計!$B30,入出金NFT結果!$A:$A,\">=\"&月別集計!D$1,入出金NFT結果!$A:$A,\"<=\"&月別集計!D$2)","v":0},{"$f":"SUMIFS(入出金NFT結果!$D:$D,入出金NFT結果!$I:$I,\"=\"&月別集計!$B30,入出金NFT結果!$A:$A,\">=\"&月別集計!E$1,入出金NFT結果!$A:$A,\"<=\"&月別集計!E$2)","v":0},{"$f":"SUMIFS(入出金NFT結果!$D:$D,入出金NFT結果!$I:$I,\"=\"&月別集計!$B30,入出金NFT結果!$A:$A,\">=\"&月別集計!F$1,入出金NFT結果!$A:$A,\"<=\"&月別集計!F$2)","v":0},{"$f":"SUMIFS(入出金NFT結果!$D:$D,入出金NFT結果!$I:$I,\"=\"&月別集計!$B30,入出金NFT結果!$A:$A,\">=\"&月別集計!G$1,入出金NFT結果!$A:$A,\"<=\"&月別集計!G$2)","v":0},{"$f":"SUMIFS(入出金NFT結果!$D:$D,入出金NFT結果!$I:$I,\"=\"&月別集計!$B30,入出金NFT結果!$A:$A,\">=\"&月別集計!H$1,入出金NFT結果!$A:$A,\"<=\"&月別集計!H$2)","v":0},{"$f":"SUMIFS(入出金NFT結果!$D:$D,入出金NFT結果!$I:$I,\"=\"&月別集計!$B30,入出金NFT結果!$A:$A,\">=\"&月別集計!I$1,入出金NFT結果!$A:$A,\"<=\"&月別集計!I$2)","v":0},{"$f":"SUMIFS(入出金NFT結果!$D:$D,入出金NFT結果!$I:$I,\"=\"&月別集計!$B30,入出金NFT結果!$A:$A,\">=\"&月別集計!J$1,入出金NFT結果!$A:$A,\"<=\"&月別集計!J$2)","v":0},{"$f":"SUMIFS(入出金NFT結果!$D:$D,入出金NFT結果!$I:$I,\"=\"&月別集計!$B30,入出金NFT結果!$A:$A,\">=\"&月別集計!K$1,入出金NFT結果!$A:$A,\"<=\"&月別集計!K$2)","v":0},{"$f":"SUMIFS(入出金NFT結果!$D:$D,入出金NFT結果!$I:$I,\"=\"&月別集計!$B30,入出金NFT結果!$A:$A,\">=\"&月別集計!L$1,入出金NFT結果!$A:$A,\"<=\"&月別集計!L$2)","v":0},{"$f":"SUMIFS(入出金NFT結果!$D:$D,入出金NFT結果!$I:$I,\"=\"&月別集計!$B30,入出金NFT結果!$A:$A,\">=\"&月別集計!M$1,入出金NFT結果!$A:$A,\"<=\"&月別集計!M$2)","v":0},{"$f":"SUMIFS(入出金NFT結果!$D:$D,入出金NFT結果!$I:$I,\"=\"&月別集計!$B30,入出金NFT結果!$A:$A,\">=\"&月別集計!N$1,入出金NFT結果!$A:$A,\"<=\"&月別集計!N$2)","v":0},{"$f":"SUMIFS(入出金NFT結果!$D:$D,入出金NFT結果!$I:$I,\"=\"&月別集計!$B30,入出金NFT結果!$A:$A,\">=\"&月別集計!O$1,入出金NFT結果!$A:$A,\"<=\"&月別集計!O$2)","v":0},{"$f":"SUMIFS(入出金NFT結果!$D:$D,入出金NFT結果!$I:$I,\"=\"&月別集計!$B30,入出金NFT結果!$A:$A,\">=\"&月別集計!P$1,入出金NFT結果!$A:$A,\"<=\"&月別集計!P$2)","v":0},{"$f":"SUMIFS(入出金NFT結果!$D:$D,入出金NFT結果!$I:$I,\"=\"&月別集計!$B30,入出金NFT結果!$A:$A,\">=\"&月別集計!Q$1,入出金NFT結果!$A:$A,\"<=\"&月別集計!Q$2)","v":0},{"$f":"SUMIFS(入出金NFT結果!$D:$D,入出金NFT結果!$I:$I,\"=\"&月別集計!$B30,入出金NFT結果!$A:$A,\">=\"&月別集計!R$1,入出金NFT結果!$A:$A,\"<=\"&月別集計!R$2)","v":0},{"$f":"SUMIFS(入出金NFT結果!$D:$D,入出金NFT結果!$I:$I,\"=\"&月別集計!$B30,入出金NFT結果!$A:$A,\">=\"&月別集計!S$1,入出金NFT結果!$A:$A,\"<=\"&月別集計!S$2)","v":0},{"$f":"SUMIFS(入出金NFT結果!$D:$D,入出金NFT結果!$I:$I,\"=\"&月別集計!$B30,入出金NFT結果!$A:$A,\">=\"&月別集計!T$1,入出金NFT結果!$A:$A,\"<=\"&月別集計!T$2)","v":0},{"$f":"SUMIFS(入出金NFT結果!$D:$D,入出金NFT結果!$I:$I,\"=\"&月別集計!$B30,入出金NFT結果!$A:$A,\">=\"&月別集計!U$1,入出金NFT結果!$A:$A,\"<=\"&月別集計!U$2)","v":0},{"$f":"SUMIFS(入出金NFT結果!$D:$D,入出金NFT結果!$I:$I,\"=\"&月別集計!$B30,入出金NFT結果!$A:$A,\">=\"&月別集計!V$1,入出金NFT結果!$A:$A,\"<=\"&月別集計!V$2)","v":0},{"$f":"SUMIFS(入出金NFT結果!$D:$D,入出金NFT結果!$I:$I,\"=\"&月別集計!$B30,入出金NFT結果!$A:$A,\">=\"&月別集計!W$1,入出金NFT結果!$A:$A,\"<=\"&月別集計!W$2)","v":0},{"$f":"SUMIFS(入出金NFT結果!$D:$D,入出金NFT結果!$I:$I,\"=\"&月別集計!$B30,入出金NFT結果!$A:$A,\">=\"&月別集計!X$1,入出金NFT結果!$A:$A,\"<=\"&月別集計!X$2)","v":0},{"$f":"SUMIFS(入出金NFT結果!$D:$D,入出金NFT結果!$I:$I,\"=\"&月別集計!$B30,入出金NFT結果!$A:$A,\">=\"&月別集計!Y$1,入出金NFT結果!$A:$A,\"<=\"&月別集計!Y$2)","v":0},{"$f":"SUMIFS(入出金NFT結果!$D:$D,入出金NFT結果!$I:$I,\"=\"&月別集計!$B30,入出金NFT結果!$A:$A,\">=\"&月別集計!Z$1,入出金NFT結果!$A:$A,\"<=\"&月別集計!Z$2)","v":0},{"$f":"SUMIFS(入出金NFT結果!$D:$D,入出金NFT結果!$I:$I,\"=\"&月別集計!$B30,入出金NFT結果!$A:$A,\">=\"&月別集計!AA$1,入出金NFT結果!$A:$A,\"<=\"&月別集計!AA$2)","v":0},{"$f":"SUMIFS(入出金NFT結果!$D:$D,入出金NFT結果!$I:$I,\"=\"&月別集計!$B30,入出金NFT結果!$A:$A,\">=\"&月別集計!AB$1,入出金NFT結果!$A:$A,\"<=\"&月別集計!AB$2)","v":0},{"$f":"SUMIFS(入出金NFT結果!$D:$D,入出金NFT結果!$I:$I,\"=\"&月別集計!$B30,入出金NFT結果!$A:$A,\">=\"&月別集計!AC$1,入出金NFT結果!$A:$A,\"<=\"&月別集計!AC$2)","v":0},{"$f":"SUMIFS(入出金NFT結果!$D:$D,入出金NFT結果!$I:$I,\"=\"&月別集計!$B30,入出金NFT結果!$A:$A,\">=\"&月別集計!AD$1,入出金NFT結果!$A:$A,\"<=\"&月別集計!AD$2)","v":0},{"$f":"SUMIFS(入出金NFT結果!$D:$D,入出金NFT結果!$I:$I,\"=\"&月別集計!$B30,入出金NFT結果!$A:$A,\">=\"&月別集計!AE$1,入出金NFT結果!$A:$A,\"<=\"&月別集計!AE$2)","v":0},{"$f":"SUMIFS(入出金NFT結果!$D:$D,入出金NFT結果!$I:$I,\"=\"&月別集計!$B30,入出金NFT結果!$A:$A,\">=\"&月別集計!AF$1,入出金NFT結果!$A:$A,\"<=\"&月別集計!AF$2)","v":0},{"$f":"SUMIFS(入出金NFT結果!$D:$D,入出金NFT結果!$I:$I,\"=\"&月別集計!$B30,入出金NFT結果!$A:$A,\">=\"&月別集計!AG$1,入出金NFT結果!$A:$A,\"<=\"&月別集計!AG$2)","v":0},{"$f":"SUMIFS(入出金NFT結果!$D:$D,入出金NFT結果!$I:$I,\"=\"&月別集計!$B30,入出金NFT結果!$A:$A,\">=\"&月別集計!AH$1,入出金NFT結果!$A:$A,\"<=\"&月別集計!AH$2)","v":0},{"$f":"SUMIFS(入出金NFT結果!$D:$D,入出金NFT結果!$I:$I,\"=\"&月別集計!$B30,入出金NFT結果!$A:$A,\">=\"&月別集計!AI$1,入出金NFT結果!$A:$A,\"<=\"&月別集計!AI$2)","v":0},{"$f":"SUMIFS(入出金NFT結果!$D:$D,入出金NFT結果!$I:$I,\"=\"&月別集計!$B30,入出金NFT結果!$A:$A,\">=\"&月別集計!AJ$1,入出金NFT結果!$A:$A,\"<=\"&月別集計!AJ$2)","v":0},{"$f":"SUMIFS(入出金NFT結果!$D:$D,入出金NFT結果!$I:$I,\"=\"&月別集計!$B30,入出金NFT結果!$A:$A,\">=\"&月別集計!AK$1,入出金NFT結果!$A:$A,\"<=\"&月別集計!AK$2)","v":0},{"$f":"SUMIFS(入出金NFT結果!$D:$D,入出金NFT結果!$I:$I,\"=\"&月別集計!$B30,入出金NFT結果!$A:$A,\">=\"&月別集計!AL$1,入出金NFT結果!$A:$A,\"<=\"&月別集計!AL$2)","v":0},{"$f":"SUMIFS(入出金NFT結果!$D:$D,入出金NFT結果!$I:$I,\"=\"&月別集計!$B30,入出金NFT結果!$A:$A,\">=\"&月別集計!AM$1,入出金NFT結果!$A:$A,\"<=\"&月別集計!AM$2)","v":0},{"$f":"SUMIFS(入出金NFT結果!$D:$D,入出金NFT結果!$I:$I,\"=\"&月別集計!$B30,入出金NFT結果!$A:$A,\">=\"&月別集計!AN$1,入出金NFT結果!$A:$A,\"<=\"&月別集計!AN$2)","v":0},{"$f":"SUMIFS(入出金NFT結果!$D:$D,入出金NFT結果!$I:$I,\"=\"&月別集計!$B30,入出金NFT結果!$A:$A,\">=\"&月別集計!AO$1,入出金NFT結果!$A:$A,\"<=\"&月別集計!AO$2)","v":0},{"$f":"SUMIFS(入出金NFT結果!$D:$D,入出金NFT結果!$I:$I,\"=\"&月別集計!$B30,入出金NFT結果!$A:$A,\">=\"&月別集計!AP$1,入出金NFT結果!$A:$A,\"<=\"&月別集計!AP$2)","v":0},{"$f":"SUMIFS(入出金NFT結果!$D:$D,入出金NFT結果!$I:$I,\"=\"&月別集計!$B30,入出金NFT結果!$A:$A,\">=\"&月別集計!AQ$1,入出金NFT結果!$A:$A,\"<=\"&月別集計!AQ$2)","v":0},{"$f":"SUMIFS(入出金NFT結果!$D:$D,入出金NFT結果!$I:$I,\"=\"&月別集計!$B30,入出金NFT結果!$A:$A,\">=\"&月別集計!AR$1,入出金NFT結果!$A:$A,\"<=\"&月別集計!AR$2)","v":0},{"$f":"SUMIFS(入出金NFT結果!$D:$D,入出金NFT結果!$I:$I,\"=\"&月別集計!$B30,入出金NFT結果!$A:$A,\">=\"&月別集計!AS$1,入出金NFT結果!$A:$A,\"<=\"&月別集計!AS$2)","v":0},{"$f":"SUMIFS(入出金NFT結果!$D:$D,入出金NFT結果!$I:$I,\"=\"&月別集計!$B30,入出金NFT結果!$A:$A,\">=\"&月別集計!AT$1,入出金NFT結果!$A:$A,\"<=\"&月別集計!AT$2)","v":0},{"$f":"SUMIFS(入出金NFT結果!$D:$D,入出金NFT結果!$I:$I,\"=\"&月別集計!$B30,入出金NFT結果!$A:$A,\">=\"&月別集計!AU$1,入出金NFT結果!$A:$A,\"<=\"&月別集計!AU$2)","v":0},{"$f":"SUMIFS(入出金NFT結果!$D:$D,入出金NFT結果!$I:$I,\"=\"&月別集計!$B30,入出金NFT結果!$A:$A,\">=\"&月別集計!AV$1,入出金NFT結果!$A:$A,\"<=\"&月別集計!AV$2)","v":0},{"$f":"SUMIFS(入出金NFT結果!$D:$D,入出金NFT結果!$I:$I,\"=\"&月別集計!$B30,入出金NFT結果!$A:$A,\">=\"&月別集計!AW$1,入出金NFT結果!$A:$A,\"<=\"&月別集計!AW$2)","v":0},{"$f":"SUMIFS(入出金NFT結果!$D:$D,入出金NFT結果!$I:$I,\"=\"&月別集計!$B30,入出金NFT結果!$A:$A,\">=\"&月別集計!AX$1,入出金NFT結果!$A:$A,\"<=\"&月別集計!AX$2)","v":0},{"$f":"SUMIFS(入出金NFT結果!$D:$D,入出金NFT結果!$I:$I,\"=\"&月別集計!$B30,入出金NFT結果!$A:$A,\">=\"&月別集計!AY$1,入出金NFT結果!$A:$A,\"<=\"&月別集計!AY$2)","v":0},{"$f":"SUMIFS(入出金NFT結果!$D:$D,入出金NFT結果!$I:$I,\"=\"&月別集計!$B30,入出金NFT結果!$A:$A,\">=\"&月別集計!AZ$1,入出金NFT結果!$A:$A,\"<=\"&月別集計!AZ$2)","v":0},{"$f":"SUMIFS(入出金NFT結果!$D:$D,入出金NFT結果!$I:$I,\"=\"&月別集計!$B30,入出金NFT結果!$A:$A,\">=\"&月別集計!BA$1,入出金NFT結果!$A:$A,\"<=\"&月別集計!BA$2)","v":0},{"$f":"SUMIFS(入出金NFT結果!$D:$D,入出金NFT結果!$I:$I,\"=\"&月別集計!$B30,入出金NFT結果!$A:$A,\">=\"&月別集計!BB$1,入出金NFT結果!$A:$A,\"<=\"&月別集計!BB$2)","v":0},{"$f":"SUMIFS(入出金NFT結果!$D:$D,入出金NFT結果!$I:$I,\"=\"&月別集計!$B30,入出金NFT結果!$A:$A,\">=\"&月別集計!BC$1,入出金NFT結果!$A:$A,\"<=\"&月別集計!BC$2)","v":0},{"$f":"SUMIFS(入出金NFT結果!$D:$D,入出金NFT結果!$I:$I,\"=\"&月別集計!$B30,入出金NFT結果!$A:$A,\">=\"&月別集計!BD$1,入出金NFT結果!$A:$A,\"<=\"&月別集計!BD$2)","v":0},{"$f":"SUMIFS(入出金NFT結果!$D:$D,入出金NFT結果!$I:$I,\"=\"&月別集計!$B30,入出金NFT結果!$A:$A,\">=\"&月別集計!BE$1,入出金NFT結果!$A:$A,\"<=\"&月別集計!BE$2)","v":0},{"$f":"SUMIFS(入出金NFT結果!$D:$D,入出金NFT結果!$I:$I,\"=\"&月別集計!$B30,入出金NFT結果!$A:$A,\">=\"&月別集計!BF$1,入出金NFT結果!$A:$A,\"<=\"&月別集計!BF$2)","v":0},{"$f":"SUMIFS(入出金NFT結果!$D:$D,入出金NFT結果!$I:$I,\"=\"&月別集計!$B30,入出金NFT結果!$A:$A,\">=\"&月別集計!BG$1,入出金NFT結果!$A:$A,\"<=\"&月別集計!BG$2)","v":0},{"$f":"SUMIFS(入出金NFT結果!$D:$D,入出金NFT結果!$I:$I,\"=\"&月別集計!$B30,入出金NFT結果!$A:$A,\">=\"&月別集計!BH$1,入出金NFT結果!$A:$A,\"<=\"&月別集計!BH$2)","v":0},{"$f":"SUMIFS(入出金NFT結果!$D:$D,入出金NFT結果!$I:$I,\"=\"&月別集計!$B30,入出金NFT結果!$A:$A,\">=\"&月別集計!BI$1,入出金NFT結果!$A:$A,\"<=\"&月別集計!BI$2)","v":0},{"$f":"SUMIFS(入出金NFT結果!$D:$D,入出金NFT結果!$I:$I,\"=\"&月別集計!$B30,入出金NFT結果!$A:$A,\">=\"&月別集計!BJ$1,入出金NFT結果!$A:$A,\"<=\"&月別集計!BJ$2)","v":0},{"$f":"SUMIFS(入出金NFT結果!$D:$D,入出金NFT結果!$I:$I,\"=\"&月別集計!$B30,入出金NFT結果!$A:$A,\">=\"&月別集計!BK$1,入出金NFT結果!$A:$A,\"<=\"&月別集計!BK$2)","v":0},{"$f":"SUMIFS(入出金NFT結果!$D:$D,入出金NFT結果!$I:$I,\"=\"&月別集計!$B30,入出金NFT結果!$A:$A,\">=\"&月別集計!BL$1,入出金NFT結果!$A:$A,\"<=\"&月別集計!BL$2)","v":0},{"$f":"SUMIFS(入出金NFT結果!$D:$D,入出金NFT結果!$I:$I,\"=\"&月別集計!$B30,入出金NFT結果!$A:$A,\">=\"&月別集計!BM$1,入出金NFT結果!$A:$A,\"<=\"&月別集計!BM$2)","v":0}]
[null,{"$f":"推定用途置換ルール!P5","v":"JobTribes：ガチャ購入"},{"$f":"SUMIFS(入出金NFT結果!$D:$D,入出金NFT結果!$I:$I,\"=\"&月別集計!$B31,入出金NFT結果!$A:$A,\">=\"&月別集計!C$1,入出金NFT結果!$A:$A,\"<=\"&月別集計!C$2)","v":0},{"$f":"SUMIFS(入出金NFT結果!$D:$D,入出金NFT結果!$I:$I,\"=\"&月別集計!$B31,入出金NFT結果!$A:$A,\">=\"&月別集計!D$1,入出金NFT結果!$A:$A,\"<=\"&月別集計!D$2)","v":0},{"$f":"SUMIFS(入出金NFT結果!$D:$D,入出金NFT結果!$I:$I,\"=\"&月別集計!$B31,入出金NFT結果!$A:$A,\">=\"&月別集計!E$1,入出金NFT結果!$A:$A,\"<=\"&月別集計!E$2)","v":0},{"$f":"SUMIFS(入出金NFT結果!$D:$D,入出金NFT結果!$I:$I,\"=\"&月別集計!$B31,入出金NFT結果!$A:$A,\">=\"&月別集計!F$1,入出金NFT結果!$A:$A,\"<=\"&月別集計!F$2)","v":0},{"$f":"SUMIFS(入出金NFT結果!$D:$D,入出金NFT結果!$I:$I,\"=\"&月別集計!$B31,入出金NFT結果!$A:$A,\">=\"&月別集計!G$1,入出金NFT結果!$A:$A,\"<=\"&月別集計!G$2)","v":0},{"$f":"SUMIFS(入出金NFT結果!$D:$D,入出金NFT結果!$I:$I,\"=\"&月別集計!$B31,入出金NFT結果!$A:$A,\">=\"&月別集計!H$1,入出金NFT結果!$A:$A,\"<=\"&月別集計!H$2)","v":0},{"$f":"SUMIFS(入出金NFT結果!$D:$D,入出金NFT結果!$I:$I,\"=\"&月別集計!$B31,入出金NFT結果!$A:$A,\">=\"&月別集計!I$1,入出金NFT結果!$A:$A,\"<=\"&月別集計!I$2)","v":0},{"$f":"SUMIFS(入出金NFT結果!$D:$D,入出金NFT結果!$I:$I,\"=\"&月別集計!$B31,入出金NFT結果!$A:$A,\">=\"&月別集計!J$1,入出金NFT結果!$A:$A,\"<=\"&月別集計!J$2)","v":0},{"$f":"SUMIFS(入出金NFT結果!$D:$D,入出金NFT結果!$I:$I,\"=\"&月別集計!$B31,入出金NFT結果!$A:$A,\">=\"&月別集計!K$1,入出金NFT結果!$A:$A,\"<=\"&月別集計!K$2)","v":0},{"$f":"SUMIFS(入出金NFT結果!$D:$D,入出金NFT結果!$I:$I,\"=\"&月別集計!$B31,入出金NFT結果!$A:$A,\">=\"&月別集計!L$1,入出金NFT結果!$A:$A,\"<=\"&月別集計!L$2)","v":0},{"$f":"SUMIFS(入出金NFT結果!$D:$D,入出金NFT結果!$I:$I,\"=\"&月別集計!$B31,入出金NFT結果!$A:$A,\">=\"&月別集計!M$1,入出金NFT結果!$A:$A,\"<=\"&月別集計!M$2)","v":0},{"$f":"SUMIFS(入出金NFT結果!$D:$D,入出金NFT結果!$I:$I,\"=\"&月別集計!$B31,入出金NFT結果!$A:$A,\">=\"&月別集計!N$1,入出金NFT結果!$A:$A,\"<=\"&月別集計!N$2)","v":0},{"$f":"SUMIFS(入出金NFT結果!$D:$D,入出金NFT結果!$I:$I,\"=\"&月別集計!$B31,入出金NFT結果!$A:$A,\">=\"&月別集計!O$1,入出金NFT結果!$A:$A,\"<=\"&月別集計!O$2)","v":0},{"$f":"SUMIFS(入出金NFT結果!$D:$D,入出金NFT結果!$I:$I,\"=\"&月別集計!$B31,入出金NFT結果!$A:$A,\">=\"&月別集計!P$1,入出金NFT結果!$A:$A,\"<=\"&月別集計!P$2)","v":0},{"$f":"SUMIFS(入出金NFT結果!$D:$D,入出金NFT結果!$I:$I,\"=\"&月別集計!$B31,入出金NFT結果!$A:$A,\">=\"&月別集計!Q$1,入出金NFT結果!$A:$A,\"<=\"&月別集計!Q$2)","v":0},{"$f":"SUMIFS(入出金NFT結果!$D:$D,入出金NFT結果!$I:$I,\"=\"&月別集計!$B31,入出金NFT結果!$A:$A,\">=\"&月別集計!R$1,入出金NFT結果!$A:$A,\"<=\"&月別集計!R$2)","v":0},{"$f":"SUMIFS(入出金NFT結果!$D:$D,入出金NFT結果!$I:$I,\"=\"&月別集計!$B31,入出金NFT結果!$A:$A,\">=\"&月別集計!S$1,入出金NFT結果!$A:$A,\"<=\"&月別集計!S$2)","v":0},{"$f":"SUMIFS(入出金NFT結果!$D:$D,入出金NFT結果!$I:$I,\"=\"&月別集計!$B31,入出金NFT結果!$A:$A,\">=\"&月別集計!T$1,入出金NFT結果!$A:$A,\"<=\"&月別集計!T$2)","v":0},{"$f":"SUMIFS(入出金NFT結果!$D:$D,入出金NFT結果!$I:$I,\"=\"&月別集計!$B31,入出金NFT結果!$A:$A,\">=\"&月別集計!U$1,入出金NFT結果!$A:$A,\"<=\"&月別集計!U$2)","v":0},{"$f":"SUMIFS(入出金NFT結果!$D:$D,入出金NFT結果!$I:$I,\"=\"&月別集計!$B31,入出金NFT結果!$A:$A,\">=\"&月別集計!V$1,入出金NFT結果!$A:$A,\"<=\"&月別集計!V$2)","v":0},{"$f":"SUMIFS(入出金NFT結果!$D:$D,入出金NFT結果!$I:$I,\"=\"&月別集計!$B31,入出金NFT結果!$A:$A,\">=\"&月別集計!W$1,入出金NFT結果!$A:$A,\"<=\"&月別集計!W$2)","v":0},{"$f":"SUMIFS(入出金NFT結果!$D:$D,入出金NFT結果!$I:$I,\"=\"&月別集計!$B31,入出金NFT結果!$A:$A,\">=\"&月別集計!X$1,入出金NFT結果!$A:$A,\"<=\"&月別集計!X$2)","v":0},{"$f":"SUMIFS(入出金NFT結果!$D:$D,入出金NFT結果!$I:$I,\"=\"&月別集計!$B31,入出金NFT結果!$A:$A,\">=\"&月別集計!Y$1,入出金NFT結果!$A:$A,\"<=\"&月別集計!Y$2)","v":0},{"$f":"SUMIFS(入出金NFT結果!$D:$D,入出金NFT結果!$I:$I,\"=\"&月別集計!$B31,入出金NFT結果!$A:$A,\">=\"&月別集計!Z$1,入出金NFT結果!$A:$A,\"<=\"&月別集計!Z$2)","v":0},{"$f":"SUMIFS(入出金NFT結果!$D:$D,入出金NFT結果!$I:$I,\"=\"&月別集計!$B31,入出金NFT結果!$A:$A,\">=\"&月別集計!AA$1,入出金NFT結果!$A:$A,\"<=\"&月別集計!AA$2)","v":0},{"$f":"SUMIFS(入出金NFT結果!$D:$D,入出金NFT結果!$I:$I,\"=\"&月別集計!$B31,入出金NFT結果!$A:$A,\">=\"&月別集計!AB$1,入出金NFT結果!$A:$A,\"<=\"&月別集計!AB$2)","v":0},{"$f":"SUMIFS(入出金NFT結果!$D:$D,入出金NFT結果!$I:$I,\"=\"&月別集計!$B31,入出金NFT結果!$A:$A,\">=\"&月別集計!AC$1,入出金NFT結果!$A:$A,\"<=\"&月別集計!AC$2)","v":0},{"$f":"SUMIFS(入出金NFT結果!$D:$D,入出金NFT結果!$I:$I,\"=\"&月別集計!$B31,入出金NFT結果!$A:$A,\">=\"&月別集計!AD$1,入出金NFT結果!$A:$A,\"<=\"&月別集計!AD$2)","v":0},{"$f":"SUMIFS(入出金NFT結果!$D:$D,入出金NFT結果!$I:$I,\"=\"&月別集計!$B31,入出金NFT結果!$A:$A,\">=\"&月別集計!AE$1,入出金NFT結果!$A:$A,\"<=\"&月別集計!AE$2)","v":0},{"$f":"SUMIFS(入出金NFT結果!$D:$D,入出金NFT結果!$I:$I,\"=\"&月別集計!$B31,入出金NFT結果!$A:$A,\">=\"&月別集計!AF$1,入出金NFT結果!$A:$A,\"<=\"&月別集計!AF$2)","v":0},{"$f":"SUMIFS(入出金NFT結果!$D:$D,入出金NFT結果!$I:$I,\"=\"&月別集計!$B31,入出金NFT結果!$A:$A,\">=\"&月別集計!AG$1,入出金NFT結果!$A:$A,\"<=\"&月別集計!AG$2)","v":0},{"$f":"SUMIFS(入出金NFT結果!$D:$D,入出金NFT結果!$I:$I,\"=\"&月別集計!$B31,入出金NFT結果!$A:$A,\">=\"&月別集計!AH$1,入出金NFT結果!$A:$A,\"<=\"&月別集計!AH$2)","v":0},{"$f":"SUMIFS(入出金NFT結果!$D:$D,入出金NFT結果!$I:$I,\"=\"&月別集計!$B31,入出金NFT結果!$A:$A,\">=\"&月別集計!AI$1,入出金NFT結果!$A:$A,\"<=\"&月別集計!AI$2)","v":0},{"$f":"SUMIFS(入出金NFT結果!$D:$D,入出金NFT結果!$I:$I,\"=\"&月別集計!$B31,入出金NFT結果!$A:$A,\">=\"&月別集計!AJ$1,入出金NFT結果!$A:$A,\"<=\"&月別集計!AJ$2)","v":0},{"$f":"SUMIFS(入出金NFT結果!$D:$D,入出金NFT結果!$I:$I,\"=\"&月別集計!$B31,入出金NFT結果!$A:$A,\">=\"&月別集計!AK$1,入出金NFT結果!$A:$A,\"<=\"&月別集計!AK$2)","v":0},{"$f":"SUMIFS(入出金NFT結果!$D:$D,入出金NFT結果!$I:$I,\"=\"&月別集計!$B31,入出金NFT結果!$A:$A,\">=\"&月別集計!AL$1,入出金NFT結果!$A:$A,\"<=\"&月別集計!AL$2)","v":0},{"$f":"SUMIFS(入出金NFT結果!$D:$D,入出金NFT結果!$I:$I,\"=\"&月別集計!$B31,入出金NFT結果!$A:$A,\">=\"&月別集計!AM$1,入出金NFT結果!$A:$A,\"<=\"&月別集計!AM$2)","v":0},{"$f":"SUMIFS(入出金NFT結果!$D:$D,入出金NFT結果!$I:$I,\"=\"&月別集計!$B31,入出金NFT結果!$A:$A,\">=\"&月別集計!AN$1,入出金NFT結果!$A:$A,\"<=\"&月別集計!AN$2)","v":0},{"$f":"SUMIFS(入出金NFT結果!$D:$D,入出金NFT結果!$I:$I,\"=\"&月別集計!$B31,入出金NFT結果!$A:$A,\">=\"&月別集計!AO$1,入出金NFT結果!$A:$A,\"<=\"&月別集計!AO$2)","v":0},{"$f":"SUMIFS(入出金NFT結果!$D:$D,入出金NFT結果!$I:$I,\"=\"&月別集計!$B31,入出金NFT結果!$A:$A,\">=\"&月別集計!AP$1,入出金NFT結果!$A:$A,\"<=\"&月別集計!AP$2)","v":0},{"$f":"SUMIFS(入出金NFT結果!$D:$D,入出金NFT結果!$I:$I,\"=\"&月別集計!$B31,入出金NFT結果!$A:$A,\">=\"&月別集計!AQ$1,入出金NFT結果!$A:$A,\"<=\"&月別集計!AQ$2)","v":0},{"$f":"SUMIFS(入出金NFT結果!$D:$D,入出金NFT結果!$I:$I,\"=\"&月別集計!$B31,入出金NFT結果!$A:$A,\">=\"&月別集計!AR$1,入出金NFT結果!$A:$A,\"<=\"&月別集計!AR$2)","v":0},{"$f":"SUMIFS(入出金NFT結果!$D:$D,入出金NFT結果!$I:$I,\"=\"&月別集計!$B31,入出金NFT結果!$A:$A,\">=\"&月別集計!AS$1,入出金NFT結果!$A:$A,\"<=\"&月別集計!AS$2)","v":0},{"$f":"SUMIFS(入出金NFT結果!$D:$D,入出金NFT結果!$I:$I,\"=\"&月別集計!$B31,入出金NFT結果!$A:$A,\">=\"&月別集計!AT$1,入出金NFT結果!$A:$A,\"<=\"&月別集計!AT$2)","v":0},{"$f":"SUMIFS(入出金NFT結果!$D:$D,入出金NFT結果!$I:$I,\"=\"&月別集計!$B31,入出金NFT結果!$A:$A,\">=\"&月別集計!AU$1,入出金NFT結果!$A:$A,\"<=\"&月別集計!AU$2)","v":0},{"$f":"SUMIFS(入出金NFT結果!$D:$D,入出金NFT結果!$I:$I,\"=\"&月別集計!$B31,入出金NFT結果!$A:$A,\">=\"&月別集計!AV$1,入出金NFT結果!$A:$A,\"<=\"&月別集計!AV$2)","v":0},{"$f":"SUMIFS(入出金NFT結果!$D:$D,入出金NFT結果!$I:$I,\"=\"&月別集計!$B31,入出金NFT結果!$A:$A,\">=\"&月別集計!AW$1,入出金NFT結果!$A:$A,\"<=\"&月別集計!AW$2)","v":0},{"$f":"SUMIFS(入出金NFT結果!$D:$D,入出金NFT結果!$I:$I,\"=\"&月別集計!$B31,入出金NFT結果!$A:$A,\">=\"&月別集計!AX$1,入出金NFT結果!$A:$A,\"<=\"&月別集計!AX$2)","v":0},{"$f":"SUMIFS(入出金NFT結果!$D:$D,入出金NFT結果!$I:$I,\"=\"&月別集計!$B31,入出金NFT結果!$A:$A,\">=\"&月別集計!AY$1,入出金NFT結果!$A:$A,\"<=\"&月別集計!AY$2)","v":0},{"$f":"SUMIFS(入出金NFT結果!$D:$D,入出金NFT結果!$I:$I,\"=\"&月別集計!$B31,入出金NFT結果!$A:$A,\">=\"&月別集計!AZ$1,入出金NFT結果!$A:$A,\"<=\"&月別集計!AZ$2)","v":0},{"$f":"SUMIFS(入出金NFT結果!$D:$D,入出金NFT結果!$I:$I,\"=\"&月別集計!$B31,入出金NFT結果!$A:$A,\">=\"&月別集計!BA$1,入出金NFT結果!$A:$A,\"<=\"&月別集計!BA$2)","v":0},{"$f":"SUMIFS(入出金NFT結果!$D:$D,入出金NFT結果!$I:$I,\"=\"&月別集計!$B31,入出金NFT結果!$A:$A,\">=\"&月別集計!BB$1,入出金NFT結果!$A:$A,\"<=\"&月別集計!BB$2)","v":0},{"$f":"SUMIFS(入出金NFT結果!$D:$D,入出金NFT結果!$I:$I,\"=\"&月別集計!$B31,入出金NFT結果!$A:$A,\">=\"&月別集計!BC$1,入出金NFT結果!$A:$A,\"<=\"&月別集計!BC$2)","v":0},{"$f":"SUMIFS(入出金NFT結果!$D:$D,入出金NFT結果!$I:$I,\"=\"&月別集計!$B31,入出金NFT結果!$A:$A,\">=\"&月別集計!BD$1,入出金NFT結果!$A:$A,\"<=\"&月別集計!BD$2)","v":0},{"$f":"SUMIFS(入出金NFT結果!$D:$D,入出金NFT結果!$I:$I,\"=\"&月別集計!$B31,入出金NFT結果!$A:$A,\">=\"&月別集計!BE$1,入出金NFT結果!$A:$A,\"<=\"&月別集計!BE$2)","v":0},{"$f":"SUMIFS(入出金NFT結果!$D:$D,入出金NFT結果!$I:$I,\"=\"&月別集計!$B31,入出金NFT結果!$A:$A,\">=\"&月別集計!BF$1,入出金NFT結果!$A:$A,\"<=\"&月別集計!BF$2)","v":0},{"$f":"SUMIFS(入出金NFT結果!$D:$D,入出金NFT結果!$I:$I,\"=\"&月別集計!$B31,入出金NFT結果!$A:$A,\">=\"&月別集計!BG$1,入出金NFT結果!$A:$A,\"<=\"&月別集計!BG$2)","v":0},{"$f":"SUMIFS(入出金NFT結果!$D:$D,入出金NFT結果!$I:$I,\"=\"&月別集計!$B31,入出金NFT結果!$A:$A,\">=\"&月別集計!BH$1,入出金NFT結果!$A:$A,\"<=\"&月別集計!BH$2)","v":0},{"$f":"SUMIFS(入出金NFT結果!$D:$D,入出金NFT結果!$I:$I,\"=\"&月別集計!$B31,入出金NFT結果!$A:$A,\">=\"&月別集計!BI$1,入出金NFT結果!$A:$A,\"<=\"&月別集計!BI$2)","v":0},{"$f":"SUMIFS(入出金NFT結果!$D:$D,入出金NFT結果!$I:$I,\"=\"&月別集計!$B31,入出金NFT結果!$A:$A,\">=\"&月別集計!BJ$1,入出金NFT結果!$A:$A,\"<=\"&月別集計!BJ$2)","v":0},{"$f":"SUMIFS(入出金NFT結果!$D:$D,入出金NFT結果!$I:$I,\"=\"&月別集計!$B31,入出金NFT結果!$A:$A,\">=\"&月別集計!BK$1,入出金NFT結果!$A:$A,\"<=\"&月別集計!BK$2)","v":0},{"$f":"SUMIFS(入出金NFT結果!$D:$D,入出金NFT結果!$I:$I,\"=\"&月別集計!$B31,入出金NFT結果!$A:$A,\">=\"&月別集計!BL$1,入出金NFT結果!$A:$A,\"<=\"&月別集計!BL$2)","v":0},{"$f":"SUMIFS(入出金NFT結果!$D:$D,入出金NFT結果!$I:$I,\"=\"&月別集計!$B31,入出金NFT結果!$A:$A,\">=\"&月別集計!BM$1,入出金NFT結果!$A:$A,\"<=\"&月別集計!BM$2)","v":0}]
[null,{"$f":"推定用途置換ルール!P6","v":"JobTribes：プレミアム求神"},{"$f":"SUMIFS(入出金NFT結果!$D:$D,入出金NFT結果!$I:$I,\"=\"&月別集計!$B32,入出金NFT結果!$A:$A,\">=\"&月別集計!C$1,入出金NFT結果!$A:$A,\"<=\"&月別集計!C$2)","v":0},{"$f":"SUMIFS(入出金NFT結果!$D:$D,入出金NFT結果!$I:$I,\"=\"&月別集計!$B32,入出金NFT結果!$A:$A,\">=\"&月別集計!D$1,入出金NFT結果!$A:$A,\"<=\"&月別集計!D$2)","v":0},{"$f":"SUMIFS(入出金NFT結果!$D:$D,入出金NFT結果!$I:$I,\"=\"&月別集計!$B32,入出金NFT結果!$A:$A,\">=\"&月別集計!E$1,入出金NFT結果!$A:$A,\"<=\"&月別集計!E$2)","v":0},{"$f":"SUMIFS(入出金NFT結果!$D:$D,入出金NFT結果!$I:$I,\"=\"&月別集計!$B32,入出金NFT結果!$A:$A,\">=\"&月別集計!F$1,入出金NFT結果!$A:$A,\"<=\"&月別集計!F$2)","v":0},{"$f":"SUMIFS(入出金NFT結果!$D:$D,入出金NFT結果!$I:$I,\"=\"&月別集計!$B32,入出金NFT結果!$A:$A,\">=\"&月別集計!G$1,入出金NFT結果!$A:$A,\"<=\"&月別集計!G$2)","v":0},{"$f":"SUMIFS(入出金NFT結果!$D:$D,入出金NFT結果!$I:$I,\"=\"&月別集計!$B32,入出金NFT結果!$A:$A,\">=\"&月別集計!H$1,入出金NFT結果!$A:$A,\"<=\"&月別集計!H$2)","v":0},{"$f":"SUMIFS(入出金NFT結果!$D:$D,入出金NFT結果!$I:$I,\"=\"&月別集計!$B32,入出金NFT結果!$A:$A,\">=\"&月別集計!I$1,入出金NFT結果!$A:$A,\"<=\"&月別集計!I$2)","v":0},{"$f":"SUMIFS(入出金NFT結果!$D:$D,入出金NFT結果!$I:$I,\"=\"&月別集計!$B32,入出金NFT結果!$A:$A,\">=\"&月別集計!J$1,入出金NFT結果!$A:$A,\"<=\"&月別集計!J$2)","v":0},{"$f":"SUMIFS(入出金NFT結果!$D:$D,入出金NFT結果!$I:$I,\"=\"&月別集計!$B32,入出金NFT結果!$A:$A,\">=\"&月別集計!K$1,入出金NFT結果!$A:$A,\"<=\"&月別集計!K$2)","v":0},{"$f":"SUMIFS(入出金NFT結果!$D:$D,入出金NFT結果!$I:$I,\"=\"&月別集計!$B32,入出金NFT結果!$A:$A,\">=\"&月別集計!L$1,入出金NFT結果!$A:$A,\"<=\"&月別集計!L$2)","v":0},{"$f":"SUMIFS(入出金NFT結果!$D:$D,入出金NFT結果!$I:$I,\"=\"&月別集計!$B32,入出金NFT結果!$A:$A,\">=\"&月別集計!M$1,入出金NFT結果!$A:$A,\"<=\"&月別集計!M$2)","v":0},{"$f":"SUMIFS(入出金NFT結果!$D:$D,入出金NFT結果!$I:$I,\"=\"&月別集計!$B32,入出金NFT結果!$A:$A,\">=\"&月別集計!N$1,入出金NFT結果!$A:$A,\"<=\"&月別集計!N$2)","v":0},{"$f":"SUMIFS(入出金NFT結果!$D:$D,入出金NFT結果!$I:$I,\"=\"&月別集計!$B32,入出金NFT結果!$A:$A,\">=\"&月別集計!O$1,入出金NFT結果!$A:$A,\"<=\"&月別集計!O$2)","v":0},{"$f":"SUMIFS(入出金NFT結果!$D:$D,入出金NFT結果!$I:$I,\"=\"&月別集計!$B32,入出金NFT結果!$A:$A,\">=\"&月別集計!P$1,入出金NFT結果!$A:$A,\"<=\"&月別集計!P$2)","v":0},{"$f":"SUMIFS(入出金NFT結果!$D:$D,入出金NFT結果!$I:$I,\"=\"&月別集計!$B32,入出金NFT結果!$A:$A,\">=\"&月別集計!Q$1,入出金NFT結果!$A:$A,\"<=\"&月別集計!Q$2)","v":0},{"$f":"SUMIFS(入出金NFT結果!$D:$D,入出金NFT結果!$I:$I,\"=\"&月別集計!$B32,入出金NFT結果!$A:$A,\">=\"&月別集計!R$1,入出金NFT結果!$A:$A,\"<=\"&月別集計!R$2)","v":0},{"$f":"SUMIFS(入出金NFT結果!$D:$D,入出金NFT結果!$I:$I,\"=\"&月別集計!$B32,入出金NFT結果!$A:$A,\">=\"&月別集計!S$1,入出金NFT結果!$A:$A,\"<=\"&月別集計!S$2)","v":0},{"$f":"SUMIFS(入出金NFT結果!$D:$D,入出金NFT結果!$I:$I,\"=\"&月別集計!$B32,入出金NFT結果!$A:$A,\">=\"&月別集計!T$1,入出金NFT結果!$A:$A,\"<=\"&月別集計!T$2)","v":0},{"$f":"SUMIFS(入出金NFT結果!$D:$D,入出金NFT結果!$I:$I,\"=\"&月別集計!$B32,入出金NFT結果!$A:$A,\">=\"&月別集計!U$1,入出金NFT結果!$A:$A,\"<=\"&月別集計!U$2)","v":0},{"$f":"SUMIFS(入出金NFT結果!$D:$D,入出金NFT結果!$I:$I,\"=\"&月別集計!$B32,入出金NFT結果!$A:$A,\">=\"&月別集計!V$1,入出金NFT結果!$A:$A,\"<=\"&月別集計!V$2)","v":0},{"$f":"SUMIFS(入出金NFT結果!$D:$D,入出金NFT結果!$I:$I,\"=\"&月別集計!$B32,入出金NFT結果!$A:$A,\">=\"&月別集計!W$1,入出金NFT結果!$A:$A,\"<=\"&月別集計!W$2)","v":0},{"$f":"SUMIFS(入出金NFT結果!$D:$D,入出金NFT結果!$I:$I,\"=\"&月別集計!$B32,入出金NFT結果!$A:$A,\">=\"&月別集計!X$1,入出金NFT結果!$A:$A,\"<=\"&月別集計!X$2)","v":0},{"$f":"SUMIFS(入出金NFT結果!$D:$D,入出金NFT結果!$I:$I,\"=\"&月別集計!$B32,入出金NFT結果!$A:$A,\">=\"&月別集計!Y$1,入出金NFT結果!$A:$A,\"<=\"&月別集計!Y$2)","v":0},{"$f":"SUMIFS(入出金NFT結果!$D:$D,入出金NFT結果!$I:$I,\"=\"&月別集計!$B32,入出金NFT結果!$A:$A,\">=\"&月別集計!Z$1,入出金NFT結果!$A:$A,\"<=\"&月別集計!Z$2)","v":0},{"$f":"SUMIFS(入出金NFT結果!$D:$D,入出金NFT結果!$I:$I,\"=\"&月別集計!$B32,入出金NFT結果!$A:$A,\">=\"&月別集計!AA$1,入出金NFT結果!$A:$A,\"<=\"&月別集計!AA$2)","v":0},{"$f":"SUMIFS(入出金NFT結果!$D:$D,入出金NFT結果!$I:$I,\"=\"&月別集計!$B32,入出金NFT結果!$A:$A,\">=\"&月別集計!AB$1,入出金NFT結果!$A:$A,\"<=\"&月別集計!AB$2)","v":0},{"$f":"SUMIFS(入出金NFT結果!$D:$D,入出金NFT結果!$I:$I,\"=\"&月別集計!$B32,入出金NFT結果!$A:$A,\">=\"&月別集計!AC$1,入出金NFT結果!$A:$A,\"<=\"&月別集計!AC$2)","v":0},{"$f":"SUMIFS(入出金NFT結果!$D:$D,入出金NFT結果!$I:$I,\"=\"&月別集計!$B32,入出金NFT結果!$A:$A,\">=\"&月別集計!AD$1,入出金NFT結果!$A:$A,\"<=\"&月別集計!AD$2)","v":0},{"$f":"SUMIFS(入出金NFT結果!$D:$D,入出金NFT結果!$I:$I,\"=\"&月別集計!$B32,入出金NFT結果!$A:$A,\">=\"&月別集計!AE$1,入出金NFT結果!$A:$A,\"<=\"&月別集計!AE$2)","v":0},{"$f":"SUMIFS(入出金NFT結果!$D:$D,入出金NFT結果!$I:$I,\"=\"&月別集計!$B32,入出金NFT結果!$A:$A,\">=\"&月別集計!AF$1,入出金NFT結果!$A:$A,\"<=\"&月別集計!AF$2)","v":0},{"$f":"SUMIFS(入出金NFT結果!$D:$D,入出金NFT結果!$I:$I,\"=\"&月別集計!$B32,入出金NFT結果!$A:$A,\">=\"&月別集計!AG$1,入出金NFT結果!$A:$A,\"<=\"&月別集計!AG$2)","v":0},{"$f":"SUMIFS(入出金NFT結果!$D:$D,入出金NFT結果!$I:$I,\"=\"&月別集計!$B32,入出金NFT結果!$A:$A,\">=\"&月別集計!AH$1,入出金NFT結果!$A:$A,\"<=\"&月別集計!AH$2)","v":0},{"$f":"SUMIFS(入出金NFT結果!$D:$D,入出金NFT結果!$I:$I,\"=\"&月別集計!$B32,入出金NFT結果!$A:$A,\">=\"&月別集計!AI$1,入出金NFT結果!$A:$A,\"<=\"&月別集計!AI$2)","v":0},{"$f":"SUMIFS(入出金NFT結果!$D:$D,入出金NFT結果!$I:$I,\"=\"&月別集計!$B32,入出金NFT結果!$A:$A,\">=\"&月別集計!AJ$1,入出金NFT結果!$A:$A,\"<=\"&月別集計!AJ$2)","v":0},{"$f":"SUMIFS(入出金NFT結果!$D:$D,入出金NFT結果!$I:$I,\"=\"&月別集計!$B32,入出金NFT結果!$A:$A,\">=\"&月別集計!AK$1,入出金NFT結果!$A:$A,\"<=\"&月別集計!AK$2)","v":0},{"$f":"SUMIFS(入出金NFT結果!$D:$D,入出金NFT結果!$I:$I,\"=\"&月別集計!$B32,入出金NFT結果!$A:$A,\">=\"&月別集計!AL$1,入出金NFT結果!$A:$A,\"<=\"&月別集計!AL$2)","v":0},{"$f":"SUMIFS(入出金NFT結果!$D:$D,入出金NFT結果!$I:$I,\"=\"&月別集計!$B32,入出金NFT結果!$A:$A,\">=\"&月別集計!AM$1,入出金NFT結果!$A:$A,\"<=\"&月別集計!AM$2)","v":0},{"$f":"SUMIFS(入出金NFT結果!$D:$D,入出金NFT結果!$I:$I,\"=\"&月別集計!$B32,入出金NFT結果!$A:$A,\">=\"&月別集計!AN$1,入出金NFT結果!$A:$A,\"<=\"&月別集計!AN$2)","v":0},{"$f":"SUMIFS(入出金NFT結果!$D:$D,入出金NFT結果!$I:$I,\"=\"&月別集計!$B32,入出金NFT結果!$A:$A,\">=\"&月別集計!AO$1,入出金NFT結果!$A:$A,\"<=\"&月別集計!AO$2)","v":0},{"$f":"SUMIFS(入出金NFT結果!$D:$D,入出金NFT結果!$I:$I,\"=\"&月別集計!$B32,入出金NFT結果!$A:$A,\">=\"&月別集計!AP$1,入出金NFT結果!$A:$A,\"<=\"&月別集計!AP$2)","v":0},{"$f":"SUMIFS(入出金NFT結果!$D:$D,入出金NFT結果!$I:$I,\"=\"&月別集計!$B32,入出金NFT結果!$A:$A,\">=\"&月別集計!AQ$1,入出金NFT結果!$A:$A,\"<=\"&月別集計!AQ$2)","v":0},{"$f":"SUMIFS(入出金NFT結果!$D:$D,入出金NFT結果!$I:$I,\"=\"&月別集計!$B32,入出金NFT結果!$A:$A,\">=\"&月別集計!AR$1,入出金NFT結果!$A:$A,\"<=\"&月別集計!AR$2)","v":0},{"$f":"SUMIFS(入出金NFT結果!$D:$D,入出金NFT結果!$I:$I,\"=\"&月別集計!$B32,入出金NFT結果!$A:$A,\">=\"&月別集計!AS$1,入出金NFT結果!$A:$A,\"<=\"&月別集計!AS$2)","v":0},{"$f":"SUMIFS(入出金NFT結果!$D:$D,入出金NFT結果!$I:$I,\"=\"&月別集計!$B32,入出金NFT結果!$A:$A,\">=\"&月別集計!AT$1,入出金NFT結果!$A:$A,\"<=\"&月別集計!AT$2)","v":0},{"$f":"SUMIFS(入出金NFT結果!$D:$D,入出金NFT結果!$I:$I,\"=\"&月別集計!$B32,入出金NFT結果!$A:$A,\">=\"&月別集計!AU$1,入出金NFT結果!$A:$A,\"<=\"&月別集計!AU$2)","v":0},{"$f":"SUMIFS(入出金NFT結果!$D:$D,入出金NFT結果!$I:$I,\"=\"&月別集計!$B32,入出金NFT結果!$A:$A,\">=\"&月別集計!AV$1,入出金NFT結果!$A:$A,\"<=\"&月別集計!AV$2)","v":0},{"$f":"SUMIFS(入出金NFT結果!$D:$D,入出金NFT結果!$I:$I,\"=\"&月別集計!$B32,入出金NFT結果!$A:$A,\">=\"&月別集計!AW$1,入出金NFT結果!$A:$A,\"<=\"&月別集計!AW$2)","v":0},{"$f":"SUMIFS(入出金NFT結果!$D:$D,入出金NFT結果!$I:$I,\"=\"&月別集計!$B32,入出金NFT結果!$A:$A,\">=\"&月別集計!AX$1,入出金NFT結果!$A:$A,\"<=\"&月別集計!AX$2)","v":0},{"$f":"SUMIFS(入出金NFT結果!$D:$D,入出金NFT結果!$I:$I,\"=\"&月別集計!$B32,入出金NFT結果!$A:$A,\">=\"&月別集計!AY$1,入出金NFT結果!$A:$A,\"<=\"&月別集計!AY$2)","v":0},{"$f":"SUMIFS(入出金NFT結果!$D:$D,入出金NFT結果!$I:$I,\"=\"&月別集計!$B32,入出金NFT結果!$A:$A,\">=\"&月別集計!AZ$1,入出金NFT結果!$A:$A,\"<=\"&月別集計!AZ$2)","v":0},{"$f":"SUMIFS(入出金NFT結果!$D:$D,入出金NFT結果!$I:$I,\"=\"&月別集計!$B32,入出金NFT結果!$A:$A,\">=\"&月別集計!BA$1,入出金NFT結果!$A:$A,\"<=\"&月別集計!BA$2)","v":0},{"$f":"SUMIFS(入出金NFT結果!$D:$D,入出金NFT結果!$I:$I,\"=\"&月別集計!$B32,入出金NFT結果!$A:$A,\">=\"&月別集計!BB$1,入出金NFT結果!$A:$A,\"<=\"&月別集計!BB$2)","v":0},{"$f":"SUMIFS(入出金NFT結果!$D:$D,入出金NFT結果!$I:$I,\"=\"&月別集計!$B32,入出金NFT結果!$A:$A,\">=\"&月別集計!BC$1,入出金NFT結果!$A:$A,\"<=\"&月別集計!BC$2)","v":0},{"$f":"SUMIFS(入出金NFT結果!$D:$D,入出金NFT結果!$I:$I,\"=\"&月別集計!$B32,入出金NFT結果!$A:$A,\">=\"&月別集計!BD$1,入出金NFT結果!$A:$A,\"<=\"&月別集計!BD$2)","v":0},{"$f":"SUMIFS(入出金NFT結果!$D:$D,入出金NFT結果!$I:$I,\"=\"&月別集計!$B32,入出金NFT結果!$A:$A,\">=\"&月別集計!BE$1,入出金NFT結果!$A:$A,\"<=\"&月別集計!BE$2)","v":0},{"$f":"SUMIFS(入出金NFT結果!$D:$D,入出金NFT結果!$I:$I,\"=\"&月別集計!$B32,入出金NFT結果!$A:$A,\">=\"&月別集計!BF$1,入出金NFT結果!$A:$A,\"<=\"&月別集計!BF$2)","v":0},{"$f":"SUMIFS(入出金NFT結果!$D:$D,入出金NFT結果!$I:$I,\"=\"&月別集計!$B32,入出金NFT結果!$A:$A,\">=\"&月別集計!BG$1,入出金NFT結果!$A:$A,\"<=\"&月別集計!BG$2)","v":0},{"$f":"SUMIFS(入出金NFT結果!$D:$D,入出金NFT結果!$I:$I,\"=\"&月別集計!$B32,入出金NFT結果!$A:$A,\">=\"&月別集計!BH$1,入出金NFT結果!$A:$A,\"<=\"&月別集計!BH$2)","v":0},{"$f":"SUMIFS(入出金NFT結果!$D:$D,入出金NFT結果!$I:$I,\"=\"&月別集計!$B32,入出金NFT結果!$A:$A,\">=\"&月別集計!BI$1,入出金NFT結果!$A:$A,\"<=\"&月別集計!BI$2)","v":0},{"$f":"SUMIFS(入出金NFT結果!$D:$D,入出金NFT結果!$I:$I,\"=\"&月別集計!$B32,入出金NFT結果!$A:$A,\">=\"&月別集計!BJ$1,入出金NFT結果!$A:$A,\"<=\"&月別集計!BJ$2)","v":0},{"$f":"SUMIFS(入出金NFT結果!$D:$D,入出金NFT結果!$I:$I,\"=\"&月別集計!$B32,入出金NFT結果!$A:$A,\">=\"&月別集計!BK$1,入出金NFT結果!$A:$A,\"<=\"&月別集計!BK$2)","v":0},{"$f":"SUMIFS(入出金NFT結果!$D:$D,入出金NFT結果!$I:$I,\"=\"&月別集計!$B32,入出金NFT結果!$A:$A,\">=\"&月別集計!BL$1,入出金NFT結果!$A:$A,\"<=\"&月別集計!BL$2)","v":0},{"$f":"SUMIFS(入出金NFT結果!$D:$D,入出金NFT結果!$I:$I,\"=\"&月別集計!$B32,入出金NFT結果!$A:$A,\">=\"&月別集計!BM$1,入出金NFT結果!$A:$A,\"<=\"&月別集計!BM$2)","v":0}]
[null,{"$f":"推定用途置換ルール!P7","v":"グラフィティレーサー：フィルム購入"},{"$f":"SUMIFS(入出金NFT結果!$D:$D,入出金NFT結果!$I:$I,\"=\"&月別集計!$B33,入出金NFT結果!$A:$A,\">=\"&月別集計!C$1,入出金NFT結果!$A:$A,\"<=\"&月別集計!C$2)","v":0},{"$f":"SUMIFS(入出金NFT結果!$D:$D,入出金NFT結果!$I:$I,\"=\"&月別集計!$B33,入出金NFT結果!$A:$A,\">=\"&月別集計!D$1,入出金NFT結果!$A:$A,\"<=\"&月別集計!D$2)","v":0},{"$f":"SUMIFS(入出金NFT結果!$D:$D,入出金NFT結果!$I:$I,\"=\"&月別集計!$B33,入出金NFT結果!$A:$A,\">=\"&月別集計!E$1,入出金NFT結果!$A:$A,\"<=\"&月別集計!E$2)","v":0},{"$f":"SUMIFS(入出金NFT結果!$D:$D,入出金NFT結果!$I:$I,\"=\"&月別集計!$B33,入出金NFT結果!$A:$A,\">=\"&月別集計!F$1,入出金NFT結果!$A:$A,\"<=\"&月別集計!F$2)","v":0},{"$f":"SUMIFS(入出金NFT結果!$D:$D,入出金NFT結果!$I:$I,\"=\"&月別集計!$B33,入出金NFT結果!$A:$A,\">=\"&月別集計!G$1,入出金NFT結果!$A:$A,\"<=\"&月別集計!G$2)","v":0},{"$f":"SUMIFS(入出金NFT結果!$D:$D,入出金NFT結果!$I:$I,\"=\"&月別集計!$B33,入出金NFT結果!$A:$A,\">=\"&月別集計!H$1,入出金NFT結果!$A:$A,\"<=\"&月別集計!H$2)","v":0},{"$f":"SUMIFS(入出金NFT結果!$D:$D,入出金NFT結果!$I:$I,\"=\"&月別集計!$B33,入出金NFT結果!$A:$A,\">=\"&月別集計!I$1,入出金NFT結果!$A:$A,\"<=\"&月別集計!I$2)","v":0},{"$f":"SUMIFS(入出金NFT結果!$D:$D,入出金NFT結果!$I:$I,\"=\"&月別集計!$B33,入出金NFT結果!$A:$A,\">=\"&月別集計!J$1,入出金NFT結果!$A:$A,\"<=\"&月別集計!J$2)","v":0},{"$f":"SUMIFS(入出金NFT結果!$D:$D,入出金NFT結果!$I:$I,\"=\"&月別集計!$B33,入出金NFT結果!$A:$A,\">=\"&月別集計!K$1,入出金NFT結果!$A:$A,\"<=\"&月別集計!K$2)","v":0},{"$f":"SUMIFS(入出金NFT結果!$D:$D,入出金NFT結果!$I:$I,\"=\"&月別集計!$B33,入出金NFT結果!$A:$A,\">=\"&月別集計!L$1,入出金NFT結果!$A:$A,\"<=\"&月別集計!L$2)","v":0},{"$f":"SUMIFS(入出金NFT結果!$D:$D,入出金NFT結果!$I:$I,\"=\"&月別集計!$B33,入出金NFT結果!$A:$A,\">=\"&月別集計!M$1,入出金NFT結果!$A:$A,\"<=\"&月別集計!M$2)","v":0},{"$f":"SUMIFS(入出金NFT結果!$D:$D,入出金NFT結果!$I:$I,\"=\"&月別集計!$B33,入出金NFT結果!$A:$A,\">=\"&月別集計!N$1,入出金NFT結果!$A:$A,\"<=\"&月別集計!N$2)","v":0},{"$f":"SUMIFS(入出金NFT結果!$D:$D,入出金NFT結果!$I:$I,\"=\"&月別集計!$B33,入出金NFT結果!$A:$A,\">=\"&月別集計!O$1,入出金NFT結果!$A:$A,\"<=\"&月別集計!O$2)","v":0},{"$f":"SUMIFS(入出金NFT結果!$D:$D,入出金NFT結果!$I:$I,\"=\"&月別集計!$B33,入出金NFT結果!$A:$A,\">=\"&月別集計!P$1,入出金NFT結果!$A:$A,\"<=\"&月別集計!P$2)","v":0},{"$f":"SUMIFS(入出金NFT結果!$D:$D,入出金NFT結果!$I:$I,\"=\"&月別集計!$B33,入出金NFT結果!$A:$A,\">=\"&月別集計!Q$1,入出金NFT結果!$A:$A,\"<=\"&月別集計!Q$2)","v":0},{"$f":"SUMIFS(入出金NFT結果!$D:$D,入出金NFT結果!$I:$I,\"=\"&月別集計!$B33,入出金NFT結果!$A:$A,\">=\"&月別集計!R$1,入出金NFT結果!$A:$A,\"<=\"&月別集計!R$2)","v":0},{"$f":"SUMIFS(入出金NFT結果!$D:$D,入出金NFT結果!$I:$I,\"=\"&月別集計!$B33,入出金NFT結果!$A:$A,\">=\"&月別集計!S$1,入出金NFT結果!$A:$A,\"<=\"&月別集計!S$2)","v":0},{"$f":"SUMIFS(入出金NFT結果!$D:$D,入出金NFT結果!$I:$I,\"=\"&月別集計!$B33,入出金NFT結果!$A:$A,\">=\"&月別集計!T$1,入出金NFT結果!$A:$A,\"<=\"&月別集計!T$2)","v":0},{"$f":"SUMIFS(入出金NFT結果!$D:$D,入出金NFT結果!$I:$I,\"=\"&月別集計!$B33,入出金NFT結果!$A:$A,\">=\"&月別集計!U$1,入出金NFT結果!$A:$A,\"<=\"&月別集計!U$2)","v":0},{"$f":"SUMIFS(入出金NFT結果!$D:$D,入出金NFT結果!$I:$I,\"=\"&月別集計!$B33,入出金NFT結果!$A:$A,\">=\"&月別集計!V$1,入出金NFT結果!$A:$A,\"<=\"&月別集計!V$2)","v":0},{"$f":"SUMIFS(入出金NFT結果!$D:$D,入出金NFT結果!$I:$I,\"=\"&月別集計!$B33,入出金NFT結果!$A:$A,\">=\"&月別集計!W$1,入出金NFT結果!$A:$A,\"<=\"&月別集計!W$2)","v":0},{"$f":"SUMIFS(入出金NFT結果!$D:$D,入出金NFT結果!$I:$I,\"=\"&月別集計!$B33,入出金NFT結果!$A:$A,\">=\"&月別集計!X$1,入出金NFT結果!$A:$A,\"<=\"&月別集計!X$2)","v":0},{"$f":"SUMIFS(入出金NFT結果!$D:$D,入出金NFT結果!$I:$I,\"=\"&月別集計!$B33,入出金NFT結果!$A:$A,\">=\"&月別集計!Y$1,入出金NFT結果!$A:$A,\"<=\"&月別集計!Y$2)","v":0},{"$f":"SUMIFS(入出金NFT結果!$D:$D,入出金NFT結果!$I:$I,\"=\"&月別集計!$B33,入出金NFT結果!$A:$A,\">=\"&月別集計!Z$1,入出金NFT結果!$A:$A,\"<=\"&月別集計!Z$2)","v":0},{"$f":"SUMIFS(入出金NFT結果!$D:$D,入出金NFT結果!$I:$I,\"=\"&月別集計!$B33,入出金NFT結果!$A:$A,\">=\"&月別集計!AA$1,入出金NFT結果!$A:$A,\"<=\"&月別集計!AA$2)","v":0},{"$f":"SUMIFS(入出金NFT結果!$D:$D,入出金NFT結果!$I:$I,\"=\"&月別集計!$B33,入出金NFT結果!$A:$A,\">=\"&月別集計!AB$1,入出金NFT結果!$A:$A,\"<=\"&月別集計!AB$2)","v":0},{"$f":"SUMIFS(入出金NFT結果!$D:$D,入出金NFT結果!$I:$I,\"=\"&月別集計!$B33,入出金NFT結果!$A:$A,\">=\"&月別集計!AC$1,入出金NFT結果!$A:$A,\"<=\"&月別集計!AC$2)","v":0},{"$f":"SUMIFS(入出金NFT結果!$D:$D,入出金NFT結果!$I:$I,\"=\"&月別集計!$B33,入出金NFT結果!$A:$A,\">=\"&月別集計!AD$1,入出金NFT結果!$A:$A,\"<=\"&月別集計!AD$2)","v":0},{"$f":"SUMIFS(入出金NFT結果!$D:$D,入出金NFT結果!$I:$I,\"=\"&月別集計!$B33,入出金NFT結果!$A:$A,\">=\"&月別集計!AE$1,入出金NFT結果!$A:$A,\"<=\"&月別集計!AE$2)","v":0},{"$f":"SUMIFS(入出金NFT結果!$D:$D,入出金NFT結果!$I:$I,\"=\"&月別集計!$B33,入出金NFT結果!$A:$A,\">=\"&月別集計!AF$1,入出金NFT結果!$A:$A,\"<=\"&月別集計!AF$2)","v":0},{"$f":"SUMIFS(入出金NFT結果!$D:$D,入出金NFT結果!$I:$I,\"=\"&月別集計!$B33,入出金NFT結果!$A:$A,\">=\"&月別集計!AG$1,入出金NFT結果!$A:$A,\"<=\"&月別集計!AG$2)","v":0},{"$f":"SUMIFS(入出金NFT結果!$D:$D,入出金NFT結果!$I:$I,\"=\"&月別集計!$B33,入出金NFT結果!$A:$A,\">=\"&月別集計!AH$1,入出金NFT結果!$A:$A,\"<=\"&月別集計!AH$2)","v":0},{"$f":"SUMIFS(入出金NFT結果!$D:$D,入出金NFT結果!$I:$I,\"=\"&月別集計!$B33,入出金NFT結果!$A:$A,\">=\"&月別集計!AI$1,入出金NFT結果!$A:$A,\"<=\"&月別集計!AI$2)","v":0},{"$f":"SUMIFS(入出金NFT結果!$D:$D,入出金NFT結果!$I:$I,\"=\"&月別集計!$B33,入出金NFT結果!$A:$A,\">=\"&月別集計!AJ$1,入出金NFT結果!$A:$A,\"<=\"&月別集計!AJ$2)","v":0},{"$f":"SUMIFS(入出金NFT結果!$D:$D,入出金NFT結果!$I:$I,\"=\"&月別集計!$B33,入出金NFT結果!$A:$A,\">=\"&月別集計!AK$1,入出金NFT結果!$A:$A,\"<=\"&月別集計!AK$2)","v":0},{"$f":"SUMIFS(入出金NFT結果!$D:$D,入出金NFT結果!$I:$I,\"=\"&月別集計!$B33,入出金NFT結果!$A:$A,\">=\"&月別集計!AL$1,入出金NFT結果!$A:$A,\"<=\"&月別集計!AL$2)","v":0},{"$f":"SUMIFS(入出金NFT結果!$D:$D,入出金NFT結果!$I:$I,\"=\"&月別集計!$B33,入出金NFT結果!$A:$A,\">=\"&月別集計!AM$1,入出金NFT結果!$A:$A,\"<=\"&月別集計!AM$2)","v":0},{"$f":"SUMIFS(入出金NFT結果!$D:$D,入出金NFT結果!$I:$I,\"=\"&月別集計!$B33,入出金NFT結果!$A:$A,\">=\"&月別集計!AN$1,入出金NFT結果!$A:$A,\"<=\"&月別集計!AN$2)","v":0},{"$f":"SUMIFS(入出金NFT結果!$D:$D,入出金NFT結果!$I:$I,\"=\"&月別集計!$B33,入出金NFT結果!$A:$A,\">=\"&月別集計!AO$1,入出金NFT結果!$A:$A,\"<=\"&月別集計!AO$2)","v":0},{"$f":"SUMIFS(入出金NFT結果!$D:$D,入出金NFT結果!$I:$I,\"=\"&月別集計!$B33,入出金NFT結果!$A:$A,\">=\"&月別集計!AP$1,入出金NFT結果!$A:$A,\"<=\"&月別集計!AP$2)","v":0},{"$f":"SUMIFS(入出金NFT結果!$D:$D,入出金NFT結果!$I:$I,\"=\"&月別集計!$B33,入出金NFT結果!$A:$A,\">=\"&月別集計!AQ$1,入出金NFT結果!$A:$A,\"<=\"&月別集計!AQ$2)","v":0},{"$f":"SUMIFS(入出金NFT結果!$D:$D,入出金NFT結果!$I:$I,\"=\"&月別集計!$B33,入出金NFT結果!$A:$A,\">=\"&月別集計!AR$1,入出金NFT結果!$A:$A,\"<=\"&月別集計!AR$2)","v":0},{"$f":"SUMIFS(入出金NFT結果!$D:$D,入出金NFT結果!$I:$I,\"=\"&月別集計!$B33,入出金NFT結果!$A:$A,\">=\"&月別集計!AS$1,入出金NFT結果!$A:$A,\"<=\"&月別集計!AS$2)","v":0},{"$f":"SUMIFS(入出金NFT結果!$D:$D,入出金NFT結果!$I:$I,\"=\"&月別集計!$B33,入出金NFT結果!$A:$A,\">=\"&月別集計!AT$1,入出金NFT結果!$A:$A,\"<=\"&月別集計!AT$2)","v":0},{"$f":"SUMIFS(入出金NFT結果!$D:$D,入出金NFT結果!$I:$I,\"=\"&月別集計!$B33,入出金NFT結果!$A:$A,\">=\"&月別集計!AU$1,入出金NFT結果!$A:$A,\"<=\"&月別集計!AU$2)","v":0},{"$f":"SUMIFS(入出金NFT結果!$D:$D,入出金NFT結果!$I:$I,\"=\"&月別集計!$B33,入出金NFT結果!$A:$A,\">=\"&月別集計!AV$1,入出金NFT結果!$A:$A,\"<=\"&月別集計!AV$2)","v":0},{"$f":"SUMIFS(入出金NFT結果!$D:$D,入出金NFT結果!$I:$I,\"=\"&月別集計!$B33,入出金NFT結果!$A:$A,\">=\"&月別集計!AW$1,入出金NFT結果!$A:$A,\"<=\"&月別集計!AW$2)","v":0},{"$f":"SUMIFS(入出金NFT結果!$D:$D,入出金NFT結果!$I:$I,\"=\"&月別集計!$B33,入出金NFT結果!$A:$A,\">=\"&月別集計!AX$1,入出金NFT結果!$A:$A,\"<=\"&月別集計!AX$2)","v":0},{"$f":"SUMIFS(入出金NFT結果!$D:$D,入出金NFT結果!$I:$I,\"=\"&月別集計!$B33,入出金NFT結果!$A:$A,\">=\"&月別集計!AY$1,入出金NFT結果!$A:$A,\"<=\"&月別集計!AY$2)","v":0},{"$f":"SUMIFS(入出金NFT結果!$D:$D,入出金NFT結果!$I:$I,\"=\"&月別集計!$B33,入出金NFT結果!$A:$A,\">=\"&月別集計!AZ$1,入出金NFT結果!$A:$A,\"<=\"&月別集計!AZ$2)","v":0},{"$f":"SUMIFS(入出金NFT結果!$D:$D,入出金NFT結果!$I:$I,\"=\"&月別集計!$B33,入出金NFT結果!$A:$A,\">=\"&月別集計!BA$1,入出金NFT結果!$A:$A,\"<=\"&月別集計!BA$2)","v":0},{"$f":"SUMIFS(入出金NFT結果!$D:$D,入出金NFT結果!$I:$I,\"=\"&月別集計!$B33,入出金NFT結果!$A:$A,\">=\"&月別集計!BB$1,入出金NFT結果!$A:$A,\"<=\"&月別集計!BB$2)","v":0},{"$f":"SUMIFS(入出金NFT結果!$D:$D,入出金NFT結果!$I:$I,\"=\"&月別集計!$B33,入出金NFT結果!$A:$A,\">=\"&月別集計!BC$1,入出金NFT結果!$A:$A,\"<=\"&月別集計!BC$2)","v":0},{"$f":"SUMIFS(入出金NFT結果!$D:$D,入出金NFT結果!$I:$I,\"=\"&月別集計!$B33,入出金NFT結果!$A:$A,\">=\"&月別集計!BD$1,入出金NFT結果!$A:$A,\"<=\"&月別集計!BD$2)","v":0},{"$f":"SUMIFS(入出金NFT結果!$D:$D,入出金NFT結果!$I:$I,\"=\"&月別集計!$B33,入出金NFT結果!$A:$A,\">=\"&月別集計!BE$1,入出金NFT結果!$A:$A,\"<=\"&月別集計!BE$2)","v":0},{"$f":"SUMIFS(入出金NFT結果!$D:$D,入出金NFT結果!$I:$I,\"=\"&月別集計!$B33,入出金NFT結果!$A:$A,\">=\"&月別集計!BF$1,入出金NFT結果!$A:$A,\"<=\"&月別集計!BF$2)","v":0},{"$f":"SUMIFS(入出金NFT結果!$D:$D,入出金NFT結果!$I:$I,\"=\"&月別集計!$B33,入出金NFT結果!$A:$A,\">=\"&月別集計!BG$1,入出金NFT結果!$A:$A,\"<=\"&月別集計!BG$2)","v":0},{"$f":"SUMIFS(入出金NFT結果!$D:$D,入出金NFT結果!$I:$I,\"=\"&月別集計!$B33,入出金NFT結果!$A:$A,\">=\"&月別集計!BH$1,入出金NFT結果!$A:$A,\"<=\"&月別集計!BH$2)","v":0},{"$f":"SUMIFS(入出金NFT結果!$D:$D,入出金NFT結果!$I:$I,\"=\"&月別集計!$B33,入出金NFT結果!$A:$A,\">=\"&月別集計!BI$1,入出金NFT結果!$A:$A,\"<=\"&月別集計!BI$2)","v":0},{"$f":"SUMIFS(入出金NFT結果!$D:$D,入出金NFT結果!$I:$I,\"=\"&月別集計!$B33,入出金NFT結果!$A:$A,\">=\"&月別集計!BJ$1,入出金NFT結果!$A:$A,\"<=\"&月別集計!BJ$2)","v":0},{"$f":"SUMIFS(入出金NFT結果!$D:$D,入出金NFT結果!$I:$I,\"=\"&月別集計!$B33,入出金NFT結果!$A:$A,\">=\"&月別集計!BK$1,入出金NFT結果!$A:$A,\"<=\"&月別集計!BK$2)","v":0},{"$f":"SUMIFS(入出金NFT結果!$D:$D,入出金NFT結果!$I:$I,\"=\"&月別集計!$B33,入出金NFT結果!$A:$A,\">=\"&月別集計!BL$1,入出金NFT結果!$A:$A,\"<=\"&月別集計!BL$2)","v":0},{"$f":"SUMIFS(入出金NFT結果!$D:$D,入出金NFT結果!$I:$I,\"=\"&月別集計!$B33,入出金NFT結果!$A:$A,\">=\"&月別集計!BM$1,入出金NFT結果!$A:$A,\"<=\"&月別集計!BM$2)","v":0}]
[null,{"$f":"推定用途置換ルール!P8","v":"グラフィティレーサー：フィルム購入2"},{"$f":"SUMIFS(入出金NFT結果!$D:$D,入出金NFT結果!$I:$I,\"=\"&月別集計!$B34,入出金NFT結果!$A:$A,\">=\"&月別集計!C$1,入出金NFT結果!$A:$A,\"<=\"&月別集計!C$2)","v":0},{"$f":"SUMIFS(入出金NFT結果!$D:$D,入出金NFT結果!$I:$I,\"=\"&月別集計!$B34,入出金NFT結果!$A:$A,\">=\"&月別集計!D$1,入出金NFT結果!$A:$A,\"<=\"&月別集計!D$2)","v":0},{"$f":"SUMIFS(入出金NFT結果!$D:$D,入出金NFT結果!$I:$I,\"=\"&月別集計!$B34,入出金NFT結果!$A:$A,\">=\"&月別集計!E$1,入出金NFT結果!$A:$A,\"<=\"&月別集計!E$2)","v":0},{"$f":"SUMIFS(入出金NFT結果!$D:$D,入出金NFT結果!$I:$I,\"=\"&月別集計!$B34,入出金NFT結果!$A:$A,\">=\"&月別集計!F$1,入出金NFT結果!$A:$A,\"<=\"&月別集計!F$2)","v":0},{"$f":"SUMIFS(入出金NFT結果!$D:$D,入出金NFT結果!$I:$I,\"=\"&月別集計!$B34,入出金NFT結果!$A:$A,\">=\"&月別集計!G$1,入出金NFT結果!$A:$A,\"<=\"&月別集計!G$2)","v":0},{"$f":"SUMIFS(入出金NFT結果!$D:$D,入出金NFT結果!$I:$I,\"=\"&月別集計!$B34,入出金NFT結果!$A:$A,\">=\"&月別集計!H$1,入出金NFT結果!$A:$A,\"<=\"&月別集計!H$2)","v":0},{"$f":"SUMIFS(入出金NFT結果!$D:$D,入出金NFT結果!$I:$I,\"=\"&月別集計!$B34,入出金NFT結果!$A:$A,\">=\"&月別集計!I$1,入出金NFT結果!$A:$A,\"<=\"&月別集計!I$2)","v":0},{"$f":"SUMIFS(入出金NFT結果!$D:$D,入出金NFT結果!$I:$I,\"=\"&月別集計!$B34,入出金NFT結果!$A:$A,\">=\"&月別集計!J$1,入出金NFT結果!$A:$A,\"<=\"&月別集計!J$2)","v":0},{"$f":"SUMIFS(入出金NFT結果!$D:$D,入出金NFT結果!$I:$I,\"=\"&月別集計!$B34,入出金NFT結果!$A:$A,\">=\"&月別集計!K$1,入出金NFT結果!$A:$A,\"<=\"&月別集計!K$2)","v":0},{"$f":"SUMIFS(入出金NFT結果!$D:$D,入出金NFT結果!$I:$I,\"=\"&月別集計!$B34,入出金NFT結果!$A:$A,\">=\"&月別集計!L$1,入出金NFT結果!$A:$A,\"<=\"&月別集計!L$2)","v":0},{"$f":"SUMIFS(入出金NFT結果!$D:$D,入出金NFT結果!$I:$I,\"=\"&月別集計!$B34,入出金NFT結果!$A:$A,\">=\"&月別集計!M$1,入出金NFT結果!$A:$A,\"<=\"&月別集計!M$2)","v":0},{"$f":"SUMIFS(入出金NFT結果!$D:$D,入出金NFT結果!$I:$I,\"=\"&月別集計!$B34,入出金NFT結果!$A:$A,\">=\"&月別集計!N$1,入出金NFT結果!$A:$A,\"<=\"&月別集計!N$2)","v":0},{"$f":"SUMIFS(入出金NFT結果!$D:$D,入出金NFT結果!$I:$I,\"=\"&月別集計!$B34,入出金NFT結果!$A:$A,\">=\"&月別集計!O$1,入出金NFT結果!$A:$A,\"<=\"&月別集計!O$2)","v":0},{"$f":"SUMIFS(入出金NFT結果!$D:$D,入出金NFT結果!$I:$I,\"=\"&月別集計!$B34,入出金NFT結果!$A:$A,\">=\"&月別集計!P$1,入出金NFT結果!$A:$A,\"<=\"&月別集計!P$2)","v":0},{"$f":"SUMIFS(入出金NFT結果!$D:$D,入出金NFT結果!$I:$I,\"=\"&月別集計!$B34,入出金NFT結果!$A:$A,\">=\"&月別集計!Q$1,入出金NFT結果!$A:$A,\"<=\"&月別集計!Q$2)","v":0},{"$f":"SUMIFS(入出金NFT結果!$D:$D,入出金NFT結果!$I:$I,\"=\"&月別集計!$B34,入出金NFT結果!$A:$A,\">=\"&月別集計!R$1,入出金NFT結果!$A:$A,\"<=\"&月別集計!R$2)","v":0},{"$f":"SUMIFS(入出金NFT結果!$D:$D,入出金NFT結果!$I:$I,\"=\"&月別集計!$B34,入出金NFT結果!$A:$A,\">=\"&月別集計!S$1,入出金NFT結果!$A:$A,\"<=\"&月別集計!S$2)","v":0},{"$f":"SUMIFS(入出金NFT結果!$D:$D,入出金NFT結果!$I:$I,\"=\"&月別集計!$B34,入出金NFT結果!$A:$A,\">=\"&月別集計!T$1,入出金NFT結果!$A:$A,\"<=\"&月別集計!T$2)","v":0},{"$f":"SUMIFS(入出金NFT結果!$D:$D,入出金NFT結果!$I:$I,\"=\"&月別集計!$B34,入出金NFT結果!$A:$A,\">=\"&月別集計!U$1,入出金NFT結果!$A:$A,\"<=\"&月別集計!U$2)","v":0},{"$f":"SUMIFS(入出金NFT結果!$D:$D,入出金NFT結果!$I:$I,\"=\"&月別集計!$B34,入出金NFT結果!$A:$A,\">=\"&月別集計!V$1,入出金NFT結果!$A:$A,\"<=\"&月別集計!V$2)","v":0},{"$f":"SUMIFS(入出金NFT結果!$D:$D,入出金NFT結果!$I:$I,\"=\"&月別集計!$B34,入出金NFT結果!$A:$A,\">=\"&月別集計!W$1,入出金NFT結果!$A:$A,\"<=\"&月別集計!W$2)","v":0},{"$f":"SUMIFS(入出金NFT結果!$D:$D,入出金NFT結果!$I:$I,\"=\"&月別集計!$B34,入出金NFT結果!$A:$A,\">=\"&月別集計!X$1,入出金NFT結果!$A:$A,\"<=\"&月別集計!X$2)","v":0},{"$f":"SUMIFS(入出金NFT結果!$D:$D,入出金NFT結果!$I:$I,\"=\"&月別集計!$B34,入出金NFT結果!$A:$A,\">=\"&月別集計!Y$1,入出金NFT結果!$A:$A,\"<=\"&月別集計!Y$2)","v":0},{"$f":"SUMIFS(入出金NFT結果!$D:$D,入出金NFT結果!$I:$I,\"=\"&月別集計!$B34,入出金NFT結果!$A:$A,\">=\"&月別集計!Z$1,入出金NFT結果!$A:$A,\"<=\"&月別集計!Z$2)","v":0},{"$f":"SUMIFS(入出金NFT結果!$D:$D,入出金NFT結果!$I:$I,\"=\"&月別集計!$B34,入出金NFT結果!$A:$A,\">=\"&月別集計!AA$1,入出金NFT結果!$A:$A,\"<=\"&月別集計!AA$2)","v":0},{"$f":"SUMIFS(入出金NFT結果!$D:$D,入出金NFT結果!$I:$I,\"=\"&月別集計!$B34,入出金NFT結果!$A:$A,\">=\"&月別集計!AB$1,入出金NFT結果!$A:$A,\"<=\"&月別集計!AB$2)","v":0},{"$f":"SUMIFS(入出金NFT結果!$D:$D,入出金NFT結果!$I:$I,\"=\"&月別集計!$B34,入出金NFT結果!$A:$A,\">=\"&月別集計!AC$1,入出金NFT結果!$A:$A,\"<=\"&月別集計!AC$2)","v":0},{"$f":"SUMIFS(入出金NFT結果!$D:$D,入出金NFT結果!$I:$I,\"=\"&月別集計!$B34,入出金NFT結果!$A:$A,\">=\"&月別集計!AD$1,入出金NFT結果!$A:$A,\"<=\"&月別集計!AD$2)","v":0},{"$f":"SUMIFS(入出金NFT結果!$D:$D,入出金NFT結果!$I:$I,\"=\"&月別集計!$B34,入出金NFT結果!$A:$A,\">=\"&月別集計!AE$1,入出金NFT結果!$A:$A,\"<=\"&月別集計!AE$2)","v":0},{"$f":"SUMIFS(入出金NFT結果!$D:$D,入出金NFT結果!$I:$I,\"=\"&月別集計!$B34,入出金NFT結果!$A:$A,\">=\"&月別集計!AF$1,入出金NFT結果!$A:$A,\"<=\"&月別集計!AF$2)","v":0},{"$f":"SUMIFS(入出金NFT結果!$D:$D,入出金NFT結果!$I:$I,\"=\"&月別集計!$B34,入出金NFT結果!$A:$A,\">=\"&月別集計!AG$1,入出金NFT結果!$A:$A,\"<=\"&月別集計!AG$2)","v":0},{"$f":"SUMIFS(入出金NFT結果!$D:$D,入出金NFT結果!$I:$I,\"=\"&月別集計!$B34,入出金NFT結果!$A:$A,\">=\"&月別集計!AH$1,入出金NFT結果!$A:$A,\"<=\"&月別集計!AH$2)","v":0},{"$f":"SUMIFS(入出金NFT結果!$D:$D,入出金NFT結果!$I:$I,\"=\"&月別集計!$B34,入出金NFT結果!$A:$A,\">=\"&月別集計!AI$1,入出金NFT結果!$A:$A,\"<=\"&月別集計!AI$2)","v":0},{"$f":"SUMIFS(入出金NFT結果!$D:$D,入出金NFT結果!$I:$I,\"=\"&月別集計!$B34,入出金NFT結果!$A:$A,\">=\"&月別集計!AJ$1,入出金NFT結果!$A:$A,\"<=\"&月別集計!AJ$2)","v":0},{"$f":"SUMIFS(入出金NFT結果!$D:$D,入出金NFT結果!$I:$I,\"=\"&月別集計!$B34,入出金NFT結果!$A:$A,\">=\"&月別集計!AK$1,入出金NFT結果!$A:$A,\"<=\"&月別集計!AK$2)","v":0},{"$f":"SUMIFS(入出金NFT結果!$D:$D,入出金NFT結果!$I:$I,\"=\"&月別集計!$B34,入出金NFT結果!$A:$A,\">=\"&月別集計!AL$1,入出金NFT結果!$A:$A,\"<=\"&月別集計!AL$2)","v":0},{"$f":"SUMIFS(入出金NFT結果!$D:$D,入出金NFT結果!$I:$I,\"=\"&月別集計!$B34,入出金NFT結果!$A:$A,\">=\"&月別集計!AM$1,入出金NFT結果!$A:$A,\"<=\"&月別集計!AM$2)","v":0},{"$f":"SUMIFS(入出金NFT結果!$D:$D,入出金NFT結果!$I:$I,\"=\"&月別集計!$B34,入出金NFT結果!$A:$A,\">=\"&月別集計!AN$1,入出金NFT結果!$A:$A,\"<=\"&月別集計!AN$2)","v":0},{"$f":"SUMIFS(入出金NFT結果!$D:$D,入出金NFT結果!$I:$I,\"=\"&月別集計!$B34,入出金NFT結果!$A:$A,\">=\"&月別集計!AO$1,入出金NFT結果!$A:$A,\"<=\"&月別集計!AO$2)","v":0},{"$f":"SUMIFS(入出金NFT結果!$D:$D,入出金NFT結果!$I:$I,\"=\"&月別集計!$B34,入出金NFT結果!$A:$A,\">=\"&月別集計!AP$1,入出金NFT結果!$A:$A,\"<=\"&月別集計!AP$2)","v":0},{"$f":"SUMIFS(入出金NFT結果!$D:$D,入出金NFT結果!$I:$I,\"=\"&月別集計!$B34,入出金NFT結果!$A:$A,\">=\"&月別集計!AQ$1,入出金NFT結果!$A:$A,\"<=\"&月別集計!AQ$2)","v":0},{"$f":"SUMIFS(入出金NFT結果!$D:$D,入出金NFT結果!$I:$I,\"=\"&月別集計!$B34,入出金NFT結果!$A:$A,\">=\"&月別集計!AR$1,入出金NFT結果!$A:$A,\"<=\"&月別集計!AR$2)","v":0},{"$f":"SUMIFS(入出金NFT結果!$D:$D,入出金NFT結果!$I:$I,\"=\"&月別集計!$B34,入出金NFT結果!$A:$A,\">=\"&月別集計!AS$1,入出金NFT結果!$A:$A,\"<=\"&月別集計!AS$2)","v":0},{"$f":"SUMIFS(入出金NFT結果!$D:$D,入出金NFT結果!$I:$I,\"=\"&月別集計!$B34,入出金NFT結果!$A:$A,\">=\"&月別集計!AT$1,入出金NFT結果!$A:$A,\"<=\"&月別集計!AT$2)","v":0},{"$f":"SUMIFS(入出金NFT結果!$D:$D,入出金NFT結果!$I:$I,\"=\"&月別集計!$B34,入出金NFT結果!$A:$A,\">=\"&月別集計!AU$1,入出金NFT結果!$A:$A,\"<=\"&月別集計!AU$2)","v":0},{"$f":"SUMIFS(入出金NFT結果!$D:$D,入出金NFT結果!$I:$I,\"=\"&月別集計!$B34,入出金NFT結果!$A:$A,\">=\"&月別集計!AV$1,入出金NFT結果!$A:$A,\"<=\"&月別集計!AV$2)","v":0},{"$f":"SUMIFS(入出金NFT結果!$D:$D,入出金NFT結果!$I:$I,\"=\"&月別集計!$B34,入出金NFT結果!$A:$A,\">=\"&月別集計!AW$1,入出金NFT結果!$A:$A,\"<=\"&月別集計!AW$2)","v":0},{"$f":"SUMIFS(入出金NFT結果!$D:$D,入出金NFT結果!$I:$I,\"=\"&月別集計!$B34,入出金NFT結果!$A:$A,\">=\"&月別集計!AX$1,入出金NFT結果!$A:$A,\"<=\"&月別集計!AX$2)","v":0},{"$f":"SUMIFS(入出金NFT結果!$D:$D,入出金NFT結果!$I:$I,\"=\"&月別集計!$B34,入出金NFT結果!$A:$A,\">=\"&月別集計!AY$1,入出金NFT結果!$A:$A,\"<=\"&月別集計!AY$2)","v":0},{"$f":"SUMIFS(入出金NFT結果!$D:$D,入出金NFT結果!$I:$I,\"=\"&月別集計!$B34,入出金NFT結果!$A:$A,\">=\"&月別集計!AZ$1,入出金NFT結果!$A:$A,\"<=\"&月別集計!AZ$2)","v":0},{"$f":"SUMIFS(入出金NFT結果!$D:$D,入出金NFT結果!$I:$I,\"=\"&月別集計!$B34,入出金NFT結果!$A:$A,\">=\"&月別集計!BA$1,入出金NFT結果!$A:$A,\"<=\"&月別集計!BA$2)","v":0},{"$f":"SUMIFS(入出金NFT結果!$D:$D,入出金NFT結果!$I:$I,\"=\"&月別集計!$B34,入出金NFT結果!$A:$A,\">=\"&月別集計!BB$1,入出金NFT結果!$A:$A,\"<=\"&月別集計!BB$2)","v":0},{"$f":"SUMIFS(入出金NFT結果!$D:$D,入出金NFT結果!$I:$I,\"=\"&月別集計!$B34,入出金NFT結果!$A:$A,\">=\"&月別集計!BC$1,入出金NFT結果!$A:$A,\"<=\"&月別集計!BC$2)","v":0},{"$f":"SUMIFS(入出金NFT結果!$D:$D,入出金NFT結果!$I:$I,\"=\"&月別集計!$B34,入出金NFT結果!$A:$A,\">=\"&月別集計!BD$1,入出金NFT結果!$A:$A,\"<=\"&月別集計!BD$2)","v":0},{"$f":"SUMIFS(入出金NFT結果!$D:$D,入出金NFT結果!$I:$I,\"=\"&月別集計!$B34,入出金NFT結果!$A:$A,\">=\"&月別集計!BE$1,入出金NFT結果!$A:$A,\"<=\"&月別集計!BE$2)","v":0},{"$f":"SUMIFS(入出金NFT結果!$D:$D,入出金NFT結果!$I:$I,\"=\"&月別集計!$B34,入出金NFT結果!$A:$A,\">=\"&月別集計!BF$1,入出金NFT結果!$A:$A,\"<=\"&月別集計!BF$2)","v":0},{"$f":"SUMIFS(入出金NFT結果!$D:$D,入出金NFT結果!$I:$I,\"=\"&月別集計!$B34,入出金NFT結果!$A:$A,\">=\"&月別集計!BG$1,入出金NFT結果!$A:$A,\"<=\"&月別集計!BG$2)","v":0},{"$f":"SUMIFS(入出金NFT結果!$D:$D,入出金NFT結果!$I:$I,\"=\"&月別集計!$B34,入出金NFT結果!$A:$A,\">=\"&月別集計!BH$1,入出金NFT結果!$A:$A,\"<=\"&月別集計!BH$2)","v":0},{"$f":"SUMIFS(入出金NFT結果!$D:$D,入出金NFT結果!$I:$I,\"=\"&月別集計!$B34,入出金NFT結果!$A:$A,\">=\"&月別集計!BI$1,入出金NFT結果!$A:$A,\"<=\"&月別集計!BI$2)","v":0},{"$f":"SUMIFS(入出金NFT結果!$D:$D,入出金NFT結果!$I:$I,\"=\"&月別集計!$B34,入出金NFT結果!$A:$A,\">=\"&月別集計!BJ$1,入出金NFT結果!$A:$A,\"<=\"&月別集計!BJ$2)","v":0},{"$f":"SUMIFS(入出金NFT結果!$D:$D,入出金NFT結果!$I:$I,\"=\"&月別集計!$B34,入出金NFT結果!$A:$A,\">=\"&月別集計!BK$1,入出金NFT結果!$A:$A,\"<=\"&月別集計!BK$2)","v":0},{"$f":"SUMIFS(入出金NFT結果!$D:$D,入出金NFT結果!$I:$I,\"=\"&月別集計!$B34,入出金NFT結果!$A:$A,\">=\"&月別集計!BL$1,入出金NFT結果!$A:$A,\"<=\"&月別集計!BL$2)","v":0},{"$f":"SUMIFS(入出金NFT結果!$D:$D,入出金NFT結果!$I:$I,\"=\"&月別集計!$B34,入出金NFT結果!$A:$A,\">=\"&月別集計!BM$1,入出金NFT結果!$A:$A,\"<=\"&月別集計!BM$2)","v":0}]
[null,{"$f":"推定用途置換ルール!P9","v":"グラフィティレーサー：シートをゲット"},{"$f":"SUMIFS(入出金NFT結果!$D:$D,入出金NFT結果!$I:$I,\"=\"&月別集計!$B35,入出金NFT結果!$A:$A,\">=\"&月別集計!C$1,入出金NFT結果!$A:$A,\"<=\"&月別集計!C$2)","v":0},{"$f":"SUMIFS(入出金NFT結果!$D:$D,入出金NFT結果!$I:$I,\"=\"&月別集計!$B35,入出金NFT結果!$A:$A,\">=\"&月別集計!D$1,入出金NFT結果!$A:$A,\"<=\"&月別集計!D$2)","v":0},{"$f":"SUMIFS(入出金NFT結果!$D:$D,入出金NFT結果!$I:$I,\"=\"&月別集計!$B35,入出金NFT結果!$A:$A,\">=\"&月別集計!E$1,入出金NFT結果!$A:$A,\"<=\"&月別集計!E$2)","v":0},{"$f":"SUMIFS(入出金NFT結果!$D:$D,入出金NFT結果!$I:$I,\"=\"&月別集計!$B35,入出金NFT結果!$A:$A,\">=\"&月別集計!F$1,入出金NFT結果!$A:$A,\"<=\"&月別集計!F$2)","v":0},{"$f":"SUMIFS(入出金NFT結果!$D:$D,入出金NFT結果!$I:$I,\"=\"&月別集計!$B35,入出金NFT結果!$A:$A,\">=\"&月別集計!G$1,入出金NFT結果!$A:$A,\"<=\"&月別集計!G$2)","v":0},{"$f":"SUMIFS(入出金NFT結果!$D:$D,入出金NFT結果!$I:$I,\"=\"&月別集計!$B35,入出金NFT結果!$A:$A,\">=\"&月別集計!H$1,入出金NFT結果!$A:$A,\"<=\"&月別集計!H$2)","v":0},{"$f":"SUMIFS(入出金NFT結果!$D:$D,入出金NFT結果!$I:$I,\"=\"&月別集計!$B35,入出金NFT結果!$A:$A,\">=\"&月別集計!I$1,入出金NFT結果!$A:$A,\"<=\"&月別集計!I$2)","v":0},{"$f":"SUMIFS(入出金NFT結果!$D:$D,入出金NFT結果!$I:$I,\"=\"&月別集計!$B35,入出金NFT結果!$A:$A,\">=\"&月別集計!J$1,入出金NFT結果!$A:$A,\"<=\"&月別集計!J$2)","v":0},{"$f":"SUMIFS(入出金NFT結果!$D:$D,入出金NFT結果!$I:$I,\"=\"&月別集計!$B35,入出金NFT結果!$A:$A,\">=\"&月別集計!K$1,入出金NFT結果!$A:$A,\"<=\"&月別集計!K$2)","v":0},{"$f":"SUMIFS(入出金NFT結果!$D:$D,入出金NFT結果!$I:$I,\"=\"&月別集計!$B35,入出金NFT結果!$A:$A,\">=\"&月別集計!L$1,入出金NFT結果!$A:$A,\"<=\"&月別集計!L$2)","v":0},{"$f":"SUMIFS(入出金NFT結果!$D:$D,入出金NFT結果!$I:$I,\"=\"&月別集計!$B35,入出金NFT結果!$A:$A,\">=\"&月別集計!M$1,入出金NFT結果!$A:$A,\"<=\"&月別集計!M$2)","v":0},{"$f":"SUMIFS(入出金NFT結果!$D:$D,入出金NFT結果!$I:$I,\"=\"&月別集計!$B35,入出金NFT結果!$A:$A,\">=\"&月別集計!N$1,入出金NFT結果!$A:$A,\"<=\"&月別集計!N$2)","v":0},{"$f":"SUMIFS(入出金NFT結果!$D:$D,入出金NFT結果!$I:$I,\"=\"&月別集計!$B35,入出金NFT結果!$A:$A,\">=\"&月別集計!O$1,入出金NFT結果!$A:$A,\"<=\"&月別集計!O$2)","v":0},{"$f":"SUMIFS(入出金NFT結果!$D:$D,入出金NFT結果!$I:$I,\"=\"&月別集計!$B35,入出金NFT結果!$A:$A,\">=\"&月別集計!P$1,入出金NFT結果!$A:$A,\"<=\"&月別集計!P$2)","v":0},{"$f":"SUMIFS(入出金NFT結果!$D:$D,入出金NFT結果!$I:$I,\"=\"&月別集計!$B35,入出金NFT結果!$A:$A,\">=\"&月別集計!Q$1,入出金NFT結果!$A:$A,\"<=\"&月別集計!Q$2)","v":0},{"$f":"SUMIFS(入出金NFT結果!$D:$D,入出金NFT結果!$I:$I,\"=\"&月別集計!$B35,入出金NFT結果!$A:$A,\">=\"&月別集計!R$1,入出金NFT結果!$A:$A,\"<=\"&月別集計!R$2)","v":0},{"$f":"SUMIFS(入出金NFT結果!$D:$D,入出金NFT結果!$I:$I,\"=\"&月別集計!$B35,入出金NFT結果!$A:$A,\">=\"&月別集計!S$1,入出金NFT結果!$A:$A,\"<=\"&月別集計!S$2)","v":0},{"$f":"SUMIFS(入出金NFT結果!$D:$D,入出金NFT結果!$I:$I,\"=\"&月別集計!$B35,入出金NFT結果!$A:$A,\">=\"&月別集計!T$1,入出金NFT結果!$A:$A,\"<=\"&月別集計!T$2)","v":0},{"$f":"SUMIFS(入出金NFT結果!$D:$D,入出金NFT結果!$I:$I,\"=\"&月別集計!$B35,入出金NFT結果!$A:$A,\">=\"&月別集計!U$1,入出金NFT結果!$A:$A,\"<=\"&月別集計!U$2)","v":0},{"$f":"SUMIFS(入出金NFT結果!$D:$D,入出金NFT結果!$I:$I,\"=\"&月別集計!$B35,入出金NFT結果!$A:$A,\">=\"&月別集計!V$1,入出金NFT結果!$A:$A,\"<=\"&月別集計!V$2)","v":0},{"$f":"SUMIFS(入出金NFT結果!$D:$D,入出金NFT結果!$I:$I,\"=\"&月別集計!$B35,入出金NFT結果!$A:$A,\">=\"&月別集計!W$1,入出金NFT結果!$A:$A,\"<=\"&月別集計!W$2)","v":0},{"$f":"SUMIFS(入出金NFT結果!$D:$D,入出金NFT結果!$I:$I,\"=\"&月別集計!$B35,入出金NFT結果!$A:$A,\">=\"&月別集計!X$1,入出金NFT結果!$A:$A,\"<=\"&月別集計!X$2)","v":0},{"$f":"SUMIFS(入出金NFT結果!$D:$D,入出金NFT結果!$I:$I,\"=\"&月別集計!$B35,入出金NFT結果!$A:$A,\">=\"&月別集計!Y$1,入出金NFT結果!$A:$A,\"<=\"&月別集計!Y$2)","v":0},{"$f":"SUMIFS(入出金NFT結果!$D:$D,入出金NFT結果!$I:$I,\"=\"&月別集計!$B35,入出金NFT結果!$A:$A,\">=\"&月別集計!Z$1,入出金NFT結果!$A:$A,\"<=\"&月別集計!Z$2)","v":0},{"$f":"SUMIFS(入出金NFT結果!$D:$D,入出金NFT結果!$I:$I,\"=\"&月別集計!$B35,入出金NFT結果!$A:$A,\">=\"&月別集計!AA$1,入出金NFT結果!$A:$A,\"<=\"&月別集計!AA$2)","v":0},{"$f":"SUMIFS(入出金NFT結果!$D:$D,入出金NFT結果!$I:$I,\"=\"&月別集計!$B35,入出金NFT結果!$A:$A,\">=\"&月別集計!AB$1,入出金NFT結果!$A:$A,\"<=\"&月別集計!AB$2)","v":0},{"$f":"SUMIFS(入出金NFT結果!$D:$D,入出金NFT結果!$I:$I,\"=\"&月別集計!$B35,入出金NFT結果!$A:$A,\">=\"&月別集計!AC$1,入出金NFT結果!$A:$A,\"<=\"&月別集計!AC$2)","v":0},{"$f":"SUMIFS(入出金NFT結果!$D:$D,入出金NFT結果!$I:$I,\"=\"&月別集計!$B35,入出金NFT結果!$A:$A,\">=\"&月別集計!AD$1,入出金NFT結果!$A:$A,\"<=\"&月別集計!AD$2)","v":0},{"$f":"SUMIFS(入出金NFT結果!$D:$D,入出金NFT結果!$I:$I,\"=\"&月別集計!$B35,入出金NFT結果!$A:$A,\">=\"&月別集計!AE$1,入出金NFT結果!$A:$A,\"<=\"&月別集計!AE$2)","v":0},{"$f":"SUMIFS(入出金NFT結果!$D:$D,入出金NFT結果!$I:$I,\"=\"&月別集計!$B35,入出金NFT結果!$A:$A,\">=\"&月別集計!AF$1,入出金NFT結果!$A:$A,\"<=\"&月別集計!AF$2)","v":0},{"$f":"SUMIFS(入出金NFT結果!$D:$D,入出金NFT結果!$I:$I,\"=\"&月別集計!$B35,入出金NFT結果!$A:$A,\">=\"&月別集計!AG$1,入出金NFT結果!$A:$A,\"<=\"&月別集計!AG$2)","v":0},{"$f":"SUMIFS(入出金NFT結果!$D:$D,入出金NFT結果!$I:$I,\"=\"&月別集計!$B35,入出金NFT結果!$A:$A,\">=\"&月別集計!AH$1,入出金NFT結果!$A:$A,\"<=\"&月別集計!AH$2)","v":0},{"$f":"SUMIFS(入出金NFT結果!$D:$D,入出金NFT結果!$I:$I,\"=\"&月別集計!$B35,入出金NFT結果!$A:$A,\">=\"&月別集計!AI$1,入出金NFT結果!$A:$A,\"<=\"&月別集計!AI$2)","v":0},{"$f":"SUMIFS(入出金NFT結果!$D:$D,入出金NFT結果!$I:$I,\"=\"&月別集計!$B35,入出金NFT結果!$A:$A,\">=\"&月別集計!AJ$1,入出金NFT結果!$A:$A,\"<=\"&月別集計!AJ$2)","v":0},{"$f":"SUMIFS(入出金NFT結果!$D:$D,入出金NFT結果!$I:$I,\"=\"&月別集計!$B35,入出金NFT結果!$A:$A,\">=\"&月別集計!AK$1,入出金NFT結果!$A:$A,\"<=\"&月別集計!AK$2)","v":0},{"$f":"SUMIFS(入出金NFT結果!$D:$D,入出金NFT結果!$I:$I,\"=\"&月別集計!$B35,入出金NFT結果!$A:$A,\">=\"&月別集計!AL$1,入出金NFT結果!$A:$A,\"<=\"&月別集計!AL$2)","v":0},{"$f":"SUMIFS(入出金NFT結果!$D:$D,入出金NFT結果!$I:$I,\"=\"&月別集計!$B35,入出金NFT結果!$A:$A,\">=\"&月別集計!AM$1,入出金NFT結果!$A:$A,\"<=\"&月別集計!AM$2)","v":0},{"$f":"SUMIFS(入出金NFT結果!$D:$D,入出金NFT結果!$I:$I,\"=\"&月別集計!$B35,入出金NFT結果!$A:$A,\">=\"&月別集計!AN$1,入出金NFT結果!$A:$A,\"<=\"&月別集計!AN$2)","v":0},{"$f":"SUMIFS(入出金NFT結果!$D:$D,入出金NFT結果!$I:$I,\"=\"&月別集計!$B35,入出金NFT結果!$A:$A,\">=\"&月別集計!AO$1,入出金NFT結果!$A:$A,\"<=\"&月別集計!AO$2)","v":0},{"$f":"SUMIFS(入出金NFT結果!$D:$D,入出金NFT結果!$I:$I,\"=\"&月別集計!$B35,入出金NFT結果!$A:$A,\">=\"&月別集計!AP$1,入出金NFT結果!$A:$A,\"<=\"&月別集計!AP$2)","v":0},{"$f":"SUMIFS(入出金NFT結果!$D:$D,入出金NFT結果!$I:$I,\"=\"&月別集計!$B35,入出金NFT結果!$A:$A,\">=\"&月別集計!AQ$1,入出金NFT結果!$A:$A,\"<=\"&月別集計!AQ$2)","v":0},{"$f":"SUMIFS(入出金NFT結果!$D:$D,入出金NFT結果!$I:$I,\"=\"&月別集計!$B35,入出金NFT結果!$A:$A,\">=\"&月別集計!AR$1,入出金NFT結果!$A:$A,\"<=\"&月別集計!AR$2)","v":0},{"$f":"SUMIFS(入出金NFT結果!$D:$D,入出金NFT結果!$I:$I,\"=\"&月別集計!$B35,入出金NFT結果!$A:$A,\">=\"&月別集計!AS$1,入出金NFT結果!$A:$A,\"<=\"&月別集計!AS$2)","v":0},{"$f":"SUMIFS(入出金NFT結果!$D:$D,入出金NFT結果!$I:$I,\"=\"&月別集計!$B35,入出金NFT結果!$A:$A,\">=\"&月別集計!AT$1,入出金NFT結果!$A:$A,\"<=\"&月別集計!AT$2)","v":0},{"$f":"SUMIFS(入出金NFT結果!$D:$D,入出金NFT結果!$I:$I,\"=\"&月別集計!$B35,入出金NFT結果!$A:$A,\">=\"&月別集計!AU$1,入出金NFT結果!$A:$A,\"<=\"&月別集計!AU$2)","v":0},{"$f":"SUMIFS(入出金NFT結果!$D:$D,入出金NFT結果!$I:$I,\"=\"&月別集計!$B35,入出金NFT結果!$A:$A,\">=\"&月別集計!AV$1,入出金NFT結果!$A:$A,\"<=\"&月別集計!AV$2)","v":0},{"$f":"SUMIFS(入出金NFT結果!$D:$D,入出金NFT結果!$I:$I,\"=\"&月別集計!$B35,入出金NFT結果!$A:$A,\">=\"&月別集計!AW$1,入出金NFT結果!$A:$A,\"<=\"&月別集計!AW$2)","v":0},{"$f":"SUMIFS(入出金NFT結果!$D:$D,入出金NFT結果!$I:$I,\"=\"&月別集計!$B35,入出金NFT結果!$A:$A,\">=\"&月別集計!AX$1,入出金NFT結果!$A:$A,\"<=\"&月別集計!AX$2)","v":0},{"$f":"SUMIFS(入出金NFT結果!$D:$D,入出金NFT結果!$I:$I,\"=\"&月別集計!$B35,入出金NFT結果!$A:$A,\">=\"&月別集計!AY$1,入出金NFT結果!$A:$A,\"<=\"&月別集計!AY$2)","v":0},{"$f":"SUMIFS(入出金NFT結果!$D:$D,入出金NFT結果!$I:$I,\"=\"&月別集計!$B35,入出金NFT結果!$A:$A,\">=\"&月別集計!AZ$1,入出金NFT結果!$A:$A,\"<=\"&月別集計!AZ$2)","v":0},{"$f":"SUMIFS(入出金NFT結果!$D:$D,入出金NFT結果!$I:$I,\"=\"&月別集計!$B35,入出金NFT結果!$A:$A,\">=\"&月別集計!BA$1,入出金NFT結果!$A:$A,\"<=\"&月別集計!BA$2)","v":0},{"$f":"SUMIFS(入出金NFT結果!$D:$D,入出金NFT結果!$I:$I,\"=\"&月別集計!$B35,入出金NFT結果!$A:$A,\">=\"&月別集計!BB$1,入出金NFT結果!$A:$A,\"<=\"&月別集計!BB$2)","v":0},{"$f":"SUMIFS(入出金NFT結果!$D:$D,入出金NFT結果!$I:$I,\"=\"&月別集計!$B35,入出金NFT結果!$A:$A,\">=\"&月別集計!BC$1,入出金NFT結果!$A:$A,\"<=\"&月別集計!BC$2)","v":0},{"$f":"SUMIFS(入出金NFT結果!$D:$D,入出金NFT結果!$I:$I,\"=\"&月別集計!$B35,入出金NFT結果!$A:$A,\">=\"&月別集計!BD$1,入出金NFT結果!$A:$A,\"<=\"&月別集計!BD$2)","v":0},{"$f":"SUMIFS(入出金NFT結果!$D:$D,入出金NFT結果!$I:$I,\"=\"&月別集計!$B35,入出金NFT結果!$A:$A,\">=\"&月別集計!BE$1,入出金NFT結果!$A:$A,\"<=\"&月別集計!BE$2)","v":0},{"$f":"SUMIFS(入出金NFT結果!$D:$D,入出金NFT結果!$I:$I,\"=\"&月別集計!$B35,入出金NFT結果!$A:$A,\">=\"&月別集計!BF$1,入出金NFT結果!$A:$A,\"<=\"&月別集計!BF$2)","v":0},{"$f":"SUMIFS(入出金NFT結果!$D:$D,入出金NFT結果!$I:$I,\"=\"&月別集計!$B35,入出金NFT結果!$A:$A,\">=\"&月別集計!BG$1,入出金NFT結果!$A:$A,\"<=\"&月別集計!BG$2)","v":0},{"$f":"SUMIFS(入出金NFT結果!$D:$D,入出金NFT結果!$I:$I,\"=\"&月別集計!$B35,入出金NFT結果!$A:$A,\">=\"&月別集計!BH$1,入出金NFT結果!$A:$A,\"<=\"&月別集計!BH$2)","v":0},{"$f":"SUMIFS(入出金NFT結果!$D:$D,入出金NFT結果!$I:$I,\"=\"&月別集計!$B35,入出金NFT結果!$A:$A,\">=\"&月別集計!BI$1,入出金NFT結果!$A:$A,\"<=\"&月別集計!BI$2)","v":0},{"$f":"SUMIFS(入出金NFT結果!$D:$D,入出金NFT結果!$I:$I,\"=\"&月別集計!$B35,入出金NFT結果!$A:$A,\">=\"&月別集計!BJ$1,入出金NFT結果!$A:$A,\"<=\"&月別集計!BJ$2)","v":0},{"$f":"SUMIFS(入出金NFT結果!$D:$D,入出金NFT結果!$I:$I,\"=\"&月別集計!$B35,入出金NFT結果!$A:$A,\">=\"&月別集計!BK$1,入出金NFT結果!$A:$A,\"<=\"&月別集計!BK$2)","v":0},{"$f":"SUMIFS(入出金NFT結果!$D:$D,入出金NFT結果!$I:$I,\"=\"&月別集計!$B35,入出金NFT結果!$A:$A,\">=\"&月別集計!BL$1,入出金NFT結果!$A:$A,\"<=\"&月別集計!BL$2)","v":0},{"$f":"SUMIFS(入出金NFT結果!$D:$D,入出金NFT結果!$I:$I,\"=\"&月別集計!$B35,入出金NFT結果!$A:$A,\">=\"&月別集計!BM$1,入出金NFT結果!$A:$A,\"<=\"&月別集計!BM$2)","v":0}]
[null,{"$f":"推定用途置換ルール!P10","v":"グラフィティレーサー：フィルムの色引継ぎ、復元"},{"$f":"SUMIFS(入出金NFT結果!$D:$D,入出金NFT結果!$I:$I,\"=\"&月別集計!$B36,入出金NFT結果!$A:$A,\">=\"&月別集計!C$1,入出金NFT結果!$A:$A,\"<=\"&月別集計!C$2)","v":0},{"$f":"SUMIFS(入出金NFT結果!$D:$D,入出金NFT結果!$I:$I,\"=\"&月別集計!$B36,入出金NFT結果!$A:$A,\">=\"&月別集計!D$1,入出金NFT結果!$A:$A,\"<=\"&月別集計!D$2)","v":0},{"$f":"SUMIFS(入出金NFT結果!$D:$D,入出金NFT結果!$I:$I,\"=\"&月別集計!$B36,入出金NFT結果!$A:$A,\">=\"&月別集計!E$1,入出金NFT結果!$A:$A,\"<=\"&月別集計!E$2)","v":0},{"$f":"SUMIFS(入出金NFT結果!$D:$D,入出金NFT結果!$I:$I,\"=\"&月別集計!$B36,入出金NFT結果!$A:$A,\">=\"&月別集計!F$1,入出金NFT結果!$A:$A,\"<=\"&月別集計!F$2)","v":0},{"$f":"SUMIFS(入出金NFT結果!$D:$D,入出金NFT結果!$I:$I,\"=\"&月別集計!$B36,入出金NFT結果!$A:$A,\">=\"&月別集計!G$1,入出金NFT結果!$A:$A,\"<=\"&月別集計!G$2)","v":0},{"$f":"SUMIFS(入出金NFT結果!$D:$D,入出金NFT結果!$I:$I,\"=\"&月別集計!$B36,入出金NFT結果!$A:$A,\">=\"&月別集計!H$1,入出金NFT結果!$A:$A,\"<=\"&月別集計!H$2)","v":0},{"$f":"SUMIFS(入出金NFT結果!$D:$D,入出金NFT結果!$I:$I,\"=\"&月別集計!$B36,入出金NFT結果!$A:$A,\">=\"&月別集計!I$1,入出金NFT結果!$A:$A,\"<=\"&月別集計!I$2)","v":0},{"$f":"SUMIFS(入出金NFT結果!$D:$D,入出金NFT結果!$I:$I,\"=\"&月別集計!$B36,入出金NFT結果!$A:$A,\">=\"&月別集計!J$1,入出金NFT結果!$A:$A,\"<=\"&月別集計!J$2)","v":0},{"$f":"SUMIFS(入出金NFT結果!$D:$D,入出金NFT結果!$I:$I,\"=\"&月別集計!$B36,入出金NFT結果!$A:$A,\">=\"&月別集計!K$1,入出金NFT結果!$A:$A,\"<=\"&月別集計!K$2)","v":0},{"$f":"SUMIFS(入出金NFT結果!$D:$D,入出金NFT結果!$I:$I,\"=\"&月別集計!$B36,入出金NFT結果!$A:$A,\">=\"&月別集計!L$1,入出金NFT結果!$A:$A,\"<=\"&月別集計!L$2)","v":0},{"$f":"SUMIFS(入出金NFT結果!$D:$D,入出金NFT結果!$I:$I,\"=\"&月別集計!$B36,入出金NFT結果!$A:$A,\">=\"&月別集計!M$1,入出金NFT結果!$A:$A,\"<=\"&月別集計!M$2)","v":0},{"$f":"SUMIFS(入出金NFT結果!$D:$D,入出金NFT結果!$I:$I,\"=\"&月別集計!$B36,入出金NFT結果!$A:$A,\">=\"&月別集計!N$1,入出金NFT結果!$A:$A,\"<=\"&月別集計!N$2)","v":0},{"$f":"SUMIFS(入出金NFT結果!$D:$D,入出金NFT結果!$I:$I,\"=\"&月別集計!$B36,入出金NFT結果!$A:$A,\">=\"&月別集計!O$1,入出金NFT結果!$A:$A,\"<=\"&月別集計!O$2)","v":0},{"$f":"SUMIFS(入出金NFT結果!$D:$D,入出金NFT結果!$I:$I,\"=\"&月別集計!$B36,入出金NFT結果!$A:$A,\">=\"&月別集計!P$1,入出金NFT結果!$A:$A,\"<=\"&月別集計!P$2)","v":0},{"$f":"SUMIFS(入出金NFT結果!$D:$D,入出金NFT結果!$I:$I,\"=\"&月別集計!$B36,入出金NFT結果!$A:$A,\">=\"&月別集計!Q$1,入出金NFT結果!$A:$A,\"<=\"&月別集計!Q$2)","v":0},{"$f":"SUMIFS(入出金NFT結果!$D:$D,入出金NFT結果!$I:$I,\"=\"&月別集計!$B36,入出金NFT結果!$A:$A,\">=\"&月別集計!R$1,入出金NFT結果!$A:$A,\"<=\"&月別集計!R$2)","v":0},{"$f":"SUMIFS(入出金NFT結果!$D:$D,入出金NFT結果!$I:$I,\"=\"&月別集計!$B36,入出金NFT結果!$A:$A,\">=\"&月別集計!S$1,入出金NFT結果!$A:$A,\"<=\"&月別集計!S$2)","v":0},{"$f":"SUMIFS(入出金NFT結果!$D:$D,入出金NFT結果!$I:$I,\"=\"&月別集計!$B36,入出金NFT結果!$A:$A,\">=\"&月別集計!T$1,入出金NFT結果!$A:$A,\"<=\"&月別集計!T$2)","v":0},{"$f":"SUMIFS(入出金NFT結果!$D:$D,入出金NFT結果!$I:$I,\"=\"&月別集計!$B36,入出金NFT結果!$A:$A,\">=\"&月別集計!U$1,入出金NFT結果!$A:$A,\"<=\"&月別集計!U$2)","v":0},{"$f":"SUMIFS(入出金NFT結果!$D:$D,入出金NFT結果!$I:$I,\"=\"&月別集計!$B36,入出金NFT結果!$A:$A,\">=\"&月別集計!V$1,入出金NFT結果!$A:$A,\"<=\"&月別集計!V$2)","v":0},{"$f":"SUMIFS(入出金NFT結果!$D:$D,入出金NFT結果!$I:$I,\"=\"&月別集計!$B36,入出金NFT結果!$A:$A,\">=\"&月別集計!W$1,入出金NFT結果!$A:$A,\"<=\"&月別集計!W$2)","v":0},{"$f":"SUMIFS(入出金NFT結果!$D:$D,入出金NFT結果!$I:$I,\"=\"&月別集計!$B36,入出金NFT結果!$A:$A,\">=\"&月別集計!X$1,入出金NFT結果!$A:$A,\"<=\"&月別集計!X$2)","v":0},{"$f":"SUMIFS(入出金NFT結果!$D:$D,入出金NFT結果!$I:$I,\"=\"&月別集計!$B36,入出金NFT結果!$A:$A,\">=\"&月別集計!Y$1,入出金NFT結果!$A:$A,\"<=\"&月別集計!Y$2)","v":0},{"$f":"SUMIFS(入出金NFT結果!$D:$D,入出金NFT結果!$I:$I,\"=\"&月別集計!$B36,入出金NFT結果!$A:$A,\">=\"&月別集計!Z$1,入出金NFT結果!$A:$A,\"<=\"&月別集計!Z$2)","v":0},{"$f":"SUMIFS(入出金NFT結果!$D:$D,入出金NFT結果!$I:$I,\"=\"&月別集計!$B36,入出金NFT結果!$A:$A,\">=\"&月別集計!AA$1,入出金NFT結果!$A:$A,\"<=\"&月別集計!AA$2)","v":0},{"$f":"SUMIFS(入出金NFT結果!$D:$D,入出金NFT結果!$I:$I,\"=\"&月別集計!$B36,入出金NFT結果!$A:$A,\">=\"&月別集計!AB$1,入出金NFT結果!$A:$A,\"<=\"&月別集計!AB$2)","v":0},{"$f":"SUMIFS(入出金NFT結果!$D:$D,入出金NFT結果!$I:$I,\"=\"&月別集計!$B36,入出金NFT結果!$A:$A,\">=\"&月別集計!AC$1,入出金NFT結果!$A:$A,\"<=\"&月別集計!AC$2)","v":0},{"$f":"SUMIFS(入出金NFT結果!$D:$D,入出金NFT結果!$I:$I,\"=\"&月別集計!$B36,入出金NFT結果!$A:$A,\">=\"&月別集計!AD$1,入出金NFT結果!$A:$A,\"<=\"&月別集計!AD$2)","v":0},{"$f":"SUMIFS(入出金NFT結果!$D:$D,入出金NFT結果!$I:$I,\"=\"&月別集計!$B36,入出金NFT結果!$A:$A,\">=\"&月別集計!AE$1,入出金NFT結果!$A:$A,\"<=\"&月別集計!AE$2)","v":0},{"$f":"SUMIFS(入出金NFT結果!$D:$D,入出金NFT結果!$I:$I,\"=\"&月別集計!$B36,入出金NFT結果!$A:$A,\">=\"&月別集計!AF$1,入出金NFT結果!$A:$A,\"<=\"&月別集計!AF$2)","v":0},{"$f":"SUMIFS(入出金NFT結果!$D:$D,入出金NFT結果!$I:$I,\"=\"&月別集計!$B36,入出金NFT結果!$A:$A,\">=\"&月別集計!AG$1,入出金NFT結果!$A:$A,\"<=\"&月別集計!AG$2)","v":0},{"$f":"SUMIFS(入出金NFT結果!$D:$D,入出金NFT結果!$I:$I,\"=\"&月別集計!$B36,入出金NFT結果!$A:$A,\">=\"&月別集計!AH$1,入出金NFT結果!$A:$A,\"<=\"&月別集計!AH$2)","v":0},{"$f":"SUMIFS(入出金NFT結果!$D:$D,入出金NFT結果!$I:$I,\"=\"&月別集計!$B36,入出金NFT結果!$A:$A,\">=\"&月別集計!AI$1,入出金NFT結果!$A:$A,\"<=\"&月別集計!AI$2)","v":0},{"$f":"SUMIFS(入出金NFT結果!$D:$D,入出金NFT結果!$I:$I,\"=\"&月別集計!$B36,入出金NFT結果!$A:$A,\">=\"&月別集計!AJ$1,入出金NFT結果!$A:$A,\"<=\"&月別集計!AJ$2)","v":0},{"$f":"SUMIFS(入出金NFT結果!$D:$D,入出金NFT結果!$I:$I,\"=\"&月別集計!$B36,入出金NFT結果!$A:$A,\">=\"&月別集計!AK$1,入出金NFT結果!$A:$A,\"<=\"&月別集計!AK$2)","v":0},{"$f":"SUMIFS(入出金NFT結果!$D:$D,入出金NFT結果!$I:$I,\"=\"&月別集計!$B36,入出金NFT結果!$A:$A,\">=\"&月別集計!AL$1,入出金NFT結果!$A:$A,\"<=\"&月別集計!AL$2)","v":0},{"$f":"SUMIFS(入出金NFT結果!$D:$D,入出金NFT結果!$I:$I,\"=\"&月別集計!$B36,入出金NFT結果!$A:$A,\">=\"&月別集計!AM$1,入出金NFT結果!$A:$A,\"<=\"&月別集計!AM$2)","v":0},{"$f":"SUMIFS(入出金NFT結果!$D:$D,入出金NFT結果!$I:$I,\"=\"&月別集計!$B36,入出金NFT結果!$A:$A,\">=\"&月別集計!AN$1,入出金NFT結果!$A:$A,\"<=\"&月別集計!AN$2)","v":0},{"$f":"SUMIFS(入出金NFT結果!$D:$D,入出金NFT結果!$I:$I,\"=\"&月別集計!$B36,入出金NFT結果!$A:$A,\">=\"&月別集計!AO$1,入出金NFT結果!$A:$A,\"<=\"&月別集計!AO$2)","v":0},{"$f":"SUMIFS(入出金NFT結果!$D:$D,入出金NFT結果!$I:$I,\"=\"&月別集計!$B36,入出金NFT結果!$A:$A,\">=\"&月別集計!AP$1,入出金NFT結果!$A:$A,\"<=\"&月別集計!AP$2)","v":0},{"$f":"SUMIFS(入出金NFT結果!$D:$D,入出金NFT結果!$I:$I,\"=\"&月別集計!$B36,入出金NFT結果!$A:$A,\">=\"&月別集計!AQ$1,入出金NFT結果!$A:$A,\"<=\"&月別集計!AQ$2)","v":0},{"$f":"SUMIFS(入出金NFT結果!$D:$D,入出金NFT結果!$I:$I,\"=\"&月別集計!$B36,入出金NFT結果!$A:$A,\">=\"&月別集計!AR$1,入出金NFT結果!$A:$A,\"<=\"&月別集計!AR$2)","v":0},{"$f":"SUMIFS(入出金NFT結果!$D:$D,入出金NFT結果!$I:$I,\"=\"&月別集計!$B36,入出金NFT結果!$A:$A,\">=\"&月別集計!AS$1,入出金NFT結果!$A:$A,\"<=\"&月別集計!AS$2)","v":0},{"$f":"SUMIFS(入出金NFT結果!$D:$D,入出金NFT結果!$I:$I,\"=\"&月別集計!$B36,入出金NFT結果!$A:$A,\">=\"&月別集計!AT$1,入出金NFT結果!$A:$A,\"<=\"&月別集計!AT$2)","v":0},{"$f":"SUMIFS(入出金NFT結果!$D:$D,入出金NFT結果!$I:$I,\"=\"&月別集計!$B36,入出金NFT結果!$A:$A,\">=\"&月別集計!AU$1,入出金NFT結果!$A:$A,\"<=\"&月別集計!AU$2)","v":0},{"$f":"SUMIFS(入出金NFT結果!$D:$D,入出金NFT結果!$I:$I,\"=\"&月別集計!$B36,入出金NFT結果!$A:$A,\">=\"&月別集計!AV$1,入出金NFT結果!$A:$A,\"<=\"&月別集計!AV$2)","v":0},{"$f":"SUMIFS(入出金NFT結果!$D:$D,入出金NFT結果!$I:$I,\"=\"&月別集計!$B36,入出金NFT結果!$A:$A,\">=\"&月別集計!AW$1,入出金NFT結果!$A:$A,\"<=\"&月別集計!AW$2)","v":0},{"$f":"SUMIFS(入出金NFT結果!$D:$D,入出金NFT結果!$I:$I,\"=\"&月別集計!$B36,入出金NFT結果!$A:$A,\">=\"&月別集計!AX$1,入出金NFT結果!$A:$A,\"<=\"&月別集計!AX$2)","v":0},{"$f":"SUMIFS(入出金NFT結果!$D:$D,入出金NFT結果!$I:$I,\"=\"&月別集計!$B36,入出金NFT結果!$A:$A,\">=\"&月別集計!AY$1,入出金NFT結果!$A:$A,\"<=\"&月別集計!AY$2)","v":0},{"$f":"SUMIFS(入出金NFT結果!$D:$D,入出金NFT結果!$I:$I,\"=\"&月別集計!$B36,入出金NFT結果!$A:$A,\">=\"&月別集計!AZ$1,入出金NFT結果!$A:$A,\"<=\"&月別集計!AZ$2)","v":0},{"$f":"SUMIFS(入出金NFT結果!$D:$D,入出金NFT結果!$I:$I,\"=\"&月別集計!$B36,入出金NFT結果!$A:$A,\">=\"&月別集計!BA$1,入出金NFT結果!$A:$A,\"<=\"&月別集計!BA$2)","v":0},{"$f":"SUMIFS(入出金NFT結果!$D:$D,入出金NFT結果!$I:$I,\"=\"&月別集計!$B36,入出金NFT結果!$A:$A,\">=\"&月別集計!BB$1,入出金NFT結果!$A:$A,\"<=\"&月別集計!BB$2)","v":0},{"$f":"SUMIFS(入出金NFT結果!$D:$D,入出金NFT結果!$I:$I,\"=\"&月別集計!$B36,入出金NFT結果!$A:$A,\">=\"&月別集計!BC$1,入出金NFT結果!$A:$A,\"<=\"&月別集計!BC$2)","v":0},{"$f":"SUMIFS(入出金NFT結果!$D:$D,入出金NFT結果!$I:$I,\"=\"&月別集計!$B36,入出金NFT結果!$A:$A,\">=\"&月別集計!BD$1,入出金NFT結果!$A:$A,\"<=\"&月別集計!BD$2)","v":0},{"$f":"SUMIFS(入出金NFT結果!$D:$D,入出金NFT結果!$I:$I,\"=\"&月別集計!$B36,入出金NFT結果!$A:$A,\">=\"&月別集計!BE$1,入出金NFT結果!$A:$A,\"<=\"&月別集計!BE$2)","v":0},{"$f":"SUMIFS(入出金NFT結果!$D:$D,入出金NFT結果!$I:$I,\"=\"&月別集計!$B36,入出金NFT結果!$A:$A,\">=\"&月別集計!BF$1,入出金NFT結果!$A:$A,\"<=\"&月別集計!BF$2)","v":0},{"$f":"SUMIFS(入出金NFT結果!$D:$D,入出金NFT結果!$I:$I,\"=\"&月別集計!$B36,入出金NFT結果!$A:$A,\">=\"&月別集計!BG$1,入出金NFT結果!$A:$A,\"<=\"&月別集計!BG$2)","v":0},{"$f":"SUMIFS(入出金NFT結果!$D:$D,入出金NFT結果!$I:$I,\"=\"&月別集計!$B36,入出金NFT結果!$A:$A,\">=\"&月別集計!BH$1,入出金NFT結果!$A:$A,\"<=\"&月別集計!BH$2)","v":0},{"$f":"SUMIFS(入出金NFT結果!$D:$D,入出金NFT結果!$I:$I,\"=\"&月別集計!$B36,入出金NFT結果!$A:$A,\">=\"&月別集計!BI$1,入出金NFT結果!$A:$A,\"<=\"&月別集計!BI$2)","v":0},{"$f":"SUMIFS(入出金NFT結果!$D:$D,入出金NFT結果!$I:$I,\"=\"&月別集計!$B36,入出金NFT結果!$A:$A,\">=\"&月別集計!BJ$1,入出金NFT結果!$A:$A,\"<=\"&月別集計!BJ$2)","v":0},{"$f":"SUMIFS(入出金NFT結果!$D:$D,入出金NFT結果!$I:$I,\"=\"&月別集計!$B36,入出金NFT結果!$A:$A,\">=\"&月別集計!BK$1,入出金NFT結果!$A:$A,\"<=\"&月別集計!BK$2)","v":0},{"$f":"SUMIFS(入出金NFT結果!$D:$D,入出金NFT結果!$I:$I,\"=\"&月別集計!$B36,入出金NFT結果!$A:$A,\">=\"&月別集計!BL$1,入出金NFT結果!$A:$A,\"<=\"&月別集計!BL$2)","v":0},{"$f":"SUMIFS(入出金NFT結果!$D:$D,入出金NFT結果!$I:$I,\"=\"&月別集計!$B36,入出金NFT結果!$A:$A,\">=\"&月別集計!BM$1,入出金NFT結果!$A:$A,\"<=\"&月別集計!BM$2)","v":0}]
[null,{"$f":"推定用途置換ルール!P11","v":"グラフィティレーサー：フィルムコーティング"},{"$f":"SUMIFS(入出金NFT結果!$D:$D,入出金NFT結果!$I:$I,\"=\"&月別集計!$B37,入出金NFT結果!$A:$A,\">=\"&月別集計!C$1,入出金NFT結果!$A:$A,\"<=\"&月別集計!C$2)","v":0},{"$f":"SUMIFS(入出金NFT結果!$D:$D,入出金NFT結果!$I:$I,\"=\"&月別集計!$B37,入出金NFT結果!$A:$A,\">=\"&月別集計!D$1,入出金NFT結果!$A:$A,\"<=\"&月別集計!D$2)","v":0},{"$f":"SUMIFS(入出金NFT結果!$D:$D,入出金NFT結果!$I:$I,\"=\"&月別集計!$B37,入出金NFT結果!$A:$A,\">=\"&月別集計!E$1,入出金NFT結果!$A:$A,\"<=\"&月別集計!E$2)","v":0},{"$f":"SUMIFS(入出金NFT結果!$D:$D,入出金NFT結果!$I:$I,\"=\"&月別集計!$B37,入出金NFT結果!$A:$A,\">=\"&月別集計!F$1,入出金NFT結果!$A:$A,\"<=\"&月別集計!F$2)","v":0},{"$f":"SUMIFS(入出金NFT結果!$D:$D,入出金NFT結果!$I:$I,\"=\"&月別集計!$B37,入出金NFT結果!$A:$A,\">=\"&月別集計!G$1,入出金NFT結果!$A:$A,\"<=\"&月別集計!G$2)","v":0},{"$f":"SUMIFS(入出金NFT結果!$D:$D,入出金NFT結果!$I:$I,\"=\"&月別集計!$B37,入出金NFT結果!$A:$A,\">=\"&月別集計!H$1,入出金NFT結果!$A:$A,\"<=\"&月別集計!H$2)","v":0},{"$f":"SUMIFS(入出金NFT結果!$D:$D,入出金NFT結果!$I:$I,\"=\"&月別集計!$B37,入出金NFT結果!$A:$A,\">=\"&月別集計!I$1,入出金NFT結果!$A:$A,\"<=\"&月別集計!I$2)","v":0},{"$f":"SUMIFS(入出金NFT結果!$D:$D,入出金NFT結果!$I:$I,\"=\"&月別集計!$B37,入出金NFT結果!$A:$A,\">=\"&月別集計!J$1,入出金NFT結果!$A:$A,\"<=\"&月別集計!J$2)","v":0},{"$f":"SUMIFS(入出金NFT結果!$D:$D,入出金NFT結果!$I:$I,\"=\"&月別集計!$B37,入出金NFT結果!$A:$A,\">=\"&月別集計!K$1,入出金NFT結果!$A:$A,\"<=\"&月別集計!K$2)","v":0},{"$f":"SUMIFS(入出金NFT結果!$D:$D,入出金NFT結果!$I:$I,\"=\"&月別集計!$B37,入出金NFT結果!$A:$A,\">=\"&月別集計!L$1,入出金NFT結果!$A:$A,\"<=\"&月別集計!L$2)","v":0},{"$f":"SUMIFS(入出金NFT結果!$D:$D,入出金NFT結果!$I:$I,\"=\"&月別集計!$B37,入出金NFT結果!$A:$A,\">=\"&月別集計!M$1,入出金NFT結果!$A:$A,\"<=\"&月別集計!M$2)","v":0},{"$f":"SUMIFS(入出金NFT結果!$D:$D,入出金NFT結果!$I:$I,\"=\"&月別集計!$B37,入出金NFT結果!$A:$A,\">=\"&月別集計!N$1,入出金NFT結果!$A:$A,\"<=\"&月別集計!N$2)","v":0},{"$f":"SUMIFS(入出金NFT結果!$D:$D,入出金NFT結果!$I:$I,\"=\"&月別集計!$B37,入出金NFT結果!$A:$A,\">=\"&月別集計!O$1,入出金NFT結果!$A:$A,\"<=\"&月別集計!O$2)","v":0},{"$f":"SUMIFS(入出金NFT結果!$D:$D,入出金NFT結果!$I:$I,\"=\"&月別集計!$B37,入出金NFT結果!$A:$A,\">=\"&月別集計!P$1,入出金NFT結果!$A:$A,\"<=\"&月別集計!P$2)","v":0},{"$f":"SUMIFS(入出金NFT結果!$D:$D,入出金NFT結果!$I:$I,\"=\"&月別集計!$B37,入出金NFT結果!$A:$A,\">=\"&月別集計!Q$1,入出金NFT結果!$A:$A,\"<=\"&月別集計!Q$2)","v":0},{"$f":"SUMIFS(入出金NFT結果!$D:$D,入出金NFT結果!$I:$I,\"=\"&月別集計!$B37,入出金NFT結果!$A:$A,\">=\"&月別集計!R$1,入出金NFT結果!$A:$A,\"<=\"&月別集計!R$2)","v":0},{"$f":"SUMIFS(入出金NFT結果!$D:$D,入出金NFT結果!$I:$I,\"=\"&月別集計!$B37,入出金NFT結果!$A:$A,\">=\"&月別集計!S$1,入出金NFT結果!$A:$A,\"<=\"&月別集計!S$2)","v":0},{"$f":"SUMIFS(入出金NFT結果!$D:$D,入出金NFT結果!$I:$I,\"=\"&月別集計!$B37,入出金NFT結果!$A:$A,\">=\"&月別集計!T$1,入出金NFT結果!$A:$A,\"<=\"&月別集計!T$2)","v":0},{"$f":"SUMIFS(入出金NFT結果!$D:$D,入出金NFT結果!$I:$I,\"=\"&月別集計!$B37,入出金NFT結果!$A:$A,\">=\"&月別集計!U$1,入出金NFT結果!$A:$A,\"<=\"&月別集計!U$2)","v":0},{"$f":"SUMIFS(入出金NFT結果!$D:$D,入出金NFT結果!$I:$I,\"=\"&月別集計!$B37,入出金NFT結果!$A:$A,\">=\"&月別集計!V$1,入出金NFT結果!$A:$A,\"<=\"&月別集計!V$2)","v":0},{"$f":"SUMIFS(入出金NFT結果!$D:$D,入出金NFT結果!$I:$I,\"=\"&月別集計!$B37,入出金NFT結果!$A:$A,\">=\"&月別集計!W$1,入出金NFT結果!$A:$A,\"<=\"&月別集計!W$2)","v":0},{"$f":"SUMIFS(入出金NFT結果!$D:$D,入出金NFT結果!$I:$I,\"=\"&月別集計!$B37,入出金NFT結果!$A:$A,\">=\"&月別集計!X$1,入出金NFT結果!$A:$A,\"<=\"&月別集計!X$2)","v":0},{"$f":"SUMIFS(入出金NFT結果!$D:$D,入出金NFT結果!$I:$I,\"=\"&月別集計!$B37,入出金NFT結果!$A:$A,\">=\"&月別集計!Y$1,入出金NFT結果!$A:$A,\"<=\"&月別集計!Y$2)","v":0},{"$f":"SUMIFS(入出金NFT結果!$D:$D,入出金NFT結果!$I:$I,\"=\"&月別集計!$B37,入出金NFT結果!$A:$A,\">=\"&月別集計!Z$1,入出金NFT結果!$A:$A,\"<=\"&月別集計!Z$2)","v":0},{"$f":"SUMIFS(入出金NFT結果!$D:$D,入出金NFT結果!$I:$I,\"=\"&月別集計!$B37,入出金NFT結果!$A:$A,\">=\"&月別集計!AA$1,入出金NFT結果!$A:$A,\"<=\"&月別集計!AA$2)","v":0},{"$f":"SUMIFS(入出金NFT結果!$D:$D,入出金NFT結果!$I:$I,\"=\"&月別集計!$B37,入出金NFT結果!$A:$A,\">=\"&月別集計!AB$1,入出金NFT結果!$A:$A,\"<=\"&月別集計!AB$2)","v":0},{"$f":"SUMIFS(入出金NFT結果!$D:$D,入出金NFT結果!$I:$I,\"=\"&月別集計!$B37,入出金NFT結果!$A:$A,\">=\"&月別集計!AC$1,入出金NFT結果!$A:$A,\"<=\"&月別集計!AC$2)","v":0},{"$f":"SUMIFS(入出金NFT結果!$D:$D,入出金NFT結果!$I:$I,\"=\"&月別集計!$B37,入出金NFT結果!$A:$A,\">=\"&月別集計!AD$1,入出金NFT結果!$A:$A,\"<=\"&月別集計!AD$2)","v":0},{"$f":"SUMIFS(入出金NFT結果!$D:$D,入出金NFT結果!$I:$I,\"=\"&月別集計!$B37,入出金NFT結果!$A:$A,\">=\"&月別集計!AE$1,入出金NFT結果!$A:$A,\"<=\"&月別集計!AE$2)","v":0},{"$f":"SUMIFS(入出金NFT結果!$D:$D,入出金NFT結果!$I:$I,\"=\"&月別集計!$B37,入出金NFT結果!$A:$A,\">=\"&月別集計!AF$1,入出金NFT結果!$A:$A,\"<=\"&月別集計!AF$2)","v":0},{"$f":"SUMIFS(入出金NFT結果!$D:$D,入出金NFT結果!$I:$I,\"=\"&月別集計!$B37,入出金NFT結果!$A:$A,\">=\"&月別集計!AG$1,入出金NFT結果!$A:$A,\"<=\"&月別集計!AG$2)","v":0},{"$f":"SUMIFS(入出金NFT結果!$D:$D,入出金NFT結果!$I:$I,\"=\"&月別集計!$B37,入出金NFT結果!$A:$A,\">=\"&月別集計!AH$1,入出金NFT結果!$A:$A,\"<=\"&月別集計!AH$2)","v":0},{"$f":"SUMIFS(入出金NFT結果!$D:$D,入出金NFT結果!$I:$I,\"=\"&月別集計!$B37,入出金NFT結果!$A:$A,\">=\"&月別集計!AI$1,入出金NFT結果!$A:$A,\"<=\"&月別集計!AI$2)","v":0},{"$f":"SUMIFS(入出金NFT結果!$D:$D,入出金NFT結果!$I:$I,\"=\"&月別集計!$B37,入出金NFT結果!$A:$A,\">=\"&月別集計!AJ$1,入出金NFT結果!$A:$A,\"<=\"&月別集計!AJ$2)","v":0},{"$f":"SUMIFS(入出金NFT結果!$D:$D,入出金NFT結果!$I:$I,\"=\"&月別集計!$B37,入出金NFT結果!$A:$A,\">=\"&月別集計!AK$1,入出金NFT結果!$A:$A,\"<=\"&月別集計!AK$2)","v":0},{"$f":"SUMIFS(入出金NFT結果!$D:$D,入出金NFT結果!$I:$I,\"=\"&月別集計!$B37,入出金NFT結果!$A:$A,\">=\"&月別集計!AL$1,入出金NFT結果!$A:$A,\"<=\"&月別集計!AL$2)","v":0},{"$f":"SUMIFS(入出金NFT結果!$D:$D,入出金NFT結果!$I:$I,\"=\"&月別集計!$B37,入出金NFT結果!$A:$A,\">=\"&月別集計!AM$1,入出金NFT結果!$A:$A,\"<=\"&月別集計!AM$2)","v":0},{"$f":"SUMIFS(入出金NFT結果!$D:$D,入出金NFT結果!$I:$I,\"=\"&月別集計!$B37,入出金NFT結果!$A:$A,\">=\"&月別集計!AN$1,入出金NFT結果!$A:$A,\"<=\"&月別集計!AN$2)","v":0},{"$f":"SUMIFS(入出金NFT結果!$D:$D,入出金NFT結果!$I:$I,\"=\"&月別集計!$B37,入出金NFT結果!$A:$A,\">=\"&月別集計!AO$1,入出金NFT結果!$A:$A,\"<=\"&月別集計!AO$2)","v":0},{"$f":"SUMIFS(入出金NFT結果!$D:$D,入出金NFT結果!$I:$I,\"=\"&月別集計!$B37,入出金NFT結果!$A:$A,\">=\"&月別集計!AP$1,入出金NFT結果!$A:$A,\"<=\"&月別集計!AP$2)","v":0},{"$f":"SUMIFS(入出金NFT結果!$D:$D,入出金NFT結果!$I:$I,\"=\"&月別集計!$B37,入出金NFT結果!$A:$A,\">=\"&月別集計!AQ$1,入出金NFT結果!$A:$A,\"<=\"&月別集計!AQ$2)","v":0},{"$f":"SUMIFS(入出金NFT結果!$D:$D,入出金NFT結果!$I:$I,\"=\"&月別集計!$B37,入出金NFT結果!$A:$A,\">=\"&月別集計!AR$1,入出金NFT結果!$A:$A,\"<=\"&月別集計!AR$2)","v":0},{"$f":"SUMIFS(入出金NFT結果!$D:$D,入出金NFT結果!$I:$I,\"=\"&月別集計!$B37,入出金NFT結果!$A:$A,\">=\"&月別集計!AS$1,入出金NFT結果!$A:$A,\"<=\"&月別集計!AS$2)","v":0},{"$f":"SUMIFS(入出金NFT結果!$D:$D,入出金NFT結果!$I:$I,\"=\"&月別集計!$B37,入出金NFT結果!$A:$A,\">=\"&月別集計!AT$1,入出金NFT結果!$A:$A,\"<=\"&月別集計!AT$2)","v":0},{"$f":"SUMIFS(入出金NFT結果!$D:$D,入出金NFT結果!$I:$I,\"=\"&月別集計!$B37,入出金NFT結果!$A:$A,\">=\"&月別集計!AU$1,入出金NFT結果!$A:$A,\"<=\"&月別集計!AU$2)","v":0},{"$f":"SUMIFS(入出金NFT結果!$D:$D,入出金NFT結果!$I:$I,\"=\"&月別集計!$B37,入出金NFT結果!$A:$A,\">=\"&月別集計!AV$1,入出金NFT結果!$A:$A,\"<=\"&月別集計!AV$2)","v":0},{"$f":"SUMIFS(入出金NFT結果!$D:$D,入出金NFT結果!$I:$I,\"=\"&月別集計!$B37,入出金NFT結果!$A:$A,\">=\"&月別集計!AW$1,入出金NFT結果!$A:$A,\"<=\"&月別集計!AW$2)","v":0},{"$f":"SUMIFS(入出金NFT結果!$D:$D,入出金NFT結果!$I:$I,\"=\"&月別集計!$B37,入出金NFT結果!$A:$A,\">=\"&月別集計!AX$1,入出金NFT結果!$A:$A,\"<=\"&月別集計!AX$2)","v":0},{"$f":"SUMIFS(入出金NFT結果!$D:$D,入出金NFT結果!$I:$I,\"=\"&月別集計!$B37,入出金NFT結果!$A:$A,\">=\"&月別集計!AY$1,入出金NFT結果!$A:$A,\"<=\"&月別集計!AY$2)","v":0},{"$f":"SUMIFS(入出金NFT結果!$D:$D,入出金NFT結果!$I:$I,\"=\"&月別集計!$B37,入出金NFT結果!$A:$A,\">=\"&月別集計!AZ$1,入出金NFT結果!$A:$A,\"<=\"&月別集計!AZ$2)","v":0},{"$f":"SUMIFS(入出金NFT結果!$D:$D,入出金NFT結果!$I:$I,\"=\"&月別集計!$B37,入出金NFT結果!$A:$A,\">=\"&月別集計!BA$1,入出金NFT結果!$A:$A,\"<=\"&月別集計!BA$2)","v":0},{"$f":"SUMIFS(入出金NFT結果!$D:$D,入出金NFT結果!$I:$I,\"=\"&月別集計!$B37,入出金NFT結果!$A:$A,\">=\"&月別集計!BB$1,入出金NFT結果!$A:$A,\"<=\"&月別集計!BB$2)","v":0},{"$f":"SUMIFS(入出金NFT結果!$D:$D,入出金NFT結果!$I:$I,\"=\"&月別集計!$B37,入出金NFT結果!$A:$A,\">=\"&月別集計!BC$1,入出金NFT結果!$A:$A,\"<=\"&月別集計!BC$2)","v":0},{"$f":"SUMIFS(入出金NFT結果!$D:$D,入出金NFT結果!$I:$I,\"=\"&月別集計!$B37,入出金NFT結果!$A:$A,\">=\"&月別集計!BD$1,入出金NFT結果!$A:$A,\"<=\"&月別集計!BD$2)","v":0},{"$f":"SUMIFS(入出金NFT結果!$D:$D,入出金NFT結果!$I:$I,\"=\"&月別集計!$B37,入出金NFT結果!$A:$A,\">=\"&月別集計!BE$1,入出金NFT結果!$A:$A,\"<=\"&月別集計!BE$2)","v":0},{"$f":"SUMIFS(入出金NFT結果!$D:$D,入出金NFT結果!$I:$I,\"=\"&月別集計!$B37,入出金NFT結果!$A:$A,\">=\"&月別集計!BF$1,入出金NFT結果!$A:$A,\"<=\"&月別集計!BF$2)","v":0},{"$f":"SUMIFS(入出金NFT結果!$D:$D,入出金NFT結果!$I:$I,\"=\"&月別集計!$B37,入出金NFT結果!$A:$A,\">=\"&月別集計!BG$1,入出金NFT結果!$A:$A,\"<=\"&月別集計!BG$2)","v":0},{"$f":"SUMIFS(入出金NFT結果!$D:$D,入出金NFT結果!$I:$I,\"=\"&月別集計!$B37,入出金NFT結果!$A:$A,\">=\"&月別集計!BH$1,入出金NFT結果!$A:$A,\"<=\"&月別集計!BH$2)","v":0},{"$f":"SUMIFS(入出金NFT結果!$D:$D,入出金NFT結果!$I:$I,\"=\"&月別集計!$B37,入出金NFT結果!$A:$A,\">=\"&月別集計!BI$1,入出金NFT結果!$A:$A,\"<=\"&月別集計!BI$2)","v":0},{"$f":"SUMIFS(入出金NFT結果!$D:$D,入出金NFT結果!$I:$I,\"=\"&月別集計!$B37,入出金NFT結果!$A:$A,\">=\"&月別集計!BJ$1,入出金NFT結果!$A:$A,\"<=\"&月別集計!BJ$2)","v":0},{"$f":"SUMIFS(入出金NFT結果!$D:$D,入出金NFT結果!$I:$I,\"=\"&月別集計!$B37,入出金NFT結果!$A:$A,\">=\"&月別集計!BK$1,入出金NFT結果!$A:$A,\"<=\"&月別集計!BK$2)","v":0},{"$f":"SUMIFS(入出金NFT結果!$D:$D,入出金NFT結果!$I:$I,\"=\"&月別集計!$B37,入出金NFT結果!$A:$A,\">=\"&月別集計!BL$1,入出金NFT結果!$A:$A,\"<=\"&月別集計!BL$2)","v":0},{"$f":"SUMIFS(入出金NFT結果!$D:$D,入出金NFT結果!$I:$I,\"=\"&月別集計!$B37,入出金NFT結果!$A:$A,\">=\"&月別集計!BM$1,入出金NFT結果!$A:$A,\"<=\"&月別集計!BM$2)","v":0}]
[null,{"$f":"推定用途置換ルール!P12","v":"グラフィティレーサー：フィルム購入、シートをゲット"},{"$f":"SUMIFS(入出金NFT結果!$D:$D,入出金NFT結果!$I:$I,\"=\"&月別集計!$B38,入出金NFT結果!$A:$A,\">=\"&月別集計!C$1,入出金NFT結果!$A:$A,\"<=\"&月別集計!C$2)","v":0},{"$f":"SUMIFS(入出金NFT結果!$D:$D,入出金NFT結果!$I:$I,\"=\"&月別集計!$B38,入出金NFT結果!$A:$A,\">=\"&月別集計!D$1,入出金NFT結果!$A:$A,\"<=\"&月別集計!D$2)","v":0},{"$f":"SUMIFS(入出金NFT結果!$D:$D,入出金NFT結果!$I:$I,\"=\"&月別集計!$B38,入出金NFT結果!$A:$A,\">=\"&月別集計!E$1,入出金NFT結果!$A:$A,\"<=\"&月別集計!E$2)","v":0},{"$f":"SUMIFS(入出金NFT結果!$D:$D,入出金NFT結果!$I:$I,\"=\"&月別集計!$B38,入出金NFT結果!$A:$A,\">=\"&月別集計!F$1,入出金NFT結果!$A:$A,\"<=\"&月別集計!F$2)","v":0},{"$f":"SUMIFS(入出金NFT結果!$D:$D,入出金NFT結果!$I:$I,\"=\"&月別集計!$B38,入出金NFT結果!$A:$A,\">=\"&月別集計!G$1,入出金NFT結果!$A:$A,\"<=\"&月別集計!G$2)","v":0},{"$f":"SUMIFS(入出金NFT結果!$D:$D,入出金NFT結果!$I:$I,\"=\"&月別集計!$B38,入出金NFT結果!$A:$A,\">=\"&月別集計!H$1,入出金NFT結果!$A:$A,\"<=\"&月別集計!H$2)","v":0},{"$f":"SUMIFS(入出金NFT結果!$D:$D,入出金NFT結果!$I:$I,\"=\"&月別集計!$B38,入出金NFT結果!$A:$A,\">=\"&月別集計!I$1,入出金NFT結果!$A:$A,\"<=\"&月別集計!I$2)","v":0},{"$f":"SUMIFS(入出金NFT結果!$D:$D,入出金NFT結果!$I:$I,\"=\"&月別集計!$B38,入出金NFT結果!$A:$A,\">=\"&月別集計!J$1,入出金NFT結果!$A:$A,\"<=\"&月別集計!J$2)","v":0},{"$f":"SUMIFS(入出金NFT結果!$D:$D,入出金NFT結果!$I:$I,\"=\"&月別集計!$B38,入出金NFT結果!$A:$A,\">=\"&月別集計!K$1,入出金NFT結果!$A:$A,\"<=\"&月別集計!K$2)","v":0},{"$f":"SUMIFS(入出金NFT結果!$D:$D,入出金NFT結果!$I:$I,\"=\"&月別集計!$B38,入出金NFT結果!$A:$A,\">=\"&月別集計!L$1,入出金NFT結果!$A:$A,\"<=\"&月別集計!L$2)","v":0},{"$f":"SUMIFS(入出金NFT結果!$D:$D,入出金NFT結果!$I:$I,\"=\"&月別集計!$B38,入出金NFT結果!$A:$A,\">=\"&月別集計!M$1,入出金NFT結果!$A:$A,\"<=\"&月別集計!M$2)","v":0},{"$f":"SUMIFS(入出金NFT結果!$D:$D,入出金NFT結果!$I:$I,\"=\"&月別集計!$B38,入出金NFT結果!$A:$A,\">=\"&月別集計!N$1,入出金NFT結果!$A:$A,\"<=\"&月別集計!N$2)","v":0},{"$f":"SUMIFS(入出金NFT結果!$D:$D,入出金NFT結果!$I:$I,\"=\"&月別集計!$B38,入出金NFT結果!$A:$A,\">=\"&月別集計!O$1,入出金NFT結果!$A:$A,\"<=\"&月別集計!O$2)","v":0},{"$f":"SUMIFS(入出金NFT結果!$D:$D,入出金NFT結果!$I:$I,\"=\"&月別集計!$B38,入出金NFT結果!$A:$A,\">=\"&月別集計!P$1,入出金NFT結果!$A:$A,\"<=\"&月別集計!P$2)","v":0},{"$f":"SUMIFS(入出金NFT結果!$D:$D,入出金NFT結果!$I:$I,\"=\"&月別集計!$B38,入出金NFT結果!$A:$A,\">=\"&月別集計!Q$1,入出金NFT結果!$A:$A,\"<=\"&月別集計!Q$2)","v":0},{"$f":"SUMIFS(入出金NFT結果!$D:$D,入出金NFT結果!$I:$I,\"=\"&月別集計!$B38,入出金NFT結果!$A:$A,\">=\"&月別集計!R$1,入出金NFT結果!$A:$A,\"<=\"&月別集計!R$2)","v":0},{"$f":"SUMIFS(入出金NFT結果!$D:$D,入出金NFT結果!$I:$I,\"=\"&月別集計!$B38,入出金NFT結果!$A:$A,\">=\"&月別集計!S$1,入出金NFT結果!$A:$A,\"<=\"&月別集計!S$2)","v":0},{"$f":"SUMIFS(入出金NFT結果!$D:$D,入出金NFT結果!$I:$I,\"=\"&月別集計!$B38,入出金NFT結果!$A:$A,\">=\"&月別集計!T$1,入出金NFT結果!$A:$A,\"<=\"&月別集計!T$2)","v":0},{"$f":"SUMIFS(入出金NFT結果!$D:$D,入出金NFT結果!$I:$I,\"=\"&月別集計!$B38,入出金NFT結果!$A:$A,\">=\"&月別集計!U$1,入出金NFT結果!$A:$A,\"<=\"&月別集計!U$2)","v":0},{"$f":"SUMIFS(入出金NFT結果!$D:$D,入出金NFT結果!$I:$I,\"=\"&月別集計!$B38,入出金NFT結果!$A:$A,\">=\"&月別集計!V$1,入出金NFT結果!$A:$A,\"<=\"&月別集計!V$2)","v":0},{"$f":"SUMIFS(入出金NFT結果!$D:$D,入出金NFT結果!$I:$I,\"=\"&月別集計!$B38,入出金NFT結果!$A:$A,\">=\"&月別集計!W$1,入出金NFT結果!$A:$A,\"<=\"&月別集計!W$2)","v":0},{"$f":"SUMIFS(入出金NFT結果!$D:$D,入出金NFT結果!$I:$I,\"=\"&月別集計!$B38,入出金NFT結果!$A:$A,\">=\"&月別集計!X$1,入出金NFT結果!$A:$A,\"<=\"&月別集計!X$2)","v":0},{"$f":"SUMIFS(入出金NFT結果!$D:$D,入出金NFT結果!$I:$I,\"=\"&月別集計!$B38,入出金NFT結果!$A:$A,\">=\"&月別集計!Y$1,入出金NFT結果!$A:$A,\"<=\"&月別集計!Y$2)","v":0},{"$f":"SUMIFS(入出金NFT結果!$D:$D,入出金NFT結果!$I:$I,\"=\"&月別集計!$B38,入出金NFT結果!$A:$A,\">=\"&月別集計!Z$1,入出金NFT結果!$A:$A,\"<=\"&月別集計!Z$2)","v":0},{"$f":"SUMIFS(入出金NFT結果!$D:$D,入出金NFT結果!$I:$I,\"=\"&月別集計!$B38,入出金NFT結果!$A:$A,\">=\"&月別集計!AA$1,入出金NFT結果!$A:$A,\"<=\"&月別集計!AA$2)","v":0},{"$f":"SUMIFS(入出金NFT結果!$D:$D,入出金NFT結果!$I:$I,\"=\"&月別集計!$B38,入出金NFT結果!$A:$A,\">=\"&月別集計!AB$1,入出金NFT結果!$A:$A,\"<=\"&月別集計!AB$2)","v":0},{"$f":"SUMIFS(入出金NFT結果!$D:$D,入出金NFT結果!$I:$I,\"=\"&月別集計!$B38,入出金NFT結果!$A:$A,\">=\"&月別集計!AC$1,入出金NFT結果!$A:$A,\"<=\"&月別集計!AC$2)","v":0},{"$f":"SUMIFS(入出金NFT結果!$D:$D,入出金NFT結果!$I:$I,\"=\"&月別集計!$B38,入出金NFT結果!$A:$A,\">=\"&月別集計!AD$1,入出金NFT結果!$A:$A,\"<=\"&月別集計!AD$2)","v":0},{"$f":"SUMIFS(入出金NFT結果!$D:$D,入出金NFT結果!$I:$I,\"=\"&月別集計!$B38,入出金NFT結果!$A:$A,\">=\"&月別集計!AE$1,入出金NFT結果!$A:$A,\"<=\"&月別集計!AE$2)","v":0},{"$f":"SUMIFS(入出金NFT結果!$D:$D,入出金NFT結果!$I:$I,\"=\"&月別集計!$B38,入出金NFT結果!$A:$A,\">=\"&月別集計!AF$1,入出金NFT結果!$A:$A,\"<=\"&月別集計!AF$2)","v":0},{"$f":"SUMIFS(入出金NFT結果!$D:$D,入出金NFT結果!$I:$I,\"=\"&月別集計!$B38,入出金NFT結果!$A:$A,\">=\"&月別集計!AG$1,入出金NFT結果!$A:$A,\"<=\"&月別集計!AG$2)","v":0},{"$f":"SUMIFS(入出金NFT結果!$D:$D,入出金NFT結果!$I:$I,\"=\"&月別集計!$B38,入出金NFT結果!$A:$A,\">=\"&月別集計!AH$1,入出金NFT結果!$A:$A,\"<=\"&月別集計!AH$2)","v":0},{"$f":"SUMIFS(入出金NFT結果!$D:$D,入出金NFT結果!$I:$I,\"=\"&月別集計!$B38,入出金NFT結果!$A:$A,\">=\"&月別集計!AI$1,入出金NFT結果!$A:$A,\"<=\"&月別集計!AI$2)","v":0},{"$f":"SUMIFS(入出金NFT結果!$D:$D,入出金NFT結果!$I:$I,\"=\"&月別集計!$B38,入出金NFT結果!$A:$A,\">=\"&月別集計!AJ$1,入出金NFT結果!$A:$A,\"<=\"&月別集計!AJ$2)","v":0},{"$f":"SUMIFS(入出金NFT結果!$D:$D,入出金NFT結果!$I:$I,\"=\"&月別集計!$B38,入出金NFT結果!$A:$A,\">=\"&月別集計!AK$1,入出金NFT結果!$A:$A,\"<=\"&月別集計!AK$2)","v":0},{"$f":"SUMIFS(入出金NFT結果!$D:$D,入出金NFT結果!$I:$I,\"=\"&月別集計!$B38,入出金NFT結果!$A:$A,\">=\"&月別集計!AL$1,入出金NFT結果!$A:$A,\"<=\"&月別集計!AL$2)","v":0},{"$f":"SUMIFS(入出金NFT結果!$D:$D,入出金NFT結果!$I:$I,\"=\"&月別集計!$B38,入出金NFT結果!$A:$A,\">=\"&月別集計!AM$1,入出金NFT結果!$A:$A,\"<=\"&月別集計!AM$2)","v":0},{"$f":"SUMIFS(入出金NFT結果!$D:$D,入出金NFT結果!$I:$I,\"=\"&月別集計!$B38,入出金NFT結果!$A:$A,\">=\"&月別集計!AN$1,入出金NFT結果!$A:$A,\"<=\"&月別集計!AN$2)","v":0},{"$f":"SUMIFS(入出金NFT結果!$D:$D,入出金NFT結果!$I:$I,\"=\"&月別集計!$B38,入出金NFT結果!$A:$A,\">=\"&月別集計!AO$1,入出金NFT結果!$A:$A,\"<=\"&月別集計!AO$2)","v":0},{"$f":"SUMIFS(入出金NFT結果!$D:$D,入出金NFT結果!$I:$I,\"=\"&月別集計!$B38,入出金NFT結果!$A:$A,\">=\"&月別集計!AP$1,入出金NFT結果!$A:$A,\"<=\"&月別集計!AP$2)","v":0},{"$f":"SUMIFS(入出金NFT結果!$D:$D,入出金NFT結果!$I:$I,\"=\"&月別集計!$B38,入出金NFT結果!$A:$A,\">=\"&月別集計!AQ$1,入出金NFT結果!$A:$A,\"<=\"&月別集計!AQ$2)","v":0},{"$f":"SUMIFS(入出金NFT結果!$D:$D,入出金NFT結果!$I:$I,\"=\"&月別集計!$B38,入出金NFT結果!$A:$A,\">=\"&月別集計!AR$1,入出金NFT結果!$A:$A,\"<=\"&月別集計!AR$2)","v":0},{"$f":"SUMIFS(入出金NFT結果!$D:$D,入出金NFT結果!$I:$I,\"=\"&月別集計!$B38,入出金NFT結果!$A:$A,\">=\"&月別集計!AS$1,入出金NFT結果!$A:$A,\"<=\"&月別集計!AS$2)","v":0},{"$f":"SUMIFS(入出金NFT結果!$D:$D,入出金NFT結果!$I:$I,\"=\"&月別集計!$B38,入出金NFT結果!$A:$A,\">=\"&月別集計!AT$1,入出金NFT結果!$A:$A,\"<=\"&月別集計!AT$2)","v":0},{"$f":"SUMIFS(入出金NFT結果!$D:$D,入出金NFT結果!$I:$I,\"=\"&月別集計!$B38,入出金NFT結果!$A:$A,\">=\"&月別集計!AU$1,入出金NFT結果!$A:$A,\"<=\"&月別集計!AU$2)","v":0},{"$f":"SUMIFS(入出金NFT結果!$D:$D,入出金NFT結果!$I:$I,\"=\"&月別集計!$B38,入出金NFT結果!$A:$A,\">=\"&月別集計!AV$1,入出金NFT結果!$A:$A,\"<=\"&月別集計!AV$2)","v":0},{"$f":"SUMIFS(入出金NFT結果!$D:$D,入出金NFT結果!$I:$I,\"=\"&月別集計!$B38,入出金NFT結果!$A:$A,\">=\"&月別集計!AW$1,入出金NFT結果!$A:$A,\"<=\"&月別集計!AW$2)","v":0},{"$f":"SUMIFS(入出金NFT結果!$D:$D,入出金NFT結果!$I:$I,\"=\"&月別集計!$B38,入出金NFT結果!$A:$A,\">=\"&月別集計!AX$1,入出金NFT結果!$A:$A,\"<=\"&月別集計!AX$2)","v":0},{"$f":"SUMIFS(入出金NFT結果!$D:$D,入出金NFT結果!$I:$I,\"=\"&月別集計!$B38,入出金NFT結果!$A:$A,\">=\"&月別集計!AY$1,入出金NFT結果!$A:$A,\"<=\"&月別集計!AY$2)","v":0},{"$f":"SUMIFS(入出金NFT結果!$D:$D,入出金NFT結果!$I:$I,\"=\"&月別集計!$B38,入出金NFT結果!$A:$A,\">=\"&月別集計!AZ$1,入出金NFT結果!$A:$A,\"<=\"&月別集計!AZ$2)","v":0},{"$f":"SUMIFS(入出金NFT結果!$D:$D,入出金NFT結果!$I:$I,\"=\"&月別集計!$B38,入出金NFT結果!$A:$A,\">=\"&月別集計!BA$1,入出金NFT結果!$A:$A,\"<=\"&月別集計!BA$2)","v":0},{"$f":"SUMIFS(入出金NFT結果!$D:$D,入出金NFT結果!$I:$I,\"=\"&月別集計!$B38,入出金NFT結果!$A:$A,\">=\"&月別集計!BB$1,入出金NFT結果!$A:$A,\"<=\"&月別集計!BB$2)","v":0},{"$f":"SUMIFS(入出金NFT結果!$D:$D,入出金NFT結果!$I:$I,\"=\"&月別集計!$B38,入出金NFT結果!$A:$A,\">=\"&月別集計!BC$1,入出金NFT結果!$A:$A,\"<=\"&月別集計!BC$2)","v":0},{"$f":"SUMIFS(入出金NFT結果!$D:$D,入出金NFT結果!$I:$I,\"=\"&月別集計!$B38,入出金NFT結果!$A:$A,\">=\"&月別集計!BD$1,入出金NFT結果!$A:$A,\"<=\"&月別集計!BD$2)","v":0},{"$f":"SUMIFS(入出金NFT結果!$D:$D,入出金NFT結果!$I:$I,\"=\"&月別集計!$B38,入出金NFT結果!$A:$A,\">=\"&月別集計!BE$1,入出金NFT結果!$A:$A,\"<=\"&月別集計!BE$2)","v":0},{"$f":"SUMIFS(入出金NFT結果!$D:$D,入出金NFT結果!$I:$I,\"=\"&月別集計!$B38,入出金NFT結果!$A:$A,\">=\"&月別集計!BF$1,入出金NFT結果!$A:$A,\"<=\"&月別集計!BF$2)","v":0},{"$f":"SUMIFS(入出金NFT結果!$D:$D,入出金NFT結果!$I:$I,\"=\"&月別集計!$B38,入出金NFT結果!$A:$A,\">=\"&月別集計!BG$1,入出金NFT結果!$A:$A,\"<=\"&月別集計!BG$2)","v":0},{"$f":"SUMIFS(入出金NFT結果!$D:$D,入出金NFT結果!$I:$I,\"=\"&月別集計!$B38,入出金NFT結果!$A:$A,\">=\"&月別集計!BH$1,入出金NFT結果!$A:$A,\"<=\"&月別集計!BH$2)","v":0},{"$f":"SUMIFS(入出金NFT結果!$D:$D,入出金NFT結果!$I:$I,\"=\"&月別集計!$B38,入出金NFT結果!$A:$A,\">=\"&月別集計!BI$1,入出金NFT結果!$A:$A,\"<=\"&月別集計!BI$2)","v":0},{"$f":"SUMIFS(入出金NFT結果!$D:$D,入出金NFT結果!$I:$I,\"=\"&月別集計!$B38,入出金NFT結果!$A:$A,\">=\"&月別集計!BJ$1,入出金NFT結果!$A:$A,\"<=\"&月別集計!BJ$2)","v":0},{"$f":"SUMIFS(入出金NFT結果!$D:$D,入出金NFT結果!$I:$I,\"=\"&月別集計!$B38,入出金NFT結果!$A:$A,\">=\"&月別集計!BK$1,入出金NFT結果!$A:$A,\"<=\"&月別集計!BK$2)","v":0},{"$f":"SUMIFS(入出金NFT結果!$D:$D,入出金NFT結果!$I:$I,\"=\"&月別集計!$B38,入出金NFT結果!$A:$A,\">=\"&月別集計!BL$1,入出金NFT結果!$A:$A,\"<=\"&月別集計!BL$2)","v":0},{"$f":"SUMIFS(入出金NFT結果!$D:$D,入出金NFT結果!$I:$I,\"=\"&月別集計!$B38,入出金NFT結果!$A:$A,\">=\"&月別集計!BM$1,入出金NFT結果!$A:$A,\"<=\"&月別集計!BM$2)","v":0}]
[null,{"$f":"推定用途置換ルール!P13","v":"Cookin’ Burger：shop修復"},{"$f":"SUMIFS(入出金NFT結果!$D:$D,入出金NFT結果!$I:$I,\"=\"&月別集計!$B39,入出金NFT結果!$A:$A,\">=\"&月別集計!C$1,入出金NFT結果!$A:$A,\"<=\"&月別集計!C$2)","v":0},{"$f":"SUMIFS(入出金NFT結果!$D:$D,入出金NFT結果!$I:$I,\"=\"&月別集計!$B39,入出金NFT結果!$A:$A,\">=\"&月別集計!D$1,入出金NFT結果!$A:$A,\"<=\"&月別集計!D$2)","v":0},{"$f":"SUMIFS(入出金NFT結果!$D:$D,入出金NFT結果!$I:$I,\"=\"&月別集計!$B39,入出金NFT結果!$A:$A,\">=\"&月別集計!E$1,入出金NFT結果!$A:$A,\"<=\"&月別集計!E$2)","v":0},{"$f":"SUMIFS(入出金NFT結果!$D:$D,入出金NFT結果!$I:$I,\"=\"&月別集計!$B39,入出金NFT結果!$A:$A,\">=\"&月別集計!F$1,入出金NFT結果!$A:$A,\"<=\"&月別集計!F$2)","v":0},{"$f":"SUMIFS(入出金NFT結果!$D:$D,入出金NFT結果!$I:$I,\"=\"&月別集計!$B39,入出金NFT結果!$A:$A,\">=\"&月別集計!G$1,入出金NFT結果!$A:$A,\"<=\"&月別集計!G$2)","v":0},{"$f":"SUMIFS(入出金NFT結果!$D:$D,入出金NFT結果!$I:$I,\"=\"&月別集計!$B39,入出金NFT結果!$A:$A,\">=\"&月別集計!H$1,入出金NFT結果!$A:$A,\"<=\"&月別集計!H$2)","v":0},{"$f":"SUMIFS(入出金NFT結果!$D:$D,入出金NFT結果!$I:$I,\"=\"&月別集計!$B39,入出金NFT結果!$A:$A,\">=\"&月別集計!I$1,入出金NFT結果!$A:$A,\"<=\"&月別集計!I$2)","v":0},{"$f":"SUMIFS(入出金NFT結果!$D:$D,入出金NFT結果!$I:$I,\"=\"&月別集計!$B39,入出金NFT結果!$A:$A,\">=\"&月別集計!J$1,入出金NFT結果!$A:$A,\"<=\"&月別集計!J$2)","v":0},{"$f":"SUMIFS(入出金NFT結果!$D:$D,入出金NFT結果!$I:$I,\"=\"&月別集計!$B39,入出金NFT結果!$A:$A,\">=\"&月別集計!K$1,入出金NFT結果!$A:$A,\"<=\"&月別集計!K$2)","v":0},{"$f":"SUMIFS(入出金NFT結果!$D:$D,入出金NFT結果!$I:$I,\"=\"&月別集計!$B39,入出金NFT結果!$A:$A,\">=\"&月別集計!L$1,入出金NFT結果!$A:$A,\"<=\"&月別集計!L$2)","v":0},{"$f":"SUMIFS(入出金NFT結果!$D:$D,入出金NFT結果!$I:$I,\"=\"&月別集計!$B39,入出金NFT結果!$A:$A,\">=\"&月別集計!M$1,入出金NFT結果!$A:$A,\"<=\"&月別集計!M$2)","v":0},{"$f":"SUMIFS(入出金NFT結果!$D:$D,入出金NFT結果!$I:$I,\"=\"&月別集計!$B39,入出金NFT結果!$A:$A,\">=\"&月別集計!N$1,入出金NFT結果!$A:$A,\"<=\"&月別集計!N$2)","v":0},{"$f":"SUMIFS(入出金NFT結果!$D:$D,入出金NFT結果!$I:$I,\"=\"&月別集計!$B39,入出金NFT結果!$A:$A,\">=\"&月別集計!O$1,入出金NFT結果!$A:$A,\"<=\"&月別集計!O$2)","v":0},{"$f":"SUMIFS(入出金NFT結果!$D:$D,入出金NFT結果!$I:$I,\"=\"&月別集計!$B39,入出金NFT結果!$A:$A,\">=\"&月別集計!P$1,入出金NFT結果!$A:$A,\"<=\"&月別集計!P$2)","v":0},{"$f":"SUMIFS(入出金NFT結果!$D:$D,入出金NFT結果!$I:$I,\"=\"&月別集計!$B39,入出金NFT結果!$A:$A,\">=\"&月別集計!Q$1,入出金NFT結果!$A:$A,\"<=\"&月別集計!Q$2)","v":0},{"$f":"SUMIFS(入出金NFT結果!$D:$D,入出金NFT結果!$I:$I,\"=\"&月別集計!$B39,入出金NFT結果!$A:$A,\">=\"&月別集計!R$1,入出金NFT結果!$A:$A,\"<=\"&月別集計!R$2)","v":0},{"$f":"SUMIFS(入出金NFT結果!$D:$D,入出金NFT結果!$I:$I,\"=\"&月別集計!$B39,入出金NFT結果!$A:$A,\">=\"&月別集計!S$1,入出金NFT結果!$A:$A,\"<=\"&月別集計!S$2)","v":0},{"$f":"SUMIFS(入出金NFT結果!$D:$D,入出金NFT結果!$I:$I,\"=\"&月別集計!$B39,入出金NFT結果!$A:$A,\">=\"&月別集計!T$1,入出金NFT結果!$A:$A,\"<=\"&月別集計!T$2)","v":0},{"$f":"SUMIFS(入出金NFT結果!$D:$D,入出金NFT結果!$I:$I,\"=\"&月別集計!$B39,入出金NFT結果!$A:$A,\">=\"&月別集計!U$1,入出金NFT結果!$A:$A,\"<=\"&月別集計!U$2)","v":0},{"$f":"SUMIFS(入出金NFT結果!$D:$D,入出金NFT結果!$I:$I,\"=\"&月別集計!$B39,入出金NFT結果!$A:$A,\">=\"&月別集計!V$1,入出金NFT結果!$A:$A,\"<=\"&月別集計!V$2)","v":0},{"$f":"SUMIFS(入出金NFT結果!$D:$D,入出金NFT結果!$I:$I,\"=\"&月別集計!$B39,入出金NFT結果!$A:$A,\">=\"&月別集計!W$1,入出金NFT結果!$A:$A,\"<=\"&月別集計!W$2)","v":0},{"$f":"SUMIFS(入出金NFT結果!$D:$D,入出金NFT結果!$I:$I,\"=\"&月別集計!$B39,入出金NFT結果!$A:$A,\">=\"&月別集計!X$1,入出金NFT結果!$A:$A,\"<=\"&月別集計!X$2)","v":0},{"$f":"SUMIFS(入出金NFT結果!$D:$D,入出金NFT結果!$I:$I,\"=\"&月別集計!$B39,入出金NFT結果!$A:$A,\">=\"&月別集計!Y$1,入出金NFT結果!$A:$A,\"<=\"&月別集計!Y$2)","v":0},{"$f":"SUMIFS(入出金NFT結果!$D:$D,入出金NFT結果!$I:$I,\"=\"&月別集計!$B39,入出金NFT結果!$A:$A,\">=\"&月別集計!Z$1,入出金NFT結果!$A:$A,\"<=\"&月別集計!Z$2)","v":0},{"$f":"SUMIFS(入出金NFT結果!$D:$D,入出金NFT結果!$I:$I,\"=\"&月別集計!$B39,入出金NFT結果!$A:$A,\">=\"&月別集計!AA$1,入出金NFT結果!$A:$A,\"<=\"&月別集計!AA$2)","v":0},{"$f":"SUMIFS(入出金NFT結果!$D:$D,入出金NFT結果!$I:$I,\"=\"&月別集計!$B39,入出金NFT結果!$A:$A,\">=\"&月別集計!AB$1,入出金NFT結果!$A:$A,\"<=\"&月別集計!AB$2)","v":0},{"$f":"SUMIFS(入出金NFT結果!$D:$D,入出金NFT結果!$I:$I,\"=\"&月別集計!$B39,入出金NFT結果!$A:$A,\">=\"&月別集計!AC$1,入出金NFT結果!$A:$A,\"<=\"&月別集計!AC$2)","v":0},{"$f":"SUMIFS(入出金NFT結果!$D:$D,入出金NFT結果!$I:$I,\"=\"&月別集計!$B39,入出金NFT結果!$A:$A,\">=\"&月別集計!AD$1,入出金NFT結果!$A:$A,\"<=\"&月別集計!AD$2)","v":0},{"$f":"SUMIFS(入出金NFT結果!$D:$D,入出金NFT結果!$I:$I,\"=\"&月別集計!$B39,入出金NFT結果!$A:$A,\">=\"&月別集計!AE$1,入出金NFT結果!$A:$A,\"<=\"&月別集計!AE$2)","v":0},{"$f":"SUMIFS(入出金NFT結果!$D:$D,入出金NFT結果!$I:$I,\"=\"&月別集計!$B39,入出金NFT結果!$A:$A,\">=\"&月別集計!AF$1,入出金NFT結果!$A:$A,\"<=\"&月別集計!AF$2)","v":0},{"$f":"SUMIFS(入出金NFT結果!$D:$D,入出金NFT結果!$I:$I,\"=\"&月別集計!$B39,入出金NFT結果!$A:$A,\">=\"&月別集計!AG$1,入出金NFT結果!$A:$A,\"<=\"&月別集計!AG$2)","v":0},{"$f":"SUMIFS(入出金NFT結果!$D:$D,入出金NFT結果!$I:$I,\"=\"&月別集計!$B39,入出金NFT結果!$A:$A,\">=\"&月別集計!AH$1,入出金NFT結果!$A:$A,\"<=\"&月別集計!AH$2)","v":0},{"$f":"SUMIFS(入出金NFT結果!$D:$D,入出金NFT結果!$I:$I,\"=\"&月別集計!$B39,入出金NFT結果!$A:$A,\">=\"&月別集計!AI$1,入出金NFT結果!$A:$A,\"<=\"&月別集計!AI$2)","v":0},{"$f":"SUMIFS(入出金NFT結果!$D:$D,入出金NFT結果!$I:$I,\"=\"&月別集計!$B39,入出金NFT結果!$A:$A,\">=\"&月別集計!AJ$1,入出金NFT結果!$A:$A,\"<=\"&月別集計!AJ$2)","v":0},{"$f":"SUMIFS(入出金NFT結果!$D:$D,入出金NFT結果!$I:$I,\"=\"&月別集計!$B39,入出金NFT結果!$A:$A,\">=\"&月別集計!AK$1,入出金NFT結果!$A:$A,\"<=\"&月別集計!AK$2)","v":0},{"$f":"SUMIFS(入出金NFT結果!$D:$D,入出金NFT結果!$I:$I,\"=\"&月別集計!$B39,入出金NFT結果!$A:$A,\">=\"&月別集計!AL$1,入出金NFT結果!$A:$A,\"<=\"&月別集計!AL$2)","v":0},{"$f":"SUMIFS(入出金NFT結果!$D:$D,入出金NFT結果!$I:$I,\"=\"&月別集計!$B39,入出金NFT結果!$A:$A,\">=\"&月別集計!AM$1,入出金NFT結果!$A:$A,\"<=\"&月別集計!AM$2)","v":0},{"$f":"SUMIFS(入出金NFT結果!$D:$D,入出金NFT結果!$I:$I,\"=\"&月別集計!$B39,入出金NFT結果!$A:$A,\">=\"&月別集計!AN$1,入出金NFT結果!$A:$A,\"<=\"&月別集計!AN$2)","v":0},{"$f":"SUMIFS(入出金NFT結果!$D:$D,入出金NFT結果!$I:$I,\"=\"&月別集計!$B39,入出金NFT結果!$A:$A,\">=\"&月別集計!AO$1,入出金NFT結果!$A:$A,\"<=\"&月別集計!AO$2)","v":0},{"$f":"SUMIFS(入出金NFT結果!$D:$D,入出金NFT結果!$I:$I,\"=\"&月別集計!$B39,入出金NFT結果!$A:$A,\">=\"&月別集計!AP$1,入出金NFT結果!$A:$A,\"<=\"&月別集計!AP$2)","v":0},{"$f":"SUMIFS(入出金NFT結果!$D:$D,入出金NFT結果!$I:$I,\"=\"&月別集計!$B39,入出金NFT結果!$A:$A,\">=\"&月別集計!AQ$1,入出金NFT結果!$A:$A,\"<=\"&月別集計!AQ$2)","v":0},{"$f":"SUMIFS(入出金NFT結果!$D:$D,入出金NFT結果!$I:$I,\"=\"&月別集計!$B39,入出金NFT結果!$A:$A,\">=\"&月別集計!AR$1,入出金NFT結果!$A:$A,\"<=\"&月別集計!AR$2)","v":0},{"$f":"SUMIFS(入出金NFT結果!$D:$D,入出金NFT結果!$I:$I,\"=\"&月別集計!$B39,入出金NFT結果!$A:$A,\">=\"&月別集計!AS$1,入出金NFT結果!$A:$A,\"<=\"&月別集計!AS$2)","v":0},{"$f":"SUMIFS(入出金NFT結果!$D:$D,入出金NFT結果!$I:$I,\"=\"&月別集計!$B39,入出金NFT結果!$A:$A,\">=\"&月別集計!AT$1,入出金NFT結果!$A:$A,\"<=\"&月別集計!AT$2)","v":0},{"$f":"SUMIFS(入出金NFT結果!$D:$D,入出金NFT結果!$I:$I,\"=\"&月別集計!$B39,入出金NFT結果!$A:$A,\">=\"&月別集計!AU$1,入出金NFT結果!$A:$A,\"<=\"&月別集計!AU$2)","v":0},{"$f":"SUMIFS(入出金NFT結果!$D:$D,入出金NFT結果!$I:$I,\"=\"&月別集計!$B39,入出金NFT結果!$A:$A,\">=\"&月別集計!AV$1,入出金NFT結果!$A:$A,\"<=\"&月別集計!AV$2)","v":0},{"$f":"SUMIFS(入出金NFT結果!$D:$D,入出金NFT結果!$I:$I,\"=\"&月別集計!$B39,入出金NFT結果!$A:$A,\">=\"&月別集計!AW$1,入出金NFT結果!$A:$A,\"<=\"&月別集計!AW$2)","v":0},{"$f":"SUMIFS(入出金NFT結果!$D:$D,入出金NFT結果!$I:$I,\"=\"&月別集計!$B39,入出金NFT結果!$A:$A,\">=\"&月別集計!AX$1,入出金NFT結果!$A:$A,\"<=\"&月別集計!AX$2)","v":0},{"$f":"SUMIFS(入出金NFT結果!$D:$D,入出金NFT結果!$I:$I,\"=\"&月別集計!$B39,入出金NFT結果!$A:$A,\">=\"&月別集計!AY$1,入出金NFT結果!$A:$A,\"<=\"&月別集計!AY$2)","v":0},{"$f":"SUMIFS(入出金NFT結果!$D:$D,入出金NFT結果!$I:$I,\"=\"&月別集計!$B39,入出金NFT結果!$A:$A,\">=\"&月別集計!AZ$1,入出金NFT結果!$A:$A,\"<=\"&月別集計!AZ$2)","v":0},{"$f":"SUMIFS(入出金NFT結果!$D:$D,入出金NFT結果!$I:$I,\"=\"&月別集計!$B39,入出金NFT結果!$A:$A,\">=\"&月別集計!BA$1,入出金NFT結果!$A:$A,\"<=\"&月別集計!BA$2)","v":0},{"$f":"SUMIFS(入出金NFT結果!$D:$D,入出金NFT結果!$I:$I,\"=\"&月別集計!$B39,入出金NFT結果!$A:$A,\">=\"&月別集計!BB$1,入出金NFT結果!$A:$A,\"<=\"&月別集計!BB$2)","v":0},{"$f":"SUMIFS(入出金NFT結果!$D:$D,入出金NFT結果!$I:$I,\"=\"&月別集計!$B39,入出金NFT結果!$A:$A,\">=\"&月別集計!BC$1,入出金NFT結果!$A:$A,\"<=\"&月別集計!BC$2)","v":0},{"$f":"SUMIFS(入出金NFT結果!$D:$D,入出金NFT結果!$I:$I,\"=\"&月別集計!$B39,入出金NFT結果!$A:$A,\">=\"&月別集計!BD$1,入出金NFT結果!$A:$A,\"<=\"&月別集計!BD$2)","v":0},{"$f":"SUMIFS(入出金NFT結果!$D:$D,入出金NFT結果!$I:$I,\"=\"&月別集計!$B39,入出金NFT結果!$A:$A,\">=\"&月別集計!BE$1,入出金NFT結果!$A:$A,\"<=\"&月別集計!BE$2)","v":0},{"$f":"SUMIFS(入出金NFT結果!$D:$D,入出金NFT結果!$I:$I,\"=\"&月別集計!$B39,入出金NFT結果!$A:$A,\">=\"&月別集計!BF$1,入出金NFT結果!$A:$A,\"<=\"&月別集計!BF$2)","v":0},{"$f":"SUMIFS(入出金NFT結果!$D:$D,入出金NFT結果!$I:$I,\"=\"&月別集計!$B39,入出金NFT結果!$A:$A,\">=\"&月別集計!BG$1,入出金NFT結果!$A:$A,\"<=\"&月別集計!BG$2)","v":0},{"$f":"SUMIFS(入出金NFT結果!$D:$D,入出金NFT結果!$I:$I,\"=\"&月別集計!$B39,入出金NFT結果!$A:$A,\">=\"&月別集計!BH$1,入出金NFT結果!$A:$A,\"<=\"&月別集計!BH$2)","v":0},{"$f":"SUMIFS(入出金NFT結果!$D:$D,入出金NFT結果!$I:$I,\"=\"&月別集計!$B39,入出金NFT結果!$A:$A,\">=\"&月別集計!BI$1,入出金NFT結果!$A:$A,\"<=\"&月別集計!BI$2)","v":0},{"$f":"SUMIFS(入出金NFT結果!$D:$D,入出金NFT結果!$I:$I,\"=\"&月別集計!$B39,入出金NFT結果!$A:$A,\">=\"&月別集計!BJ$1,入出金NFT結果!$A:$A,\"<=\"&月別集計!BJ$2)","v":0},{"$f":"SUMIFS(入出金NFT結果!$D:$D,入出金NFT結果!$I:$I,\"=\"&月別集計!$B39,入出金NFT結果!$A:$A,\">=\"&月別集計!BK$1,入出金NFT結果!$A:$A,\"<=\"&月別集計!BK$2)","v":0},{"$f":"SUMIFS(入出金NFT結果!$D:$D,入出金NFT結果!$I:$I,\"=\"&月別集計!$B39,入出金NFT結果!$A:$A,\">=\"&月別集計!BL$1,入出金NFT結果!$A:$A,\"<=\"&月別集計!BL$2)","v":0},{"$f":"SUMIFS(入出金NFT結果!$D:$D,入出金NFT結果!$I:$I,\"=\"&月別集計!$B39,入出金NFT結果!$A:$A,\">=\"&月別集計!BM$1,入出金NFT結果!$A:$A,\"<=\"&月別集計!BM$2)","v":0}]
[null,{"$f":"推定用途置換ルール!P14","v":"LuckyFarmer：スタミナゲージ回復"},{"$f":"SUMIFS(入出金NFT結果!$D:$D,入出金NFT結果!$I:$I,\"=\"&月別集計!$B40,入出金NFT結果!$A:$A,\">=\"&月別集計!C$1,入出金NFT結果!$A:$A,\"<=\"&月別集計!C$2)","v":0},{"$f":"SUMIFS(入出金NFT結果!$D:$D,入出金NFT結果!$I:$I,\"=\"&月別集計!$B40,入出金NFT結果!$A:$A,\">=\"&月別集計!D$1,入出金NFT結果!$A:$A,\"<=\"&月別集計!D$2)","v":0},{"$f":"SUMIFS(入出金NFT結果!$D:$D,入出金NFT結果!$I:$I,\"=\"&月別集計!$B40,入出金NFT結果!$A:$A,\">=\"&月別集計!E$1,入出金NFT結果!$A:$A,\"<=\"&月別集計!E$2)","v":0},{"$f":"SUMIFS(入出金NFT結果!$D:$D,入出金NFT結果!$I:$I,\"=\"&月別集計!$B40,入出金NFT結果!$A:$A,\">=\"&月別集計!F$1,入出金NFT結果!$A:$A,\"<=\"&月別集計!F$2)","v":0},{"$f":"SUMIFS(入出金NFT結果!$D:$D,入出金NFT結果!$I:$I,\"=\"&月別集計!$B40,入出金NFT結果!$A:$A,\">=\"&月別集計!G$1,入出金NFT結果!$A:$A,\"<=\"&月別集計!G$2)","v":0},{"$f":"SUMIFS(入出金NFT結果!$D:$D,入出金NFT結果!$I:$I,\"=\"&月別集計!$B40,入出金NFT結果!$A:$A,\">=\"&月別集計!H$1,入出金NFT結果!$A:$A,\"<=\"&月別集計!H$2)","v":0},{"$f":"SUMIFS(入出金NFT結果!$D:$D,入出金NFT結果!$I:$I,\"=\"&月別集計!$B40,入出金NFT結果!$A:$A,\">=\"&月別集計!I$1,入出金NFT結果!$A:$A,\"<=\"&月別集計!I$2)","v":0},{"$f":"SUMIFS(入出金NFT結果!$D:$D,入出金NFT結果!$I:$I,\"=\"&月別集計!$B40,入出金NFT結果!$A:$A,\">=\"&月別集計!J$1,入出金NFT結果!$A:$A,\"<=\"&月別集計!J$2)","v":0},{"$f":"SUMIFS(入出金NFT結果!$D:$D,入出金NFT結果!$I:$I,\"=\"&月別集計!$B40,入出金NFT結果!$A:$A,\">=\"&月別集計!K$1,入出金NFT結果!$A:$A,\"<=\"&月別集計!K$2)","v":0},{"$f":"SUMIFS(入出金NFT結果!$D:$D,入出金NFT結果!$I:$I,\"=\"&月別集計!$B40,入出金NFT結果!$A:$A,\">=\"&月別集計!L$1,入出金NFT結果!$A:$A,\"<=\"&月別集計!L$2)","v":0},{"$f":"SUMIFS(入出金NFT結果!$D:$D,入出金NFT結果!$I:$I,\"=\"&月別集計!$B40,入出金NFT結果!$A:$A,\">=\"&月別集計!M$1,入出金NFT結果!$A:$A,\"<=\"&月別集計!M$2)","v":0},{"$f":"SUMIFS(入出金NFT結果!$D:$D,入出金NFT結果!$I:$I,\"=\"&月別集計!$B40,入出金NFT結果!$A:$A,\">=\"&月別集計!N$1,入出金NFT結果!$A:$A,\"<=\"&月別集計!N$2)","v":0},{"$f":"SUMIFS(入出金NFT結果!$D:$D,入出金NFT結果!$I:$I,\"=\"&月別集計!$B40,入出金NFT結果!$A:$A,\">=\"&月別集計!O$1,入出金NFT結果!$A:$A,\"<=\"&月別集計!O$2)","v":0},{"$f":"SUMIFS(入出金NFT結果!$D:$D,入出金NFT結果!$I:$I,\"=\"&月別集計!$B40,入出金NFT結果!$A:$A,\">=\"&月別集計!P$1,入出金NFT結果!$A:$A,\"<=\"&月別集計!P$2)","v":0},{"$f":"SUMIFS(入出金NFT結果!$D:$D,入出金NFT結果!$I:$I,\"=\"&月別集計!$B40,入出金NFT結果!$A:$A,\">=\"&月別集計!Q$1,入出金NFT結果!$A:$A,\"<=\"&月別集計!Q$2)","v":0},{"$f":"SUMIFS(入出金NFT結果!$D:$D,入出金NFT結果!$I:$I,\"=\"&月別集計!$B40,入出金NFT結果!$A:$A,\">=\"&月別集計!R$1,入出金NFT結果!$A:$A,\"<=\"&月別集計!R$2)","v":0},{"$f":"SUMIFS(入出金NFT結果!$D:$D,入出金NFT結果!$I:$I,\"=\"&月別集計!$B40,入出金NFT結果!$A:$A,\">=\"&月別集計!S$1,入出金NFT結果!$A:$A,\"<=\"&月別集計!S$2)","v":0},{"$f":"SUMIFS(入出金NFT結果!$D:$D,入出金NFT結果!$I:$I,\"=\"&月別集計!$B40,入出金NFT結果!$A:$A,\">=\"&月別集計!T$1,入出金NFT結果!$A:$A,\"<=\"&月別集計!T$2)","v":0},{"$f":"SUMIFS(入出金NFT結果!$D:$D,入出金NFT結果!$I:$I,\"=\"&月別集計!$B40,入出金NFT結果!$A:$A,\">=\"&月別集計!U$1,入出金NFT結果!$A:$A,\"<=\"&月別集計!U$2)","v":0},{"$f":"SUMIFS(入出金NFT結果!$D:$D,入出金NFT結果!$I:$I,\"=\"&月別集計!$B40,入出金NFT結果!$A:$A,\">=\"&月別集計!V$1,入出金NFT結果!$A:$A,\"<=\"&月別集計!V$2)","v":0},{"$f":"SUMIFS(入出金NFT結果!$D:$D,入出金NFT結果!$I:$I,\"=\"&月別集計!$B40,入出金NFT結果!$A:$A,\">=\"&月別集計!W$1,入出金NFT結果!$A:$A,\"<=\"&月別集計!W$2)","v":0},{"$f":"SUMIFS(入出金NFT結果!$D:$D,入出金NFT結果!$I:$I,\"=\"&月別集計!$B40,入出金NFT結果!$A:$A,\">=\"&月別集計!X$1,入出金NFT結果!$A:$A,\"<=\"&月別集計!X$2)","v":0},{"$f":"SUMIFS(入出金NFT結果!$D:$D,入出金NFT結果!$I:$I,\"=\"&月別集計!$B40,入出金NFT結果!$A:$A,\">=\"&月別集計!Y$1,入出金NFT結果!$A:$A,\"<=\"&月別集計!Y$2)","v":0},{"$f":"SUMIFS(入出金NFT結果!$D:$D,入出金NFT結果!$I:$I,\"=\"&月別集計!$B40,入出金NFT結果!$A:$A,\">=\"&月別集計!Z$1,入出金NFT結果!$A:$A,\"<=\"&月別集計!Z$2)","v":0},{"$f":"SUMIFS(入出金NFT結果!$D:$D,入出金NFT結果!$I:$I,\"=\"&月別集計!$B40,入出金NFT結果!$A:$A,\">=\"&月別集計!AA$1,入出金NFT結果!$A:$A,\"<=\"&月別集計!AA$2)","v":0},{"$f":"SUMIFS(入出金NFT結果!$D:$D,入出金NFT結果!$I:$I,\"=\"&月別集計!$B40,入出金NFT結果!$A:$A,\">=\"&月別集計!AB$1,入出金NFT結果!$A:$A,\"<=\"&月別集計!AB$2)","v":0},{"$f":"SUMIFS(入出金NFT結果!$D:$D,入出金NFT結果!$I:$I,\"=\"&月別集計!$B40,入出金NFT結果!$A:$A,\">=\"&月別集計!AC$1,入出金NFT結果!$A:$A,\"<=\"&月別集計!AC$2)","v":0},{"$f":"SUMIFS(入出金NFT結果!$D:$D,入出金NFT結果!$I:$I,\"=\"&月別集計!$B40,入出金NFT結果!$A:$A,\">=\"&月別集計!AD$1,入出金NFT結果!$A:$A,\"<=\"&月別集計!AD$2)","v":0},{"$f":"SUMIFS(入出金NFT結果!$D:$D,入出金NFT結果!$I:$I,\"=\"&月別集計!$B40,入出金NFT結果!$A:$A,\">=\"&月別集計!AE$1,入出金NFT結果!$A:$A,\"<=\"&月別集計!AE$2)","v":0},{"$f":"SUMIFS(入出金NFT結果!$D:$D,入出金NFT結果!$I:$I,\"=\"&月別集計!$B40,入出金NFT結果!$A:$A,\">=\"&月別集計!AF$1,入出金NFT結果!$A:$A,\"<=\"&月別集計!AF$2)","v":0},{"$f":"SUMIFS(入出金NFT結果!$D:$D,入出金NFT結果!$I:$I,\"=\"&月別集計!$B40,入出金NFT結果!$A:$A,\">=\"&月別集計!AG$1,入出金NFT結果!$A:$A,\"<=\"&月別集計!AG$2)","v":0},{"$f":"SUMIFS(入出金NFT結果!$D:$D,入出金NFT結果!$I:$I,\"=\"&月別集計!$B40,入出金NFT結果!$A:$A,\">=\"&月別集計!AH$1,入出金NFT結果!$A:$A,\"<=\"&月別集計!AH$2)","v":0},{"$f":"SUMIFS(入出金NFT結果!$D:$D,入出金NFT結果!$I:$I,\"=\"&月別集計!$B40,入出金NFT結果!$A:$A,\">=\"&月別集計!AI$1,入出金NFT結果!$A:$A,\"<=\"&月別集計!AI$2)","v":0},{"$f":"SUMIFS(入出金NFT結果!$D:$D,入出金NFT結果!$I:$I,\"=\"&月別集計!$B40,入出金NFT結果!$A:$A,\">=\"&月別集計!AJ$1,入出金NFT結果!$A:$A,\"<=\"&月別集計!AJ$2)","v":0},{"$f":"SUMIFS(入出金NFT結果!$D:$D,入出金NFT結果!$I:$I,\"=\"&月別集計!$B40,入出金NFT結果!$A:$A,\">=\"&月別集計!AK$1,入出金NFT結果!$A:$A,\"<=\"&月別集計!AK$2)","v":0},{"$f":"SUMIFS(入出金NFT結果!$D:$D,入出金NFT結果!$I:$I,\"=\"&月別集計!$B40,入出金NFT結果!$A:$A,\">=\"&月別集計!AL$1,入出金NFT結果!$A:$A,\"<=\"&月別集計!AL$2)","v":0},{"$f":"SUMIFS(入出金NFT結果!$D:$D,入出金NFT結果!$I:$I,\"=\"&月別集計!$B40,入出金NFT結果!$A:$A,\">=\"&月別集計!AM$1,入出金NFT結果!$A:$A,\"<=\"&月別集計!AM$2)","v":0},{"$f":"SUMIFS(入出金NFT結果!$D:$D,入出金NFT結果!$I:$I,\"=\"&月別集計!$B40,入出金NFT結果!$A:$A,\">=\"&月別集計!AN$1,入出金NFT結果!$A:$A,\"<=\"&月別集計!AN$2)","v":0},{"$f":"SUMIFS(入出金NFT結果!$D:$D,入出金NFT結果!$I:$I,\"=\"&月別集計!$B40,入出金NFT結果!$A:$A,\">=\"&月別集計!AO$1,入出金NFT結果!$A:$A,\"<=\"&月別集計!AO$2)","v":0},{"$f":"SUMIFS(入出金NFT結果!$D:$D,入出金NFT結果!$I:$I,\"=\"&月別集計!$B40,入出金NFT結果!$A:$A,\">=\"&月別集計!AP$1,入出金NFT結果!$A:$A,\"<=\"&月別集計!AP$2)","v":0},{"$f":"SUMIFS(入出金NFT結果!$D:$D,入出金NFT結果!$I:$I,\"=\"&月別集計!$B40,入出金NFT結果!$A:$A,\">=\"&月別集計!AQ$1,入出金NFT結果!$A:$A,\"<=\"&月別集計!AQ$2)","v":0},{"$f":"SUMIFS(入出金NFT結果!$D:$D,入出金NFT結果!$I:$I,\"=\"&月別集計!$B40,入出金NFT結果!$A:$A,\">=\"&月別集計!AR$1,入出金NFT結果!$A:$A,\"<=\"&月別集計!AR$2)","v":0},{"$f":"SUMIFS(入出金NFT結果!$D:$D,入出金NFT結果!$I:$I,\"=\"&月別集計!$B40,入出金NFT結果!$A:$A,\">=\"&月別集計!AS$1,入出金NFT結果!$A:$A,\"<=\"&月別集計!AS$2)","v":0},{"$f":"SUMIFS(入出金NFT結果!$D:$D,入出金NFT結果!$I:$I,\"=\"&月別集計!$B40,入出金NFT結果!$A:$A,\">=\"&月別集計!AT$1,入出金NFT結果!$A:$A,\"<=\"&月別集計!AT$2)","v":0},{"$f":"SUMIFS(入出金NFT結果!$D:$D,入出金NFT結果!$I:$I,\"=\"&月別集計!$B40,入出金NFT結果!$A:$A,\">=\"&月別集計!AU$1,入出金NFT結果!$A:$A,\"<=\"&月別集計!AU$2)","v":0},{"$f":"SUMIFS(入出金NFT結果!$D:$D,入出金NFT結果!$I:$I,\"=\"&月別集計!$B40,入出金NFT結果!$A:$A,\">=\"&月別集計!AV$1,入出金NFT結果!$A:$A,\"<=\"&月別集計!AV$2)","v":0},{"$f":"SUMIFS(入出金NFT結果!$D:$D,入出金NFT結果!$I:$I,\"=\"&月別集計!$B40,入出金NFT結果!$A:$A,\">=\"&月別集計!AW$1,入出金NFT結果!$A:$A,\"<=\"&月別集計!AW$2)","v":0},{"$f":"SUMIFS(入出金NFT結果!$D:$D,入出金NFT結果!$I:$I,\"=\"&月別集計!$B40,入出金NFT結果!$A:$A,\">=\"&月別集計!AX$1,入出金NFT結果!$A:$A,\"<=\"&月別集計!AX$2)","v":0},{"$f":"SUMIFS(入出金NFT結果!$D:$D,入出金NFT結果!$I:$I,\"=\"&月別集計!$B40,入出金NFT結果!$A:$A,\">=\"&月別集計!AY$1,入出金NFT結果!$A:$A,\"<=\"&月別集計!AY$2)","v":0},{"$f":"SUMIFS(入出金NFT結果!$D:$D,入出金NFT結果!$I:$I,\"=\"&月別集計!$B40,入出金NFT結果!$A:$A,\">=\"&月別集計!AZ$1,入出金NFT結果!$A:$A,\"<=\"&月別集計!AZ$2)","v":0},{"$f":"SUMIFS(入出金NFT結果!$D:$D,入出金NFT結果!$I:$I,\"=\"&月別集計!$B40,入出金NFT結果!$A:$A,\">=\"&月別集計!BA$1,入出金NFT結果!$A:$A,\"<=\"&月別集計!BA$2)","v":0},{"$f":"SUMIFS(入出金NFT結果!$D:$D,入出金NFT結果!$I:$I,\"=\"&月別集計!$B40,入出金NFT結果!$A:$A,\">=\"&月別集計!BB$1,入出金NFT結果!$A:$A,\"<=\"&月別集計!BB$2)","v":0},{"$f":"SUMIFS(入出金NFT結果!$D:$D,入出金NFT結果!$I:$I,\"=\"&月別集計!$B40,入出金NFT結果!$A:$A,\">=\"&月別集計!BC$1,入出金NFT結果!$A:$A,\"<=\"&月別集計!BC$2)","v":0},{"$f":"SUMIFS(入出金NFT結果!$D:$D,入出金NFT結果!$I:$I,\"=\"&月別集計!$B40,入出金NFT結果!$A:$A,\">=\"&月別集計!BD$1,入出金NFT結果!$A:$A,\"<=\"&月別集計!BD$2)","v":0},{"$f":"SUMIFS(入出金NFT結果!$D:$D,入出金NFT結果!$I:$I,\"=\"&月別集計!$B40,入出金NFT結果!$A:$A,\">=\"&月別集計!BE$1,入出金NFT結果!$A:$A,\"<=\"&月別集計!BE$2)","v":0},{"$f":"SUMIFS(入出金NFT結果!$D:$D,入出金NFT結果!$I:$I,\"=\"&月別集計!$B40,入出金NFT結果!$A:$A,\">=\"&月別集計!BF$1,入出金NFT結果!$A:$A,\"<=\"&月別集計!BF$2)","v":0},{"$f":"SUMIFS(入出金NFT結果!$D:$D,入出金NFT結果!$I:$I,\"=\"&月別集計!$B40,入出金NFT結果!$A:$A,\">=\"&月別集計!BG$1,入出金NFT結果!$A:$A,\"<=\"&月別集計!BG$2)","v":0},{"$f":"SUMIFS(入出金NFT結果!$D:$D,入出金NFT結果!$I:$I,\"=\"&月別集計!$B40,入出金NFT結果!$A:$A,\">=\"&月別集計!BH$1,入出金NFT結果!$A:$A,\"<=\"&月別集計!BH$2)","v":0},{"$f":"SUMIFS(入出金NFT結果!$D:$D,入出金NFT結果!$I:$I,\"=\"&月別集計!$B40,入出金NFT結果!$A:$A,\">=\"&月別集計!BI$1,入出金NFT結果!$A:$A,\"<=\"&月別集計!BI$2)","v":0},{"$f":"SUMIFS(入出金NFT結果!$D:$D,入出金NFT結果!$I:$I,\"=\"&月別集計!$B40,入出金NFT結果!$A:$A,\">=\"&月別集計!BJ$1,入出金NFT結果!$A:$A,\"<=\"&月別集計!BJ$2)","v":0},{"$f":"SUMIFS(入出金NFT結果!$D:$D,入出金NFT結果!$I:$I,\"=\"&月別集計!$B40,入出金NFT結果!$A:$A,\">=\"&月別集計!BK$1,入出金NFT結果!$A:$A,\"<=\"&月別集計!BK$2)","v":0},{"$f":"SUMIFS(入出金NFT結果!$D:$D,入出金NFT結果!$I:$I,\"=\"&月別集計!$B40,入出金NFT結果!$A:$A,\">=\"&月別集計!BL$1,入出金NFT結果!$A:$A,\"<=\"&月別集計!BL$2)","v":0},{"$f":"SUMIFS(入出金NFT結果!$D:$D,入出金NFT結果!$I:$I,\"=\"&月別集計!$B40,入出金NFT結果!$A:$A,\">=\"&月別集計!BM$1,入出金NFT結果!$A:$A,\"<=\"&月別集計!BM$2)","v":0}]
[null,{"$f":"推定用途置換ルール!P15","v":"LuckyFarmer：農地耐久値回復"},{"$f":"SUMIFS(入出金NFT結果!$D:$D,入出金NFT結果!$I:$I,\"=\"&月別集計!$B41,入出金NFT結果!$A:$A,\">=\"&月別集計!C$1,入出金NFT結果!$A:$A,\"<=\"&月別集計!C$2)","v":0},{"$f":"SUMIFS(入出金NFT結果!$D:$D,入出金NFT結果!$I:$I,\"=\"&月別集計!$B41,入出金NFT結果!$A:$A,\">=\"&月別集計!D$1,入出金NFT結果!$A:$A,\"<=\"&月別集計!D$2)","v":0},{"$f":"SUMIFS(入出金NFT結果!$D:$D,入出金NFT結果!$I:$I,\"=\"&月別集計!$B41,入出金NFT結果!$A:$A,\">=\"&月別集計!E$1,入出金NFT結果!$A:$A,\"<=\"&月別集計!E$2)","v":0},{"$f":"SUMIFS(入出金NFT結果!$D:$D,入出金NFT結果!$I:$I,\"=\"&月別集計!$B41,入出金NFT結果!$A:$A,\">=\"&月別集計!F$1,入出金NFT結果!$A:$A,\"<=\"&月別集計!F$2)","v":0},{"$f":"SUMIFS(入出金NFT結果!$D:$D,入出金NFT結果!$I:$I,\"=\"&月別集計!$B41,入出金NFT結果!$A:$A,\">=\"&月別集計!G$1,入出金NFT結果!$A:$A,\"<=\"&月別集計!G$2)","v":0},{"$f":"SUMIFS(入出金NFT結果!$D:$D,入出金NFT結果!$I:$I,\"=\"&月別集計!$B41,入出金NFT結果!$A:$A,\">=\"&月別集計!H$1,入出金NFT結果!$A:$A,\"<=\"&月別集計!H$2)","v":0},{"$f":"SUMIFS(入出金NFT結果!$D:$D,入出金NFT結果!$I:$I,\"=\"&月別集計!$B41,入出金NFT結果!$A:$A,\">=\"&月別集計!I$1,入出金NFT結果!$A:$A,\"<=\"&月別集計!I$2)","v":0},{"$f":"SUMIFS(入出金NFT結果!$D:$D,入出金NFT結果!$I:$I,\"=\"&月別集計!$B41,入出金NFT結果!$A:$A,\">=\"&月別集計!J$1,入出金NFT結果!$A:$A,\"<=\"&月別集計!J$2)","v":0},{"$f":"SUMIFS(入出金NFT結果!$D:$D,入出金NFT結果!$I:$I,\"=\"&月別集計!$B41,入出金NFT結果!$A:$A,\">=\"&月別集計!K$1,入出金NFT結果!$A:$A,\"<=\"&月別集計!K$2)","v":0},{"$f":"SUMIFS(入出金NFT結果!$D:$D,入出金NFT結果!$I:$I,\"=\"&月別集計!$B41,入出金NFT結果!$A:$A,\">=\"&月別集計!L$1,入出金NFT結果!$A:$A,\"<=\"&月別集計!L$2)","v":0},{"$f":"SUMIFS(入出金NFT結果!$D:$D,入出金NFT結果!$I:$I,\"=\"&月別集計!$B41,入出金NFT結果!$A:$A,\">=\"&月別集計!M$1,入出金NFT結果!$A:$A,\"<=\"&月別集計!M$2)","v":0},{"$f":"SUMIFS(入出金NFT結果!$D:$D,入出金NFT結果!$I:$I,\"=\"&月別集計!$B41,入出金NFT結果!$A:$A,\">=\"&月別集計!N$1,入出金NFT結果!$A:$A,\"<=\"&月別集計!N$2)","v":0},{"$f":"SUMIFS(入出金NFT結果!$D:$D,入出金NFT結果!$I:$I,\"=\"&月別集計!$B41,入出金NFT結果!$A:$A,\">=\"&月別集計!O$1,入出金NFT結果!$A:$A,\"<=\"&月別集計!O$2)","v":0},{"$f":"SUMIFS(入出金NFT結果!$D:$D,入出金NFT結果!$I:$I,\"=\"&月別集計!$B41,入出金NFT結果!$A:$A,\">=\"&月別集計!P$1,入出金NFT結果!$A:$A,\"<=\"&月別集計!P$2)","v":0},{"$f":"SUMIFS(入出金NFT結果!$D:$D,入出金NFT結果!$I:$I,\"=\"&月別集計!$B41,入出金NFT結果!$A:$A,\">=\"&月別集計!Q$1,入出金NFT結果!$A:$A,\"<=\"&月別集計!Q$2)","v":0},{"$f":"SUMIFS(入出金NFT結果!$D:$D,入出金NFT結果!$I:$I,\"=\"&月別集計!$B41,入出金NFT結果!$A:$A,\">=\"&月別集計!R$1,入出金NFT結果!$A:$A,\"<=\"&月別集計!R$2)","v":0},{"$f":"SUMIFS(入出金NFT結果!$D:$D,入出金NFT結果!$I:$I,\"=\"&月別集計!$B41,入出金NFT結果!$A:$A,\">=\"&月別集計!S$1,入出金NFT結果!$A:$A,\"<=\"&月別集計!S$2)","v":0},{"$f":"SUMIFS(入出金NFT結果!$D:$D,入出金NFT結果!$I:$I,\"=\"&月別集計!$B41,入出金NFT結果!$A:$A,\">=\"&月別集計!T$1,入出金NFT結果!$A:$A,\"<=\"&月別集計!T$2)","v":0},{"$f":"SUMIFS(入出金NFT結果!$D:$D,入出金NFT結果!$I:$I,\"=\"&月別集計!$B41,入出金NFT結果!$A:$A,\">=\"&月別集計!U$1,入出金NFT結果!$A:$A,\"<=\"&月別集計!U$2)","v":0},{"$f":"SUMIFS(入出金NFT結果!$D:$D,入出金NFT結果!$I:$I,\"=\"&月別集計!$B41,入出金NFT結果!$A:$A,\">=\"&月別集計!V$1,入出金NFT結果!$A:$A,\"<=\"&月別集計!V$2)","v":0},{"$f":"SUMIFS(入出金NFT結果!$D:$D,入出金NFT結果!$I:$I,\"=\"&月別集計!$B41,入出金NFT結果!$A:$A,\">=\"&月別集計!W$1,入出金NFT結果!$A:$A,\"<=\"&月別集計!W$2)","v":0},{"$f":"SUMIFS(入出金NFT結果!$D:$D,入出金NFT結果!$I:$I,\"=\"&月別集計!$B41,入出金NFT結果!$A:$A,\">=\"&月別集計!X$1,入出金NFT結果!$A:$A,\"<=\"&月別集計!X$2)","v":0},{"$f":"SUMIFS(入出金NFT結果!$D:$D,入出金NFT結果!$I:$I,\"=\"&月別集計!$B41,入出金NFT結果!$A:$A,\">=\"&月別集計!Y$1,入出金NFT結果!$A:$A,\"<=\"&月別集計!Y$2)","v":0},{"$f":"SUMIFS(入出金NFT結果!$D:$D,入出金NFT結果!$I:$I,\"=\"&月別集計!$B41,入出金NFT結果!$A:$A,\">=\"&月別集計!Z$1,入出金NFT結果!$A:$A,\"<=\"&月別集計!Z$2)","v":0},{"$f":"SUMIFS(入出金NFT結果!$D:$D,入出金NFT結果!$I:$I,\"=\"&月別集計!$B41,入出金NFT結果!$A:$A,\">=\"&月別集計!AA$1,入出金NFT結果!$A:$A,\"<=\"&月別集計!AA$2)","v":0},{"$f":"SUMIFS(入出金NFT結果!$D:$D,入出金NFT結果!$I:$I,\"=\"&月別集計!$B41,入出金NFT結果!$A:$A,\">=\"&月別集計!AB$1,入出金NFT結果!$A:$A,\"<=\"&月別集計!AB$2)","v":0},{"$f":"SUMIFS(入出金NFT結果!$D:$D,入出金NFT結果!$I:$I,\"=\"&月別集計!$B41,入出金NFT結果!$A:$A,\">=\"&月別集計!AC$1,入出金NFT結果!$A:$A,\"<=\"&月別集計!AC$2)","v":0},{"$f":"SUMIFS(入出金NFT結果!$D:$D,入出金NFT結果!$I:$I,\"=\"&月別集計!$B41,入出金NFT結果!$A:$A,\">=\"&月別集計!AD$1,入出金NFT結果!$A:$A,\"<=\"&月別集計!AD$2)","v":0},{"$f":"SUMIFS(入出金NFT結果!$D:$D,入出金NFT結果!$I:$I,\"=\"&月別集計!$B41,入出金NFT結果!$A:$A,\">=\"&月別集計!AE$1,入出金NFT結果!$A:$A,\"<=\"&月別集計!AE$2)","v":0},{"$f":"SUMIFS(入出金NFT結果!$D:$D,入出金NFT結果!$I:$I,\"=\"&月別集計!$B41,入出金NFT結果!$A:$A,\">=\"&月別集計!AF$1,入出金NFT結果!$A:$A,\"<=\"&月別集計!AF$2)","v":0},{"$f":"SUMIFS(入出金NFT結果!$D:$D,入出金NFT結果!$I:$I,\"=\"&月別集計!$B41,入出金NFT結果!$A:$A,\">=\"&月別集計!AG$1,入出金NFT結果!$A:$A,\"<=\"&月別集計!AG$2)","v":0},{"$f":"SUMIFS(入出金NFT結果!$D:$D,入出金NFT結果!$I:$I,\"=\"&月別集計!$B41,入出金NFT結果!$A:$A,\">=\"&月別集計!AH$1,入出金NFT結果!$A:$A,\"<=\"&月別集計!AH$2)","v":0},{"$f":"SUMIFS(入出金NFT結果!$D:$D,入出金NFT結果!$I:$I,\"=\"&月別集計!$B41,入出金NFT結果!$A:$A,\">=\"&月別集計!AI$1,入出金NFT結果!$A:$A,\"<=\"&月別集計!AI$2)","v":0},{"$f":"SUMIFS(入出金NFT結果!$D:$D,入出金NFT結果!$I:$I,\"=\"&月別集計!$B41,入出金NFT結果!$A:$A,\">=\"&月別集計!AJ$1,入出金NFT結果!$A:$A,\"<=\"&月別集計!AJ$2)","v":0},{"$f":"SUMIFS(入出金NFT結果!$D:$D,入出金NFT結果!$I:$I,\"=\"&月別集計!$B41,入出金NFT結果!$A:$A,\">=\"&月別集計!AK$1,入出金NFT結果!$A:$A,\"<=\"&月別集計!AK$2)","v":0},{"$f":"SUMIFS(入出金NFT結果!$D:$D,入出金NFT結果!$I:$I,\"=\"&月別集計!$B41,入出金NFT結果!$A:$A,\">=\"&月別集計!AL$1,入出金NFT結果!$A:$A,\"<=\"&月別集計!AL$2)","v":0},{"$f":"SUMIFS(入出金NFT結果!$D:$D,入出金NFT結果!$I:$I,\"=\"&月別集計!$B41,入出金NFT結果!$A:$A,\">=\"&月別集計!AM$1,入出金NFT結果!$A:$A,\"<=\"&月別集計!AM$2)","v":0},{"$f":"SUMIFS(入出金NFT結果!$D:$D,入出金NFT結果!$I:$I,\"=\"&月別集計!$B41,入出金NFT結果!$A:$A,\">=\"&月別集計!AN$1,入出金NFT結果!$A:$A,\"<=\"&月別集計!AN$2)","v":0},{"$f":"SUMIFS(入出金NFT結果!$D:$D,入出金NFT結果!$I:$I,\"=\"&月別集計!$B41,入出金NFT結果!$A:$A,\">=\"&月別集計!AO$1,入出金NFT結果!$A:$A,\"<=\"&月別集計!AO$2)","v":0},{"$f":"SUMIFS(入出金NFT結果!$D:$D,入出金NFT結果!$I:$I,\"=\"&月別集計!$B41,入出金NFT結果!$A:$A,\">=\"&月別集計!AP$1,入出金NFT結果!$A:$A,\"<=\"&月別集計!AP$2)","v":0},{"$f":"SUMIFS(入出金NFT結果!$D:$D,入出金NFT結果!$I:$I,\"=\"&月別集計!$B41,入出金NFT結果!$A:$A,\">=\"&月別集計!AQ$1,入出金NFT結果!$A:$A,\"<=\"&月別集計!AQ$2)","v":0},{"$f":"SUMIFS(入出金NFT結果!$D:$D,入出金NFT結果!$I:$I,\"=\"&月別集計!$B41,入出金NFT結果!$A:$A,\">=\"&月別集計!AR$1,入出金NFT結果!$A:$A,\"<=\"&月別集計!AR$2)","v":0},{"$f":"SUMIFS(入出金NFT結果!$D:$D,入出金NFT結果!$I:$I,\"=\"&月別集計!$B41,入出金NFT結果!$A:$A,\">=\"&月別集計!AS$1,入出金NFT結果!$A:$A,\"<=\"&月別集計!AS$2)","v":0},{"$f":"SUMIFS(入出金NFT結果!$D:$D,入出金NFT結果!$I:$I,\"=\"&月別集計!$B41,入出金NFT結果!$A:$A,\">=\"&月別集計!AT$1,入出金NFT結果!$A:$A,\"<=\"&月別集計!AT$2)","v":0},{"$f":"SUMIFS(入出金NFT結果!$D:$D,入出金NFT結果!$I:$I,\"=\"&月別集計!$B41,入出金NFT結果!$A:$A,\">=\"&月別集計!AU$1,入出金NFT結果!$A:$A,\"<=\"&月別集計!AU$2)","v":0},{"$f":"SUMIFS(入出金NFT結果!$D:$D,入出金NFT結果!$I:$I,\"=\"&月別集計!$B41,入出金NFT結果!$A:$A,\">=\"&月別集計!AV$1,入出金NFT結果!$A:$A,\"<=\"&月別集計!AV$2)","v":0},{"$f":"SUMIFS(入出金NFT結果!$D:$D,入出金NFT結果!$I:$I,\"=\"&月別集計!$B41,入出金NFT結果!$A:$A,\">=\"&月別集計!AW$1,入出金NFT結果!$A:$A,\"<=\"&月別集計!AW$2)","v":0},{"$f":"SUMIFS(入出金NFT結果!$D:$D,入出金NFT結果!$I:$I,\"=\"&月別集計!$B41,入出金NFT結果!$A:$A,\">=\"&月別集計!AX$1,入出金NFT結果!$A:$A,\"<=\"&月別集計!AX$2)","v":0},{"$f":"SUMIFS(入出金NFT結果!$D:$D,入出金NFT結果!$I:$I,\"=\"&月別集計!$B41,入出金NFT結果!$A:$A,\">=\"&月別集計!AY$1,入出金NFT結果!$A:$A,\"<=\"&月別集計!AY$2)","v":0},{"$f":"SUMIFS(入出金NFT結果!$D:$D,入出金NFT結果!$I:$I,\"=\"&月別集計!$B41,入出金NFT結果!$A:$A,\">=\"&月別集計!AZ$1,入出金NFT結果!$A:$A,\"<=\"&月別集計!AZ$2)","v":0},{"$f":"SUMIFS(入出金NFT結果!$D:$D,入出金NFT結果!$I:$I,\"=\"&月別集計!$B41,入出金NFT結果!$A:$A,\">=\"&月別集計!BA$1,入出金NFT結果!$A:$A,\"<=\"&月別集計!BA$2)","v":0},{"$f":"SUMIFS(入出金NFT結果!$D:$D,入出金NFT結果!$I:$I,\"=\"&月別集計!$B41,入出金NFT結果!$A:$A,\">=\"&月別集計!BB$1,入出金NFT結果!$A:$A,\"<=\"&月別集計!BB$2)","v":0},{"$f":"SUMIFS(入出金NFT結果!$D:$D,入出金NFT結果!$I:$I,\"=\"&月別集計!$B41,入出金NFT結果!$A:$A,\">=\"&月別集計!BC$1,入出金NFT結果!$A:$A,\"<=\"&月別集計!BC$2)","v":0},{"$f":"SUMIFS(入出金NFT結果!$D:$D,入出金NFT結果!$I:$I,\"=\"&月別集計!$B41,入出金NFT結果!$A:$A,\">=\"&月別集計!BD$1,入出金NFT結果!$A:$A,\"<=\"&月別集計!BD$2)","v":0},{"$f":"SUMIFS(入出金NFT結果!$D:$D,入出金NFT結果!$I:$I,\"=\"&月別集計!$B41,入出金NFT結果!$A:$A,\">=\"&月別集計!BE$1,入出金NFT結果!$A:$A,\"<=\"&月別集計!BE$2)","v":0},{"$f":"SUMIFS(入出金NFT結果!$D:$D,入出金NFT結果!$I:$I,\"=\"&月別集計!$B41,入出金NFT結果!$A:$A,\">=\"&月別集計!BF$1,入出金NFT結果!$A:$A,\"<=\"&月別集計!BF$2)","v":0},{"$f":"SUMIFS(入出金NFT結果!$D:$D,入出金NFT結果!$I:$I,\"=\"&月別集計!$B41,入出金NFT結果!$A:$A,\">=\"&月別集計!BG$1,入出金NFT結果!$A:$A,\"<=\"&月別集計!BG$2)","v":0},{"$f":"SUMIFS(入出金NFT結果!$D:$D,入出金NFT結果!$I:$I,\"=\"&月別集計!$B41,入出金NFT結果!$A:$A,\">=\"&月別集計!BH$1,入出金NFT結果!$A:$A,\"<=\"&月別集計!BH$2)","v":0},{"$f":"SUMIFS(入出金NFT結果!$D:$D,入出金NFT結果!$I:$I,\"=\"&月別集計!$B41,入出金NFT結果!$A:$A,\">=\"&月別集計!BI$1,入出金NFT結果!$A:$A,\"<=\"&月別集計!BI$2)","v":0},{"$f":"SUMIFS(入出金NFT結果!$D:$D,入出金NFT結果!$I:$I,\"=\"&月別集計!$B41,入出金NFT結果!$A:$A,\">=\"&月別集計!BJ$1,入出金NFT結果!$A:$A,\"<=\"&月別集計!BJ$2)","v":0},{"$f":"SUMIFS(入出金NFT結果!$D:$D,入出金NFT結果!$I:$I,\"=\"&月別集計!$B41,入出金NFT結果!$A:$A,\">=\"&月別集計!BK$1,入出金NFT結果!$A:$A,\"<=\"&月別集計!BK$2)","v":0},{"$f":"SUMIFS(入出金NFT結果!$D:$D,入出金NFT結果!$I:$I,\"=\"&月別集計!$B41,入出金NFT結果!$A:$A,\">=\"&月別集計!BL$1,入出金NFT結果!$A:$A,\"<=\"&月別集計!BL$2)","v":0},{"$f":"SUMIFS(入出金NFT結果!$D:$D,入出金NFT結果!$I:$I,\"=\"&月別集計!$B41,入出金NFT結果!$A:$A,\">=\"&月別集計!BM$1,入出金NFT結果!$A:$A,\"<=\"&月別集計!BM$2)","v":0}]
[null,{"$f":"推定用途置換ルール!P16","v":"LuckyFarmer：各種ガチャ"},{"$f":"SUMIFS(入出金NFT結果!$D:$D,入出金NFT結果!$I:$I,\"=\"&月別集計!$B42,入出金NFT結果!$A:$A,\">=\"&月別集計!C$1,入出金NFT結果!$A:$A,\"<=\"&月別集計!C$2)","v":0},{"$f":"SUMIFS(入出金NFT結果!$D:$D,入出金NFT結果!$I:$I,\"=\"&月別集計!$B42,入出金NFT結果!$A:$A,\">=\"&月別集計!D$1,入出金NFT結果!$A:$A,\"<=\"&月別集計!D$2)","v":0},{"$f":"SUMIFS(入出金NFT結果!$D:$D,入出金NFT結果!$I:$I,\"=\"&月別集計!$B42,入出金NFT結果!$A:$A,\">=\"&月別集計!E$1,入出金NFT結果!$A:$A,\"<=\"&月別集計!E$2)","v":0},{"$f":"SUMIFS(入出金NFT結果!$D:$D,入出金NFT結果!$I:$I,\"=\"&月別集計!$B42,入出金NFT結果!$A:$A,\">=\"&月別集計!F$1,入出金NFT結果!$A:$A,\"<=\"&月別集計!F$2)","v":0},{"$f":"SUMIFS(入出金NFT結果!$D:$D,入出金NFT結果!$I:$I,\"=\"&月別集計!$B42,入出金NFT結果!$A:$A,\">=\"&月別集計!G$1,入出金NFT結果!$A:$A,\"<=\"&月別集計!G$2)","v":0},{"$f":"SUMIFS(入出金NFT結果!$D:$D,入出金NFT結果!$I:$I,\"=\"&月別集計!$B42,入出金NFT結果!$A:$A,\">=\"&月別集計!H$1,入出金NFT結果!$A:$A,\"<=\"&月別集計!H$2)","v":0},{"$f":"SUMIFS(入出金NFT結果!$D:$D,入出金NFT結果!$I:$I,\"=\"&月別集計!$B42,入出金NFT結果!$A:$A,\">=\"&月別集計!I$1,入出金NFT結果!$A:$A,\"<=\"&月別集計!I$2)","v":0},{"$f":"SUMIFS(入出金NFT結果!$D:$D,入出金NFT結果!$I:$I,\"=\"&月別集計!$B42,入出金NFT結果!$A:$A,\">=\"&月別集計!J$1,入出金NFT結果!$A:$A,\"<=\"&月別集計!J$2)","v":0},{"$f":"SUMIFS(入出金NFT結果!$D:$D,入出金NFT結果!$I:$I,\"=\"&月別集計!$B42,入出金NFT結果!$A:$A,\">=\"&月別集計!K$1,入出金NFT結果!$A:$A,\"<=\"&月別集計!K$2)","v":0},{"$f":"SUMIFS(入出金NFT結果!$D:$D,入出金NFT結果!$I:$I,\"=\"&月別集計!$B42,入出金NFT結果!$A:$A,\">=\"&月別集計!L$1,入出金NFT結果!$A:$A,\"<=\"&月別集計!L$2)","v":0},{"$f":"SUMIFS(入出金NFT結果!$D:$D,入出金NFT結果!$I:$I,\"=\"&月別集計!$B42,入出金NFT結果!$A:$A,\">=\"&月別集計!M$1,入出金NFT結果!$A:$A,\"<=\"&月別集計!M$2)","v":0},{"$f":"SUMIFS(入出金NFT結果!$D:$D,入出金NFT結果!$I:$I,\"=\"&月別集計!$B42,入出金NFT結果!$A:$A,\">=\"&月別集計!N$1,入出金NFT結果!$A:$A,\"<=\"&月別集計!N$2)","v":0},{"$f":"SUMIFS(入出金NFT結果!$D:$D,入出金NFT結果!$I:$I,\"=\"&月別集計!$B42,入出金NFT結果!$A:$A,\">=\"&月別集計!O$1,入出金NFT結果!$A:$A,\"<=\"&月別集計!O$2)","v":0},{"$f":"SUMIFS(入出金NFT結果!$D:$D,入出金NFT結果!$I:$I,\"=\"&月別集計!$B42,入出金NFT結果!$A:$A,\">=\"&月別集計!P$1,入出金NFT結果!$A:$A,\"<=\"&月別集計!P$2)","v":0},{"$f":"SUMIFS(入出金NFT結果!$D:$D,入出金NFT結果!$I:$I,\"=\"&月別集計!$B42,入出金NFT結果!$A:$A,\">=\"&月別集計!Q$1,入出金NFT結果!$A:$A,\"<=\"&月別集計!Q$2)","v":0},{"$f":"SUMIFS(入出金NFT結果!$D:$D,入出金NFT結果!$I:$I,\"=\"&月別集計!$B42,入出金NFT結果!$A:$A,\">=\"&月別集計!R$1,入出金NFT結果!$A:$A,\"<=\"&月別集計!R$2)","v":0},{"$f":"SUMIFS(入出金NFT結果!$D:$D,入出金NFT結果!$I:$I,\"=\"&月別集計!$B42,入出金NFT結果!$A:$A,\">=\"&月別集計!S$1,入出金NFT結果!$A:$A,\"<=\"&月別集計!S$2)","v":0},{"$f":"SUMIFS(入出金NFT結果!$D:$D,入出金NFT結果!$I:$I,\"=\"&月別集計!$B42,入出金NFT結果!$A:$A,\">=\"&月別集計!T$1,入出金NFT結果!$A:$A,\"<=\"&月別集計!T$2)","v":0},{"$f":"SUMIFS(入出金NFT結果!$D:$D,入出金NFT結果!$I:$I,\"=\"&月別集計!$B42,入出金NFT結果!$A:$A,\">=\"&月別集計!U$1,入出金NFT結果!$A:$A,\"<=\"&月別集計!U$2)","v":0},{"$f":"SUMIFS(入出金NFT結果!$D:$D,入出金NFT結果!$I:$I,\"=\"&月別集計!$B42,入出金NFT結果!$A:$A,\">=\"&月別集計!V$1,入出金NFT結果!$A:$A,\"<=\"&月別集計!V$2)","v":0},{"$f":"SUMIFS(入出金NFT結果!$D:$D,入出金NFT結果!$I:$I,\"=\"&月別集計!$B42,入出金NFT結果!$A:$A,\">=\"&月別集計!W$1,入出金NFT結果!$A:$A,\"<=\"&月別集計!W$2)","v":0},{"$f":"SUMIFS(入出金NFT結果!$D:$D,入出金NFT結果!$I:$I,\"=\"&月別集計!$B42,入出金NFT結果!$A:$A,\">=\"&月別集計!X$1,入出金NFT結果!$A:$A,\"<=\"&月別集計!X$2)","v":0},{"$f":"SUMIFS(入出金NFT結果!$D:$D,入出金NFT結果!$I:$I,\"=\"&月別集計!$B42,入出金NFT結果!$A:$A,\">=\"&月別集計!Y$1,入出金NFT結果!$A:$A,\"<=\"&月別集計!Y$2)","v":0},{"$f":"SUMIFS(入出金NFT結果!$D:$D,入出金NFT結果!$I:$I,\"=\"&月別集計!$B42,入出金NFT結果!$A:$A,\">=\"&月別集計!Z$1,入出金NFT結果!$A:$A,\"<=\"&月別集計!Z$2)","v":0},{"$f":"SUMIFS(入出金NFT結果!$D:$D,入出金NFT結果!$I:$I,\"=\"&月別集計!$B42,入出金NFT結果!$A:$A,\">=\"&月別集計!AA$1,入出金NFT結果!$A:$A,\"<=\"&月別集計!AA$2)","v":0},{"$f":"SUMIFS(入出金NFT結果!$D:$D,入出金NFT結果!$I:$I,\"=\"&月別集計!$B42,入出金NFT結果!$A:$A,\">=\"&月別集計!AB$1,入出金NFT結果!$A:$A,\"<=\"&月別集計!AB$2)","v":0},{"$f":"SUMIFS(入出金NFT結果!$D:$D,入出金NFT結果!$I:$I,\"=\"&月別集計!$B42,入出金NFT結果!$A:$A,\">=\"&月別集計!AC$1,入出金NFT結果!$A:$A,\"<=\"&月別集計!AC$2)","v":0},{"$f":"SUMIFS(入出金NFT結果!$D:$D,入出金NFT結果!$I:$I,\"=\"&月別集計!$B42,入出金NFT結果!$A:$A,\">=\"&月別集計!AD$1,入出金NFT結果!$A:$A,\"<=\"&月別集計!AD$2)","v":0},{"$f":"SUMIFS(入出金NFT結果!$D:$D,入出金NFT結果!$I:$I,\"=\"&月別集計!$B42,入出金NFT結果!$A:$A,\">=\"&月別集計!AE$1,入出金NFT結果!$A:$A,\"<=\"&月別集計!AE$2)","v":0},{"$f":"SUMIFS(入出金NFT結果!$D:$D,入出金NFT結果!$I:$I,\"=\"&月別集計!$B42,入出金NFT結果!$A:$A,\">=\"&月別集計!AF$1,入出金NFT結果!$A:$A,\"<=\"&月別集計!AF$2)","v":0},{"$f":"SUMIFS(入出金NFT結果!$D:$D,入出金NFT結果!$I:$I,\"=\"&月別集計!$B42,入出金NFT結果!$A:$A,\">=\"&月別集計!AG$1,入出金NFT結果!$A:$A,\"<=\"&月別集計!AG$2)","v":0},{"$f":"SUMIFS(入出金NFT結果!$D:$D,入出金NFT結果!$I:$I,\"=\"&月別集計!$B42,入出金NFT結果!$A:$A,\">=\"&月別集計!AH$1,入出金NFT結果!$A:$A,\"<=\"&月別集計!AH$2)","v":0},{"$f":"SUMIFS(入出金NFT結果!$D:$D,入出金NFT結果!$I:$I,\"=\"&月別集計!$B42,入出金NFT結果!$A:$A,\">=\"&月別集計!AI$1,入出金NFT結果!$A:$A,\"<=\"&月別集計!AI$2)","v":0},{"$f":"SUMIFS(入出金NFT結果!$D:$D,入出金NFT結果!$I:$I,\"=\"&月別集計!$B42,入出金NFT結果!$A:$A,\">=\"&月別集計!AJ$1,入出金NFT結果!$A:$A,\"<=\"&月別集計!AJ$2)","v":0},{"$f":"SUMIFS(入出金NFT結果!$D:$D,入出金NFT結果!$I:$I,\"=\"&月別集計!$B42,入出金NFT結果!$A:$A,\">=\"&月別集計!AK$1,入出金NFT結果!$A:$A,\"<=\"&月別集計!AK$2)","v":0},{"$f":"SUMIFS(入出金NFT結果!$D:$D,入出金NFT結果!$I:$I,\"=\"&月別集計!$B42,入出金NFT結果!$A:$A,\">=\"&月別集計!AL$1,入出金NFT結果!$A:$A,\"<=\"&月別集計!AL$2)","v":0},{"$f":"SUMIFS(入出金NFT結果!$D:$D,入出金NFT結果!$I:$I,\"=\"&月別集計!$B42,入出金NFT結果!$A:$A,\">=\"&月別集計!AM$1,入出金NFT結果!$A:$A,\"<=\"&月別集計!AM$2)","v":0},{"$f":"SUMIFS(入出金NFT結果!$D:$D,入出金NFT結果!$I:$I,\"=\"&月別集計!$B42,入出金NFT結果!$A:$A,\">=\"&月別集計!AN$1,入出金NFT結果!$A:$A,\"<=\"&月別集計!AN$2)","v":0},{"$f":"SUMIFS(入出金NFT結果!$D:$D,入出金NFT結果!$I:$I,\"=\"&月別集計!$B42,入出金NFT結果!$A:$A,\">=\"&月別集計!AO$1,入出金NFT結果!$A:$A,\"<=\"&月別集計!AO$2)","v":0},{"$f":"SUMIFS(入出金NFT結果!$D:$D,入出金NFT結果!$I:$I,\"=\"&月別集計!$B42,入出金NFT結果!$A:$A,\">=\"&月別集計!AP$1,入出金NFT結果!$A:$A,\"<=\"&月別集計!AP$2)","v":0},{"$f":"SUMIFS(入出金NFT結果!$D:$D,入出金NFT結果!$I:$I,\"=\"&月別集計!$B42,入出金NFT結果!$A:$A,\">=\"&月別集計!AQ$1,入出金NFT結果!$A:$A,\"<=\"&月別集計!AQ$2)","v":0},{"$f":"SUMIFS(入出金NFT結果!$D:$D,入出金NFT結果!$I:$I,\"=\"&月別集計!$B42,入出金NFT結果!$A:$A,\">=\"&月別集計!AR$1,入出金NFT結果!$A:$A,\"<=\"&月別集計!AR$2)","v":0},{"$f":"SUMIFS(入出金NFT結果!$D:$D,入出金NFT結果!$I:$I,\"=\"&月別集計!$B42,入出金NFT結果!$A:$A,\">=\"&月別集計!AS$1,入出金NFT結果!$A:$A,\"<=\"&月別集計!AS$2)","v":0},{"$f":"SUMIFS(入出金NFT結果!$D:$D,入出金NFT結果!$I:$I,\"=\"&月別集計!$B42,入出金NFT結果!$A:$A,\">=\"&月別集計!AT$1,入出金NFT結果!$A:$A,\"<=\"&月別集計!AT$2)","v":0},{"$f":"SUMIFS(入出金NFT結果!$D:$D,入出金NFT結果!$I:$I,\"=\"&月別集計!$B42,入出金NFT結果!$A:$A,\">=\"&月別集計!AU$1,入出金NFT結果!$A:$A,\"<=\"&月別集計!AU$2)","v":0},{"$f":"SUMIFS(入出金NFT結果!$D:$D,入出金NFT結果!$I:$I,\"=\"&月別集計!$B42,入出金NFT結果!$A:$A,\">=\"&月別集計!AV$1,入出金NFT結果!$A:$A,\"<=\"&月別集計!AV$2)","v":0},{"$f":"SUMIFS(入出金NFT結果!$D:$D,入出金NFT結果!$I:$I,\"=\"&月別集計!$B42,入出金NFT結果!$A:$A,\">=\"&月別集計!AW$1,入出金NFT結果!$A:$A,\"<=\"&月別集計!AW$2)","v":0},{"$f":"SUMIFS(入出金NFT結果!$D:$D,入出金NFT結果!$I:$I,\"=\"&月別集計!$B42,入出金NFT結果!$A:$A,\">=\"&月別集計!AX$1,入出金NFT結果!$A:$A,\"<=\"&月別集計!AX$2)","v":0},{"$f":"SUMIFS(入出金NFT結果!$D:$D,入出金NFT結果!$I:$I,\"=\"&月別集計!$B42,入出金NFT結果!$A:$A,\">=\"&月別集計!AY$1,入出金NFT結果!$A:$A,\"<=\"&月別集計!AY$2)","v":0},{"$f":"SUMIFS(入出金NFT結果!$D:$D,入出金NFT結果!$I:$I,\"=\"&月別集計!$B42,入出金NFT結果!$A:$A,\">=\"&月別集計!AZ$1,入出金NFT結果!$A:$A,\"<=\"&月別集計!AZ$2)","v":0},{"$f":"SUMIFS(入出金NFT結果!$D:$D,入出金NFT結果!$I:$I,\"=\"&月別集計!$B42,入出金NFT結果!$A:$A,\">=\"&月別集計!BA$1,入出金NFT結果!$A:$A,\"<=\"&月別集計!BA$2)","v":0},{"$f":"SUMIFS(入出金NFT結果!$D:$D,入出金NFT結果!$I:$I,\"=\"&月別集計!$B42,入出金NFT結果!$A:$A,\">=\"&月別集計!BB$1,入出金NFT結果!$A:$A,\"<=\"&月別集計!BB$2)","v":0},{"$f":"SUMIFS(入出金NFT結果!$D:$D,入出金NFT結果!$I:$I,\"=\"&月別集計!$B42,入出金NFT結果!$A:$A,\">=\"&月別集計!BC$1,入出金NFT結果!$A:$A,\"<=\"&月別集計!BC$2)","v":0},{"$f":"SUMIFS(入出金NFT結果!$D:$D,入出金NFT結果!$I:$I,\"=\"&月別集計!$B42,入出金NFT結果!$A:$A,\">=\"&月別集計!BD$1,入出金NFT結果!$A:$A,\"<=\"&月別集計!BD$2)","v":0},{"$f":"SUMIFS(入出金NFT結果!$D:$D,入出金NFT結果!$I:$I,\"=\"&月別集計!$B42,入出金NFT結果!$A:$A,\">=\"&月別集計!BE$1,入出金NFT結果!$A:$A,\"<=\"&月別集計!BE$2)","v":0},{"$f":"SUMIFS(入出金NFT結果!$D:$D,入出金NFT結果!$I:$I,\"=\"&月別集計!$B42,入出金NFT結果!$A:$A,\">=\"&月別集計!BF$1,入出金NFT結果!$A:$A,\"<=\"&月別集計!BF$2)","v":0},{"$f":"SUMIFS(入出金NFT結果!$D:$D,入出金NFT結果!$I:$I,\"=\"&月別集計!$B42,入出金NFT結果!$A:$A,\">=\"&月別集計!BG$1,入出金NFT結果!$A:$A,\"<=\"&月別集計!BG$2)","v":0},{"$f":"SUMIFS(入出金NFT結果!$D:$D,入出金NFT結果!$I:$I,\"=\"&月別集計!$B42,入出金NFT結果!$A:$A,\">=\"&月別集計!BH$1,入出金NFT結果!$A:$A,\"<=\"&月別集計!BH$2)","v":0},{"$f":"SUMIFS(入出金NFT結果!$D:$D,入出金NFT結果!$I:$I,\"=\"&月別集計!$B42,入出金NFT結果!$A:$A,\">=\"&月別集計!BI$1,入出金NFT結果!$A:$A,\"<=\"&月別集計!BI$2)","v":0},{"$f":"SUMIFS(入出金NFT結果!$D:$D,入出金NFT結果!$I:$I,\"=\"&月別集計!$B42,入出金NFT結果!$A:$A,\">=\"&月別集計!BJ$1,入出金NFT結果!$A:$A,\"<=\"&月別集計!BJ$2)","v":0},{"$f":"SUMIFS(入出金NFT結果!$D:$D,入出金NFT結果!$I:$I,\"=\"&月別集計!$B42,入出金NFT結果!$A:$A,\">=\"&月別集計!BK$1,入出金NFT結果!$A:$A,\"<=\"&月別集計!BK$2)","v":0},{"$f":"SUMIFS(入出金NFT結果!$D:$D,入出金NFT結果!$I:$I,\"=\"&月別集計!$B42,入出金NFT結果!$A:$A,\">=\"&月別集計!BL$1,入出金NFT結果!$A:$A,\"<=\"&月別集計!BL$2)","v":0},{"$f":"SUMIFS(入出金NFT結果!$D:$D,入出金NFT結果!$I:$I,\"=\"&月別集計!$B42,入出金NFT結果!$A:$A,\">=\"&月別集計!BM$1,入出金NFT結果!$A:$A,\"<=\"&月別集計!BM$2)","v":0}]
[null,{"$f":"推定用途置換ルール!P17","v":"LuckyFarmer：各種ガチャ2"},{"$f":"SUMIFS(入出金NFT結果!$D:$D,入出金NFT結果!$I:$I,\"=\"&月別集計!$B43,入出金NFT結果!$A:$A,\">=\"&月別集計!C$1,入出金NFT結果!$A:$A,\"<=\"&月別集計!C$2)","v":0},{"$f":"SUMIFS(入出金NFT結果!$D:$D,入出金NFT結果!$I:$I,\"=\"&月別集計!$B43,入出金NFT結果!$A:$A,\">=\"&月別集計!D$1,入出金NFT結果!$A:$A,\"<=\"&月別集計!D$2)","v":0},{"$f":"SUMIFS(入出金NFT結果!$D:$D,入出金NFT結果!$I:$I,\"=\"&月別集計!$B43,入出金NFT結果!$A:$A,\">=\"&月別集計!E$1,入出金NFT結果!$A:$A,\"<=\"&月別集計!E$2)","v":0},{"$f":"SUMIFS(入出金NFT結果!$D:$D,入出金NFT結果!$I:$I,\"=\"&月別集計!$B43,入出金NFT結果!$A:$A,\">=\"&月別集計!F$1,入出金NFT結果!$A:$A,\"<=\"&月別集計!F$2)","v":0},{"$f":"SUMIFS(入出金NFT結果!$D:$D,入出金NFT結果!$I:$I,\"=\"&月別集計!$B43,入出金NFT結果!$A:$A,\">=\"&月別集計!G$1,入出金NFT結果!$A:$A,\"<=\"&月別集計!G$2)","v":0},{"$f":"SUMIFS(入出金NFT結果!$D:$D,入出金NFT結果!$I:$I,\"=\"&月別集計!$B43,入出金NFT結果!$A:$A,\">=\"&月別集計!H$1,入出金NFT結果!$A:$A,\"<=\"&月別集計!H$2)","v":0},{"$f":"SUMIFS(入出金NFT結果!$D:$D,入出金NFT結果!$I:$I,\"=\"&月別集計!$B43,入出金NFT結果!$A:$A,\">=\"&月別集計!I$1,入出金NFT結果!$A:$A,\"<=\"&月別集計!I$2)","v":0},{"$f":"SUMIFS(入出金NFT結果!$D:$D,入出金NFT結果!$I:$I,\"=\"&月別集計!$B43,入出金NFT結果!$A:$A,\">=\"&月別集計!J$1,入出金NFT結果!$A:$A,\"<=\"&月別集計!J$2)","v":0},{"$f":"SUMIFS(入出金NFT結果!$D:$D,入出金NFT結果!$I:$I,\"=\"&月別集計!$B43,入出金NFT結果!$A:$A,\">=\"&月別集計!K$1,入出金NFT結果!$A:$A,\"<=\"&月別集計!K$2)","v":0},{"$f":"SUMIFS(入出金NFT結果!$D:$D,入出金NFT結果!$I:$I,\"=\"&月別集計!$B43,入出金NFT結果!$A:$A,\">=\"&月別集計!L$1,入出金NFT結果!$A:$A,\"<=\"&月別集計!L$2)","v":0},{"$f":"SUMIFS(入出金NFT結果!$D:$D,入出金NFT結果!$I:$I,\"=\"&月別集計!$B43,入出金NFT結果!$A:$A,\">=\"&月別集計!M$1,入出金NFT結果!$A:$A,\"<=\"&月別集計!M$2)","v":0},{"$f":"SUMIFS(入出金NFT結果!$D:$D,入出金NFT結果!$I:$I,\"=\"&月別集計!$B43,入出金NFT結果!$A:$A,\">=\"&月別集計!N$1,入出金NFT結果!$A:$A,\"<=\"&月別集計!N$2)","v":0},{"$f":"SUMIFS(入出金NFT結果!$D:$D,入出金NFT結果!$I:$I,\"=\"&月別集計!$B43,入出金NFT結果!$A:$A,\">=\"&月別集計!O$1,入出金NFT結果!$A:$A,\"<=\"&月別集計!O$2)","v":0},{"$f":"SUMIFS(入出金NFT結果!$D:$D,入出金NFT結果!$I:$I,\"=\"&月別集計!$B43,入出金NFT結果!$A:$A,\">=\"&月別集計!P$1,入出金NFT結果!$A:$A,\"<=\"&月別集計!P$2)","v":0},{"$f":"SUMIFS(入出金NFT結果!$D:$D,入出金NFT結果!$I:$I,\"=\"&月別集計!$B43,入出金NFT結果!$A:$A,\">=\"&月別集計!Q$1,入出金NFT結果!$A:$A,\"<=\"&月別集計!Q$2)","v":0},{"$f":"SUMIFS(入出金NFT結果!$D:$D,入出金NFT結果!$I:$I,\"=\"&月別集計!$B43,入出金NFT結果!$A:$A,\">=\"&月別集計!R$1,入出金NFT結果!$A:$A,\"<=\"&月別集計!R$2)","v":0},{"$f":"SUMIFS(入出金NFT結果!$D:$D,入出金NFT結果!$I:$I,\"=\"&月別集計!$B43,入出金NFT結果!$A:$A,\">=\"&月別集計!S$1,入出金NFT結果!$A:$A,\"<=\"&月別集計!S$2)","v":0},{"$f":"SUMIFS(入出金NFT結果!$D:$D,入出金NFT結果!$I:$I,\"=\"&月別集計!$B43,入出金NFT結果!$A:$A,\">=\"&月別集計!T$1,入出金NFT結果!$A:$A,\"<=\"&月別集計!T$2)","v":0},{"$f":"SUMIFS(入出金NFT結果!$D:$D,入出金NFT結果!$I:$I,\"=\"&月別集計!$B43,入出金NFT結果!$A:$A,\">=\"&月別集計!U$1,入出金NFT結果!$A:$A,\"<=\"&月別集計!U$2)","v":0},{"$f":"SUMIFS(入出金NFT結果!$D:$D,入出金NFT結果!$I:$I,\"=\"&月別集計!$B43,入出金NFT結果!$A:$A,\">=\"&月別集計!V$1,入出金NFT結果!$A:$A,\"<=\"&月別集計!V$2)","v":0},{"$f":"SUMIFS(入出金NFT結果!$D:$D,入出金NFT結果!$I:$I,\"=\"&月別集計!$B43,入出金NFT結果!$A:$A,\">=\"&月別集計!W$1,入出金NFT結果!$A:$A,\"<=\"&月別集計!W$2)","v":0},{"$f":"SUMIFS(入出金NFT結果!$D:$D,入出金NFT結果!$I:$I,\"=\"&月別集計!$B43,入出金NFT結果!$A:$A,\">=\"&月別集計!X$1,入出金NFT結果!$A:$A,\"<=\"&月別集計!X$2)","v":0},{"$f":"SUMIFS(入出金NFT結果!$D:$D,入出金NFT結果!$I:$I,\"=\"&月別集計!$B43,入出金NFT結果!$A:$A,\">=\"&月別集計!Y$1,入出金NFT結果!$A:$A,\"<=\"&月別集計!Y$2)","v":0},{"$f":"SUMIFS(入出金NFT結果!$D:$D,入出金NFT結果!$I:$I,\"=\"&月別集計!$B43,入出金NFT結果!$A:$A,\">=\"&月別集計!Z$1,入出金NFT結果!$A:$A,\"<=\"&月別集計!Z$2)","v":0},{"$f":"SUMIFS(入出金NFT結果!$D:$D,入出金NFT結果!$I:$I,\"=\"&月別集計!$B43,入出金NFT結果!$A:$A,\">=\"&月別集計!AA$1,入出金NFT結果!$A:$A,\"<=\"&月別集計!AA$2)","v":0},{"$f":"SUMIFS(入出金NFT結果!$D:$D,入出金NFT結果!$I:$I,\"=\"&月別集計!$B43,入出金NFT結果!$A:$A,\">=\"&月別集計!AB$1,入出金NFT結果!$A:$A,\"<=\"&月別集計!AB$2)","v":0},{"$f":"SUMIFS(入出金NFT結果!$D:$D,入出金NFT結果!$I:$I,\"=\"&月別集計!$B43,入出金NFT結果!$A:$A,\">=\"&月別集計!AC$1,入出金NFT結果!$A:$A,\"<=\"&月別集計!AC$2)","v":0},{"$f":"SUMIFS(入出金NFT結果!$D:$D,入出金NFT結果!$I:$I,\"=\"&月別集計!$B43,入出金NFT結果!$A:$A,\">=\"&月別集計!AD$1,入出金NFT結果!$A:$A,\"<=\"&月別集計!AD$2)","v":0},{"$f":"SUMIFS(入出金NFT結果!$D:$D,入出金NFT結果!$I:$I,\"=\"&月別集計!$B43,入出金NFT結果!$A:$A,\">=\"&月別集計!AE$1,入出金NFT結果!$A:$A,\"<=\"&月別集計!AE$2)","v":0},{"$f":"SUMIFS(入出金NFT結果!$D:$D,入出金NFT結果!$I:$I,\"=\"&月別集計!$B43,入出金NFT結果!$A:$A,\">=\"&月別集計!AF$1,入出金NFT結果!$A:$A,\"<=\"&月別集計!AF$2)","v":0},{"$f":"SUMIFS(入出金NFT結果!$D:$D,入出金NFT結果!$I:$I,\"=\"&月別集計!$B43,入出金NFT結果!$A:$A,\">=\"&月別集計!AG$1,入出金NFT結果!$A:$A,\"<=\"&月別集計!AG$2)","v":0},{"$f":"SUMIFS(入出金NFT結果!$D:$D,入出金NFT結果!$I:$I,\"=\"&月別集計!$B43,入出金NFT結果!$A:$A,\">=\"&月別集計!AH$1,入出金NFT結果!$A:$A,\"<=\"&月別集計!AH$2)","v":0},{"$f":"SUMIFS(入出金NFT結果!$D:$D,入出金NFT結果!$I:$I,\"=\"&月別集計!$B43,入出金NFT結果!$A:$A,\">=\"&月別集計!AI$1,入出金NFT結果!$A:$A,\"<=\"&月別集計!AI$2)","v":0},{"$f":"SUMIFS(入出金NFT結果!$D:$D,入出金NFT結果!$I:$I,\"=\"&月別集計!$B43,入出金NFT結果!$A:$A,\">=\"&月別集計!AJ$1,入出金NFT結果!$A:$A,\"<=\"&月別集計!AJ$2)","v":0},{"$f":"SUMIFS(入出金NFT結果!$D:$D,入出金NFT結果!$I:$I,\"=\"&月別集計!$B43,入出金NFT結果!$A:$A,\">=\"&月別集計!AK$1,入出金NFT結果!$A:$A,\"<=\"&月別集計!AK$2)","v":0},{"$f":"SUMIFS(入出金NFT結果!$D:$D,入出金NFT結果!$I:$I,\"=\"&月別集計!$B43,入出金NFT結果!$A:$A,\">=\"&月別集計!AL$1,入出金NFT結果!$A:$A,\"<=\"&月別集計!AL$2)","v":0},{"$f":"SUMIFS(入出金NFT結果!$D:$D,入出金NFT結果!$I:$I,\"=\"&月別集計!$B43,入出金NFT結果!$A:$A,\">=\"&月別集計!AM$1,入出金NFT結果!$A:$A,\"<=\"&月別集計!AM$2)","v":0},{"$f":"SUMIFS(入出金NFT結果!$D:$D,入出金NFT結果!$I:$I,\"=\"&月別集計!$B43,入出金NFT結果!$A:$A,\">=\"&月別集計!AN$1,入出金NFT結果!$A:$A,\"<=\"&月別集計!AN$2)","v":0},{"$f":"SUMIFS(入出金NFT結果!$D:$D,入出金NFT結果!$I:$I,\"=\"&月別集計!$B43,入出金NFT結果!$A:$A,\">=\"&月別集計!AO$1,入出金NFT結果!$A:$A,\"<=\"&月別集計!AO$2)","v":0},{"$f":"SUMIFS(入出金NFT結果!$D:$D,入出金NFT結果!$I:$I,\"=\"&月別集計!$B43,入出金NFT結果!$A:$A,\">=\"&月別集計!AP$1,入出金NFT結果!$A:$A,\"<=\"&月別集計!AP$2)","v":0},{"$f":"SUMIFS(入出金NFT結果!$D:$D,入出金NFT結果!$I:$I,\"=\"&月別集計!$B43,入出金NFT結果!$A:$A,\">=\"&月別集計!AQ$1,入出金NFT結果!$A:$A,\"<=\"&月別集計!AQ$2)","v":0},{"$f":"SUMIFS(入出金NFT結果!$D:$D,入出金NFT結果!$I:$I,\"=\"&月別集計!$B43,入出金NFT結果!$A:$A,\">=\"&月別集計!AR$1,入出金NFT結果!$A:$A,\"<=\"&月別集計!AR$2)","v":0},{"$f":"SUMIFS(入出金NFT結果!$D:$D,入出金NFT結果!$I:$I,\"=\"&月別集計!$B43,入出金NFT結果!$A:$A,\">=\"&月別集計!AS$1,入出金NFT結果!$A:$A,\"<=\"&月別集計!AS$2)","v":0},{"$f":"SUMIFS(入出金NFT結果!$D:$D,入出金NFT結果!$I:$I,\"=\"&月別集計!$B43,入出金NFT結果!$A:$A,\">=\"&月別集計!AT$1,入出金NFT結果!$A:$A,\"<=\"&月別集計!AT$2)","v":0},{"$f":"SUMIFS(入出金NFT結果!$D:$D,入出金NFT結果!$I:$I,\"=\"&月別集計!$B43,入出金NFT結果!$A:$A,\">=\"&月別集計!AU$1,入出金NFT結果!$A:$A,\"<=\"&月別集計!AU$2)","v":0},{"$f":"SUMIFS(入出金NFT結果!$D:$D,入出金NFT結果!$I:$I,\"=\"&月別集計!$B43,入出金NFT結果!$A:$A,\">=\"&月別集計!AV$1,入出金NFT結果!$A:$A,\"<=\"&月別集計!AV$2)","v":0},{"$f":"SUMIFS(入出金NFT結果!$D:$D,入出金NFT結果!$I:$I,\"=\"&月別集計!$B43,入出金NFT結果!$A:$A,\">=\"&月別集計!AW$1,入出金NFT結果!$A:$A,\"<=\"&月別集計!AW$2)","v":0},{"$f":"SUMIFS(入出金NFT結果!$D:$D,入出金NFT結果!$I:$I,\"=\"&月別集計!$B43,入出金NFT結果!$A:$A,\">=\"&月別集計!AX$1,入出金NFT結果!$A:$A,\"<=\"&月別集計!AX$2)","v":0},{"$f":"SUMIFS(入出金NFT結果!$D:$D,入出金NFT結果!$I:$I,\"=\"&月別集計!$B43,入出金NFT結果!$A:$A,\">=\"&月別集計!AY$1,入出金NFT結果!$A:$A,\"<=\"&月別集計!AY$2)","v":0},{"$f":"SUMIFS(入出金NFT結果!$D:$D,入出金NFT結果!$I:$I,\"=\"&月別集計!$B43,入出金NFT結果!$A:$A,\">=\"&月別集計!AZ$1,入出金NFT結果!$A:$A,\"<=\"&月別集計!AZ$2)","v":0},{"$f":"SUMIFS(入出金NFT結果!$D:$D,入出金NFT結果!$I:$I,\"=\"&月別集計!$B43,入出金NFT結果!$A:$A,\">=\"&月別集計!BA$1,入出金NFT結果!$A:$A,\"<=\"&月別集計!BA$2)","v":0},{"$f":"SUMIFS(入出金NFT結果!$D:$D,入出金NFT結果!$I:$I,\"=\"&月別集計!$B43,入出金NFT結果!$A:$A,\">=\"&月別集計!BB$1,入出金NFT結果!$A:$A,\"<=\"&月別集計!BB$2)","v":0},{"$f":"SUMIFS(入出金NFT結果!$D:$D,入出金NFT結果!$I:$I,\"=\"&月別集計!$B43,入出金NFT結果!$A:$A,\">=\"&月別集計!BC$1,入出金NFT結果!$A:$A,\"<=\"&月別集計!BC$2)","v":0},{"$f":"SUMIFS(入出金NFT結果!$D:$D,入出金NFT結果!$I:$I,\"=\"&月別集計!$B43,入出金NFT結果!$A:$A,\">=\"&月別集計!BD$1,入出金NFT結果!$A:$A,\"<=\"&月別集計!BD$2)","v":0},{"$f":"SUMIFS(入出金NFT結果!$D:$D,入出金NFT結果!$I:$I,\"=\"&月別集計!$B43,入出金NFT結果!$A:$A,\">=\"&月別集計!BE$1,入出金NFT結果!$A:$A,\"<=\"&月別集計!BE$2)","v":0},{"$f":"SUMIFS(入出金NFT結果!$D:$D,入出金NFT結果!$I:$I,\"=\"&月別集計!$B43,入出金NFT結果!$A:$A,\">=\"&月別集計!BF$1,入出金NFT結果!$A:$A,\"<=\"&月別集計!BF$2)","v":0},{"$f":"SUMIFS(入出金NFT結果!$D:$D,入出金NFT結果!$I:$I,\"=\"&月別集計!$B43,入出金NFT結果!$A:$A,\">=\"&月別集計!BG$1,入出金NFT結果!$A:$A,\"<=\"&月別集計!BG$2)","v":0},{"$f":"SUMIFS(入出金NFT結果!$D:$D,入出金NFT結果!$I:$I,\"=\"&月別集計!$B43,入出金NFT結果!$A:$A,\">=\"&月別集計!BH$1,入出金NFT結果!$A:$A,\"<=\"&月別集計!BH$2)","v":0},{"$f":"SUMIFS(入出金NFT結果!$D:$D,入出金NFT結果!$I:$I,\"=\"&月別集計!$B43,入出金NFT結果!$A:$A,\">=\"&月別集計!BI$1,入出金NFT結果!$A:$A,\"<=\"&月別集計!BI$2)","v":0},{"$f":"SUMIFS(入出金NFT結果!$D:$D,入出金NFT結果!$I:$I,\"=\"&月別集計!$B43,入出金NFT結果!$A:$A,\">=\"&月別集計!BJ$1,入出金NFT結果!$A:$A,\"<=\"&月別集計!BJ$2)","v":0},{"$f":"SUMIFS(入出金NFT結果!$D:$D,入出金NFT結果!$I:$I,\"=\"&月別集計!$B43,入出金NFT結果!$A:$A,\">=\"&月別集計!BK$1,入出金NFT結果!$A:$A,\"<=\"&月別集計!BK$2)","v":0},{"$f":"SUMIFS(入出金NFT結果!$D:$D,入出金NFT結果!$I:$I,\"=\"&月別集計!$B43,入出金NFT結果!$A:$A,\">=\"&月別集計!BL$1,入出金NFT結果!$A:$A,\"<=\"&月別集計!BL$2)","v":0},{"$f":"SUMIFS(入出金NFT結果!$D:$D,入出金NFT結果!$I:$I,\"=\"&月別集計!$B43,入出金NFT結果!$A:$A,\">=\"&月別集計!BM$1,入出金NFT結果!$A:$A,\"<=\"&月別集計!BM$2)","v":0}]
[null,{"$f":"推定用途置換ルール!P18","v":"SOUL Fusers：ソウルフューズ（NFT化）、アイテム購入"},{"$f":"SUMIFS(入出金NFT結果!$D:$D,入出金NFT結果!$I:$I,\"=\"&月別集計!$B44,入出金NFT結果!$A:$A,\">=\"&月別集計!C$1,入出金NFT結果!$A:$A,\"<=\"&月別集計!C$2)","v":0},{"$f":"SUMIFS(入出金NFT結果!$D:$D,入出金NFT結果!$I:$I,\"=\"&月別集計!$B44,入出金NFT結果!$A:$A,\">=\"&月別集計!D$1,入出金NFT結果!$A:$A,\"<=\"&月別集計!D$2)","v":0},{"$f":"SUMIFS(入出金NFT結果!$D:$D,入出金NFT結果!$I:$I,\"=\"&月別集計!$B44,入出金NFT結果!$A:$A,\">=\"&月別集計!E$1,入出金NFT結果!$A:$A,\"<=\"&月別集計!E$2)","v":0},{"$f":"SUMIFS(入出金NFT結果!$D:$D,入出金NFT結果!$I:$I,\"=\"&月別集計!$B44,入出金NFT結果!$A:$A,\">=\"&月別集計!F$1,入出金NFT結果!$A:$A,\"<=\"&月別集計!F$2)","v":0},{"$f":"SUMIFS(入出金NFT結果!$D:$D,入出金NFT結果!$I:$I,\"=\"&月別集計!$B44,入出金NFT結果!$A:$A,\">=\"&月別集計!G$1,入出金NFT結果!$A:$A,\"<=\"&月別集計!G$2)","v":0},{"$f":"SUMIFS(入出金NFT結果!$D:$D,入出金NFT結果!$I:$I,\"=\"&月別集計!$B44,入出金NFT結果!$A:$A,\">=\"&月別集計!H$1,入出金NFT結果!$A:$A,\"<=\"&月別集計!H$2)","v":0},{"$f":"SUMIFS(入出金NFT結果!$D:$D,入出金NFT結果!$I:$I,\"=\"&月別集計!$B44,入出金NFT結果!$A:$A,\">=\"&月別集計!I$1,入出金NFT結果!$A:$A,\"<=\"&月別集計!I$2)","v":0},{"$f":"SUMIFS(入出金NFT結果!$D:$D,入出金NFT結果!$I:$I,\"=\"&月別集計!$B44,入出金NFT結果!$A:$A,\">=\"&月別集計!J$1,入出金NFT結果!$A:$A,\"<=\"&月別集計!J$2)","v":0},{"$f":"SUMIFS(入出金NFT結果!$D:$D,入出金NFT結果!$I:$I,\"=\"&月別集計!$B44,入出金NFT結果!$A:$A,\">=\"&月別集計!K$1,入出金NFT結果!$A:$A,\"<=\"&月別集計!K$2)","v":0},{"$f":"SUMIFS(入出金NFT結果!$D:$D,入出金NFT結果!$I:$I,\"=\"&月別集計!$B44,入出金NFT結果!$A:$A,\">=\"&月別集計!L$1,入出金NFT結果!$A:$A,\"<=\"&月別集計!L$2)","v":0},{"$f":"SUMIFS(入出金NFT結果!$D:$D,入出金NFT結果!$I:$I,\"=\"&月別集計!$B44,入出金NFT結果!$A:$A,\">=\"&月別集計!M$1,入出金NFT結果!$A:$A,\"<=\"&月別集計!M$2)","v":0},{"$f":"SUMIFS(入出金NFT結果!$D:$D,入出金NFT結果!$I:$I,\"=\"&月別集計!$B44,入出金NFT結果!$A:$A,\">=\"&月別集計!N$1,入出金NFT結果!$A:$A,\"<=\"&月別集計!N$2)","v":0},{"$f":"SUMIFS(入出金NFT結果!$D:$D,入出金NFT結果!$I:$I,\"=\"&月別集計!$B44,入出金NFT結果!$A:$A,\">=\"&月別集計!O$1,入出金NFT結果!$A:$A,\"<=\"&月別集計!O$2)","v":0},{"$f":"SUMIFS(入出金NFT結果!$D:$D,入出金NFT結果!$I:$I,\"=\"&月別集計!$B44,入出金NFT結果!$A:$A,\">=\"&月別集計!P$1,入出金NFT結果!$A:$A,\"<=\"&月別集計!P$2)","v":0},{"$f":"SUMIFS(入出金NFT結果!$D:$D,入出金NFT結果!$I:$I,\"=\"&月別集計!$B44,入出金NFT結果!$A:$A,\">=\"&月別集計!Q$1,入出金NFT結果!$A:$A,\"<=\"&月別集計!Q$2)","v":0},{"$f":"SUMIFS(入出金NFT結果!$D:$D,入出金NFT結果!$I:$I,\"=\"&月別集計!$B44,入出金NFT結果!$A:$A,\">=\"&月別集計!R$1,入出金NFT結果!$A:$A,\"<=\"&月別集計!R$2)","v":0},{"$f":"SUMIFS(入出金NFT結果!$D:$D,入出金NFT結果!$I:$I,\"=\"&月別集計!$B44,入出金NFT結果!$A:$A,\">=\"&月別集計!S$1,入出金NFT結果!$A:$A,\"<=\"&月別集計!S$2)","v":0},{"$f":"SUMIFS(入出金NFT結果!$D:$D,入出金NFT結果!$I:$I,\"=\"&月別集計!$B44,入出金NFT結果!$A:$A,\">=\"&月別集計!T$1,入出金NFT結果!$A:$A,\"<=\"&月別集計!T$2)","v":0},{"$f":"SUMIFS(入出金NFT結果!$D:$D,入出金NFT結果!$I:$I,\"=\"&月別集計!$B44,入出金NFT結果!$A:$A,\">=\"&月別集計!U$1,入出金NFT結果!$A:$A,\"<=\"&月別集計!U$2)","v":0},{"$f":"SUMIFS(入出金NFT結果!$D:$D,入出金NFT結果!$I:$I,\"=\"&月別集計!$B44,入出金NFT結果!$A:$A,\">=\"&月別集計!V$1,入出金NFT結果!$A:$A,\"<=\"&月別集計!V$2)","v":0},{"$f":"SUMIFS(入出金NFT結果!$D:$D,入出金NFT結果!$I:$I,\"=\"&月別集計!$B44,入出金NFT結果!$A:$A,\">=\"&月別集計!W$1,入出金NFT結果!$A:$A,\"<=\"&月別集計!W$2)","v":0},{"$f":"SUMIFS(入出金NFT結果!$D:$D,入出金NFT結果!$I:$I,\"=\"&月別集計!$B44,入出金NFT結果!$A:$A,\">=\"&月別集計!X$1,入出金NFT結果!$A:$A,\"<=\"&月別集計!X$2)","v":0},{"$f":"SUMIFS(入出金NFT結果!$D:$D,入出金NFT結果!$I:$I,\"=\"&月別集計!$B44,入出金NFT結果!$A:$A,\">=\"&月別集計!Y$1,入出金NFT結果!$A:$A,\"<=\"&月別集計!Y$2)","v":0},{"$f":"SUMIFS(入出金NFT結果!$D:$D,入出金NFT結果!$I:$I,\"=\"&月別集計!$B44,入出金NFT結果!$A:$A,\">=\"&月別集計!Z$1,入出金NFT結果!$A:$A,\"<=\"&月別集計!Z$2)","v":0},{"$f":"SUMIFS(入出金NFT結果!$D:$D,入出金NFT結果!$I:$I,\"=\"&月別集計!$B44,入出金NFT結果!$A:$A,\">=\"&月別集計!AA$1,入出金NFT結果!$A:$A,\"<=\"&月別集計!AA$2)","v":0},{"$f":"SUMIFS(入出金NFT結果!$D:$D,入出金NFT結果!$I:$I,\"=\"&月別集計!$B44,入出金NFT結果!$A:$A,\">=\"&月別集計!AB$1,入出金NFT結果!$A:$A,\"<=\"&月別集計!AB$2)","v":0},{"$f":"SUMIFS(入出金NFT結果!$D:$D,入出金NFT結果!$I:$I,\"=\"&月別集計!$B44,入出金NFT結果!$A:$A,\">=\"&月別集計!AC$1,入出金NFT結果!$A:$A,\"<=\"&月別集計!AC$2)","v":0},{"$f":"SUMIFS(入出金NFT結果!$D:$D,入出金NFT結果!$I:$I,\"=\"&月別集計!$B44,入出金NFT結果!$A:$A,\">=\"&月別集計!AD$1,入出金NFT結果!$A:$A,\"<=\"&月別集計!AD$2)","v":0},{"$f":"SUMIFS(入出金NFT結果!$D:$D,入出金NFT結果!$I:$I,\"=\"&月別集計!$B44,入出金NFT結果!$A:$A,\">=\"&月別集計!AE$1,入出金NFT結果!$A:$A,\"<=\"&月別集計!AE$2)","v":0},{"$f":"SUMIFS(入出金NFT結果!$D:$D,入出金NFT結果!$I:$I,\"=\"&月別集計!$B44,入出金NFT結果!$A:$A,\">=\"&月別集計!AF$1,入出金NFT結果!$A:$A,\"<=\"&月別集計!AF$2)","v":0},{"$f":"SUMIFS(入出金NFT結果!$D:$D,入出金NFT結果!$I:$I,\"=\"&月別集計!$B44,入出金NFT結果!$A:$A,\">=\"&月別集計!AG$1,入出金NFT結果!$A:$A,\"<=\"&月別集計!AG$2)","v":0},{"$f":"SUMIFS(入出金NFT結果!$D:$D,入出金NFT結果!$I:$I,\"=\"&月別集計!$B44,入出金NFT結果!$A:$A,\">=\"&月別集計!AH$1,入出金NFT結果!$A:$A,\"<=\"&月別集計!AH$2)","v":0},{"$f":"SUMIFS(入出金NFT結果!$D:$D,入出金NFT結果!$I:$I,\"=\"&月別集計!$B44,入出金NFT結果!$A:$A,\">=\"&月別集計!AI$1,入出金NFT結果!$A:$A,\"<=\"&月別集計!AI$2)","v":0},{"$f":"SUMIFS(入出金NFT結果!$D:$D,入出金NFT結果!$I:$I,\"=\"&月別集計!$B44,入出金NFT結果!$A:$A,\">=\"&月別集計!AJ$1,入出金NFT結果!$A:$A,\"<=\"&月別集計!AJ$2)","v":0},{"$f":"SUMIFS(入出金NFT結果!$D:$D,入出金NFT結果!$I:$I,\"=\"&月別集計!$B44,入出金NFT結果!$A:$A,\">=\"&月別集計!AK$1,入出金NFT結果!$A:$A,\"<=\"&月別集計!AK$2)","v":0},{"$f":"SUMIFS(入出金NFT結果!$D:$D,入出金NFT結果!$I:$I,\"=\"&月別集計!$B44,入出金NFT結果!$A:$A,\">=\"&月別集計!AL$1,入出金NFT結果!$A:$A,\"<=\"&月別集計!AL$2)","v":0},{"$f":"SUMIFS(入出金NFT結果!$D:$D,入出金NFT結果!$I:$I,\"=\"&月別集計!$B44,入出金NFT結果!$A:$A,\">=\"&月別集計!AM$1,入出金NFT結果!$A:$A,\"<=\"&月別集計!AM$2)","v":0},{"$f":"SUMIFS(入出金NFT結果!$D:$D,入出金NFT結果!$I:$I,\"=\"&月別集計!$B44,入出金NFT結果!$A:$A,\">=\"&月別集計!AN$1,入出金NFT結果!$A:$A,\"<=\"&月別集計!AN$2)","v":0},{"$f":"SUMIFS(入出金NFT結果!$D:$D,入出金NFT結果!$I:$I,\"=\"&月別集計!$B44,入出金NFT結果!$A:$A,\">=\"&月別集計!AO$1,入出金NFT結果!$A:$A,\"<=\"&月別集計!AO$2)","v":0},{"$f":"SUMIFS(入出金NFT結果!$D:$D,入出金NFT結果!$I:$I,\"=\"&月別集計!$B44,入出金NFT結果!$A:$A,\">=\"&月別集計!AP$1,入出金NFT結果!$A:$A,\"<=\"&月別集計!AP$2)","v":0},{"$f":"SUMIFS(入出金NFT結果!$D:$D,入出金NFT結果!$I:$I,\"=\"&月別集計!$B44,入出金NFT結果!$A:$A,\">=\"&月別集計!AQ$1,入出金NFT結果!$A:$A,\"<=\"&月別集計!AQ$2)","v":0},{"$f":"SUMIFS(入出金NFT結果!$D:$D,入出金NFT結果!$I:$I,\"=\"&月別集計!$B44,入出金NFT結果!$A:$A,\">=\"&月別集計!AR$1,入出金NFT結果!$A:$A,\"<=\"&月別集計!AR$2)","v":0},{"$f":"SUMIFS(入出金NFT結果!$D:$D,入出金NFT結果!$I:$I,\"=\"&月別集計!$B44,入出金NFT結果!$A:$A,\">=\"&月別集計!AS$1,入出金NFT結果!$A:$A,\"<=\"&月別集計!AS$2)","v":0},{"$f":"SUMIFS(入出金NFT結果!$D:$D,入出金NFT結果!$I:$I,\"=\"&月別集計!$B44,入出金NFT結果!$A:$A,\">=\"&月別集計!AT$1,入出金NFT結果!$A:$A,\"<=\"&月別集計!AT$2)","v":0},{"$f":"SUMIFS(入出金NFT結果!$D:$D,入出金NFT結果!$I:$I,\"=\"&月別集計!$B44,入出金NFT結果!$A:$A,\">=\"&月別集計!AU$1,入出金NFT結果!$A:$A,\"<=\"&月別集計!AU$2)","v":0},{"$f":"SUMIFS(入出金NFT結果!$D:$D,入出金NFT結果!$I:$I,\"=\"&月別集計!$B44,入出金NFT結果!$A:$A,\">=\"&月別集計!AV$1,入出金NFT結果!$A:$A,\"<=\"&月別集計!AV$2)","v":0},{"$f":"SUMIFS(入出金NFT結果!$D:$D,入出金NFT結果!$I:$I,\"=\"&月別集計!$B44,入出金NFT結果!$A:$A,\">=\"&月別集計!AW$1,入出金NFT結果!$A:$A,\"<=\"&月別集計!AW$2)","v":0},{"$f":"SUMIFS(入出金NFT結果!$D:$D,入出金NFT結果!$I:$I,\"=\"&月別集計!$B44,入出金NFT結果!$A:$A,\">=\"&月別集計!AX$1,入出金NFT結果!$A:$A,\"<=\"&月別集計!AX$2)","v":0},{"$f":"SUMIFS(入出金NFT結果!$D:$D,入出金NFT結果!$I:$I,\"=\"&月別集計!$B44,入出金NFT結果!$A:$A,\">=\"&月別集計!AY$1,入出金NFT結果!$A:$A,\"<=\"&月別集計!AY$2)","v":0},{"$f":"SUMIFS(入出金NFT結果!$D:$D,入出金NFT結果!$I:$I,\"=\"&月別集計!$B44,入出金NFT結果!$A:$A,\">=\"&月別集計!AZ$1,入出金NFT結果!$A:$A,\"<=\"&月別集計!AZ$2)","v":0},{"$f":"SUMIFS(入出金NFT結果!$D:$D,入出金NFT結果!$I:$I,\"=\"&月別集計!$B44,入出金NFT結果!$A:$A,\">=\"&月別集計!BA$1,入出金NFT結果!$A:$A,\"<=\"&月別集計!BA$2)","v":0},{"$f":"SUMIFS(入出金NFT結果!$D:$D,入出金NFT結果!$I:$I,\"=\"&月別集計!$B44,入出金NFT結果!$A:$A,\">=\"&月別集計!BB$1,入出金NFT結果!$A:$A,\"<=\"&月別集計!BB$2)","v":0},{"$f":"SUMIFS(入出金NFT結果!$D:$D,入出金NFT結果!$I:$I,\"=\"&月別集計!$B44,入出金NFT結果!$A:$A,\">=\"&月別集計!BC$1,入出金NFT結果!$A:$A,\"<=\"&月別集計!BC$2)","v":0},{"$f":"SUMIFS(入出金NFT結果!$D:$D,入出金NFT結果!$I:$I,\"=\"&月別集計!$B44,入出金NFT結果!$A:$A,\">=\"&月別集計!BD$1,入出金NFT結果!$A:$A,\"<=\"&月別集計!BD$2)","v":0},{"$f":"SUMIFS(入出金NFT結果!$D:$D,入出金NFT結果!$I:$I,\"=\"&月別集計!$B44,入出金NFT結果!$A:$A,\">=\"&月別集計!BE$1,入出金NFT結果!$A:$A,\"<=\"&月別集計!BE$2)","v":0},{"$f":"SUMIFS(入出金NFT結果!$D:$D,入出金NFT結果!$I:$I,\"=\"&月別集計!$B44,入出金NFT結果!$A:$A,\">=\"&月別集計!BF$1,入出金NFT結果!$A:$A,\"<=\"&月別集計!BF$2)","v":0},{"$f":"SUMIFS(入出金NFT結果!$D:$D,入出金NFT結果!$I:$I,\"=\"&月別集計!$B44,入出金NFT結果!$A:$A,\">=\"&月別集計!BG$1,入出金NFT結果!$A:$A,\"<=\"&月別集計!BG$2)","v":0},{"$f":"SUMIFS(入出金NFT結果!$D:$D,入出金NFT結果!$I:$I,\"=\"&月別集計!$B44,入出金NFT結果!$A:$A,\">=\"&月別集計!BH$1,入出金NFT結果!$A:$A,\"<=\"&月別集計!BH$2)","v":0},{"$f":"SUMIFS(入出金NFT結果!$D:$D,入出金NFT結果!$I:$I,\"=\"&月別集計!$B44,入出金NFT結果!$A:$A,\">=\"&月別集計!BI$1,入出金NFT結果!$A:$A,\"<=\"&月別集計!BI$2)","v":0},{"$f":"SUMIFS(入出金NFT結果!$D:$D,入出金NFT結果!$I:$I,\"=\"&月別集計!$B44,入出金NFT結果!$A:$A,\">=\"&月別集計!BJ$1,入出金NFT結果!$A:$A,\"<=\"&月別集計!BJ$2)","v":0},{"$f":"SUMIFS(入出金NFT結果!$D:$D,入出金NFT結果!$I:$I,\"=\"&月別集計!$B44,入出金NFT結果!$A:$A,\">=\"&月別集計!BK$1,入出金NFT結果!$A:$A,\"<=\"&月別集計!BK$2)","v":0},{"$f":"SUMIFS(入出金NFT結果!$D:$D,入出金NFT結果!$I:$I,\"=\"&月別集計!$B44,入出金NFT結果!$A:$A,\">=\"&月別集計!BL$1,入出金NFT結果!$A:$A,\"<=\"&月別集計!BL$2)","v":0},{"$f":"SUMIFS(入出金NFT結果!$D:$D,入出金NFT結果!$I:$I,\"=\"&月別集計!$B44,入出金NFT結果!$A:$A,\">=\"&月別集計!BM$1,入出金NFT結果!$A:$A,\"<=\"&月別集計!BM$2)","v":0}]
[null,{"$f":"推定用途置換ルール!P19","v":"Rogue Roll Ruler's：装備NFT化・ゲーム内アイテム購入"},{"$f":"SUMIFS(入出金NFT結果!$D:$D,入出金NFT結果!$I:$I,\"=\"&月別集計!$B45,入出金NFT結果!$A:$A,\">=\"&月別集計!C$1,入出金NFT結果!$A:$A,\"<=\"&月別集計!C$2)","v":0},{"$f":"SUMIFS(入出金NFT結果!$D:$D,入出金NFT結果!$I:$I,\"=\"&月別集計!$B45,入出金NFT結果!$A:$A,\">=\"&月別集計!D$1,入出金NFT結果!$A:$A,\"<=\"&月別集計!D$2)","v":0},{"$f":"SUMIFS(入出金NFT結果!$D:$D,入出金NFT結果!$I:$I,\"=\"&月別集計!$B45,入出金NFT結果!$A:$A,\">=\"&月別集計!E$1,入出金NFT結果!$A:$A,\"<=\"&月別集計!E$2)","v":0},{"$f":"SUMIFS(入出金NFT結果!$D:$D,入出金NFT結果!$I:$I,\"=\"&月別集計!$B45,入出金NFT結果!$A:$A,\">=\"&月別集計!F$1,入出金NFT結果!$A:$A,\"<=\"&月別集計!F$2)","v":0},{"$f":"SUMIFS(入出金NFT結果!$D:$D,入出金NFT結果!$I:$I,\"=\"&月別集計!$B45,入出金NFT結果!$A:$A,\">=\"&月別集計!G$1,入出金NFT結果!$A:$A,\"<=\"&月別集計!G$2)","v":0},{"$f":"SUMIFS(入出金NFT結果!$D:$D,入出金NFT結果!$I:$I,\"=\"&月別集計!$B45,入出金NFT結果!$A:$A,\">=\"&月別集計!H$1,入出金NFT結果!$A:$A,\"<=\"&月別集計!H$2)","v":0},{"$f":"SUMIFS(入出金NFT結果!$D:$D,入出金NFT結果!$I:$I,\"=\"&月別集計!$B45,入出金NFT結果!$A:$A,\">=\"&月別集計!I$1,入出金NFT結果!$A:$A,\"<=\"&月別集計!I$2)","v":0},{"$f":"SUMIFS(入出金NFT結果!$D:$D,入出金NFT結果!$I:$I,\"=\"&月別集計!$B45,入出金NFT結果!$A:$A,\">=\"&月別集計!J$1,入出金NFT結果!$A:$A,\"<=\"&月別集計!J$2)","v":0},{"$f":"SUMIFS(入出金NFT結果!$D:$D,入出金NFT結果!$I:$I,\"=\"&月別集計!$B45,入出金NFT結果!$A:$A,\">=\"&月別集計!K$1,入出金NFT結果!$A:$A,\"<=\"&月別集計!K$2)","v":0},{"$f":"SUMIFS(入出金NFT結果!$D:$D,入出金NFT結果!$I:$I,\"=\"&月別集計!$B45,入出金NFT結果!$A:$A,\">=\"&月別集計!L$1,入出金NFT結果!$A:$A,\"<=\"&月別集計!L$2)","v":0},{"$f":"SUMIFS(入出金NFT結果!$D:$D,入出金NFT結果!$I:$I,\"=\"&月別集計!$B45,入出金NFT結果!$A:$A,\">=\"&月別集計!M$1,入出金NFT結果!$A:$A,\"<=\"&月別集計!M$2)","v":0},{"$f":"SUMIFS(入出金NFT結果!$D:$D,入出金NFT結果!$I:$I,\"=\"&月別集計!$B45,入出金NFT結果!$A:$A,\">=\"&月別集計!N$1,入出金NFT結果!$A:$A,\"<=\"&月別集計!N$2)","v":0},{"$f":"SUMIFS(入出金NFT結果!$D:$D,入出金NFT結果!$I:$I,\"=\"&月別集計!$B45,入出金NFT結果!$A:$A,\">=\"&月別集計!O$1,入出金NFT結果!$A:$A,\"<=\"&月別集計!O$2)","v":0},{"$f":"SUMIFS(入出金NFT結果!$D:$D,入出金NFT結果!$I:$I,\"=\"&月別集計!$B45,入出金NFT結果!$A:$A,\">=\"&月別集計!P$1,入出金NFT結果!$A:$A,\"<=\"&月別集計!P$2)","v":0},{"$f":"SUMIFS(入出金NFT結果!$D:$D,入出金NFT結果!$I:$I,\"=\"&月別集計!$B45,入出金NFT結果!$A:$A,\">=\"&月別集計!Q$1,入出金NFT結果!$A:$A,\"<=\"&月別集計!Q$2)","v":0},{"$f":"SUMIFS(入出金NFT結果!$D:$D,入出金NFT結果!$I:$I,\"=\"&月別集計!$B45,入出金NFT結果!$A:$A,\">=\"&月別集計!R$1,入出金NFT結果!$A:$A,\"<=\"&月別集計!R$2)","v":0},{"$f":"SUMIFS(入出金NFT結果!$D:$D,入出金NFT結果!$I:$I,\"=\"&月別集計!$B45,入出金NFT結果!$A:$A,\">=\"&月別集計!S$1,入出金NFT結果!$A:$A,\"<=\"&月別集計!S$2)","v":0},{"$f":"SUMIFS(入出金NFT結果!$D:$D,入出金NFT結果!$I:$I,\"=\"&月別集計!$B45,入出金NFT結果!$A:$A,\">=\"&月別集計!T$1,入出金NFT結果!$A:$A,\"<=\"&月別集計!T$2)","v":0},{"$f":"SUMIFS(入出金NFT結果!$D:$D,入出金NFT結果!$I:$I,\"=\"&月別集計!$B45,入出金NFT結果!$A:$A,\">=\"&月別集計!U$1,入出金NFT結果!$A:$A,\"<=\"&月別集計!U$2)","v":0},{"$f":"SUMIFS(入出金NFT結果!$D:$D,入出金NFT結果!$I:$I,\"=\"&月別集計!$B45,入出金NFT結果!$A:$A,\">=\"&月別集計!V$1,入出金NFT結果!$A:$A,\"<=\"&月別集計!V$2)","v":0},{"$f":"SUMIFS(入出金NFT結果!$D:$D,入出金NFT結果!$I:$I,\"=\"&月別集計!$B45,入出金NFT結果!$A:$A,\">=\"&月別集計!W$1,入出金NFT結果!$A:$A,\"<=\"&月別集計!W$2)","v":0},{"$f":"SUMIFS(入出金NFT結果!$D:$D,入出金NFT結果!$I:$I,\"=\"&月別集計!$B45,入出金NFT結果!$A:$A,\">=\"&月別集計!X$1,入出金NFT結果!$A:$A,\"<=\"&月別集計!X$2)","v":0},{"$f":"SUMIFS(入出金NFT結果!$D:$D,入出金NFT結果!$I:$I,\"=\"&月別集計!$B45,入出金NFT結果!$A:$A,\">=\"&月別集計!Y$1,入出金NFT結果!$A:$A,\"<=\"&月別集計!Y$2)","v":0},{"$f":"SUMIFS(入出金NFT結果!$D:$D,入出金NFT結果!$I:$I,\"=\"&月別集計!$B45,入出金NFT結果!$A:$A,\">=\"&月別集計!Z$1,入出金NFT結果!$A:$A,\"<=\"&月別集計!Z$2)","v":0},{"$f":"SUMIFS(入出金NFT結果!$D:$D,入出金NFT結果!$I:$I,\"=\"&月別集計!$B45,入出金NFT結果!$A:$A,\">=\"&月別集計!AA$1,入出金NFT結果!$A:$A,\"<=\"&月別集計!AA$2)","v":0},{"$f":"SUMIFS(入出金NFT結果!$D:$D,入出金NFT結果!$I:$I,\"=\"&月別集計!$B45,入出金NFT結果!$A:$A,\">=\"&月別集計!AB$1,入出金NFT結果!$A:$A,\"<=\"&月別集計!AB$2)","v":0},{"$f":"SUMIFS(入出金NFT結果!$D:$D,入出金NFT結果!$I:$I,\"=\"&月別集計!$B45,入出金NFT結果!$A:$A,\">=\"&月別集計!AC$1,入出金NFT結果!$A:$A,\"<=\"&月別集計!AC$2)","v":0},{"$f":"SUMIFS(入出金NFT結果!$D:$D,入出金NFT結果!$I:$I,\"=\"&月別集計!$B45,入出金NFT結果!$A:$A,\">=\"&月別集計!AD$1,入出金NFT結果!$A:$A,\"<=\"&月別集計!AD$2)","v":0},{"$f":"SUMIFS(入出金NFT結果!$D:$D,入出金NFT結果!$I:$I,\"=\"&月別集計!$B45,入出金NFT結果!$A:$A,\">=\"&月別集計!AE$1,入出金NFT結果!$A:$A,\"<=\"&月別集計!AE$2)","v":0},{"$f":"SUMIFS(入出金NFT結果!$D:$D,入出金NFT結果!$I:$I,\"=\"&月別集計!$B45,入出金NFT結果!$A:$A,\">=\"&月別集計!AF$1,入出金NFT結果!$A:$A,\"<=\"&月別集計!AF$2)","v":0},{"$f":"SUMIFS(入出金NFT結果!$D:$D,入出金NFT結果!$I:$I,\"=\"&月別集計!$B45,入出金NFT結果!$A:$A,\">=\"&月別集計!AG$1,入出金NFT結果!$A:$A,\"<=\"&月別集計!AG$2)","v":0},{"$f":"SUMIFS(入出金NFT結果!$D:$D,入出金NFT結果!$I:$I,\"=\"&月別集計!$B45,入出金NFT結果!$A:$A,\">=\"&月別集計!AH$1,入出金NFT結果!$A:$A,\"<=\"&月別集計!AH$2)","v":0},{"$f":"SUMIFS(入出金NFT結果!$D:$D,入出金NFT結果!$I:$I,\"=\"&月別集計!$B45,入出金NFT結果!$A:$A,\">=\"&月別集計!AI$1,入出金NFT結果!$A:$A,\"<=\"&月別集計!AI$2)","v":0},{"$f":"SUMIFS(入出金NFT結果!$D:$D,入出金NFT結果!$I:$I,\"=\"&月別集計!$B45,入出金NFT結果!$A:$A,\">=\"&月別集計!AJ$1,入出金NFT結果!$A:$A,\"<=\"&月別集計!AJ$2)","v":0},{"$f":"SUMIFS(入出金NFT結果!$D:$D,入出金NFT結果!$I:$I,\"=\"&月別集計!$B45,入出金NFT結果!$A:$A,\">=\"&月別集計!AK$1,入出金NFT結果!$A:$A,\"<=\"&月別集計!AK$2)","v":0},{"$f":"SUMIFS(入出金NFT結果!$D:$D,入出金NFT結果!$I:$I,\"=\"&月別集計!$B45,入出金NFT結果!$A:$A,\">=\"&月別集計!AL$1,入出金NFT結果!$A:$A,\"<=\"&月別集計!AL$2)","v":0},{"$f":"SUMIFS(入出金NFT結果!$D:$D,入出金NFT結果!$I:$I,\"=\"&月別集計!$B45,入出金NFT結果!$A:$A,\">=\"&月別集計!AM$1,入出金NFT結果!$A:$A,\"<=\"&月別集計!AM$2)","v":0},{"$f":"SUMIFS(入出金NFT結果!$D:$D,入出金NFT結果!$I:$I,\"=\"&月別集計!$B45,入出金NFT結果!$A:$A,\">=\"&月別集計!AN$1,入出金NFT結果!$A:$A,\"<=\"&月別集計!AN$2)","v":0},{"$f":"SUMIFS(入出金NFT結果!$D:$D,入出金NFT結果!$I:$I,\"=\"&月別集計!$B45,入出金NFT結果!$A:$A,\">=\"&月別集計!AO$1,入出金NFT結果!$A:$A,\"<=\"&月別集計!AO$2)","v":0},{"$f":"SUMIFS(入出金NFT結果!$D:$D,入出金NFT結果!$I:$I,\"=\"&月別集計!$B45,入出金NFT結果!$A:$A,\">=\"&月別集計!AP$1,入出金NFT結果!$A:$A,\"<=\"&月別集計!AP$2)","v":0},{"$f":"SUMIFS(入出金NFT結果!$D:$D,入出金NFT結果!$I:$I,\"=\"&月別集計!$B45,入出金NFT結果!$A:$A,\">=\"&月別集計!AQ$1,入出金NFT結果!$A:$A,\"<=\"&月別集計!AQ$2)","v":0},{"$f":"SUMIFS(入出金NFT結果!$D:$D,入出金NFT結果!$I:$I,\"=\"&月別集計!$B45,入出金NFT結果!$A:$A,\">=\"&月別集計!AR$1,入出金NFT結果!$A:$A,\"<=\"&月別集計!AR$2)","v":0},{"$f":"SUMIFS(入出金NFT結果!$D:$D,入出金NFT結果!$I:$I,\"=\"&月別集計!$B45,入出金NFT結果!$A:$A,\">=\"&月別集計!AS$1,入出金NFT結果!$A:$A,\"<=\"&月別集計!AS$2)","v":0},{"$f":"SUMIFS(入出金NFT結果!$D:$D,入出金NFT結果!$I:$I,\"=\"&月別集計!$B45,入出金NFT結果!$A:$A,\">=\"&月別集計!AT$1,入出金NFT結果!$A:$A,\"<=\"&月別集計!AT$2)","v":0},{"$f":"SUMIFS(入出金NFT結果!$D:$D,入出金NFT結果!$I:$I,\"=\"&月別集計!$B45,入出金NFT結果!$A:$A,\">=\"&月別集計!AU$1,入出金NFT結果!$A:$A,\"<=\"&月別集計!AU$2)","v":0},{"$f":"SUMIFS(入出金NFT結果!$D:$D,入出金NFT結果!$I:$I,\"=\"&月別集計!$B45,入出金NFT結果!$A:$A,\">=\"&月別集計!AV$1,入出金NFT結果!$A:$A,\"<=\"&月別集計!AV$2)","v":0},{"$f":"SUMIFS(入出金NFT結果!$D:$D,入出金NFT結果!$I:$I,\"=\"&月別集計!$B45,入出金NFT結果!$A:$A,\">=\"&月別集計!AW$1,入出金NFT結果!$A:$A,\"<=\"&月別集計!AW$2)","v":0},{"$f":"SUMIFS(入出金NFT結果!$D:$D,入出金NFT結果!$I:$I,\"=\"&月別集計!$B45,入出金NFT結果!$A:$A,\">=\"&月別集計!AX$1,入出金NFT結果!$A:$A,\"<=\"&月別集計!AX$2)","v":0},{"$f":"SUMIFS(入出金NFT結果!$D:$D,入出金NFT結果!$I:$I,\"=\"&月別集計!$B45,入出金NFT結果!$A:$A,\">=\"&月別集計!AY$1,入出金NFT結果!$A:$A,\"<=\"&月別集計!AY$2)","v":0},{"$f":"SUMIFS(入出金NFT結果!$D:$D,入出金NFT結果!$I:$I,\"=\"&月別集計!$B45,入出金NFT結果!$A:$A,\">=\"&月別集計!AZ$1,入出金NFT結果!$A:$A,\"<=\"&月別集計!AZ$2)","v":0},{"$f":"SUMIFS(入出金NFT結果!$D:$D,入出金NFT結果!$I:$I,\"=\"&月別集計!$B45,入出金NFT結果!$A:$A,\">=\"&月別集計!BA$1,入出金NFT結果!$A:$A,\"<=\"&月別集計!BA$2)","v":0},{"$f":"SUMIFS(入出金NFT結果!$D:$D,入出金NFT結果!$I:$I,\"=\"&月別集計!$B45,入出金NFT結果!$A:$A,\">=\"&月別集計!BB$1,入出金NFT結果!$A:$A,\"<=\"&月別集計!BB$2)","v":0},{"$f":"SUMIFS(入出金NFT結果!$D:$D,入出金NFT結果!$I:$I,\"=\"&月別集計!$B45,入出金NFT結果!$A:$A,\">=\"&月別集計!BC$1,入出金NFT結果!$A:$A,\"<=\"&月別集計!BC$2)","v":0},{"$f":"SUMIFS(入出金NFT結果!$D:$D,入出金NFT結果!$I:$I,\"=\"&月別集計!$B45,入出金NFT結果!$A:$A,\">=\"&月別集計!BD$1,入出金NFT結果!$A:$A,\"<=\"&月別集計!BD$2)","v":0},{"$f":"SUMIFS(入出金NFT結果!$D:$D,入出金NFT結果!$I:$I,\"=\"&月別集計!$B45,入出金NFT結果!$A:$A,\">=\"&月別集計!BE$1,入出金NFT結果!$A:$A,\"<=\"&月別集計!BE$2)","v":0},{"$f":"SUMIFS(入出金NFT結果!$D:$D,入出金NFT結果!$I:$I,\"=\"&月別集計!$B45,入出金NFT結果!$A:$A,\">=\"&月別集計!BF$1,入出金NFT結果!$A:$A,\"<=\"&月別集計!BF$2)","v":0},{"$f":"SUMIFS(入出金NFT結果!$D:$D,入出金NFT結果!$I:$I,\"=\"&月別集計!$B45,入出金NFT結果!$A:$A,\">=\"&月別集計!BG$1,入出金NFT結果!$A:$A,\"<=\"&月別集計!BG$2)","v":0},{"$f":"SUMIFS(入出金NFT結果!$D:$D,入出金NFT結果!$I:$I,\"=\"&月別集計!$B45,入出金NFT結果!$A:$A,\">=\"&月別集計!BH$1,入出金NFT結果!$A:$A,\"<=\"&月別集計!BH$2)","v":0},{"$f":"SUMIFS(入出金NFT結果!$D:$D,入出金NFT結果!$I:$I,\"=\"&月別集計!$B45,入出金NFT結果!$A:$A,\">=\"&月別集計!BI$1,入出金NFT結果!$A:$A,\"<=\"&月別集計!BI$2)","v":0},{"$f":"SUMIFS(入出金NFT結果!$D:$D,入出金NFT結果!$I:$I,\"=\"&月別集計!$B45,入出金NFT結果!$A:$A,\">=\"&月別集計!BJ$1,入出金NFT結果!$A:$A,\"<=\"&月別集計!BJ$2)","v":0},{"$f":"SUMIFS(入出金NFT結果!$D:$D,入出金NFT結果!$I:$I,\"=\"&月別集計!$B45,入出金NFT結果!$A:$A,\">=\"&月別集計!BK$1,入出金NFT結果!$A:$A,\"<=\"&月別集計!BK$2)","v":0},{"$f":"SUMIFS(入出金NFT結果!$D:$D,入出金NFT結果!$I:$I,\"=\"&月別集計!$B45,入出金NFT結果!$A:$A,\">=\"&月別集計!BL$1,入出金NFT結果!$A:$A,\"<=\"&月別集計!BL$2)","v":0},{"$f":"SUMIFS(入出金NFT結果!$D:$D,入出金NFT結果!$I:$I,\"=\"&月別集計!$B45,入出金NFT結果!$A:$A,\">=\"&月別集計!BM$1,入出金NFT結果!$A:$A,\"<=\"&月別集計!BM$2)","v":0}]
[null,{"$f":"推定用途置換ルール!P20","v":"その他出金"},{"$f":"SUMIFS(入出金NFT結果!$D:$D,入出金NFT結果!$I:$I,\"=\"&月別集計!$B46,入出金NFT結果!$A:$A,\">=\"&月別集計!C$1,入出金NFT結果!$A:$A,\"<=\"&月別集計!C$2)","v":0},{"$f":"SUMIFS(入出金NFT結果!$D:$D,入出金NFT結果!$I:$I,\"=\"&月別集計!$B46,入出金NFT結果!$A:$A,\">=\"&月別集計!D$1,入出金NFT結果!$A:$A,\"<=\"&月別集計!D$2)","v":0},{"$f":"SUMIFS(入出金NFT結果!$D:$D,入出金NFT結果!$I:$I,\"=\"&月別集計!$B46,入出金NFT結果!$A:$A,\">=\"&月別集計!E$1,入出金NFT結果!$A:$A,\"<=\"&月別集計!E$2)","v":0},{"$f":"SUMIFS(入出金NFT結果!$D:$D,入出金NFT結果!$I:$I,\"=\"&月別集計!$B46,入出金NFT結果!$A:$A,\">=\"&月別集計!F$1,入出金NFT結果!$A:$A,\"<=\"&月別集計!F$2)","v":0},{"$f":"SUMIFS(入出金NFT結果!$D:$D,入出金NFT結果!$I:$I,\"=\"&月別集計!$B46,入出金NFT結果!$A:$A,\">=\"&月別集計!G$1,入出金NFT結果!$A:$A,\"<=\"&月別集計!G$2)","v":0},{"$f":"SUMIFS(入出金NFT結果!$D:$D,入出金NFT結果!$I:$I,\"=\"&月別集計!$B46,入出金NFT結果!$A:$A,\">=\"&月別集計!H$1,入出金NFT結果!$A:$A,\"<=\"&月別集計!H$2)","v":0},{"$f":"SUMIFS(入出金NFT結果!$D:$D,入出金NFT結果!$I:$I,\"=\"&月別集計!$B46,入出金NFT結果!$A:$A,\">=\"&月別集計!I$1,入出金NFT結果!$A:$A,\"<=\"&月別集計!I$2)","v":0},{"$f":"SUMIFS(入出金NFT結果!$D:$D,入出金NFT結果!$I:$I,\"=\"&月別集計!$B46,入出金NFT結果!$A:$A,\">=\"&月別集計!J$1,入出金NFT結果!$A:$A,\"<=\"&月別集計!J$2)","v":0},{"$f":"SUMIFS(入出金NFT結果!$D:$D,入出金NFT結果!$I:$I,\"=\"&月別集計!$B46,入出金NFT結果!$A:$A,\">=\"&月別集計!K$1,入出金NFT結果!$A:$A,\"<=\"&月別集計!K$2)","v":0},{"$f":"SUMIFS(入出金NFT結果!$D:$D,入出金NFT結果!$I:$I,\"=\"&月別集計!$B46,入出金NFT結果!$A:$A,\">=\"&月別集計!L$1,入出金NFT結果!$A:$A,\"<=\"&月別集計!L$2)","v":0},{"$f":"SUMIFS(入出金NFT結果!$D:$D,入出金NFT結果!$I:$I,\"=\"&月別集計!$B46,入出金NFT結果!$A:$A,\">=\"&月別集計!M$1,入出金NFT結果!$A:$A,\"<=\"&月別集計!M$2)","v":0},{"$f":"SUMIFS(入出金NFT結果!$D:$D,入出金NFT結果!$I:$I,\"=\"&月別集計!$B46,入出金NFT結果!$A:$A,\">=\"&月別集計!N$1,入出金NFT結果!$A:$A,\"<=\"&月別集計!N$2)","v":0},{"$f":"SUMIFS(入出金NFT結果!$D:$D,入出金NFT結果!$I:$I,\"=\"&月別集計!$B46,入出金NFT結果!$A:$A,\">=\"&月別集計!O$1,入出金NFT結果!$A:$A,\"<=\"&月別集計!O$2)","v":0},{"$f":"SUMIFS(入出金NFT結果!$D:$D,入出金NFT結果!$I:$I,\"=\"&月別集計!$B46,入出金NFT結果!$A:$A,\">=\"&月別集計!P$1,入出金NFT結果!$A:$A,\"<=\"&月別集計!P$2)","v":0},{"$f":"SUMIFS(入出金NFT結果!$D:$D,入出金NFT結果!$I:$I,\"=\"&月別集計!$B46,入出金NFT結果!$A:$A,\">=\"&月別集計!Q$1,入出金NFT結果!$A:$A,\"<=\"&月別集計!Q$2)","v":0},{"$f":"SUMIFS(入出金NFT結果!$D:$D,入出金NFT結果!$I:$I,\"=\"&月別集計!$B46,入出金NFT結果!$A:$A,\">=\"&月別集計!R$1,入出金NFT結果!$A:$A,\"<=\"&月別集計!R$2)","v":0},{"$f":"SUMIFS(入出金NFT結果!$D:$D,入出金NFT結果!$I:$I,\"=\"&月別集計!$B46,入出金NFT結果!$A:$A,\">=\"&月別集計!S$1,入出金NFT結果!$A:$A,\"<=\"&月別集計!S$2)","v":0},{"$f":"SUMIFS(入出金NFT結果!$D:$D,入出金NFT結果!$I:$I,\"=\"&月別集計!$B46,入出金NFT結果!$A:$A,\">=\"&月別集計!T$1,入出金NFT結果!$A:$A,\"<=\"&月別集計!T$2)","v":0},{"$f":"SUMIFS(入出金NFT結果!$D:$D,入出金NFT結果!$I:$I,\"=\"&月別集計!$B46,入出金NFT結果!$A:$A,\">=\"&月別集計!U$1,入出金NFT結果!$A:$A,\"<=\"&月別集計!U$2)","v":0},{"$f":"SUMIFS(入出金NFT結果!$D:$D,入出金NFT結果!$I:$I,\"=\"&月別集計!$B46,入出金NFT結果!$A:$A,\">=\"&月別集計!V$1,入出金NFT結果!$A:$A,\"<=\"&月別集計!V$2)","v":0},{"$f":"SUMIFS(入出金NFT結果!$D:$D,入出金NFT結果!$I:$I,\"=\"&月別集計!$B46,入出金NFT結果!$A:$A,\">=\"&月別集計!W$1,入出金NFT結果!$A:$A,\"<=\"&月別集計!W$2)","v":0},{"$f":"SUMIFS(入出金NFT結果!$D:$D,入出金NFT結果!$I:$I,\"=\"&月別集計!$B46,入出金NFT結果!$A:$A,\">=\"&月別集計!X$1,入出金NFT結果!$A:$A,\"<=\"&月別集計!X$2)","v":0},{"$f":"SUMIFS(入出金NFT結果!$D:$D,入出金NFT結果!$I:$I,\"=\"&月別集計!$B46,入出金NFT結果!$A:$A,\">=\"&月別集計!Y$1,入出金NFT結果!$A:$A,\"<=\"&月別集計!Y$2)","v":0},{"$f":"SUMIFS(入出金NFT結果!$D:$D,入出金NFT結果!$I:$I,\"=\"&月別集計!$B46,入出金NFT結果!$A:$A,\">=\"&月別集計!Z$1,入出金NFT結果!$A:$A,\"<=\"&月別集計!Z$2)","v":0},{"$f":"SUMIFS(入出金NFT結果!$D:$D,入出金NFT結果!$I:$I,\"=\"&月別集計!$B46,入出金NFT結果!$A:$A,\">=\"&月別集計!AA$1,入出金NFT結果!$A:$A,\"<=\"&月別集計!AA$2)","v":0},{"$f":"SUMIFS(入出金NFT結果!$D:$D,入出金NFT結果!$I:$I,\"=\"&月別集計!$B46,入出金NFT結果!$A:$A,\">=\"&月別集計!AB$1,入出金NFT結果!$A:$A,\"<=\"&月別集計!AB$2)","v":0},{"$f":"SUMIFS(入出金NFT結果!$D:$D,入出金NFT結果!$I:$I,\"=\"&月別集計!$B46,入出金NFT結果!$A:$A,\">=\"&月別集計!AC$1,入出金NFT結果!$A:$A,\"<=\"&月別集計!AC$2)","v":0},{"$f":"SUMIFS(入出金NFT結果!$D:$D,入出金NFT結果!$I:$I,\"=\"&月別集計!$B46,入出金NFT結果!$A:$A,\">=\"&月別集計!AD$1,入出金NFT結果!$A:$A,\"<=\"&月別集計!AD$2)","v":0},{"$f":"SUMIFS(入出金NFT結果!$D:$D,入出金NFT結果!$I:$I,\"=\"&月別集計!$B46,入出金NFT結果!$A:$A,\">=\"&月別集計!AE$1,入出金NFT結果!$A:$A,\"<=\"&月別集計!AE$2)","v":0},{"$f":"SUMIFS(入出金NFT結果!$D:$D,入出金NFT結果!$I:$I,\"=\"&月別集計!$B46,入出金NFT結果!$A:$A,\">=\"&月別集計!AF$1,入出金NFT結果!$A:$A,\"<=\"&月別集計!AF$2)","v":0},{"$f":"SUMIFS(入出金NFT結果!$D:$D,入出金NFT結果!$I:$I,\"=\"&月別集計!$B46,入出金NFT結果!$A:$A,\">=\"&月別集計!AG$1,入出金NFT結果!$A:$A,\"<=\"&月別集計!AG$2)","v":0},{"$f":"SUMIFS(入出金NFT結果!$D:$D,入出金NFT結果!$I:$I,\"=\"&月別集計!$B46,入出金NFT結果!$A:$A,\">=\"&月別集計!AH$1,入出金NFT結果!$A:$A,\"<=\"&月別集計!AH$2)","v":0},{"$f":"SUMIFS(入出金NFT結果!$D:$D,入出金NFT結果!$I:$I,\"=\"&月別集計!$B46,入出金NFT結果!$A:$A,\">=\"&月別集計!AI$1,入出金NFT結果!$A:$A,\"<=\"&月別集計!AI$2)","v":0},{"$f":"SUMIFS(入出金NFT結果!$D:$D,入出金NFT結果!$I:$I,\"=\"&月別集計!$B46,入出金NFT結果!$A:$A,\">=\"&月別集計!AJ$1,入出金NFT結果!$A:$A,\"<=\"&月別集計!AJ$2)","v":0},{"$f":"SUMIFS(入出金NFT結果!$D:$D,入出金NFT結果!$I:$I,\"=\"&月別集計!$B46,入出金NFT結果!$A:$A,\">=\"&月別集計!AK$1,入出金NFT結果!$A:$A,\"<=\"&月別集計!AK$2)","v":0},{"$f":"SUMIFS(入出金NFT結果!$D:$D,入出金NFT結果!$I:$I,\"=\"&月別集計!$B46,入出金NFT結果!$A:$A,\">=\"&月別集計!AL$1,入出金NFT結果!$A:$A,\"<=\"&月別集計!AL$2)","v":0},{"$f":"SUMIFS(入出金NFT結果!$D:$D,入出金NFT結果!$I:$I,\"=\"&月別集計!$B46,入出金NFT結果!$A:$A,\">=\"&月別集計!AM$1,入出金NFT結果!$A:$A,\"<=\"&月別集計!AM$2)","v":0},{"$f":"SUMIFS(入出金NFT結果!$D:$D,入出金NFT結果!$I:$I,\"=\"&月別集計!$B46,入出金NFT結果!$A:$A,\">=\"&月別集計!AN$1,入出金NFT結果!$A:$A,\"<=\"&月別集計!AN$2)","v":0},{"$f":"SUMIFS(入出金NFT結果!$D:$D,入出金NFT結果!$I:$I,\"=\"&月別集計!$B46,入出金NFT結果!$A:$A,\">=\"&月別集計!AO$1,入出金NFT結果!$A:$A,\"<=\"&月別集計!AO$2)","v":0},{"$f":"SUMIFS(入出金NFT結果!$D:$D,入出金NFT結果!$I:$I,\"=\"&月別集計!$B46,入出金NFT結果!$A:$A,\">=\"&月別集計!AP$1,入出金NFT結果!$A:$A,\"<=\"&月別集計!AP$2)","v":0},{"$f":"SUMIFS(入出金NFT結果!$D:$D,入出金NFT結果!$I:$I,\"=\"&月別集計!$B46,入出金NFT結果!$A:$A,\">=\"&月別集計!AQ$1,入出金NFT結果!$A:$A,\"<=\"&月別集計!AQ$2)","v":0},{"$f":"SUMIFS(入出金NFT結果!$D:$D,入出金NFT結果!$I:$I,\"=\"&月別集計!$B46,入出金NFT結果!$A:$A,\">=\"&月別集計!AR$1,入出金NFT結果!$A:$A,\"<=\"&月別集計!AR$2)","v":0},{"$f":"SUMIFS(入出金NFT結果!$D:$D,入出金NFT結果!$I:$I,\"=\"&月別集計!$B46,入出金NFT結果!$A:$A,\">=\"&月別集計!AS$1,入出金NFT結果!$A:$A,\"<=\"&月別集計!AS$2)","v":0},{"$f":"SUMIFS(入出金NFT結果!$D:$D,入出金NFT結果!$I:$I,\"=\"&月別集計!$B46,入出金NFT結果!$A:$A,\">=\"&月別集計!AT$1,入出金NFT結果!$A:$A,\"<=\"&月別集計!AT$2)","v":0},{"$f":"SUMIFS(入出金NFT結果!$D:$D,入出金NFT結果!$I:$I,\"=\"&月別集計!$B46,入出金NFT結果!$A:$A,\">=\"&月別集計!AU$1,入出金NFT結果!$A:$A,\"<=\"&月別集計!AU$2)","v":0},{"$f":"SUMIFS(入出金NFT結果!$D:$D,入出金NFT結果!$I:$I,\"=\"&月別集計!$B46,入出金NFT結果!$A:$A,\">=\"&月別集計!AV$1,入出金NFT結果!$A:$A,\"<=\"&月別集計!AV$2)","v":0},{"$f":"SUMIFS(入出金NFT結果!$D:$D,入出金NFT結果!$I:$I,\"=\"&月別集計!$B46,入出金NFT結果!$A:$A,\">=\"&月別集計!AW$1,入出金NFT結果!$A:$A,\"<=\"&月別集計!AW$2)","v":0},{"$f":"SUMIFS(入出金NFT結果!$D:$D,入出金NFT結果!$I:$I,\"=\"&月別集計!$B46,入出金NFT結果!$A:$A,\">=\"&月別集計!AX$1,入出金NFT結果!$A:$A,\"<=\"&月別集計!AX$2)","v":0},{"$f":"SUMIFS(入出金NFT結果!$D:$D,入出金NFT結果!$I:$I,\"=\"&月別集計!$B46,入出金NFT結果!$A:$A,\">=\"&月別集計!AY$1,入出金NFT結果!$A:$A,\"<=\"&月別集計!AY$2)","v":0},{"$f":"SUMIFS(入出金NFT結果!$D:$D,入出金NFT結果!$I:$I,\"=\"&月別集計!$B46,入出金NFT結果!$A:$A,\">=\"&月別集計!AZ$1,入出金NFT結果!$A:$A,\"<=\"&月別集計!AZ$2)","v":0},{"$f":"SUMIFS(入出金NFT結果!$D:$D,入出金NFT結果!$I:$I,\"=\"&月別集計!$B46,入出金NFT結果!$A:$A,\">=\"&月別集計!BA$1,入出金NFT結果!$A:$A,\"<=\"&月別集計!BA$2)","v":0},{"$f":"SUMIFS(入出金NFT結果!$D:$D,入出金NFT結果!$I:$I,\"=\"&月別集計!$B46,入出金NFT結果!$A:$A,\">=\"&月別集計!BB$1,入出金NFT結果!$A:$A,\"<=\"&月別集計!BB$2)","v":0},{"$f":"SUMIFS(入出金NFT結果!$D:$D,入出金NFT結果!$I:$I,\"=\"&月別集計!$B46,入出金NFT結果!$A:$A,\">=\"&月別集計!BC$1,入出金NFT結果!$A:$A,\"<=\"&月別集計!BC$2)","v":0},{"$f":"SUMIFS(入出金NFT結果!$D:$D,入出金NFT結果!$I:$I,\"=\"&月別集計!$B46,入出金NFT結果!$A:$A,\">=\"&月別集計!BD$1,入出金NFT結果!$A:$A,\"<=\"&月別集計!BD$2)","v":0},{"$f":"SUMIFS(入出金NFT結果!$D:$D,入出金NFT結果!$I:$I,\"=\"&月別集計!$B46,入出金NFT結果!$A:$A,\">=\"&月別集計!BE$1,入出金NFT結果!$A:$A,\"<=\"&月別集計!BE$2)","v":0},{"$f":"SUMIFS(入出金NFT結果!$D:$D,入出金NFT結果!$I:$I,\"=\"&月別集計!$B46,入出金NFT結果!$A:$A,\">=\"&月別集計!BF$1,入出金NFT結果!$A:$A,\"<=\"&月別集計!BF$2)","v":0},{"$f":"SUMIFS(入出金NFT結果!$D:$D,入出金NFT結果!$I:$I,\"=\"&月別集計!$B46,入出金NFT結果!$A:$A,\">=\"&月別集計!BG$1,入出金NFT結果!$A:$A,\"<=\"&月別集計!BG$2)","v":0},{"$f":"SUMIFS(入出金NFT結果!$D:$D,入出金NFT結果!$I:$I,\"=\"&月別集計!$B46,入出金NFT結果!$A:$A,\">=\"&月別集計!BH$1,入出金NFT結果!$A:$A,\"<=\"&月別集計!BH$2)","v":0},{"$f":"SUMIFS(入出金NFT結果!$D:$D,入出金NFT結果!$I:$I,\"=\"&月別集計!$B46,入出金NFT結果!$A:$A,\">=\"&月別集計!BI$1,入出金NFT結果!$A:$A,\"<=\"&月別集計!BI$2)","v":0},{"$f":"SUMIFS(入出金NFT結果!$D:$D,入出金NFT結果!$I:$I,\"=\"&月別集計!$B46,入出金NFT結果!$A:$A,\">=\"&月別集計!BJ$1,入出金NFT結果!$A:$A,\"<=\"&月別集計!BJ$2)","v":0},{"$f":"SUMIFS(入出金NFT結果!$D:$D,入出金NFT結果!$I:$I,\"=\"&月別集計!$B46,入出金NFT結果!$A:$A,\">=\"&月別集計!BK$1,入出金NFT結果!$A:$A,\"<=\"&月別集計!BK$2)","v":0},{"$f":"SUMIFS(入出金NFT結果!$D:$D,入出金NFT結果!$I:$I,\"=\"&月別集計!$B46,入出金NFT結果!$A:$A,\">=\"&月別集計!BL$1,入出金NFT結果!$A:$A,\"<=\"&月別集計!BL$2)","v":0},{"$f":"SUMIFS(入出金NFT結果!$D:$D,入出金NFT結果!$I:$I,\"=\"&月別集計!$B46,入出金NFT結果!$A:$A,\">=\"&月別集計!BM$1,入出金NFT結果!$A:$A,\"<=\"&月別集計!BM$2)","v":0}]
[null,{"$f":"推定用途置換ルール!P21","v":"NFT購入（オフィシャル販売）"},{"$f":"SUMIFS(入出金NFT結果!$D:$D,入出金NFT結果!$I:$I,\"=\"&月別集計!$B47,入出金NFT結果!$A:$A,\">=\"&月別集計!C$1,入出金NFT結果!$A:$A,\"<=\"&月別集計!C$2)","v":0},{"$f":"SUMIFS(入出金NFT結果!$D:$D,入出金NFT結果!$I:$I,\"=\"&月別集計!$B47,入出金NFT結果!$A:$A,\">=\"&月別集計!D$1,入出金NFT結果!$A:$A,\"<=\"&月別集計!D$2)","v":0},{"$f":"SUMIFS(入出金NFT結果!$D:$D,入出金NFT結果!$I:$I,\"=\"&月別集計!$B47,入出金NFT結果!$A:$A,\">=\"&月別集計!E$1,入出金NFT結果!$A:$A,\"<=\"&月別集計!E$2)","v":0},{"$f":"SUMIFS(入出金NFT結果!$D:$D,入出金NFT結果!$I:$I,\"=\"&月別集計!$B47,入出金NFT結果!$A:$A,\">=\"&月別集計!F$1,入出金NFT結果!$A:$A,\"<=\"&月別集計!F$2)","v":0},{"$f":"SUMIFS(入出金NFT結果!$D:$D,入出金NFT結果!$I:$I,\"=\"&月別集計!$B47,入出金NFT結果!$A:$A,\">=\"&月別集計!G$1,入出金NFT結果!$A:$A,\"<=\"&月別集計!G$2)","v":0},{"$f":"SUMIFS(入出金NFT結果!$D:$D,入出金NFT結果!$I:$I,\"=\"&月別集計!$B47,入出金NFT結果!$A:$A,\">=\"&月別集計!H$1,入出金NFT結果!$A:$A,\"<=\"&月別集計!H$2)","v":0},{"$f":"SUMIFS(入出金NFT結果!$D:$D,入出金NFT結果!$I:$I,\"=\"&月別集計!$B47,入出金NFT結果!$A:$A,\">=\"&月別集計!I$1,入出金NFT結果!$A:$A,\"<=\"&月別集計!I$2)","v":0},{"$f":"SUMIFS(入出金NFT結果!$D:$D,入出金NFT結果!$I:$I,\"=\"&月別集計!$B47,入出金NFT結果!$A:$A,\">=\"&月別集計!J$1,入出金NFT結果!$A:$A,\"<=\"&月別集計!J$2)","v":0},{"$f":"SUMIFS(入出金NFT結果!$D:$D,入出金NFT結果!$I:$I,\"=\"&月別集計!$B47,入出金NFT結果!$A:$A,\">=\"&月別集計!K$1,入出金NFT結果!$A:$A,\"<=\"&月別集計!K$2)","v":0},{"$f":"SUMIFS(入出金NFT結果!$D:$D,入出金NFT結果!$I:$I,\"=\"&月別集計!$B47,入出金NFT結果!$A:$A,\">=\"&月別集計!L$1,入出金NFT結果!$A:$A,\"<=\"&月別集計!L$2)","v":0},{"$f":"SUMIFS(入出金NFT結果!$D:$D,入出金NFT結果!$I:$I,\"=\"&月別集計!$B47,入出金NFT結果!$A:$A,\">=\"&月別集計!M$1,入出金NFT結果!$A:$A,\"<=\"&月別集計!M$2)","v":0},{"$f":"SUMIFS(入出金NFT結果!$D:$D,入出金NFT結果!$I:$I,\"=\"&月別集計!$B47,入出金NFT結果!$A:$A,\">=\"&月別集計!N$1,入出金NFT結果!$A:$A,\"<=\"&月別集計!N$2)","v":0},{"$f":"SUMIFS(入出金NFT結果!$D:$D,入出金NFT結果!$I:$I,\"=\"&月別集計!$B47,入出金NFT結果!$A:$A,\">=\"&月別集計!O$1,入出金NFT結果!$A:$A,\"<=\"&月別集計!O$2)","v":0},{"$f":"SUMIFS(入出金NFT結果!$D:$D,入出金NFT結果!$I:$I,\"=\"&月別集計!$B47,入出金NFT結果!$A:$A,\">=\"&月別集計!P$1,入出金NFT結果!$A:$A,\"<=\"&月別集計!P$2)","v":0},{"$f":"SUMIFS(入出金NFT結果!$D:$D,入出金NFT結果!$I:$I,\"=\"&月別集計!$B47,入出金NFT結果!$A:$A,\">=\"&月別集計!Q$1,入出金NFT結果!$A:$A,\"<=\"&月別集計!Q$2)","v":0},{"$f":"SUMIFS(入出金NFT結果!$D:$D,入出金NFT結果!$I:$I,\"=\"&月別集計!$B47,入出金NFT結果!$A:$A,\">=\"&月別集計!R$1,入出金NFT結果!$A:$A,\"<=\"&月別集計!R$2)","v":0},{"$f":"SUMIFS(入出金NFT結果!$D:$D,入出金NFT結果!$I:$I,\"=\"&月別集計!$B47,入出金NFT結果!$A:$A,\">=\"&月別集計!S$1,入出金NFT結果!$A:$A,\"<=\"&月別集計!S$2)","v":0},{"$f":"SUMIFS(入出金NFT結果!$D:$D,入出金NFT結果!$I:$I,\"=\"&月別集計!$B47,入出金NFT結果!$A:$A,\">=\"&月別集計!T$1,入出金NFT結果!$A:$A,\"<=\"&月別集計!T$2)","v":0},{"$f":"SUMIFS(入出金NFT結果!$D:$D,入出金NFT結果!$I:$I,\"=\"&月別集計!$B47,入出金NFT結果!$A:$A,\">=\"&月別集計!U$1,入出金NFT結果!$A:$A,\"<=\"&月別集計!U$2)","v":0},{"$f":"SUMIFS(入出金NFT結果!$D:$D,入出金NFT結果!$I:$I,\"=\"&月別集計!$B47,入出金NFT結果!$A:$A,\">=\"&月別集計!V$1,入出金NFT結果!$A:$A,\"<=\"&月別集計!V$2)","v":0},{"$f":"SUMIFS(入出金NFT結果!$D:$D,入出金NFT結果!$I:$I,\"=\"&月別集計!$B47,入出金NFT結果!$A:$A,\">=\"&月別集計!W$1,入出金NFT結果!$A:$A,\"<=\"&月別集計!W$2)","v":0},{"$f":"SUMIFS(入出金NFT結果!$D:$D,入出金NFT結果!$I:$I,\"=\"&月別集計!$B47,入出金NFT結果!$A:$A,\">=\"&月別集計!X$1,入出金NFT結果!$A:$A,\"<=\"&月別集計!X$2)","v":0},{"$f":"SUMIFS(入出金NFT結果!$D:$D,入出金NFT結果!$I:$I,\"=\"&月別集計!$B47,入出金NFT結果!$A:$A,\">=\"&月別集計!Y$1,入出金NFT結果!$A:$A,\"<=\"&月別集計!Y$2)","v":0},{"$f":"SUMIFS(入出金NFT結果!$D:$D,入出金NFT結果!$I:$I,\"=\"&月別集計!$B47,入出金NFT結果!$A:$A,\">=\"&月別集計!Z$1,入出金NFT結果!$A:$A,\"<=\"&月別集計!Z$2)","v":0},{"$f":"SUMIFS(入出金NFT結果!$D:$D,入出金NFT結果!$I:$I,\"=\"&月別集計!$B47,入出金NFT結果!$A:$A,\">=\"&月別集計!AA$1,入出金NFT結果!$A:$A,\"<=\"&月別集計!AA$2)","v":0},{"$f":"SUMIFS(入出金NFT結果!$D:$D,入出金NFT結果!$I:$I,\"=\"&月別集計!$B47,入出金NFT結果!$A:$A,\">=\"&月別集計!AB$1,入出金NFT結果!$A:$A,\"<=\"&月別集計!AB$2)","v":0},{"$f":"SUMIFS(入出金NFT結果!$D:$D,入出金NFT結果!$I:$I,\"=\"&月別集計!$B47,入出金NFT結果!$A:$A,\">=\"&月別集計!AC$1,入出金NFT結果!$A:$A,\"<=\"&月別集計!AC$2)","v":0},{"$f":"SUMIFS(入出金NFT結果!$D:$D,入出金NFT結果!$I:$I,\"=\"&月別集計!$B47,入出金NFT結果!$A:$A,\">=\"&月別集計!AD$1,入出金NFT結果!$A:$A,\"<=\"&月別集計!AD$2)","v":0},{"$f":"SUMIFS(入出金NFT結果!$D:$D,入出金NFT結果!$I:$I,\"=\"&月別集計!$B47,入出金NFT結果!$A:$A,\">=\"&月別集計!AE$1,入出金NFT結果!$A:$A,\"<=\"&月別集計!AE$2)","v":0},{"$f":"SUMIFS(入出金NFT結果!$D:$D,入出金NFT結果!$I:$I,\"=\"&月別集計!$B47,入出金NFT結果!$A:$A,\">=\"&月別集計!AF$1,入出金NFT結果!$A:$A,\"<=\"&月別集計!AF$2)","v":0},{"$f":"SUMIFS(入出金NFT結果!$D:$D,入出金NFT結果!$I:$I,\"=\"&月別集計!$B47,入出金NFT結果!$A:$A,\">=\"&月別集計!AG$1,入出金NFT結果!$A:$A,\"<=\"&月別集計!AG$2)","v":0},{"$f":"SUMIFS(入出金NFT結果!$D:$D,入出金NFT結果!$I:$I,\"=\"&月別集計!$B47,入出金NFT結果!$A:$A,\">=\"&月別集計!AH$1,入出金NFT結果!$A:$A,\"<=\"&月別集計!AH$2)","v":0},{"$f":"SUMIFS(入出金NFT結果!$D:$D,入出金NFT結果!$I:$I,\"=\"&月別集計!$B47,入出金NFT結果!$A:$A,\">=\"&月別集計!AI$1,入出金NFT結果!$A:$A,\"<=\"&月別集計!AI$2)","v":0},{"$f":"SUMIFS(入出金NFT結果!$D:$D,入出金NFT結果!$I:$I,\"=\"&月別集計!$B47,入出金NFT結果!$A:$A,\">=\"&月別集計!AJ$1,入出金NFT結果!$A:$A,\"<=\"&月別集計!AJ$2)","v":0},{"$f":"SUMIFS(入出金NFT結果!$D:$D,入出金NFT結果!$I:$I,\"=\"&月別集計!$B47,入出金NFT結果!$A:$A,\">=\"&月別集計!AK$1,入出金NFT結果!$A:$A,\"<=\"&月別集計!AK$2)","v":0},{"$f":"SUMIFS(入出金NFT結果!$D:$D,入出金NFT結果!$I:$I,\"=\"&月別集計!$B47,入出金NFT結果!$A:$A,\">=\"&月別集計!AL$1,入出金NFT結果!$A:$A,\"<=\"&月別集計!AL$2)","v":0},{"$f":"SUMIFS(入出金NFT結果!$D:$D,入出金NFT結果!$I:$I,\"=\"&月別集計!$B47,入出金NFT結果!$A:$A,\">=\"&月別集計!AM$1,入出金NFT結果!$A:$A,\"<=\"&月別集計!AM$2)","v":0},{"$f":"SUMIFS(入出金NFT結果!$D:$D,入出金NFT結果!$I:$I,\"=\"&月別集計!$B47,入出金NFT結果!$A:$A,\">=\"&月別集計!AN$1,入出金NFT結果!$A:$A,\"<=\"&月別集計!AN$2)","v":0},{"$f":"SUMIFS(入出金NFT結果!$D:$D,入出金NFT結果!$I:$I,\"=\"&月別集計!$B47,入出金NFT結果!$A:$A,\">=\"&月別集計!AO$1,入出金NFT結果!$A:$A,\"<=\"&月別集計!AO$2)","v":0},{"$f":"SUMIFS(入出金NFT結果!$D:$D,入出金NFT結果!$I:$I,\"=\"&月別集計!$B47,入出金NFT結果!$A:$A,\">=\"&月別集計!AP$1,入出金NFT結果!$A:$A,\"<=\"&月別集計!AP$2)","v":0},{"$f":"SUMIFS(入出金NFT結果!$D:$D,入出金NFT結果!$I:$I,\"=\"&月別集計!$B47,入出金NFT結果!$A:$A,\">=\"&月別集計!AQ$1,入出金NFT結果!$A:$A,\"<=\"&月別集計!AQ$2)","v":0},{"$f":"SUMIFS(入出金NFT結果!$D:$D,入出金NFT結果!$I:$I,\"=\"&月別集計!$B47,入出金NFT結果!$A:$A,\">=\"&月別集計!AR$1,入出金NFT結果!$A:$A,\"<=\"&月別集計!AR$2)","v":0},{"$f":"SUMIFS(入出金NFT結果!$D:$D,入出金NFT結果!$I:$I,\"=\"&月別集計!$B47,入出金NFT結果!$A:$A,\">=\"&月別集計!AS$1,入出金NFT結果!$A:$A,\"<=\"&月別集計!AS$2)","v":0},{"$f":"SUMIFS(入出金NFT結果!$D:$D,入出金NFT結果!$I:$I,\"=\"&月別集計!$B47,入出金NFT結果!$A:$A,\">=\"&月別集計!AT$1,入出金NFT結果!$A:$A,\"<=\"&月別集計!AT$2)","v":0},{"$f":"SUMIFS(入出金NFT結果!$D:$D,入出金NFT結果!$I:$I,\"=\"&月別集計!$B47,入出金NFT結果!$A:$A,\">=\"&月別集計!AU$1,入出金NFT結果!$A:$A,\"<=\"&月別集計!AU$2)","v":0},{"$f":"SUMIFS(入出金NFT結果!$D:$D,入出金NFT結果!$I:$I,\"=\"&月別集計!$B47,入出金NFT結果!$A:$A,\">=\"&月別集計!AV$1,入出金NFT結果!$A:$A,\"<=\"&月別集計!AV$2)","v":0},{"$f":"SUMIFS(入出金NFT結果!$D:$D,入出金NFT結果!$I:$I,\"=\"&月別集計!$B47,入出金NFT結果!$A:$A,\">=\"&月別集計!AW$1,入出金NFT結果!$A:$A,\"<=\"&月別集計!AW$2)","v":0},{"$f":"SUMIFS(入出金NFT結果!$D:$D,入出金NFT結果!$I:$I,\"=\"&月別集計!$B47,入出金NFT結果!$A:$A,\">=\"&月別集計!AX$1,入出金NFT結果!$A:$A,\"<=\"&月別集計!AX$2)","v":0},{"$f":"SUMIFS(入出金NFT結果!$D:$D,入出金NFT結果!$I:$I,\"=\"&月別集計!$B47,入出金NFT結果!$A:$A,\">=\"&月別集計!AY$1,入出金NFT結果!$A:$A,\"<=\"&月別集計!AY$2)","v":0},{"$f":"SUMIFS(入出金NFT結果!$D:$D,入出金NFT結果!$I:$I,\"=\"&月別集計!$B47,入出金NFT結果!$A:$A,\">=\"&月別集計!AZ$1,入出金NFT結果!$A:$A,\"<=\"&月別集計!AZ$2)","v":0},{"$f":"SUMIFS(入出金NFT結果!$D:$D,入出金NFT結果!$I:$I,\"=\"&月別集計!$B47,入出金NFT結果!$A:$A,\">=\"&月別集計!BA$1,入出金NFT結果!$A:$A,\"<=\"&月別集計!BA$2)","v":0},{"$f":"SUMIFS(入出金NFT結果!$D:$D,入出金NFT結果!$I:$I,\"=\"&月別集計!$B47,入出金NFT結果!$A:$A,\">=\"&月別集計!BB$1,入出金NFT結果!$A:$A,\"<=\"&月別集計!BB$2)","v":0},{"$f":"SUMIFS(入出金NFT結果!$D:$D,入出金NFT結果!$I:$I,\"=\"&月別集計!$B47,入出金NFT結果!$A:$A,\">=\"&月別集計!BC$1,入出金NFT結果!$A:$A,\"<=\"&月別集計!BC$2)","v":0},{"$f":"SUMIFS(入出金NFT結果!$D:$D,入出金NFT結果!$I:$I,\"=\"&月別集計!$B47,入出金NFT結果!$A:$A,\">=\"&月別集計!BD$1,入出金NFT結果!$A:$A,\"<=\"&月別集計!BD$2)","v":0},{"$f":"SUMIFS(入出金NFT結果!$D:$D,入出金NFT結果!$I:$I,\"=\"&月別集計!$B47,入出金NFT結果!$A:$A,\">=\"&月別集計!BE$1,入出金NFT結果!$A:$A,\"<=\"&月別集計!BE$2)","v":0},{"$f":"SUMIFS(入出金NFT結果!$D:$D,入出金NFT結果!$I:$I,\"=\"&月別集計!$B47,入出金NFT結果!$A:$A,\">=\"&月別集計!BF$1,入出金NFT結果!$A:$A,\"<=\"&月別集計!BF$2)","v":0},{"$f":"SUMIFS(入出金NFT結果!$D:$D,入出金NFT結果!$I:$I,\"=\"&月別集計!$B47,入出金NFT結果!$A:$A,\">=\"&月別集計!BG$1,入出金NFT結果!$A:$A,\"<=\"&月別集計!BG$2)","v":0},{"$f":"SUMIFS(入出金NFT結果!$D:$D,入出金NFT結果!$I:$I,\"=\"&月別集計!$B47,入出金NFT結果!$A:$A,\">=\"&月別集計!BH$1,入出金NFT結果!$A:$A,\"<=\"&月別集計!BH$2)","v":0},{"$f":"SUMIFS(入出金NFT結果!$D:$D,入出金NFT結果!$I:$I,\"=\"&月別集計!$B47,入出金NFT結果!$A:$A,\">=\"&月別集計!BI$1,入出金NFT結果!$A:$A,\"<=\"&月別集計!BI$2)","v":0},{"$f":"SUMIFS(入出金NFT結果!$D:$D,入出金NFT結果!$I:$I,\"=\"&月別集計!$B47,入出金NFT結果!$A:$A,\">=\"&月別集計!BJ$1,入出金NFT結果!$A:$A,\"<=\"&月別集計!BJ$2)","v":0},{"$f":"SUMIFS(入出金NFT結果!$D:$D,入出金NFT結果!$I:$I,\"=\"&月別集計!$B47,入出金NFT結果!$A:$A,\">=\"&月別集計!BK$1,入出金NFT結果!$A:$A,\"<=\"&月別集計!BK$2)","v":0},{"$f":"SUMIFS(入出金NFT結果!$D:$D,入出金NFT結果!$I:$I,\"=\"&月別集計!$B47,入出金NFT結果!$A:$A,\">=\"&月別集計!BL$1,入出金NFT結果!$A:$A,\"<=\"&月別集計!BL$2)","v":0},{"$f":"SUMIFS(入出金NFT結果!$D:$D,入出金NFT結果!$I:$I,\"=\"&月別集計!$B47,入出金NFT結果!$A:$A,\">=\"&月別集計!BM$1,入出金NFT結果!$A:$A,\"<=\"&月別集計!BM$2)","v":0}]
[null,{"$f":"推定用途置換ルール!P23","v":"NFT購入（ユーザー販売）"},{"$f":"SUMIFS(入出金NFT結果!$D:$D,入出金NFT結果!$I:$I,\"=\"&月別集計!$B48,入出金NFT結果!$A:$A,\">=\"&月別集計!C$1,入出金NFT結果!$A:$A,\"<=\"&月別集計!C$2)","v":0},{"$f":"SUMIFS(入出金NFT結果!$D:$D,入出金NFT結果!$I:$I,\"=\"&月別集計!$B48,入出金NFT結果!$A:$A,\">=\"&月別集計!D$1,入出金NFT結果!$A:$A,\"<=\"&月別集計!D$2)","v":0},{"$f":"SUMIFS(入出金NFT結果!$D:$D,入出金NFT結果!$I:$I,\"=\"&月別集計!$B48,入出金NFT結果!$A:$A,\">=\"&月別集計!E$1,入出金NFT結果!$A:$A,\"<=\"&月別集計!E$2)","v":0},{"$f":"SUMIFS(入出金NFT結果!$D:$D,入出金NFT結果!$I:$I,\"=\"&月別集計!$B48,入出金NFT結果!$A:$A,\">=\"&月別集計!F$1,入出金NFT結果!$A:$A,\"<=\"&月別集計!F$2)","v":0},{"$f":"SUMIFS(入出金NFT結果!$D:$D,入出金NFT結果!$I:$I,\"=\"&月別集計!$B48,入出金NFT結果!$A:$A,\">=\"&月別集計!G$1,入出金NFT結果!$A:$A,\"<=\"&月別集計!G$2)","v":0},{"$f":"SUMIFS(入出金NFT結果!$D:$D,入出金NFT結果!$I:$I,\"=\"&月別集計!$B48,入出金NFT結果!$A:$A,\">=\"&月別集計!H$1,入出金NFT結果!$A:$A,\"<=\"&月別集計!H$2)","v":0},{"$f":"SUMIFS(入出金NFT結果!$D:$D,入出金NFT結果!$I:$I,\"=\"&月別集計!$B48,入出金NFT結果!$A:$A,\">=\"&月別集計!I$1,入出金NFT結果!$A:$A,\"<=\"&月別集計!I$2)","v":0},{"$f":"SUMIFS(入出金NFT結果!$D:$D,入出金NFT結果!$I:$I,\"=\"&月別集計!$B48,入出金NFT結果!$A:$A,\">=\"&月別集計!J$1,入出金NFT結果!$A:$A,\"<=\"&月別集計!J$2)","v":0},{"$f":"SUMIFS(入出金NFT結果!$D:$D,入出金NFT結果!$I:$I,\"=\"&月別集計!$B48,入出金NFT結果!$A:$A,\">=\"&月別集計!K$1,入出金NFT結果!$A:$A,\"<=\"&月別集計!K$2)","v":0},{"$f":"SUMIFS(入出金NFT結果!$D:$D,入出金NFT結果!$I:$I,\"=\"&月別集計!$B48,入出金NFT結果!$A:$A,\">=\"&月別集計!L$1,入出金NFT結果!$A:$A,\"<=\"&月別集計!L$2)","v":0},{"$f":"SUMIFS(入出金NFT結果!$D:$D,入出金NFT結果!$I:$I,\"=\"&月別集計!$B48,入出金NFT結果!$A:$A,\">=\"&月別集計!M$1,入出金NFT結果!$A:$A,\"<=\"&月別集計!M$2)","v":0},{"$f":"SUMIFS(入出金NFT結果!$D:$D,入出金NFT結果!$I:$I,\"=\"&月別集計!$B48,入出金NFT結果!$A:$A,\">=\"&月別集計!N$1,入出金NFT結果!$A:$A,\"<=\"&月別集計!N$2)","v":0},{"$f":"SUMIFS(入出金NFT結果!$D:$D,入出金NFT結果!$I:$I,\"=\"&月別集計!$B48,入出金NFT結果!$A:$A,\">=\"&月別集計!O$1,入出金NFT結果!$A:$A,\"<=\"&月別集計!O$2)","v":0},{"$f":"SUMIFS(入出金NFT結果!$D:$D,入出金NFT結果!$I:$I,\"=\"&月別集計!$B48,入出金NFT結果!$A:$A,\">=\"&月別集計!P$1,入出金NFT結果!$A:$A,\"<=\"&月別集計!P$2)","v":0},{"$f":"SUMIFS(入出金NFT結果!$D:$D,入出金NFT結果!$I:$I,\"=\"&月別集計!$B48,入出金NFT結果!$A:$A,\">=\"&月別集計!Q$1,入出金NFT結果!$A:$A,\"<=\"&月別集計!Q$2)","v":0},{"$f":"SUMIFS(入出金NFT結果!$D:$D,入出金NFT結果!$I:$I,\"=\"&月別集計!$B48,入出金NFT結果!$A:$A,\">=\"&月別集計!R$1,入出金NFT結果!$A:$A,\"<=\"&月別集計!R$2)","v":0},{"$f":"SUMIFS(入出金NFT結果!$D:$D,入出金NFT結果!$I:$I,\"=\"&月別集計!$B48,入出金NFT結果!$A:$A,\">=\"&月別集計!S$1,入出金NFT結果!$A:$A,\"<=\"&月別集計!S$2)","v":0},{"$f":"SUMIFS(入出金NFT結果!$D:$D,入出金NFT結果!$I:$I,\"=\"&月別集計!$B48,入出金NFT結果!$A:$A,\">=\"&月別集計!T$1,入出金NFT結果!$A:$A,\"<=\"&月別集計!T$2)","v":0},{"$f":"SUMIFS(入出金NFT結果!$D:$D,入出金NFT結果!$I:$I,\"=\"&月別集計!$B48,入出金NFT結果!$A:$A,\">=\"&月別集計!U$1,入出金NFT結果!$A:$A,\"<=\"&月別集計!U$2)","v":0},{"$f":"SUMIFS(入出金NFT結果!$D:$D,入出金NFT結果!$I:$I,\"=\"&月別集計!$B48,入出金NFT結果!$A:$A,\">=\"&月別集計!V$1,入出金NFT結果!$A:$A,\"<=\"&月別集計!V$2)","v":0},{"$f":"SUMIFS(入出金NFT結果!$D:$D,入出金NFT結果!$I:$I,\"=\"&月別集計!$B48,入出金NFT結果!$A:$A,\">=\"&月別集計!W$1,入出金NFT結果!$A:$A,\"<=\"&月別集計!W$2)","v":0},{"$f":"SUMIFS(入出金NFT結果!$D:$D,入出金NFT結果!$I:$I,\"=\"&月別集計!$B48,入出金NFT結果!$A:$A,\">=\"&月別集計!X$1,入出金NFT結果!$A:$A,\"<=\"&月別集計!X$2)","v":0},{"$f":"SUMIFS(入出金NFT結果!$D:$D,入出金NFT結果!$I:$I,\"=\"&月別集計!$B48,入出金NFT結果!$A:$A,\">=\"&月別集計!Y$1,入出金NFT結果!$A:$A,\"<=\"&月別集計!Y$2)","v":0},{"$f":"SUMIFS(入出金NFT結果!$D:$D,入出金NFT結果!$I:$I,\"=\"&月別集計!$B48,入出金NFT結果!$A:$A,\">=\"&月別集計!Z$1,入出金NFT結果!$A:$A,\"<=\"&月別集計!Z$2)","v":0},{"$f":"SUMIFS(入出金NFT結果!$D:$D,入出金NFT結果!$I:$I,\"=\"&月別集計!$B48,入出金NFT結果!$A:$A,\">=\"&月別集計!AA$1,入出金NFT結果!$A:$A,\"<=\"&月別集計!AA$2)","v":0},{"$f":"SUMIFS(入出金NFT結果!$D:$D,入出金NFT結果!$I:$I,\"=\"&月別集計!$B48,入出金NFT結果!$A:$A,\">=\"&月別集計!AB$1,入出金NFT結果!$A:$A,\"<=\"&月別集計!AB$2)","v":0},{"$f":"SUMIFS(入出金NFT結果!$D:$D,入出金NFT結果!$I:$I,\"=\"&月別集計!$B48,入出金NFT結果!$A:$A,\">=\"&月別集計!AC$1,入出金NFT結果!$A:$A,\"<=\"&月別集計!AC$2)","v":0},{"$f":"SUMIFS(入出金NFT結果!$D:$D,入出金NFT結果!$I:$I,\"=\"&月別集計!$B48,入出金NFT結果!$A:$A,\">=\"&月別集計!AD$1,入出金NFT結果!$A:$A,\"<=\"&月別集計!AD$2)","v":0},{"$f":"SUMIFS(入出金NFT結果!$D:$D,入出金NFT結果!$I:$I,\"=\"&月別集計!$B48,入出金NFT結果!$A:$A,\">=\"&月別集計!AE$1,入出金NFT結果!$A:$A,\"<=\"&月別集計!AE$2)","v":0},{"$f":"SUMIFS(入出金NFT結果!$D:$D,入出金NFT結果!$I:$I,\"=\"&月別集計!$B48,入出金NFT結果!$A:$A,\">=\"&月別集計!AF$1,入出金NFT結果!$A:$A,\"<=\"&月別集計!AF$2)","v":0},{"$f":"SUMIFS(入出金NFT結果!$D:$D,入出金NFT結果!$I:$I,\"=\"&月別集計!$B48,入出金NFT結果!$A:$A,\">=\"&月別集計!AG$1,入出金NFT結果!$A:$A,\"<=\"&月別集計!AG$2)","v":0},{"$f":"SUMIFS(入出金NFT結果!$D:$D,入出金NFT結果!$I:$I,\"=\"&月別集計!$B48,入出金NFT結果!$A:$A,\">=\"&月別集計!AH$1,入出金NFT結果!$A:$A,\"<=\"&月別集計!AH$2)","v":0},{"$f":"SUMIFS(入出金NFT結果!$D:$D,入出金NFT結果!$I:$I,\"=\"&月別集計!$B48,入出金NFT結果!$A:$A,\">=\"&月別集計!AI$1,入出金NFT結果!$A:$A,\"<=\"&月別集計!AI$2)","v":0},{"$f":"SUMIFS(入出金NFT結果!$D:$D,入出金NFT結果!$I:$I,\"=\"&月別集計!$B48,入出金NFT結果!$A:$A,\">=\"&月別集計!AJ$1,入出金NFT結果!$A:$A,\"<=\"&月別集計!AJ$2)","v":0},{"$f":"SUMIFS(入出金NFT結果!$D:$D,入出金NFT結果!$I:$I,\"=\"&月別集計!$B48,入出金NFT結果!$A:$A,\">=\"&月別集計!AK$1,入出金NFT結果!$A:$A,\"<=\"&月別集計!AK$2)","v":0},{"$f":"SUMIFS(入出金NFT結果!$D:$D,入出金NFT結果!$I:$I,\"=\"&月別集計!$B48,入出金NFT結果!$A:$A,\">=\"&月別集計!AL$1,入出金NFT結果!$A:$A,\"<=\"&月別集計!AL$2)","v":0},{"$f":"SUMIFS(入出金NFT結果!$D:$D,入出金NFT結果!$I:$I,\"=\"&月別集計!$B48,入出金NFT結果!$A:$A,\">=\"&月別集計!AM$1,入出金NFT結果!$A:$A,\"<=\"&月別集計!AM$2)","v":0},{"$f":"SUMIFS(入出金NFT結果!$D:$D,入出金NFT結果!$I:$I,\"=\"&月別集計!$B48,入出金NFT結果!$A:$A,\">=\"&月別集計!AN$1,入出金NFT結果!$A:$A,\"<=\"&月別集計!AN$2)","v":0},{"$f":"SUMIFS(入出金NFT結果!$D:$D,入出金NFT結果!$I:$I,\"=\"&月別集計!$B48,入出金NFT結果!$A:$A,\">=\"&月別集計!AO$1,入出金NFT結果!$A:$A,\"<=\"&月別集計!AO$2)","v":0},{"$f":"SUMIFS(入出金NFT結果!$D:$D,入出金NFT結果!$I:$I,\"=\"&月別集計!$B48,入出金NFT結果!$A:$A,\">=\"&月別集計!AP$1,入出金NFT結果!$A:$A,\"<=\"&月別集計!AP$2)","v":0},{"$f":"SUMIFS(入出金NFT結果!$D:$D,入出金NFT結果!$I:$I,\"=\"&月別集計!$B48,入出金NFT結果!$A:$A,\">=\"&月別集計!AQ$1,入出金NFT結果!$A:$A,\"<=\"&月別集計!AQ$2)","v":0},{"$f":"SUMIFS(入出金NFT結果!$D:$D,入出金NFT結果!$I:$I,\"=\"&月別集計!$B48,入出金NFT結果!$A:$A,\">=\"&月別集計!AR$1,入出金NFT結果!$A:$A,\"<=\"&月別集計!AR$2)","v":0},{"$f":"SUMIFS(入出金NFT結果!$D:$D,入出金NFT結果!$I:$I,\"=\"&月別集計!$B48,入出金NFT結果!$A:$A,\">=\"&月別集計!AS$1,入出金NFT結果!$A:$A,\"<=\"&月別集計!AS$2)","v":0},{"$f":"SUMIFS(入出金NFT結果!$D:$D,入出金NFT結果!$I:$I,\"=\"&月別集計!$B48,入出金NFT結果!$A:$A,\">=\"&月別集計!AT$1,入出金NFT結果!$A:$A,\"<=\"&月別集計!AT$2)","v":0},{"$f":"SUMIFS(入出金NFT結果!$D:$D,入出金NFT結果!$I:$I,\"=\"&月別集計!$B48,入出金NFT結果!$A:$A,\">=\"&月別集計!AU$1,入出金NFT結果!$A:$A,\"<=\"&月別集計!AU$2)","v":0},{"$f":"SUMIFS(入出金NFT結果!$D:$D,入出金NFT結果!$I:$I,\"=\"&月別集計!$B48,入出金NFT結果!$A:$A,\">=\"&月別集計!AV$1,入出金NFT結果!$A:$A,\"<=\"&月別集計!AV$2)","v":0},{"$f":"SUMIFS(入出金NFT結果!$D:$D,入出金NFT結果!$I:$I,\"=\"&月別集計!$B48,入出金NFT結果!$A:$A,\">=\"&月別集計!AW$1,入出金NFT結果!$A:$A,\"<=\"&月別集計!AW$2)","v":0},{"$f":"SUMIFS(入出金NFT結果!$D:$D,入出金NFT結果!$I:$I,\"=\"&月別集計!$B48,入出金NFT結果!$A:$A,\">=\"&月別集計!AX$1,入出金NFT結果!$A:$A,\"<=\"&月別集計!AX$2)","v":0},{"$f":"SUMIFS(入出金NFT結果!$D:$D,入出金NFT結果!$I:$I,\"=\"&月別集計!$B48,入出金NFT結果!$A:$A,\">=\"&月別集計!AY$1,入出金NFT結果!$A:$A,\"<=\"&月別集計!AY$2)","v":0},{"$f":"SUMIFS(入出金NFT結果!$D:$D,入出金NFT結果!$I:$I,\"=\"&月別集計!$B48,入出金NFT結果!$A:$A,\">=\"&月別集計!AZ$1,入出金NFT結果!$A:$A,\"<=\"&月別集計!AZ$2)","v":0},{"$f":"SUMIFS(入出金NFT結果!$D:$D,入出金NFT結果!$I:$I,\"=\"&月別集計!$B48,入出金NFT結果!$A:$A,\">=\"&月別集計!BA$1,入出金NFT結果!$A:$A,\"<=\"&月別集計!BA$2)","v":0},{"$f":"SUMIFS(入出金NFT結果!$D:$D,入出金NFT結果!$I:$I,\"=\"&月別集計!$B48,入出金NFT結果!$A:$A,\">=\"&月別集計!BB$1,入出金NFT結果!$A:$A,\"<=\"&月別集計!BB$2)","v":0},{"$f":"SUMIFS(入出金NFT結果!$D:$D,入出金NFT結果!$I:$I,\"=\"&月別集計!$B48,入出金NFT結果!$A:$A,\">=\"&月別集計!BC$1,入出金NFT結果!$A:$A,\"<=\"&月別集計!BC$2)","v":0},{"$f":"SUMIFS(入出金NFT結果!$D:$D,入出金NFT結果!$I:$I,\"=\"&月別集計!$B48,入出金NFT結果!$A:$A,\">=\"&月別集計!BD$1,入出金NFT結果!$A:$A,\"<=\"&月別集計!BD$2)","v":0},{"$f":"SUMIFS(入出金NFT結果!$D:$D,入出金NFT結果!$I:$I,\"=\"&月別集計!$B48,入出金NFT結果!$A:$A,\">=\"&月別集計!BE$1,入出金NFT結果!$A:$A,\"<=\"&月別集計!BE$2)","v":0},{"$f":"SUMIFS(入出金NFT結果!$D:$D,入出金NFT結果!$I:$I,\"=\"&月別集計!$B48,入出金NFT結果!$A:$A,\">=\"&月別集計!BF$1,入出金NFT結果!$A:$A,\"<=\"&月別集計!BF$2)","v":0},{"$f":"SUMIFS(入出金NFT結果!$D:$D,入出金NFT結果!$I:$I,\"=\"&月別集計!$B48,入出金NFT結果!$A:$A,\">=\"&月別集計!BG$1,入出金NFT結果!$A:$A,\"<=\"&月別集計!BG$2)","v":0},{"$f":"SUMIFS(入出金NFT結果!$D:$D,入出金NFT結果!$I:$I,\"=\"&月別集計!$B48,入出金NFT結果!$A:$A,\">=\"&月別集計!BH$1,入出金NFT結果!$A:$A,\"<=\"&月別集計!BH$2)","v":0},{"$f":"SUMIFS(入出金NFT結果!$D:$D,入出金NFT結果!$I:$I,\"=\"&月別集計!$B48,入出金NFT結果!$A:$A,\">=\"&月別集計!BI$1,入出金NFT結果!$A:$A,\"<=\"&月別集計!BI$2)","v":0},{"$f":"SUMIFS(入出金NFT結果!$D:$D,入出金NFT結果!$I:$I,\"=\"&月別集計!$B48,入出金NFT結果!$A:$A,\">=\"&月別集計!BJ$1,入出金NFT結果!$A:$A,\"<=\"&月別集計!BJ$2)","v":0},{"$f":"SUMIFS(入出金NFT結果!$D:$D,入出金NFT結果!$I:$I,\"=\"&月別集計!$B48,入出金NFT結果!$A:$A,\">=\"&月別集計!BK$1,入出金NFT結果!$A:$A,\"<=\"&月別集計!BK$2)","v":0},{"$f":"SUMIFS(入出金NFT結果!$D:$D,入出金NFT結果!$I:$I,\"=\"&月別集計!$B48,入出金NFT結果!$A:$A,\">=\"&月別集計!BL$1,入出金NFT結果!$A:$A,\"<=\"&月別集計!BL$2)","v":0},{"$f":"SUMIFS(入出金NFT結果!$D:$D,入出金NFT結果!$I:$I,\"=\"&月別集計!$B48,入出金NFT結果!$A:$A,\">=\"&月別集計!BM$1,入出金NFT結果!$A:$A,\"<=\"&月別集計!BM$2)","v":0}]
[null,{"$f":"推定用途置換ルール!P24","v":"NFT購入手数料"},{"$f":"SUMIFS(入出金NFT結果!$D:$D,入出金NFT結果!$I:$I,\"=\"&月別集計!$B49,入出金NFT結果!$A:$A,\">=\"&月別集計!C$1,入出金NFT結果!$A:$A,\"<=\"&月別集計!C$2)","v":0},{"$f":"SUMIFS(入出金NFT結果!$D:$D,入出金NFT結果!$I:$I,\"=\"&月別集計!$B49,入出金NFT結果!$A:$A,\">=\"&月別集計!D$1,入出金NFT結果!$A:$A,\"<=\"&月別集計!D$2)","v":0},{"$f":"SUMIFS(入出金NFT結果!$D:$D,入出金NFT結果!$I:$I,\"=\"&月別集計!$B49,入出金NFT結果!$A:$A,\">=\"&月別集計!E$1,入出金NFT結果!$A:$A,\"<=\"&月別集計!E$2)","v":0},{"$f":"SUMIFS(入出金NFT結果!$D:$D,入出金NFT結果!$I:$I,\"=\"&月別集計!$B49,入出金NFT結果!$A:$A,\">=\"&月別集計!F$1,入出金NFT結果!$A:$A,\"<=\"&月別集計!F$2)","v":0},{"$f":"SUMIFS(入出金NFT結果!$D:$D,入出金NFT結果!$I:$I,\"=\"&月別集計!$B49,入出金NFT結果!$A:$A,\">=\"&月別集計!G$1,入出金NFT結果!$A:$A,\"<=\"&月別集計!G$2)","v":0},{"$f":"SUMIFS(入出金NFT結果!$D:$D,入出金NFT結果!$I:$I,\"=\"&月別集計!$B49,入出金NFT結果!$A:$A,\">=\"&月別集計!H$1,入出金NFT結果!$A:$A,\"<=\"&月別集計!H$2)","v":0},{"$f":"SUMIFS(入出金NFT結果!$D:$D,入出金NFT結果!$I:$I,\"=\"&月別集計!$B49,入出金NFT結果!$A:$A,\">=\"&月別集計!I$1,入出金NFT結果!$A:$A,\"<=\"&月別集計!I$2)","v":0},{"$f":"SUMIFS(入出金NFT結果!$D:$D,入出金NFT結果!$I:$I,\"=\"&月別集計!$B49,入出金NFT結果!$A:$A,\">=\"&月別集計!J$1,入出金NFT結果!$A:$A,\"<=\"&月別集計!J$2)","v":0},{"$f":"SUMIFS(入出金NFT結果!$D:$D,入出金NFT結果!$I:$I,\"=\"&月別集計!$B49,入出金NFT結果!$A:$A,\">=\"&月別集計!K$1,入出金NFT結果!$A:$A,\"<=\"&月別集計!K$2)","v":0},{"$f":"SUMIFS(入出金NFT結果!$D:$D,入出金NFT結果!$I:$I,\"=\"&月別集計!$B49,入出金NFT結果!$A:$A,\">=\"&月別集計!L$1,入出金NFT結果!$A:$A,\"<=\"&月別集計!L$2)","v":0},{"$f":"SUMIFS(入出金NFT結果!$D:$D,入出金NFT結果!$I:$I,\"=\"&月別集計!$B49,入出金NFT結果!$A:$A,\">=\"&月別集計!M$1,入出金NFT結果!$A:$A,\"<=\"&月別集計!M$2)","v":0},{"$f":"SUMIFS(入出金NFT結果!$D:$D,入出金NFT結果!$I:$I,\"=\"&月別集計!$B49,入出金NFT結果!$A:$A,\">=\"&月別集計!N$1,入出金NFT結果!$A:$A,\"<=\"&月別集計!N$2)","v":0},{"$f":"SUMIFS(入出金NFT結果!$D:$D,入出金NFT結果!$I:$I,\"=\"&月別集計!$B49,入出金NFT結果!$A:$A,\">=\"&月別集計!O$1,入出金NFT結果!$A:$A,\"<=\"&月別集計!O$2)","v":0},{"$f":"SUMIFS(入出金NFT結果!$D:$D,入出金NFT結果!$I:$I,\"=\"&月別集計!$B49,入出金NFT結果!$A:$A,\">=\"&月別集計!P$1,入出金NFT結果!$A:$A,\"<=\"&月別集計!P$2)","v":0},{"$f":"SUMIFS(入出金NFT結果!$D:$D,入出金NFT結果!$I:$I,\"=\"&月別集計!$B49,入出金NFT結果!$A:$A,\">=\"&月別集計!Q$1,入出金NFT結果!$A:$A,\"<=\"&月別集計!Q$2)","v":0},{"$f":"SUMIFS(入出金NFT結果!$D:$D,入出金NFT結果!$I:$I,\"=\"&月別集計!$B49,入出金NFT結果!$A:$A,\">=\"&月別集計!R$1,入出金NFT結果!$A:$A,\"<=\"&月別集計!R$2)","v":0},{"$f":"SUMIFS(入出金NFT結果!$D:$D,入出金NFT結果!$I:$I,\"=\"&月別集計!$B49,入出金NFT結果!$A:$A,\">=\"&月別集計!S$1,入出金NFT結果!$A:$A,\"<=\"&月別集計!S$2)","v":0},{"$f":"SUMIFS(入出金NFT結果!$D:$D,入出金NFT結果!$I:$I,\"=\"&月別集計!$B49,入出金NFT結果!$A:$A,\">=\"&月別集計!T$1,入出金NFT結果!$A:$A,\"<=\"&月別集計!T$2)","v":0},{"$f":"SUMIFS(入出金NFT結果!$D:$D,入出金NFT結果!$I:$I,\"=\"&月別集計!$B49,入出金NFT結果!$A:$A,\">=\"&月別集計!U$1,入出金NFT結果!$A:$A,\"<=\"&月別集計!U$2)","v":0},{"$f":"SUMIFS(入出金NFT結果!$D:$D,入出金NFT結果!$I:$I,\"=\"&月別集計!$B49,入出金NFT結果!$A:$A,\">=\"&月別集計!V$1,入出金NFT結果!$A:$A,\"<=\"&月別集計!V$2)","v":0},{"$f":"SUMIFS(入出金NFT結果!$D:$D,入出金NFT結果!$I:$I,\"=\"&月別集計!$B49,入出金NFT結果!$A:$A,\">=\"&月別集計!W$1,入出金NFT結果!$A:$A,\"<=\"&月別集計!W$2)","v":0},{"$f":"SUMIFS(入出金NFT結果!$D:$D,入出金NFT結果!$I:$I,\"=\"&月別集計!$B49,入出金NFT結果!$A:$A,\">=\"&月別集計!X$1,入出金NFT結果!$A:$A,\"<=\"&月別集計!X$2)","v":0},{"$f":"SUMIFS(入出金NFT結果!$D:$D,入出金NFT結果!$I:$I,\"=\"&月別集計!$B49,入出金NFT結果!$A:$A,\">=\"&月別集計!Y$1,入出金NFT結果!$A:$A,\"<=\"&月別集計!Y$2)","v":0},{"$f":"SUMIFS(入出金NFT結果!$D:$D,入出金NFT結果!$I:$I,\"=\"&月別集計!$B49,入出金NFT結果!$A:$A,\">=\"&月別集計!Z$1,入出金NFT結果!$A:$A,\"<=\"&月別集計!Z$2)","v":0},{"$f":"SUMIFS(入出金NFT結果!$D:$D,入出金NFT結果!$I:$I,\"=\"&月別集計!$B49,入出金NFT結果!$A:$A,\">=\"&月別集計!AA$1,入出金NFT結果!$A:$A,\"<=\"&月別集計!AA$2)","v":0},{"$f":"SUMIFS(入出金NFT結果!$D:$D,入出金NFT結果!$I:$I,\"=\"&月別集計!$B49,入出金NFT結果!$A:$A,\">=\"&月別集計!AB$1,入出金NFT結果!$A:$A,\"<=\"&月別集計!AB$2)","v":0},{"$f":"SUMIFS(入出金NFT結果!$D:$D,入出金NFT結果!$I:$I,\"=\"&月別集計!$B49,入出金NFT結果!$A:$A,\">=\"&月別集計!AC$1,入出金NFT結果!$A:$A,\"<=\"&月別集計!AC$2)","v":0},{"$f":"SUMIFS(入出金NFT結果!$D:$D,入出金NFT結果!$I:$I,\"=\"&月別集計!$B49,入出金NFT結果!$A:$A,\">=\"&月別集計!AD$1,入出金NFT結果!$A:$A,\"<=\"&月別集計!AD$2)","v":0},{"$f":"SUMIFS(入出金NFT結果!$D:$D,入出金NFT結果!$I:$I,\"=\"&月別集計!$B49,入出金NFT結果!$A:$A,\">=\"&月別集計!AE$1,入出金NFT結果!$A:$A,\"<=\"&月別集計!AE$2)","v":0},{"$f":"SUMIFS(入出金NFT結果!$D:$D,入出金NFT結果!$I:$I,\"=\"&月別集計!$B49,入出金NFT結果!$A:$A,\">=\"&月別集計!AF$1,入出金NFT結果!$A:$A,\"<=\"&月別集計!AF$2)","v":0},{"$f":"SUMIFS(入出金NFT結果!$D:$D,入出金NFT結果!$I:$I,\"=\"&月別集計!$B49,入出金NFT結果!$A:$A,\">=\"&月別集計!AG$1,入出金NFT結果!$A:$A,\"<=\"&月別集計!AG$2)","v":0},{"$f":"SUMIFS(入出金NFT結果!$D:$D,入出金NFT結果!$I:$I,\"=\"&月別集計!$B49,入出金NFT結果!$A:$A,\">=\"&月別集計!AH$1,入出金NFT結果!$A:$A,\"<=\"&月別集計!AH$2)","v":0},{"$f":"SUMIFS(入出金NFT結果!$D:$D,入出金NFT結果!$I:$I,\"=\"&月別集計!$B49,入出金NFT結果!$A:$A,\">=\"&月別集計!AI$1,入出金NFT結果!$A:$A,\"<=\"&月別集計!AI$2)","v":0},{"$f":"SUMIFS(入出金NFT結果!$D:$D,入出金NFT結果!$I:$I,\"=\"&月別集計!$B49,入出金NFT結果!$A:$A,\">=\"&月別集計!AJ$1,入出金NFT結果!$A:$A,\"<=\"&月別集計!AJ$2)","v":0},{"$f":"SUMIFS(入出金NFT結果!$D:$D,入出金NFT結果!$I:$I,\"=\"&月別集計!$B49,入出金NFT結果!$A:$A,\">=\"&月別集計!AK$1,入出金NFT結果!$A:$A,\"<=\"&月別集計!AK$2)","v":0},{"$f":"SUMIFS(入出金NFT結果!$D:$D,入出金NFT結果!$I:$I,\"=\"&月別集計!$B49,入出金NFT結果!$A:$A,\">=\"&月別集計!AL$1,入出金NFT結果!$A:$A,\"<=\"&月別集計!AL$2)","v":0},{"$f":"SUMIFS(入出金NFT結果!$D:$D,入出金NFT結果!$I:$I,\"=\"&月別集計!$B49,入出金NFT結果!$A:$A,\">=\"&月別集計!AM$1,入出金NFT結果!$A:$A,\"<=\"&月別集計!AM$2)","v":0},{"$f":"SUMIFS(入出金NFT結果!$D:$D,入出金NFT結果!$I:$I,\"=\"&月別集計!$B49,入出金NFT結果!$A:$A,\">=\"&月別集計!AN$1,入出金NFT結果!$A:$A,\"<=\"&月別集計!AN$2)","v":0},{"$f":"SUMIFS(入出金NFT結果!$D:$D,入出金NFT結果!$I:$I,\"=\"&月別集計!$B49,入出金NFT結果!$A:$A,\">=\"&月別集計!AO$1,入出金NFT結果!$A:$A,\"<=\"&月別集計!AO$2)","v":0},{"$f":"SUMIFS(入出金NFT結果!$D:$D,入出金NFT結果!$I:$I,\"=\"&月別集計!$B49,入出金NFT結果!$A:$A,\">=\"&月別集計!AP$1,入出金NFT結果!$A:$A,\"<=\"&月別集計!AP$2)","v":0},{"$f":"SUMIFS(入出金NFT結果!$D:$D,入出金NFT結果!$I:$I,\"=\"&月別集計!$B49,入出金NFT結果!$A:$A,\">=\"&月別集計!AQ$1,入出金NFT結果!$A:$A,\"<=\"&月別集計!AQ$2)","v":0},{"$f":"SUMIFS(入出金NFT結果!$D:$D,入出金NFT結果!$I:$I,\"=\"&月別集計!$B49,入出金NFT結果!$A:$A,\">=\"&月別集計!AR$1,入出金NFT結果!$A:$A,\"<=\"&月別集計!AR$2)","v":0},{"$f":"SUMIFS(入出金NFT結果!$D:$D,入出金NFT結果!$I:$I,\"=\"&月別集計!$B49,入出金NFT結果!$A:$A,\">=\"&月別集計!AS$1,入出金NFT結果!$A:$A,\"<=\"&月別集計!AS$2)","v":0},{"$f":"SUMIFS(入出金NFT結果!$D:$D,入出金NFT結果!$I:$I,\"=\"&月別集計!$B49,入出金NFT結果!$A:$A,\">=\"&月別集計!AT$1,入出金NFT結果!$A:$A,\"<=\"&月別集計!AT$2)","v":0},{"$f":"SUMIFS(入出金NFT結果!$D:$D,入出金NFT結果!$I:$I,\"=\"&月別集計!$B49,入出金NFT結果!$A:$A,\">=\"&月別集計!AU$1,入出金NFT結果!$A:$A,\"<=\"&月別集計!AU$2)","v":0},{"$f":"SUMIFS(入出金NFT結果!$D:$D,入出金NFT結果!$I:$I,\"=\"&月別集計!$B49,入出金NFT結果!$A:$A,\">=\"&月別集計!AV$1,入出金NFT結果!$A:$A,\"<=\"&月別集計!AV$2)","v":0},{"$f":"SUMIFS(入出金NFT結果!$D:$D,入出金NFT結果!$I:$I,\"=\"&月別集計!$B49,入出金NFT結果!$A:$A,\">=\"&月別集計!AW$1,入出金NFT結果!$A:$A,\"<=\"&月別集計!AW$2)","v":0},{"$f":"SUMIFS(入出金NFT結果!$D:$D,入出金NFT結果!$I:$I,\"=\"&月別集計!$B49,入出金NFT結果!$A:$A,\">=\"&月別集計!AX$1,入出金NFT結果!$A:$A,\"<=\"&月別集計!AX$2)","v":0},{"$f":"SUMIFS(入出金NFT結果!$D:$D,入出金NFT結果!$I:$I,\"=\"&月別集計!$B49,入出金NFT結果!$A:$A,\">=\"&月別集計!AY$1,入出金NFT結果!$A:$A,\"<=\"&月別集計!AY$2)","v":0},{"$f":"SUMIFS(入出金NFT結果!$D:$D,入出金NFT結果!$I:$I,\"=\"&月別集計!$B49,入出金NFT結果!$A:$A,\">=\"&月別集計!AZ$1,入出金NFT結果!$A:$A,\"<=\"&月別集計!AZ$2)","v":0},{"$f":"SUMIFS(入出金NFT結果!$D:$D,入出金NFT結果!$I:$I,\"=\"&月別集計!$B49,入出金NFT結果!$A:$A,\">=\"&月別集計!BA$1,入出金NFT結果!$A:$A,\"<=\"&月別集計!BA$2)","v":0},{"$f":"SUMIFS(入出金NFT結果!$D:$D,入出金NFT結果!$I:$I,\"=\"&月別集計!$B49,入出金NFT結果!$A:$A,\">=\"&月別集計!BB$1,入出金NFT結果!$A:$A,\"<=\"&月別集計!BB$2)","v":0},{"$f":"SUMIFS(入出金NFT結果!$D:$D,入出金NFT結果!$I:$I,\"=\"&月別集計!$B49,入出金NFT結果!$A:$A,\">=\"&月別集計!BC$1,入出金NFT結果!$A:$A,\"<=\"&月別集計!BC$2)","v":0},{"$f":"SUMIFS(入出金NFT結果!$D:$D,入出金NFT結果!$I:$I,\"=\"&月別集計!$B49,入出金NFT結果!$A:$A,\">=\"&月別集計!BD$1,入出金NFT結果!$A:$A,\"<=\"&月別集計!BD$2)","v":0},{"$f":"SUMIFS(入出金NFT結果!$D:$D,入出金NFT結果!$I:$I,\"=\"&月別集計!$B49,入出金NFT結果!$A:$A,\">=\"&月別集計!BE$1,入出金NFT結果!$A:$A,\"<=\"&月別集計!BE$2)","v":0},{"$f":"SUMIFS(入出金NFT結果!$D:$D,入出金NFT結果!$I:$I,\"=\"&月別集計!$B49,入出金NFT結果!$A:$A,\">=\"&月別集計!BF$1,入出金NFT結果!$A:$A,\"<=\"&月別集計!BF$2)","v":0},{"$f":"SUMIFS(入出金NFT結果!$D:$D,入出金NFT結果!$I:$I,\"=\"&月別集計!$B49,入出金NFT結果!$A:$A,\">=\"&月別集計!BG$1,入出金NFT結果!$A:$A,\"<=\"&月別集計!BG$2)","v":0},{"$f":"SUMIFS(入出金NFT結果!$D:$D,入出金NFT結果!$I:$I,\"=\"&月別集計!$B49,入出金NFT結果!$A:$A,\">=\"&月別集計!BH$1,入出金NFT結果!$A:$A,\"<=\"&月別集計!BH$2)","v":0},{"$f":"SUMIFS(入出金NFT結果!$D:$D,入出金NFT結果!$I:$I,\"=\"&月別集計!$B49,入出金NFT結果!$A:$A,\">=\"&月別集計!BI$1,入出金NFT結果!$A:$A,\"<=\"&月別集計!BI$2)","v":0},{"$f":"SUMIFS(入出金NFT結果!$D:$D,入出金NFT結果!$I:$I,\"=\"&月別集計!$B49,入出金NFT結果!$A:$A,\">=\"&月別集計!BJ$1,入出金NFT結果!$A:$A,\"<=\"&月別集計!BJ$2)","v":0},{"$f":"SUMIFS(入出金NFT結果!$D:$D,入出金NFT結果!$I:$I,\"=\"&月別集計!$B49,入出金NFT結果!$A:$A,\">=\"&月別集計!BK$1,入出金NFT結果!$A:$A,\"<=\"&月別集計!BK$2)","v":0},{"$f":"SUMIFS(入出金NFT結果!$D:$D,入出金NFT結果!$I:$I,\"=\"&月別集計!$B49,入出金NFT結果!$A:$A,\">=\"&月別集計!BL$1,入出金NFT結果!$A:$A,\"<=\"&月別集計!BL$2)","v":0},{"$f":"SUMIFS(入出金NFT結果!$D:$D,入出金NFT結果!$I:$I,\"=\"&月別集計!$B49,入出金NFT結果!$A:$A,\">=\"&月別集計!BM$1,入出金NFT結果!$A:$A,\"<=\"&月別集計!BM$2)","v":0}]
[null,{"$f":"推定用途置換ルール!P25","v":"NFT販売手数料"},{"$f":"SUMIFS(入出金NFT結果!$D:$D,入出金NFT結果!$I:$I,\"=\"&月別集計!$B50,入出金NFT結果!$A:$A,\">=\"&月別集計!C$1,入出金NFT結果!$A:$A,\"<=\"&月別集計!C$2)","v":0},{"$f":"SUMIFS(入出金NFT結果!$D:$D,入出金NFT結果!$I:$I,\"=\"&月別集計!$B50,入出金NFT結果!$A:$A,\">=\"&月別集計!D$1,入出金NFT結果!$A:$A,\"<=\"&月別集計!D$2)","v":0},{"$f":"SUMIFS(入出金NFT結果!$D:$D,入出金NFT結果!$I:$I,\"=\"&月別集計!$B50,入出金NFT結果!$A:$A,\">=\"&月別集計!E$1,入出金NFT結果!$A:$A,\"<=\"&月別集計!E$2)","v":0},{"$f":"SUMIFS(入出金NFT結果!$D:$D,入出金NFT結果!$I:$I,\"=\"&月別集計!$B50,入出金NFT結果!$A:$A,\">=\"&月別集計!F$1,入出金NFT結果!$A:$A,\"<=\"&月別集計!F$2)","v":0},{"$f":"SUMIFS(入出金NFT結果!$D:$D,入出金NFT結果!$I:$I,\"=\"&月別集計!$B50,入出金NFT結果!$A:$A,\">=\"&月別集計!G$1,入出金NFT結果!$A:$A,\"<=\"&月別集計!G$2)","v":0},{"$f":"SUMIFS(入出金NFT結果!$D:$D,入出金NFT結果!$I:$I,\"=\"&月別集計!$B50,入出金NFT結果!$A:$A,\">=\"&月別集計!H$1,入出金NFT結果!$A:$A,\"<=\"&月別集計!H$2)","v":0},{"$f":"SUMIFS(入出金NFT結果!$D:$D,入出金NFT結果!$I:$I,\"=\"&月別集計!$B50,入出金NFT結果!$A:$A,\">=\"&月別集計!I$1,入出金NFT結果!$A:$A,\"<=\"&月別集計!I$2)","v":0},{"$f":"SUMIFS(入出金NFT結果!$D:$D,入出金NFT結果!$I:$I,\"=\"&月別集計!$B50,入出金NFT結果!$A:$A,\">=\"&月別集計!J$1,入出金NFT結果!$A:$A,\"<=\"&月別集計!J$2)","v":0},{"$f":"SUMIFS(入出金NFT結果!$D:$D,入出金NFT結果!$I:$I,\"=\"&月別集計!$B50,入出金NFT結果!$A:$A,\">=\"&月別集計!K$1,入出金NFT結果!$A:$A,\"<=\"&月別集計!K$2)","v":0},{"$f":"SUMIFS(入出金NFT結果!$D:$D,入出金NFT結果!$I:$I,\"=\"&月別集計!$B50,入出金NFT結果!$A:$A,\">=\"&月別集計!L$1,入出金NFT結果!$A:$A,\"<=\"&月別集計!L$2)","v":0},{"$f":"SUMIFS(入出金NFT結果!$D:$D,入出金NFT結果!$I:$I,\"=\"&月別集計!$B50,入出金NFT結果!$A:$A,\">=\"&月別集計!M$1,入出金NFT結果!$A:$A,\"<=\"&月別集計!M$2)","v":0},{"$f":"SUMIFS(入出金NFT結果!$D:$D,入出金NFT結果!$I:$I,\"=\"&月別集計!$B50,入出金NFT結果!$A:$A,\">=\"&月別集計!N$1,入出金NFT結果!$A:$A,\"<=\"&月別集計!N$2)","v":0},{"$f":"SUMIFS(入出金NFT結果!$D:$D,入出金NFT結果!$I:$I,\"=\"&月別集計!$B50,入出金NFT結果!$A:$A,\">=\"&月別集計!O$1,入出金NFT結果!$A:$A,\"<=\"&月別集計!O$2)","v":0},{"$f":"SUMIFS(入出金NFT結果!$D:$D,入出金NFT結果!$I:$I,\"=\"&月別集計!$B50,入出金NFT結果!$A:$A,\">=\"&月別集計!P$1,入出金NFT結果!$A:$A,\"<=\"&月別集計!P$2)","v":0},{"$f":"SUMIFS(入出金NFT結果!$D:$D,入出金NFT結果!$I:$I,\"=\"&月別集計!$B50,入出金NFT結果!$A:$A,\">=\"&月別集計!Q$1,入出金NFT結果!$A:$A,\"<=\"&月別集計!Q$2)","v":0},{"$f":"SUMIFS(入出金NFT結果!$D:$D,入出金NFT結果!$I:$I,\"=\"&月別集計!$B50,入出金NFT結果!$A:$A,\">=\"&月別集計!R$1,入出金NFT結果!$A:$A,\"<=\"&月別集計!R$2)","v":0},{"$f":"SUMIFS(入出金NFT結果!$D:$D,入出金NFT結果!$I:$I,\"=\"&月別集計!$B50,入出金NFT結果!$A:$A,\">=\"&月別集計!S$1,入出金NFT結果!$A:$A,\"<=\"&月別集計!S$2)","v":0},{"$f":"SUMIFS(入出金NFT結果!$D:$D,入出金NFT結果!$I:$I,\"=\"&月別集計!$B50,入出金NFT結果!$A:$A,\">=\"&月別集計!T$1,入出金NFT結果!$A:$A,\"<=\"&月別集計!T$2)","v":0},{"$f":"SUMIFS(入出金NFT結果!$D:$D,入出金NFT結果!$I:$I,\"=\"&月別集計!$B50,入出金NFT結果!$A:$A,\">=\"&月別集計!U$1,入出金NFT結果!$A:$A,\"<=\"&月別集計!U$2)","v":0},{"$f":"SUMIFS(入出金NFT結果!$D:$D,入出金NFT結果!$I:$I,\"=\"&月別集計!$B50,入出金NFT結果!$A:$A,\">=\"&月別集計!V$1,入出金NFT結果!$A:$A,\"<=\"&月別集計!V$2)","v":0},{"$f":"SUMIFS(入出金NFT結果!$D:$D,入出金NFT結果!$I:$I,\"=\"&月別集計!$B50,入出金NFT結果!$A:$A,\">=\"&月別集計!W$1,入出金NFT結果!$A:$A,\"<=\"&月別集計!W$2)","v":0},{"$f":"SUMIFS(入出金NFT結果!$D:$D,入出金NFT結果!$I:$I,\"=\"&月別集計!$B50,入出金NFT結果!$A:$A,\">=\"&月別集計!X$1,入出金NFT結果!$A:$A,\"<=\"&月別集計!X$2)","v":0},{"$f":"SUMIFS(入出金NFT結果!$D:$D,入出金NFT結果!$I:$I,\"=\"&月別集計!$B50,入出金NFT結果!$A:$A,\">=\"&月別集計!Y$1,入出金NFT結果!$A:$A,\"<=\"&月別集計!Y$2)","v":0},{"$f":"SUMIFS(入出金NFT結果!$D:$D,入出金NFT結果!$I:$I,\"=\"&月別集計!$B50,入出金NFT結果!$A:$A,\">=\"&月別集計!Z$1,入出金NFT結果!$A:$A,\"<=\"&月別集計!Z$2)","v":0},{"$f":"SUMIFS(入出金NFT結果!$D:$D,入出金NFT結果!$I:$I,\"=\"&月別集計!$B50,入出金NFT結果!$A:$A,\">=\"&月別集計!AA$1,入出金NFT結果!$A:$A,\"<=\"&月別集計!AA$2)","v":0},{"$f":"SUMIFS(入出金NFT結果!$D:$D,入出金NFT結果!$I:$I,\"=\"&月別集計!$B50,入出金NFT結果!$A:$A,\">=\"&月別集計!AB$1,入出金NFT結果!$A:$A,\"<=\"&月別集計!AB$2)","v":0},{"$f":"SUMIFS(入出金NFT結果!$D:$D,入出金NFT結果!$I:$I,\"=\"&月別集計!$B50,入出金NFT結果!$A:$A,\">=\"&月別集計!AC$1,入出金NFT結果!$A:$A,\"<=\"&月別集計!AC$2)","v":0},{"$f":"SUMIFS(入出金NFT結果!$D:$D,入出金NFT結果!$I:$I,\"=\"&月別集計!$B50,入出金NFT結果!$A:$A,\">=\"&月別集計!AD$1,入出金NFT結果!$A:$A,\"<=\"&月別集計!AD$2)","v":0},{"$f":"SUMIFS(入出金NFT結果!$D:$D,入出金NFT結果!$I:$I,\"=\"&月別集計!$B50,入出金NFT結果!$A:$A,\">=\"&月別集計!AE$1,入出金NFT結果!$A:$A,\"<=\"&月別集計!AE$2)","v":0},{"$f":"SUMIFS(入出金NFT結果!$D:$D,入出金NFT結果!$I:$I,\"=\"&月別集計!$B50,入出金NFT結果!$A:$A,\">=\"&月別集計!AF$1,入出金NFT結果!$A:$A,\"<=\"&月別集計!AF$2)","v":0},{"$f":"SUMIFS(入出金NFT結果!$D:$D,入出金NFT結果!$I:$I,\"=\"&月別集計!$B50,入出金NFT結果!$A:$A,\">=\"&月別集計!AG$1,入出金NFT結果!$A:$A,\"<=\"&月別集計!AG$2)","v":0},{"$f":"SUMIFS(入出金NFT結果!$D:$D,入出金NFT結果!$I:$I,\"=\"&月別集計!$B50,入出金NFT結果!$A:$A,\">=\"&月別集計!AH$1,入出金NFT結果!$A:$A,\"<=\"&月別集計!AH$2)","v":0},{"$f":"SUMIFS(入出金NFT結果!$D:$D,入出金NFT結果!$I:$I,\"=\"&月別集計!$B50,入出金NFT結果!$A:$A,\">=\"&月別集計!AI$1,入出金NFT結果!$A:$A,\"<=\"&月別集計!AI$2)","v":0},{"$f":"SUMIFS(入出金NFT結果!$D:$D,入出金NFT結果!$I:$I,\"=\"&月別集計!$B50,入出金NFT結果!$A:$A,\">=\"&月別集計!AJ$1,入出金NFT結果!$A:$A,\"<=\"&月別集計!AJ$2)","v":0},{"$f":"SUMIFS(入出金NFT結果!$D:$D,入出金NFT結果!$I:$I,\"=\"&月別集計!$B50,入出金NFT結果!$A:$A,\">=\"&月別集計!AK$1,入出金NFT結果!$A:$A,\"<=\"&月別集計!AK$2)","v":0},{"$f":"SUMIFS(入出金NFT結果!$D:$D,入出金NFT結果!$I:$I,\"=\"&月別集計!$B50,入出金NFT結果!$A:$A,\">=\"&月別集計!AL$1,入出金NFT結果!$A:$A,\"<=\"&月別集計!AL$2)","v":0},{"$f":"SUMIFS(入出金NFT結果!$D:$D,入出金NFT結果!$I:$I,\"=\"&月別集計!$B50,入出金NFT結果!$A:$A,\">=\"&月別集計!AM$1,入出金NFT結果!$A:$A,\"<=\"&月別集計!AM$2)","v":0},{"$f":"SUMIFS(入出金NFT結果!$D:$D,入出金NFT結果!$I:$I,\"=\"&月別集計!$B50,入出金NFT結果!$A:$A,\">=\"&月別集計!AN$1,入出金NFT結果!$A:$A,\"<=\"&月別集計!AN$2)","v":0},{"$f":"SUMIFS(入出金NFT結果!$D:$D,入出金NFT結果!$I:$I,\"=\"&月別集計!$B50,入出金NFT結果!$A:$A,\">=\"&月別集計!AO$1,入出金NFT結果!$A:$A,\"<=\"&月別集計!AO$2)","v":0},{"$f":"SUMIFS(入出金NFT結果!$D:$D,入出金NFT結果!$I:$I,\"=\"&月別集計!$B50,入出金NFT結果!$A:$A,\">=\"&月別集計!AP$1,入出金NFT結果!$A:$A,\"<=\"&月別集計!AP$2)","v":0},{"$f":"SUMIFS(入出金NFT結果!$D:$D,入出金NFT結果!$I:$I,\"=\"&月別集計!$B50,入出金NFT結果!$A:$A,\">=\"&月別集計!AQ$1,入出金NFT結果!$A:$A,\"<=\"&月別集計!AQ$2)","v":0},{"$f":"SUMIFS(入出金NFT結果!$D:$D,入出金NFT結果!$I:$I,\"=\"&月別集計!$B50,入出金NFT結果!$A:$A,\">=\"&月別集計!AR$1,入出金NFT結果!$A:$A,\"<=\"&月別集計!AR$2)","v":0},{"$f":"SUMIFS(入出金NFT結果!$D:$D,入出金NFT結果!$I:$I,\"=\"&月別集計!$B50,入出金NFT結果!$A:$A,\">=\"&月別集計!AS$1,入出金NFT結果!$A:$A,\"<=\"&月別集計!AS$2)","v":0},{"$f":"SUMIFS(入出金NFT結果!$D:$D,入出金NFT結果!$I:$I,\"=\"&月別集計!$B50,入出金NFT結果!$A:$A,\">=\"&月別集計!AT$1,入出金NFT結果!$A:$A,\"<=\"&月別集計!AT$2)","v":0},{"$f":"SUMIFS(入出金NFT結果!$D:$D,入出金NFT結果!$I:$I,\"=\"&月別集計!$B50,入出金NFT結果!$A:$A,\">=\"&月別集計!AU$1,入出金NFT結果!$A:$A,\"<=\"&月別集計!AU$2)","v":0},{"$f":"SUMIFS(入出金NFT結果!$D:$D,入出金NFT結果!$I:$I,\"=\"&月別集計!$B50,入出金NFT結果!$A:$A,\">=\"&月別集計!AV$1,入出金NFT結果!$A:$A,\"<=\"&月別集計!AV$2)","v":0},{"$f":"SUMIFS(入出金NFT結果!$D:$D,入出金NFT結果!$I:$I,\"=\"&月別集計!$B50,入出金NFT結果!$A:$A,\">=\"&月別集計!AW$1,入出金NFT結果!$A:$A,\"<=\"&月別集計!AW$2)","v":0},{"$f":"SUMIFS(入出金NFT結果!$D:$D,入出金NFT結果!$I:$I,\"=\"&月別集計!$B50,入出金NFT結果!$A:$A,\">=\"&月別集計!AX$1,入出金NFT結果!$A:$A,\"<=\"&月別集計!AX$2)","v":0},{"$f":"SUMIFS(入出金NFT結果!$D:$D,入出金NFT結果!$I:$I,\"=\"&月別集計!$B50,入出金NFT結果!$A:$A,\">=\"&月別集計!AY$1,入出金NFT結果!$A:$A,\"<=\"&月別集計!AY$2)","v":0},{"$f":"SUMIFS(入出金NFT結果!$D:$D,入出金NFT結果!$I:$I,\"=\"&月別集計!$B50,入出金NFT結果!$A:$A,\">=\"&月別集計!AZ$1,入出金NFT結果!$A:$A,\"<=\"&月別集計!AZ$2)","v":0},{"$f":"SUMIFS(入出金NFT結果!$D:$D,入出金NFT結果!$I:$I,\"=\"&月別集計!$B50,入出金NFT結果!$A:$A,\">=\"&月別集計!BA$1,入出金NFT結果!$A:$A,\"<=\"&月別集計!BA$2)","v":0},{"$f":"SUMIFS(入出金NFT結果!$D:$D,入出金NFT結果!$I:$I,\"=\"&月別集計!$B50,入出金NFT結果!$A:$A,\">=\"&月別集計!BB$1,入出金NFT結果!$A:$A,\"<=\"&月別集計!BB$2)","v":0},{"$f":"SUMIFS(入出金NFT結果!$D:$D,入出金NFT結果!$I:$I,\"=\"&月別集計!$B50,入出金NFT結果!$A:$A,\">=\"&月別集計!BC$1,入出金NFT結果!$A:$A,\"<=\"&月別集計!BC$2)","v":0},{"$f":"SUMIFS(入出金NFT結果!$D:$D,入出金NFT結果!$I:$I,\"=\"&月別集計!$B50,入出金NFT結果!$A:$A,\">=\"&月別集計!BD$1,入出金NFT結果!$A:$A,\"<=\"&月別集計!BD$2)","v":0},{"$f":"SUMIFS(入出金NFT結果!$D:$D,入出金NFT結果!$I:$I,\"=\"&月別集計!$B50,入出金NFT結果!$A:$A,\">=\"&月別集計!BE$1,入出金NFT結果!$A:$A,\"<=\"&月別集計!BE$2)","v":0},{"$f":"SUMIFS(入出金NFT結果!$D:$D,入出金NFT結果!$I:$I,\"=\"&月別集計!$B50,入出金NFT結果!$A:$A,\">=\"&月別集計!BF$1,入出金NFT結果!$A:$A,\"<=\"&月別集計!BF$2)","v":0},{"$f":"SUMIFS(入出金NFT結果!$D:$D,入出金NFT結果!$I:$I,\"=\"&月別集計!$B50,入出金NFT結果!$A:$A,\">=\"&月別集計!BG$1,入出金NFT結果!$A:$A,\"<=\"&月別集計!BG$2)","v":0},{"$f":"SUMIFS(入出金NFT結果!$D:$D,入出金NFT結果!$I:$I,\"=\"&月別集計!$B50,入出金NFT結果!$A:$A,\">=\"&月別集計!BH$1,入出金NFT結果!$A:$A,\"<=\"&月別集計!BH$2)","v":0},{"$f":"SUMIFS(入出金NFT結果!$D:$D,入出金NFT結果!$I:$I,\"=\"&月別集計!$B50,入出金NFT結果!$A:$A,\">=\"&月別集計!BI$1,入出金NFT結果!$A:$A,\"<=\"&月別集計!BI$2)","v":0},{"$f":"SUMIFS(入出金NFT結果!$D:$D,入出金NFT結果!$I:$I,\"=\"&月別集計!$B50,入出金NFT結果!$A:$A,\">=\"&月別集計!BJ$1,入出金NFT結果!$A:$A,\"<=\"&月別集計!BJ$2)","v":0},{"$f":"SUMIFS(入出金NFT結果!$D:$D,入出金NFT結果!$I:$I,\"=\"&月別集計!$B50,入出金NFT結果!$A:$A,\">=\"&月別集計!BK$1,入出金NFT結果!$A:$A,\"<=\"&月別集計!BK$2)","v":0},{"$f":"SUMIFS(入出金NFT結果!$D:$D,入出金NFT結果!$I:$I,\"=\"&月別集計!$B50,入出金NFT結果!$A:$A,\">=\"&月別集計!BL$1,入出金NFT結果!$A:$A,\"<=\"&月別集計!BL$2)","v":0},{"$f":"SUMIFS(入出金NFT結果!$D:$D,入出金NFT結果!$I:$I,\"=\"&月別集計!$B50,入出金NFT結果!$A:$A,\">=\"&月別集計!BM$1,入出金NFT結果!$A:$A,\"<=\"&月別集計!BM$2)","v":0}]
[null,{"$f":"推定用途置換ルール!P26","v":"送金手数料"},{"$f":"SUMIFS(入出金NFT結果!$D:$D,入出金NFT結果!$I:$I,\"=\"&月別集計!$B51,入出金NFT結果!$A:$A,\">=\"&月別集計!C$1,入出金NFT結果!$A:$A,\"<=\"&月別集計!C$2)","v":0},{"$f":"SUMIFS(入出金NFT結果!$D:$D,入出金NFT結果!$I:$I,\"=\"&月別集計!$B51,入出金NFT結果!$A:$A,\">=\"&月別集計!D$1,入出金NFT結果!$A:$A,\"<=\"&月別集計!D$2)","v":0},{"$f":"SUMIFS(入出金NFT結果!$D:$D,入出金NFT結果!$I:$I,\"=\"&月別集計!$B51,入出金NFT結果!$A:$A,\">=\"&月別集計!E$1,入出金NFT結果!$A:$A,\"<=\"&月別集計!E$2)","v":0},{"$f":"SUMIFS(入出金NFT結果!$D:$D,入出金NFT結果!$I:$I,\"=\"&月別集計!$B51,入出金NFT結果!$A:$A,\">=\"&月別集計!F$1,入出金NFT結果!$A:$A,\"<=\"&月別集計!F$2)","v":0},{"$f":"SUMIFS(入出金NFT結果!$D:$D,入出金NFT結果!$I:$I,\"=\"&月別集計!$B51,入出金NFT結果!$A:$A,\">=\"&月別集計!G$1,入出金NFT結果!$A:$A,\"<=\"&月別集計!G$2)","v":0},{"$f":"SUMIFS(入出金NFT結果!$D:$D,入出金NFT結果!$I:$I,\"=\"&月別集計!$B51,入出金NFT結果!$A:$A,\">=\"&月別集計!H$1,入出金NFT結果!$A:$A,\"<=\"&月別集計!H$2)","v":0},{"$f":"SUMIFS(入出金NFT結果!$D:$D,入出金NFT結果!$I:$I,\"=\"&月別集計!$B51,入出金NFT結果!$A:$A,\">=\"&月別集計!I$1,入出金NFT結果!$A:$A,\"<=\"&月別集計!I$2)","v":0},{"$f":"SUMIFS(入出金NFT結果!$D:$D,入出金NFT結果!$I:$I,\"=\"&月別集計!$B51,入出金NFT結果!$A:$A,\">=\"&月別集計!J$1,入出金NFT結果!$A:$A,\"<=\"&月別集計!J$2)","v":0},{"$f":"SUMIFS(入出金NFT結果!$D:$D,入出金NFT結果!$I:$I,\"=\"&月別集計!$B51,入出金NFT結果!$A:$A,\">=\"&月別集計!K$1,入出金NFT結果!$A:$A,\"<=\"&月別集計!K$2)","v":0},{"$f":"SUMIFS(入出金NFT結果!$D:$D,入出金NFT結果!$I:$I,\"=\"&月別集計!$B51,入出金NFT結果!$A:$A,\">=\"&月別集計!L$1,入出金NFT結果!$A:$A,\"<=\"&月別集計!L$2)","v":0},{"$f":"SUMIFS(入出金NFT結果!$D:$D,入出金NFT結果!$I:$I,\"=\"&月別集計!$B51,入出金NFT結果!$A:$A,\">=\"&月別集計!M$1,入出金NFT結果!$A:$A,\"<=\"&月別集計!M$2)","v":0},{"$f":"SUMIFS(入出金NFT結果!$D:$D,入出金NFT結果!$I:$I,\"=\"&月別集計!$B51,入出金NFT結果!$A:$A,\">=\"&月別集計!N$1,入出金NFT結果!$A:$A,\"<=\"&月別集計!N$2)","v":0},{"$f":"SUMIFS(入出金NFT結果!$D:$D,入出金NFT結果!$I:$I,\"=\"&月別集計!$B51,入出金NFT結果!$A:$A,\">=\"&月別集計!O$1,入出金NFT結果!$A:$A,\"<=\"&月別集計!O$2)","v":0},{"$f":"SUMIFS(入出金NFT結果!$D:$D,入出金NFT結果!$I:$I,\"=\"&月別集計!$B51,入出金NFT結果!$A:$A,\">=\"&月別集計!P$1,入出金NFT結果!$A:$A,\"<=\"&月別集計!P$2)","v":0},{"$f":"SUMIFS(入出金NFT結果!$D:$D,入出金NFT結果!$I:$I,\"=\"&月別集計!$B51,入出金NFT結果!$A:$A,\">=\"&月別集計!Q$1,入出金NFT結果!$A:$A,\"<=\"&月別集計!Q$2)","v":0},{"$f":"SUMIFS(入出金NFT結果!$D:$D,入出金NFT結果!$I:$I,\"=\"&月別集計!$B51,入出金NFT結果!$A:$A,\">=\"&月別集計!R$1,入出金NFT結果!$A:$A,\"<=\"&月別集計!R$2)","v":0},{"$f":"SUMIFS(入出金NFT結果!$D:$D,入出金NFT結果!$I:$I,\"=\"&月別集計!$B51,入出金NFT結果!$A:$A,\">=\"&月別集計!S$1,入出金NFT結果!$A:$A,\"<=\"&月別集計!S$2)","v":0},{"$f":"SUMIFS(入出金NFT結果!$D:$D,入出金NFT結果!$I:$I,\"=\"&月別集計!$B51,入出金NFT結果!$A:$A,\">=\"&月別集計!T$1,入出金NFT結果!$A:$A,\"<=\"&月別集計!T$2)","v":0},{"$f":"SUMIFS(入出金NFT結果!$D:$D,入出金NFT結果!$I:$I,\"=\"&月別集計!$B51,入出金NFT結果!$A:$A,\">=\"&月別集計!U$1,入出金NFT結果!$A:$A,\"<=\"&月別集計!U$2)","v":0},{"$f":"SUMIFS(入出金NFT結果!$D:$D,入出金NFT結果!$I:$I,\"=\"&月別集計!$B51,入出金NFT結果!$A:$A,\">=\"&月別集計!V$1,入出金NFT結果!$A:$A,\"<=\"&月別集計!V$2)","v":0},{"$f":"SUMIFS(入出金NFT結果!$D:$D,入出金NFT結果!$I:$I,\"=\"&月別集計!$B51,入出金NFT結果!$A:$A,\">=\"&月別集計!W$1,入出金NFT結果!$A:$A,\"<=\"&月別集計!W$2)","v":0},{"$f":"SUMIFS(入出金NFT結果!$D:$D,入出金NFT結果!$I:$I,\"=\"&月別集計!$B51,入出金NFT結果!$A:$A,\">=\"&月別集計!X$1,入出金NFT結果!$A:$A,\"<=\"&月別集計!X$2)","v":0},{"$f":"SUMIFS(入出金NFT結果!$D:$D,入出金NFT結果!$I:$I,\"=\"&月別集計!$B51,入出金NFT結果!$A:$A,\">=\"&月別集計!Y$1,入出金NFT結果!$A:$A,\"<=\"&月別集計!Y$2)","v":0},{"$f":"SUMIFS(入出金NFT結果!$D:$D,入出金NFT結果!$I:$I,\"=\"&月別集計!$B51,入出金NFT結果!$A:$A,\">=\"&月別集計!Z$1,入出金NFT結果!$A:$A,\"<=\"&月別集計!Z$2)","v":0},{"$f":"SUMIFS(入出金NFT結果!$D:$D,入出金NFT結果!$I:$I,\"=\"&月別集計!$B51,入出金NFT結果!$A:$A,\">=\"&月別集計!AA$1,入出金NFT結果!$A:$A,\"<=\"&月別集計!AA$2)","v":0},{"$f":"SUMIFS(入出金NFT結果!$D:$D,入出金NFT結果!$I:$I,\"=\"&月別集計!$B51,入出金NFT結果!$A:$A,\">=\"&月別集計!AB$1,入出金NFT結果!$A:$A,\"<=\"&月別集計!AB$2)","v":0},{"$f":"SUMIFS(入出金NFT結果!$D:$D,入出金NFT結果!$I:$I,\"=\"&月別集計!$B51,入出金NFT結果!$A:$A,\">=\"&月別集計!AC$1,入出金NFT結果!$A:$A,\"<=\"&月別集計!AC$2)","v":0},{"$f":"SUMIFS(入出金NFT結果!$D:$D,入出金NFT結果!$I:$I,\"=\"&月別集計!$B51,入出金NFT結果!$A:$A,\">=\"&月別集計!AD$1,入出金NFT結果!$A:$A,\"<=\"&月別集計!AD$2)","v":0},{"$f":"SUMIFS(入出金NFT結果!$D:$D,入出金NFT結果!$I:$I,\"=\"&月別集計!$B51,入出金NFT結果!$A:$A,\">=\"&月別集計!AE$1,入出金NFT結果!$A:$A,\"<=\"&月別集計!AE$2)","v":0},{"$f":"SUMIFS(入出金NFT結果!$D:$D,入出金NFT結果!$I:$I,\"=\"&月別集計!$B51,入出金NFT結果!$A:$A,\">=\"&月別集計!AF$1,入出金NFT結果!$A:$A,\"<=\"&月別集計!AF$2)","v":0},{"$f":"SUMIFS(入出金NFT結果!$D:$D,入出金NFT結果!$I:$I,\"=\"&月別集計!$B51,入出金NFT結果!$A:$A,\">=\"&月別集計!AG$1,入出金NFT結果!$A:$A,\"<=\"&月別集計!AG$2)","v":0},{"$f":"SUMIFS(入出金NFT結果!$D:$D,入出金NFT結果!$I:$I,\"=\"&月別集計!$B51,入出金NFT結果!$A:$A,\">=\"&月別集計!AH$1,入出金NFT結果!$A:$A,\"<=\"&月別集計!AH$2)","v":0},{"$f":"SUMIFS(入出金NFT結果!$D:$D,入出金NFT結果!$I:$I,\"=\"&月別集計!$B51,入出金NFT結果!$A:$A,\">=\"&月別集計!AI$1,入出金NFT結果!$A:$A,\"<=\"&月別集計!AI$2)","v":0},{"$f":"SUMIFS(入出金NFT結果!$D:$D,入出金NFT結果!$I:$I,\"=\"&月別集計!$B51,入出金NFT結果!$A:$A,\">=\"&月別集計!AJ$1,入出金NFT結果!$A:$A,\"<=\"&月別集計!AJ$2)","v":0},{"$f":"SUMIFS(入出金NFT結果!$D:$D,入出金NFT結果!$I:$I,\"=\"&月別集計!$B51,入出金NFT結果!$A:$A,\">=\"&月別集計!AK$1,入出金NFT結果!$A:$A,\"<=\"&月別集計!AK$2)","v":0},{"$f":"SUMIFS(入出金NFT結果!$D:$D,入出金NFT結果!$I:$I,\"=\"&月別集計!$B51,入出金NFT結果!$A:$A,\">=\"&月別集計!AL$1,入出金NFT結果!$A:$A,\"<=\"&月別集計!AL$2)","v":0},{"$f":"SUMIFS(入出金NFT結果!$D:$D,入出金NFT結果!$I:$I,\"=\"&月別集計!$B51,入出金NFT結果!$A:$A,\">=\"&月別集計!AM$1,入出金NFT結果!$A:$A,\"<=\"&月別集計!AM$2)","v":0},{"$f":"SUMIFS(入出金NFT結果!$D:$D,入出金NFT結果!$I:$I,\"=\"&月別集計!$B51,入出金NFT結果!$A:$A,\">=\"&月別集計!AN$1,入出金NFT結果!$A:$A,\"<=\"&月別集計!AN$2)","v":0},{"$f":"SUMIFS(入出金NFT結果!$D:$D,入出金NFT結果!$I:$I,\"=\"&月別集計!$B51,入出金NFT結果!$A:$A,\">=\"&月別集計!AO$1,入出金NFT結果!$A:$A,\"<=\"&月別集計!AO$2)","v":0},{"$f":"SUMIFS(入出金NFT結果!$D:$D,入出金NFT結果!$I:$I,\"=\"&月別集計!$B51,入出金NFT結果!$A:$A,\">=\"&月別集計!AP$1,入出金NFT結果!$A:$A,\"<=\"&月別集計!AP$2)","v":0},{"$f":"SUMIFS(入出金NFT結果!$D:$D,入出金NFT結果!$I:$I,\"=\"&月別集計!$B51,入出金NFT結果!$A:$A,\">=\"&月別集計!AQ$1,入出金NFT結果!$A:$A,\"<=\"&月別集計!AQ$2)","v":0},{"$f":"SUMIFS(入出金NFT結果!$D:$D,入出金NFT結果!$I:$I,\"=\"&月別集計!$B51,入出金NFT結果!$A:$A,\">=\"&月別集計!AR$1,入出金NFT結果!$A:$A,\"<=\"&月別集計!AR$2)","v":0},{"$f":"SUMIFS(入出金NFT結果!$D:$D,入出金NFT結果!$I:$I,\"=\"&月別集計!$B51,入出金NFT結果!$A:$A,\">=\"&月別集計!AS$1,入出金NFT結果!$A:$A,\"<=\"&月別集計!AS$2)","v":0},{"$f":"SUMIFS(入出金NFT結果!$D:$D,入出金NFT結果!$I:$I,\"=\"&月別集計!$B51,入出金NFT結果!$A:$A,\">=\"&月別集計!AT$1,入出金NFT結果!$A:$A,\"<=\"&月別集計!AT$2)","v":0},{"$f":"SUMIFS(入出金NFT結果!$D:$D,入出金NFT結果!$I:$I,\"=\"&月別集計!$B51,入出金NFT結果!$A:$A,\">=\"&月別集計!AU$1,入出金NFT結果!$A:$A,\"<=\"&月別集計!AU$2)","v":0},{"$f":"SUMIFS(入出金NFT結果!$D:$D,入出金NFT結果!$I:$I,\"=\"&月別集計!$B51,入出金NFT結果!$A:$A,\">=\"&月別集計!AV$1,入出金NFT結果!$A:$A,\"<=\"&月別集計!AV$2)","v":0},{"$f":"SUMIFS(入出金NFT結果!$D:$D,入出金NFT結果!$I:$I,\"=\"&月別集計!$B51,入出金NFT結果!$A:$A,\">=\"&月別集計!AW$1,入出金NFT結果!$A:$A,\"<=\"&月別集計!AW$2)","v":0},{"$f":"SUMIFS(入出金NFT結果!$D:$D,入出金NFT結果!$I:$I,\"=\"&月別集計!$B51,入出金NFT結果!$A:$A,\">=\"&月別集計!AX$1,入出金NFT結果!$A:$A,\"<=\"&月別集計!AX$2)","v":0},{"$f":"SUMIFS(入出金NFT結果!$D:$D,入出金NFT結果!$I:$I,\"=\"&月別集計!$B51,入出金NFT結果!$A:$A,\">=\"&月別集計!AY$1,入出金NFT結果!$A:$A,\"<=\"&月別集計!AY$2)","v":0},{"$f":"SUMIFS(入出金NFT結果!$D:$D,入出金NFT結果!$I:$I,\"=\"&月別集計!$B51,入出金NFT結果!$A:$A,\">=\"&月別集計!AZ$1,入出金NFT結果!$A:$A,\"<=\"&月別集計!AZ$2)","v":0},{"$f":"SUMIFS(入出金NFT結果!$D:$D,入出金NFT結果!$I:$I,\"=\"&月別集計!$B51,入出金NFT結果!$A:$A,\">=\"&月別集計!BA$1,入出金NFT結果!$A:$A,\"<=\"&月別集計!BA$2)","v":0},{"$f":"SUMIFS(入出金NFT結果!$D:$D,入出金NFT結果!$I:$I,\"=\"&月別集計!$B51,入出金NFT結果!$A:$A,\">=\"&月別集計!BB$1,入出金NFT結果!$A:$A,\"<=\"&月別集計!BB$2)","v":0},{"$f":"SUMIFS(入出金NFT結果!$D:$D,入出金NFT結果!$I:$I,\"=\"&月別集計!$B51,入出金NFT結果!$A:$A,\">=\"&月別集計!BC$1,入出金NFT結果!$A:$A,\"<=\"&月別集計!BC$2)","v":0},{"$f":"SUMIFS(入出金NFT結果!$D:$D,入出金NFT結果!$I:$I,\"=\"&月別集計!$B51,入出金NFT結果!$A:$A,\">=\"&月別集計!BD$1,入出金NFT結果!$A:$A,\"<=\"&月別集計!BD$2)","v":0},{"$f":"SUMIFS(入出金NFT結果!$D:$D,入出金NFT結果!$I:$I,\"=\"&月別集計!$B51,入出金NFT結果!$A:$A,\">=\"&月別集計!BE$1,入出金NFT結果!$A:$A,\"<=\"&月別集計!BE$2)","v":0},{"$f":"SUMIFS(入出金NFT結果!$D:$D,入出金NFT結果!$I:$I,\"=\"&月別集計!$B51,入出金NFT結果!$A:$A,\">=\"&月別集計!BF$1,入出金NFT結果!$A:$A,\"<=\"&月別集計!BF$2)","v":0},{"$f":"SUMIFS(入出金NFT結果!$D:$D,入出金NFT結果!$I:$I,\"=\"&月別集計!$B51,入出金NFT結果!$A:$A,\">=\"&月別集計!BG$1,入出金NFT結果!$A:$A,\"<=\"&月別集計!BG$2)","v":0},{"$f":"SUMIFS(入出金NFT結果!$D:$D,入出金NFT結果!$I:$I,\"=\"&月別集計!$B51,入出金NFT結果!$A:$A,\">=\"&月別集計!BH$1,入出金NFT結果!$A:$A,\"<=\"&月別集計!BH$2)","v":0},{"$f":"SUMIFS(入出金NFT結果!$D:$D,入出金NFT結果!$I:$I,\"=\"&月別集計!$B51,入出金NFT結果!$A:$A,\">=\"&月別集計!BI$1,入出金NFT結果!$A:$A,\"<=\"&月別集計!BI$2)","v":0},{"$f":"SUMIFS(入出金NFT結果!$D:$D,入出金NFT結果!$I:$I,\"=\"&月別集計!$B51,入出金NFT結果!$A:$A,\">=\"&月別集計!BJ$1,入出金NFT結果!$A:$A,\"<=\"&月別集計!BJ$2)","v":0},{"$f":"SUMIFS(入出金NFT結果!$D:$D,入出金NFT結果!$I:$I,\"=\"&月別集計!$B51,入出金NFT結果!$A:$A,\">=\"&月別集計!BK$1,入出金NFT結果!$A:$A,\"<=\"&月別集計!BK$2)","v":0},{"$f":"SUMIFS(入出金NFT結果!$D:$D,入出金NFT結果!$I:$I,\"=\"&月別集計!$B51,入出金NFT結果!$A:$A,\">=\"&月別集計!BL$1,入出金NFT結果!$A:$A,\"<=\"&月別集計!BL$2)","v":0},{"$f":"SUMIFS(入出金NFT結果!$D:$D,入出金NFT結果!$I:$I,\"=\"&月別集計!$B51,入出金NFT結果!$A:$A,\">=\"&月別集計!BM$1,入出金NFT結果!$A:$A,\"<=\"&月別集計!BM$2)","v":0}]
[null,{"$f":"推定用途置換ルール!P27","v":"送金による出金"},{"$f":"SUMIFS(入出金NFT結果!$D:$D,入出金NFT結果!$I:$I,\"=\"&月別集計!$B52,入出金NFT結果!$A:$A,\">=\"&月別集計!C$1,入出金NFT結果!$A:$A,\"<=\"&月別集計!C$2)","v":0},{"$f":"SUMIFS(入出金NFT結果!$D:$D,入出金NFT結果!$I:$I,\"=\"&月別集計!$B52,入出金NFT結果!$A:$A,\">=\"&月別集計!D$1,入出金NFT結果!$A:$A,\"<=\"&月別集計!D$2)","v":0},{"$f":"SUMIFS(入出金NFT結果!$D:$D,入出金NFT結果!$I:$I,\"=\"&月別集計!$B52,入出金NFT結果!$A:$A,\">=\"&月別集計!E$1,入出金NFT結果!$A:$A,\"<=\"&月別集計!E$2)","v":0},{"$f":"SUMIFS(入出金NFT結果!$D:$D,入出金NFT結果!$I:$I,\"=\"&月別集計!$B52,入出金NFT結果!$A:$A,\">=\"&月別集計!F$1,入出金NFT結果!$A:$A,\"<=\"&月別集計!F$2)","v":0},{"$f":"SUMIFS(入出金NFT結果!$D:$D,入出金NFT結果!$I:$I,\"=\"&月別集計!$B52,入出金NFT結果!$A:$A,\">=\"&月別集計!G$1,入出金NFT結果!$A:$A,\"<=\"&月別集計!G$2)","v":0},{"$f":"SUMIFS(入出金NFT結果!$D:$D,入出金NFT結果!$I:$I,\"=\"&月別集計!$B52,入出金NFT結果!$A:$A,\">=\"&月別集計!H$1,入出金NFT結果!$A:$A,\"<=\"&月別集計!H$2)","v":0},{"$f":"SUMIFS(入出金NFT結果!$D:$D,入出金NFT結果!$I:$I,\"=\"&月別集計!$B52,入出金NFT結果!$A:$A,\">=\"&月別集計!I$1,入出金NFT結果!$A:$A,\"<=\"&月別集計!I$2)","v":0},{"$f":"SUMIFS(入出金NFT結果!$D:$D,入出金NFT結果!$I:$I,\"=\"&月別集計!$B52,入出金NFT結果!$A:$A,\">=\"&月別集計!J$1,入出金NFT結果!$A:$A,\"<=\"&月別集計!J$2)","v":0},{"$f":"SUMIFS(入出金NFT結果!$D:$D,入出金NFT結果!$I:$I,\"=\"&月別集計!$B52,入出金NFT結果!$A:$A,\">=\"&月別集計!K$1,入出金NFT結果!$A:$A,\"<=\"&月別集計!K$2)","v":0},{"$f":"SUMIFS(入出金NFT結果!$D:$D,入出金NFT結果!$I:$I,\"=\"&月別集計!$B52,入出金NFT結果!$A:$A,\">=\"&月別集計!L$1,入出金NFT結果!$A:$A,\"<=\"&月別集計!L$2)","v":0},{"$f":"SUMIFS(入出金NFT結果!$D:$D,入出金NFT結果!$I:$I,\"=\"&月別集計!$B52,入出金NFT結果!$A:$A,\">=\"&月別集計!M$1,入出金NFT結果!$A:$A,\"<=\"&月別集計!M$2)","v":0},{"$f":"SUMIFS(入出金NFT結果!$D:$D,入出金NFT結果!$I:$I,\"=\"&月別集計!$B52,入出金NFT結果!$A:$A,\">=\"&月別集計!N$1,入出金NFT結果!$A:$A,\"<=\"&月別集計!N$2)","v":0},{"$f":"SUMIFS(入出金NFT結果!$D:$D,入出金NFT結果!$I:$I,\"=\"&月別集計!$B52,入出金NFT結果!$A:$A,\">=\"&月別集計!O$1,入出金NFT結果!$A:$A,\"<=\"&月別集計!O$2)","v":0},{"$f":"SUMIFS(入出金NFT結果!$D:$D,入出金NFT結果!$I:$I,\"=\"&月別集計!$B52,入出金NFT結果!$A:$A,\">=\"&月別集計!P$1,入出金NFT結果!$A:$A,\"<=\"&月別集計!P$2)","v":0},{"$f":"SUMIFS(入出金NFT結果!$D:$D,入出金NFT結果!$I:$I,\"=\"&月別集計!$B52,入出金NFT結果!$A:$A,\">=\"&月別集計!Q$1,入出金NFT結果!$A:$A,\"<=\"&月別集計!Q$2)","v":0},{"$f":"SUMIFS(入出金NFT結果!$D:$D,入出金NFT結果!$I:$I,\"=\"&月別集計!$B52,入出金NFT結果!$A:$A,\">=\"&月別集計!R$1,入出金NFT結果!$A:$A,\"<=\"&月別集計!R$2)","v":0},{"$f":"SUMIFS(入出金NFT結果!$D:$D,入出金NFT結果!$I:$I,\"=\"&月別集計!$B52,入出金NFT結果!$A:$A,\">=\"&月別集計!S$1,入出金NFT結果!$A:$A,\"<=\"&月別集計!S$2)","v":0},{"$f":"SUMIFS(入出金NFT結果!$D:$D,入出金NFT結果!$I:$I,\"=\"&月別集計!$B52,入出金NFT結果!$A:$A,\">=\"&月別集計!T$1,入出金NFT結果!$A:$A,\"<=\"&月別集計!T$2)","v":0},{"$f":"SUMIFS(入出金NFT結果!$D:$D,入出金NFT結果!$I:$I,\"=\"&月別集計!$B52,入出金NFT結果!$A:$A,\">=\"&月別集計!U$1,入出金NFT結果!$A:$A,\"<=\"&月別集計!U$2)","v":0},{"$f":"SUMIFS(入出金NFT結果!$D:$D,入出金NFT結果!$I:$I,\"=\"&月別集計!$B52,入出金NFT結果!$A:$A,\">=\"&月別集計!V$1,入出金NFT結果!$A:$A,\"<=\"&月別集計!V$2)","v":0},{"$f":"SUMIFS(入出金NFT結果!$D:$D,入出金NFT結果!$I:$I,\"=\"&月別集計!$B52,入出金NFT結果!$A:$A,\">=\"&月別集計!W$1,入出金NFT結果!$A:$A,\"<=\"&月別集計!W$2)","v":0},{"$f":"SUMIFS(入出金NFT結果!$D:$D,入出金NFT結果!$I:$I,\"=\"&月別集計!$B52,入出金NFT結果!$A:$A,\">=\"&月別集計!X$1,入出金NFT結果!$A:$A,\"<=\"&月別集計!X$2)","v":0},{"$f":"SUMIFS(入出金NFT結果!$D:$D,入出金NFT結果!$I:$I,\"=\"&月別集計!$B52,入出金NFT結果!$A:$A,\">=\"&月別集計!Y$1,入出金NFT結果!$A:$A,\"<=\"&月別集計!Y$2)","v":0},{"$f":"SUMIFS(入出金NFT結果!$D:$D,入出金NFT結果!$I:$I,\"=\"&月別集計!$B52,入出金NFT結果!$A:$A,\">=\"&月別集計!Z$1,入出金NFT結果!$A:$A,\"<=\"&月別集計!Z$2)","v":0},{"$f":"SUMIFS(入出金NFT結果!$D:$D,入出金NFT結果!$I:$I,\"=\"&月別集計!$B52,入出金NFT結果!$A:$A,\">=\"&月別集計!AA$1,入出金NFT結果!$A:$A,\"<=\"&月別集計!AA$2)","v":0},{"$f":"SUMIFS(入出金NFT結果!$D:$D,入出金NFT結果!$I:$I,\"=\"&月別集計!$B52,入出金NFT結果!$A:$A,\">=\"&月別集計!AB$1,入出金NFT結果!$A:$A,\"<=\"&月別集計!AB$2)","v":0},{"$f":"SUMIFS(入出金NFT結果!$D:$D,入出金NFT結果!$I:$I,\"=\"&月別集計!$B52,入出金NFT結果!$A:$A,\">=\"&月別集計!AC$1,入出金NFT結果!$A:$A,\"<=\"&月別集計!AC$2)","v":0},{"$f":"SUMIFS(入出金NFT結果!$D:$D,入出金NFT結果!$I:$I,\"=\"&月別集計!$B52,入出金NFT結果!$A:$A,\">=\"&月別集計!AD$1,入出金NFT結果!$A:$A,\"<=\"&月別集計!AD$2)","v":0},{"$f":"SUMIFS(入出金NFT結果!$D:$D,入出金NFT結果!$I:$I,\"=\"&月別集計!$B52,入出金NFT結果!$A:$A,\">=\"&月別集計!AE$1,入出金NFT結果!$A:$A,\"<=\"&月別集計!AE$2)","v":0},{"$f":"SUMIFS(入出金NFT結果!$D:$D,入出金NFT結果!$I:$I,\"=\"&月別集計!$B52,入出金NFT結果!$A:$A,\">=\"&月別集計!AF$1,入出金NFT結果!$A:$A,\"<=\"&月別集計!AF$2)","v":0},{"$f":"SUMIFS(入出金NFT結果!$D:$D,入出金NFT結果!$I:$I,\"=\"&月別集計!$B52,入出金NFT結果!$A:$A,\">=\"&月別集計!AG$1,入出金NFT結果!$A:$A,\"<=\"&月別集計!AG$2)","v":0},{"$f":"SUMIFS(入出金NFT結果!$D:$D,入出金NFT結果!$I:$I,\"=\"&月別集計!$B52,入出金NFT結果!$A:$A,\">=\"&月別集計!AH$1,入出金NFT結果!$A:$A,\"<=\"&月別集計!AH$2)","v":0},{"$f":"SUMIFS(入出金NFT結果!$D:$D,入出金NFT結果!$I:$I,\"=\"&月別集計!$B52,入出金NFT結果!$A:$A,\">=\"&月別集計!AI$1,入出金NFT結果!$A:$A,\"<=\"&月別集計!AI$2)","v":0},{"$f":"SUMIFS(入出金NFT結果!$D:$D,入出金NFT結果!$I:$I,\"=\"&月別集計!$B52,入出金NFT結果!$A:$A,\">=\"&月別集計!AJ$1,入出金NFT結果!$A:$A,\"<=\"&月別集計!AJ$2)","v":0},{"$f":"SUMIFS(入出金NFT結果!$D:$D,入出金NFT結果!$I:$I,\"=\"&月別集計!$B52,入出金NFT結果!$A:$A,\">=\"&月別集計!AK$1,入出金NFT結果!$A:$A,\"<=\"&月別集計!AK$2)","v":0},{"$f":"SUMIFS(入出金NFT結果!$D:$D,入出金NFT結果!$I:$I,\"=\"&月別集計!$B52,入出金NFT結果!$A:$A,\">=\"&月別集計!AL$1,入出金NFT結果!$A:$A,\"<=\"&月別集計!AL$2)","v":0},{"$f":"SUMIFS(入出金NFT結果!$D:$D,入出金NFT結果!$I:$I,\"=\"&月別集計!$B52,入出金NFT結果!$A:$A,\">=\"&月別集計!AM$1,入出金NFT結果!$A:$A,\"<=\"&月別集計!AM$2)","v":0},{"$f":"SUMIFS(入出金NFT結果!$D:$D,入出金NFT結果!$I:$I,\"=\"&月別集計!$B52,入出金NFT結果!$A:$A,\">=\"&月別集計!AN$1,入出金NFT結果!$A:$A,\"<=\"&月別集計!AN$2)","v":0},{"$f":"SUMIFS(入出金NFT結果!$D:$D,入出金NFT結果!$I:$I,\"=\"&月別集計!$B52,入出金NFT結果!$A:$A,\">=\"&月別集計!AO$1,入出金NFT結果!$A:$A,\"<=\"&月別集計!AO$2)","v":0},{"$f":"SUMIFS(入出金NFT結果!$D:$D,入出金NFT結果!$I:$I,\"=\"&月別集計!$B52,入出金NFT結果!$A:$A,\">=\"&月別集計!AP$1,入出金NFT結果!$A:$A,\"<=\"&月別集計!AP$2)","v":0},{"$f":"SUMIFS(入出金NFT結果!$D:$D,入出金NFT結果!$I:$I,\"=\"&月別集計!$B52,入出金NFT結果!$A:$A,\">=\"&月別集計!AQ$1,入出金NFT結果!$A:$A,\"<=\"&月別集計!AQ$2)","v":0},{"$f":"SUMIFS(入出金NFT結果!$D:$D,入出金NFT結果!$I:$I,\"=\"&月別集計!$B52,入出金NFT結果!$A:$A,\">=\"&月別集計!AR$1,入出金NFT結果!$A:$A,\"<=\"&月別集計!AR$2)","v":0},{"$f":"SUMIFS(入出金NFT結果!$D:$D,入出金NFT結果!$I:$I,\"=\"&月別集計!$B52,入出金NFT結果!$A:$A,\">=\"&月別集計!AS$1,入出金NFT結果!$A:$A,\"<=\"&月別集計!AS$2)","v":0},{"$f":"SUMIFS(入出金NFT結果!$D:$D,入出金NFT結果!$I:$I,\"=\"&月別集計!$B52,入出金NFT結果!$A:$A,\">=\"&月別集計!AT$1,入出金NFT結果!$A:$A,\"<=\"&月別集計!AT$2)","v":0},{"$f":"SUMIFS(入出金NFT結果!$D:$D,入出金NFT結果!$I:$I,\"=\"&月別集計!$B52,入出金NFT結果!$A:$A,\">=\"&月別集計!AU$1,入出金NFT結果!$A:$A,\"<=\"&月別集計!AU$2)","v":0},{"$f":"SUMIFS(入出金NFT結果!$D:$D,入出金NFT結果!$I:$I,\"=\"&月別集計!$B52,入出金NFT結果!$A:$A,\">=\"&月別集計!AV$1,入出金NFT結果!$A:$A,\"<=\"&月別集計!AV$2)","v":0},{"$f":"SUMIFS(入出金NFT結果!$D:$D,入出金NFT結果!$I:$I,\"=\"&月別集計!$B52,入出金NFT結果!$A:$A,\">=\"&月別集計!AW$1,入出金NFT結果!$A:$A,\"<=\"&月別集計!AW$2)","v":0},{"$f":"SUMIFS(入出金NFT結果!$D:$D,入出金NFT結果!$I:$I,\"=\"&月別集計!$B52,入出金NFT結果!$A:$A,\">=\"&月別集計!AX$1,入出金NFT結果!$A:$A,\"<=\"&月別集計!AX$2)","v":0},{"$f":"SUMIFS(入出金NFT結果!$D:$D,入出金NFT結果!$I:$I,\"=\"&月別集計!$B52,入出金NFT結果!$A:$A,\">=\"&月別集計!AY$1,入出金NFT結果!$A:$A,\"<=\"&月別集計!AY$2)","v":0},{"$f":"SUMIFS(入出金NFT結果!$D:$D,入出金NFT結果!$I:$I,\"=\"&月別集計!$B52,入出金NFT結果!$A:$A,\">=\"&月別集計!AZ$1,入出金NFT結果!$A:$A,\"<=\"&月別集計!AZ$2)","v":0},{"$f":"SUMIFS(入出金NFT結果!$D:$D,入出金NFT結果!$I:$I,\"=\"&月別集計!$B52,入出金NFT結果!$A:$A,\">=\"&月別集計!BA$1,入出金NFT結果!$A:$A,\"<=\"&月別集計!BA$2)","v":0},{"$f":"SUMIFS(入出金NFT結果!$D:$D,入出金NFT結果!$I:$I,\"=\"&月別集計!$B52,入出金NFT結果!$A:$A,\">=\"&月別集計!BB$1,入出金NFT結果!$A:$A,\"<=\"&月別集計!BB$2)","v":0},{"$f":"SUMIFS(入出金NFT結果!$D:$D,入出金NFT結果!$I:$I,\"=\"&月別集計!$B52,入出金NFT結果!$A:$A,\">=\"&月別集計!BC$1,入出金NFT結果!$A:$A,\"<=\"&月別集計!BC$2)","v":0},{"$f":"SUMIFS(入出金NFT結果!$D:$D,入出金NFT結果!$I:$I,\"=\"&月別集計!$B52,入出金NFT結果!$A:$A,\">=\"&月別集計!BD$1,入出金NFT結果!$A:$A,\"<=\"&月別集計!BD$2)","v":0},{"$f":"SUMIFS(入出金NFT結果!$D:$D,入出金NFT結果!$I:$I,\"=\"&月別集計!$B52,入出金NFT結果!$A:$A,\">=\"&月別集計!BE$1,入出金NFT結果!$A:$A,\"<=\"&月別集計!BE$2)","v":0},{"$f":"SUMIFS(入出金NFT結果!$D:$D,入出金NFT結果!$I:$I,\"=\"&月別集計!$B52,入出金NFT結果!$A:$A,\">=\"&月別集計!BF$1,入出金NFT結果!$A:$A,\"<=\"&月別集計!BF$2)","v":0},{"$f":"SUMIFS(入出金NFT結果!$D:$D,入出金NFT結果!$I:$I,\"=\"&月別集計!$B52,入出金NFT結果!$A:$A,\">=\"&月別集計!BG$1,入出金NFT結果!$A:$A,\"<=\"&月別集計!BG$2)","v":0},{"$f":"SUMIFS(入出金NFT結果!$D:$D,入出金NFT結果!$I:$I,\"=\"&月別集計!$B52,入出金NFT結果!$A:$A,\">=\"&月別集計!BH$1,入出金NFT結果!$A:$A,\"<=\"&月別集計!BH$2)","v":0},{"$f":"SUMIFS(入出金NFT結果!$D:$D,入出金NFT結果!$I:$I,\"=\"&月別集計!$B52,入出金NFT結果!$A:$A,\">=\"&月別集計!BI$1,入出金NFT結果!$A:$A,\"<=\"&月別集計!BI$2)","v":0},{"$f":"SUMIFS(入出金NFT結果!$D:$D,入出金NFT結果!$I:$I,\"=\"&月別集計!$B52,入出金NFT結果!$A:$A,\">=\"&月別集計!BJ$1,入出金NFT結果!$A:$A,\"<=\"&月別集計!BJ$2)","v":0},{"$f":"SUMIFS(入出金NFT結果!$D:$D,入出金NFT結果!$I:$I,\"=\"&月別集計!$B52,入出金NFT結果!$A:$A,\">=\"&月別集計!BK$1,入出金NFT結果!$A:$A,\"<=\"&月別集計!BK$2)","v":0},{"$f":"SUMIFS(入出金NFT結果!$D:$D,入出金NFT結果!$I:$I,\"=\"&月別集計!$B52,入出金NFT結果!$A:$A,\">=\"&月別集計!BL$1,入出金NFT結果!$A:$A,\"<=\"&月別集計!BL$2)","v":0},{"$f":"SUMIFS(入出金NFT結果!$D:$D,入出金NFT結果!$I:$I,\"=\"&月別集計!$B52,入出金NFT結果!$A:$A,\">=\"&月別集計!BM$1,入出金NFT結果!$A:$A,\"<=\"&月別集計!BM$2)","v":0}]
[]
[]
[null,null,"↑不要な列は非表示にでもしてください。"]
[null,null,"C1の日付を変えてもOK"]

{"sheet":"入出金履歴入力","index":5,"n_rows":200001,"n_cols":2,"rows_kept":4500,"cut":true,"hidden":false,"merged":[],"bounds":{"rows_first":2000,"rows_last":500,"rows_between":2000,"halvings":0}}
[null,1]
[]
[]
[]
[]
[]
[]
[]
[]
[]
[]
[]
[]
[]
[]
[]
[]
[]
[]
[]
[]
[]
[]
[]
[]
[]
[]
[]
[]
[]
[]
[]
[]
[]
[]
[]
[]
[]
[]
[]
[]
[]
[]
[]
[]
[]
[]
[]
[]
[]
[]
[]
[]
[]
[]
[]
[]
[]
[]
[]
[]
[]
[]
[]
[]
[]
[]
[]
[]
[]
[]
[]
[]
[]
[]
[]
[]
[]
[]
[]
[]
[]
[]
[]
[]
[]
[]
[]
[]
[]
[]
[]
[]
[]
[]
[]
[]
[]
[]
[]
[]
[]
[]
[]
[]
[]
[]
[]
[]
[]
[]
[]
[]
[]
[]
[]
[]
[]
[]
[]
[]
[]
[]
[]
[]
[]
[]
[]
[]
[]
[]
[]
[]
[]
[]
[]
[]
[]
[]
[]
[]
[]
[]
[]
[]
[]
[]
[]
[]
[]
[]
[]
[]
[]
[]
[]
[]
[]
[]
[]
[]
[]
[]
[]
[]
[]
[]
[]
[]
[]
[]
[]
[]
[]
[]
[]
[]
[]
[]
[]
[]
[]
[]
[]
[]
[]
[]
[]
[]
[]
[]
[]
[]
[]
[]
[]
[]
[]
[]
[]
[null,2]
[]
[]
[]
[]
[]
[]
[]
[]
[]
[]
[]
[]
[]
[]
[]
[]
[]
[]
[]
[]
[]
[]
[]
[]
[]
[]
[]
[]
[]
[]
[]
[]
[]
[]
[]
[]
[]
[]
[]
[]
[]
[]
[]
[]
[]
[]
[]
[]
[]
[]
[]
[]
[]
[]
[]
[]
[]
[]
[]
[]
[]
[]
[]
[]
[]
[]
[]
[]
[]
[]
[]
[]
[]
[]
[]
[]
[]
[]
[]
[]
[]
[]
[]
[]
[]
[]
[]
[]
[]
[]
[]
[]
[]
[]
[]
[]
[]
[]
[]
[]
[]
[]
[]
[]
[]
[]
[]
[]
[]
[]
[]
[]
[]
[]
[]
[]
[]
[]
[]
[]
[]
[]
[]
[]
[]
[]
[]
[]
[]
[]
[]
[]
[]
[]
[]
[]
[]
[]
[]
[]
[]
[]
[]
[]
[]
[]
[]
[]
[]
[]
[]
[]
[]
[]
[]
[]
[]
[]
[]
[]
[]
[]
[]
[]
[]
[]
[]
[]
[]
[]
[]
[]
[]
[]
[]
[]
[]
[]
[]
[]
[]
[]
[]
[]
[]
[]
[]
[]
[]
[]
[]
[]
[]
[]
[]
[]
[]
[]
[]
[null,3]
[]
[]
[]
[]
[]
[]
[]
[]
[]
[]
[]
[]
[]
[]
[]
[]
[]
[]
[]
[]
[]
[]
[]
[]
[]
[]
[]
[]
[]
[]
[]
[]
[]
[]
[]
[]
[]
[]
[]
[]
[]
[]
[]
[]
[]
[]
[]
[]
[]
[]
[]
[]
[]
[]
[]
[]
[]
[]
[]
[]
[]
[]
[]
[]
[]
[]
[]
[]
[]
[]
[]
[]
[]
[]
[]
[]
[]
[]
[]
[]
[]
[]
[]
[]
[]
[]
[]
[]
[]
[]
[]
[]
[]
[]
[]
[]
[]
[]
[]
[]
[]
[]
[]
[]
[]
[]
[]
[]
[]
[]
[]
[]
[]
[]
[]
[]
[]
[]
[]
[]
[]
[]
[]
[]
[]
[]
[]
[]
[]
[]
[]
[]
[]
[]
[]
[]
[]
[]
[]
[]
[]
[]
[]
[]
[]
[]
[]
[]
[]
[]
[]
[]
[]
[]
[]
[]
[]
[]
[]
[]
[]
[]
[]
[]
[]
[]
[]
[]
[]
[]
[]
[]
[]
[]
[]
[]
[]
[]
[]
[]
[]
[]
[]
[]
[]
[]
[]
[]
[]
[]
[]
[]
[]
[]
[]
[]
[]
[]
[]
[null,4]
[]
[]
[]
[]
[]
[]
[]
[]
[]
[]
[]
[]
[]
[]
[]
[]
[]
[]
[]
[]
[]
[]
[]
[]
[]
[]
[]
[]
[]
[]
[]
[]
[]
[]
[]
[]
[]
[]
[]
[]
[]
[]
[]
[]
[]
[]
[]
[]
[]
[]
[]
[]
[]
[]
[]
[]
[]
[]
[]
[]
[]
[]
[]
[]
[]
[]
[]
[]
[]
[]
[]
[]
[]
[]
[]
[]
[]
[]
[]
[]
[]
[]
[]
[]
[]
[]
[]
[]
[]
[]
[]
[]
[]
[]
[]
[]
[]
[]
[]
[]
[]
[]
[]
[]
[]
[]
[]
[]
[]
[]
[]
[]
[]
[]
[]
[]
[]
[]
[]
[]
[]
[]
[]
[]
[]
[]
[]
[]
[]
[]
[]
[]
[]
[]
[]
[]
[]
[]
[]
[]
[]
[]
[]
[]
[]
[]
[]
[]
[]
[]
[]
[]
[]
[]
[]
[]
[]
[]
[]
[]
[]
[]
[]
[]
[]
[]
[]
[]
[]
[]
[]
[]
[]
[]
[]
[]
[]
[]
[]
[]
[]
[]
[]
[]
[]
[]
[]
[]
[]
[]
[]
[]
[]
[]
[]
[]
[]
[]
[]
[null,5]
[]
[]
[]
[]
[]
[]
[]
[]
[]
[]
[]
[]
[]
[]
[]
[]
[]
[]
[]
[]
[]
[]
[]
[]
[]
[]
[]
[]
[]
[]
[]
[]
[]
[]
[]
[]
[]
[]
[]
[]
[]
[]
[]
[]
[]
[]
[]
[]
[]
[]
[]
[]
[]
[]
[]
[]
[]
[]
[]
[]
[]
[]
[]
[]
[]
[]
[]
[]
[]
[]
[]
[]
[]
[]
[]
[]
[]
[]
[]
[]
[]
[]
[]
[]
[]
[]
[]
[]
[]
[]
[]
[]
[]
[]
[]
[]
[]
[]
[]
[]
[]
[]
[]
[]
[]
[]
[]
[]
[]
[]
[]
[]
[]
[]
[]
[]
[]
[]
[]
[]
[]
[]
[]
[]
[]
[]
[]
[]
[]
[]
[]
[]
[]
[]
[]
[]
[]
[]
[]
[]
[]
[]
[]
[]
[]
[]
[]
[]
[]
[]
[]
[]
[]
[]
[]
[]
[]
[]
[]
[]
[]
[]
[]
[]
[]
[]
[]
[]
[]
[]
[]
[]
[]
[]
[]
[]
[]
[]
[]
[]
[]
[]
[]
[]
[]
[]
[]
[]
[]
[]
[]
[]
[]
[]
[]
[]
[]
[]
[]
[null,6]
[]
[]
[]
[]
[]
[]
[]
[]
[]
[]
[]
[]
[]
[]
[]
[]
[]
[]
[]
[]
[]
[]
[]
[]
[]
[]
[]
[]
[]
[]
[]
[]
[]
[]
[]
[]
[]
[]
[]
[]
[]
[]
[]
[]
[]
[]
[]
[]
[]
[]
[]
[]
[]
[]
[]
[]
[]
[]
[]
[]
[]
[]
[]
[]
[]
[]
[]
[]
[]
[]
[]
[]
[]
[]
[]
[]
[]
[]
[]
[]
[]
[]
[]
[]
[]
[]
[]
[]
[]
[]
[]
[]
[]
[]
[]
[]
[]
[]
[]
[]
[]
[]
[]
[]
[]
[]
[]
[]
[]
[]
[]
[]
[]
[]
[]
[]
[]
[]
[]
[]
[]
[]
[]
[]
[]
[]
[]
[]
[]
[]
[]
[]
[]
[]
[]
[]
[]
[]
[]
[]
[]
[]
[]
[]
[]
[]
[]
[]
[]
[]
[]
[]
[]
[]
[]
[]
[]
[]
[]
[]
[]
[]
[]
[]
[]
[]
[]
[]
[]
[]
[]
[]
[]
[]
[]
[]
[]
[]
[]
[]
[]
[]
[]
[]
[]
[]
[]
[]
[]
[]
[]
[]
[]
[]
[]
[]
[]
[]
[]
[null,7]
[]
[]
[]
[]
[]
[]
[]
[]
[]
[]
[]
[]
[]
[]
[]
[]
[]
[]
[]
[]
[]
[]
[]
[]
[]
[]
[]
[]
[]
[]
[]
[]
[]
[]
[]
[]
[]
[]
[]
[]
[]
[]
[]
[]
[]
[]
[]
[]
[]
[]
[]
[]
[]
[]
[]
[]
[]
[]
[]
[]
[]
[]
[]
[]
[]
[]
[]
[]
[]
[]
[]
[]
[]
[]
[]
[]
[]
[]
[]
[]
[]
[]
[]
[]
[]
[]
[]
[]
[]
[]
[]
[]
[]
[]
[]
[]
[]
[]
[]
[]
[]
[]
[]
[]
[]
[]
[]
[]
[]
[]
[]
[]
[]
[]
[]
[]
[]
[]
[]
[]
[]
[]
[]
[]
[]
[]
[]
[]
[]
[]
[]
[]
[]
[]
[]
[]
[]
[]
[]
[]
[]
[]
[]
[]
[]
[]
[]
[]
[]
[]
[]
[]
[]
[]
[]
[]
[]
[]
[]
[]
[]
[]
[]
[]
[]
[]
[]
[]
[]
[]
[]
[]
[]
[]
[]
[]
[]
[]
[]
[]
[]
[]
[]
[]
[]
[]
[]
[]
[]
[]
[]
[]
[]
[]
[]
[]
[]
[]
[]
[null,8]
[]
[]
[]
[]
[]
[]
[]
[]
[]
[]
[]
[]
[]
[]
[]
[]
[]
[]
[]
[]
[]
[]
[]
[]
[]
[]
[]
[]
[]
[]
[]
[]
[]
[]
[]
[]
[]
[]
[]
[]
[]
[]
[]
[]
[]
[]
[]
[]
[]
[]
[]
[]
[]
[]
[]
[]
[]
[]
[]
[]
[]
[]
[]
[]
[]
[]
[]
[]
[]
[]
[]
[]
[]
[]
[]
[]
[]
[]
[]
[]
[]
[]
[]
[]
[]
[]
[]
[]
[]
[]
[]
[]
[]
[]
[]
[]
[]
[]
[]
[]
[]
[]
[]
[]
[]
[]
[]
[]
[]
[]
[]
[]
[]
[]
[]
[]
[]
[]
[]
[]
[]
[]
[]
[]
[]
[]
[]
[]
[]
[]
[]
[]
[]
[]
[]
[]
[]
[]
[]
[]
[]
[]
[]
[]
[]
[]
[]
[]
[]
[]
[]
[]
[]
[]
[]
[]
[]
[]
[]
[]
[]
[]
[]
[]
[]
[]
[]
[]
[]
[]
[]
[]
[]
[]
[]
[]
[]
[]
[]
[]
[]
[]
[]
[]
[]
[]
[]
[]
[]
[]
[]
[]
[]
[]
[]
[]
[]
[]
[]
[null,9]
[]
[]
[]
[]
[]
[]
[]
[]
[]
[]
[]
[]
[]
[]
[]
[]
[]
[]
[]
[]
[]
[]
[]
[]
[]
[]
[]
[]
[]
[]
[]
[]
[]
[]
[]
[]
[]
[]
[]
[]
[]
[]
[]
[]
[]
[]
[]
[]
[]
[]
[]
[]
[]
[]
[]
[]
[]
[]
[]
[]
[]
[]
[]
[]
[]
[]
[]
[]
[]
[]
[]
[]
[]
[]
[]
[]
[]
[]
[]
[]
[]
[]
[]
[]
[]
[]
[]
[]
[]
[]
[]
[]
[]
[]
[]
[]
[]
[]
[]
[]
[]
[]
[]
[]
[]
[]
[]
[]
[]
[]
[]
[]
[]
[]
[]
[]
[]
[]
[]
[]
[]
[]
[]
[]
[]
[]
[]
[]
[]
[]
[]
[]
[]
[]
[]
[]
[]
[]
[]
[]
[]
[]
[]
[]
[]
[]
[]
[]
[]
[]
[]
[]
[]
[]
[]
[]
[]
[]
[]
[]
[]
[]
[]
[]
[]
[]
[]
[]
[]
[]
[]
[]
[]
[]
[]
[]
[]
[]
[]
[]
[]
[]
[]
[]
[]
[]
[]
[]
[]
[]
[]
[]
[]
[]
[]
[]
[]
[]
[]
[null,10]
[]
[]
[]
[]
[]
[]
[]
[]
[]
[]
[]
[]
[]
[]
[]
[]
[]
[]
[]
[]
[]
[]
[]
[]
[]
[]
[]
[]
[]
[]
[]
[]
[]
[]
[]
[]
[]
[]
[]
[]
[]
[]
[]
[]
[]
[]
[]
[]
[]
[]
[]
[]
[]
[]
[]
[]
[]
[]
[]
[]
[]
[]
[]
[]
[]
[]
[]
[]
[]
[]
[]
[]
[]
[]
[]
[]
[]
[]
[]
[]
[]
[]
[]
[]
[]
[]
[]
[]
[]
[]
[]
[]
[]
[]
[]
[]
[]
[]
[]
[]
[]
[]
[]
[]
[]
[]
[]
[]
[]
[]
[]
[]
[]
[]
[]
[]
[]
[]
[]
[]
[]
[]
[]
[]
[]
[]
[]
[]
[]
[]
[]
[]
[]
[]
[]
[]
[]
[]
[]
[]
[]
[]
[]
[]
[]
[]
[]
[]
[]
[]
[]
[]
[]
[]
[]
[]
[]
[]
[]
[]
[]
[]
[]
[]
[]
[]
[]
[]
[]
[]
[]
[]
[]
[]
[]
[]
[]
[]
[]
[]
[]
[]
[]
[]
[]
[]
[]
[]
[]
[]
[]
[]
[]
[]
[]
[]
[]
[]
[]
[]
[]
[]
[]
[]
[]
[]
[]
[]
[]
[]
[]
[]
[]
[]
[]
[]
[]
[]
[]
[]
[]
[]
[]
[]
[]
[]
[]
[]
[]
[]
[]
[]
[]
[]
[]
[]
[]
[]
[]
[]
[]
[]
[]
[]
[]
[]
[]
[]
[]
[]
[]
[]
[]
[]
[]
[]
[]
[]
[]
[]
[]
[]
[]
[]
[]
[]
[]
[]
[]
[]
[]
[]
[]
[]
[]
[]
[]
[]
[]
[]
[]
[]
[]
[]
[]
[]
[]
[]
[]
[]
[]
[]
[]
[]
[]
[]
[]
[]
[]
[]
[]
[]
[]
[]
[]
[]
[]
[]
[]
[]
[]
[]
[]
[]
[]
[]
[]
[]
[]
[]
[]
[]
[]
[]
[]
[]
[]
[]
[]
[]
[]
[]
[]
[]
[]
[]
[]
[]
[]
[]
[]
[]
[]
[]
[]
[]
[]
[]
[]
[]
[]
[]
[]
[]
[]
[]
[]
[]
[]
[]
[]
[]
[]
[]
[]
[]
[]
[]
[]
[]
[]
[]
[]
[]
[]
[]
[]
[]
[]
[]
[]
[]
[]
[]
[]
[]
[]
[]
[]
[]
[]
[]
[]
[]
[]
[]
[]
[]
[]
[]
[]
[]
[]
[]
[]
[]
[]
[]
[]
[]
[]
[]
[]
[]
[]
[]
[]
[]
[]
[]
[]
[]
[]
[]
[]
[]
[]
[]
[]
[]
[]
[]
[]
[]
[]
[]
[]
[]
[]
[]
[]
[]
[]
[]
[]
[]
[]
[]
[]
[]
[]
[]
[]
[]
[]
[]
[]
[]
[]
[]
[]
[]
[]
[]
[]
[]
[]
[]
[]
[]
[]
[]
[]
[]
[]
[]
[]
[]
[]
[]
[]
[]
[]
[]
[]
[]
[]
[]
[]
[]
[]
[]
[]
[]
[]
[]
[]
[]
[]
[]
[]
[]
[]
[]
[]
[]
[]
[]
[]
[]
[]
[]
[]
[]
[]
[]
[]
[]
[]
[]
[]
[]
[]
[]
[]
[]
[]
[]
[]
[]
[]
[]
[]
[]
[]
[]
[]
[]
[]
[]
[]
[]
[]
[]
[]
[]
[]
[]
[]
[]
[]
[]
[]
[]
[]
[]
[]
[]
[]
[]
[]
[]
[]
[]
[]
[]
[]
[]
[]
[]
[]
[]
[]
[]
[]
[]
[]
[]
[]
[]
[]
[]
[]
[]
[]
[]
[]
[]
[]
[]
[]
[]
[]
[]
[]
[]
[]
[]
[]
[]
[]
[]
[]
[]
[]
[]
[]
[]
[]
[]
[]
[]
[]
[]
[]
[]
[]
[]
[]
[]
[]
[]
[]
[]
[]
[]
[]
[]
[]
[]
[]
[]
[]
[]
[]
[]
[]
[]
[]
[]
[]
[]
[]
[]
[]
[]
[]
[]
[]
[]
[]
[]
[]
[]
[]
[]
[]
[]
[]
[]
[]
[]
[]
[]
[]
[]
[]
[]
[]
[]
[]
[]
[]
[]
[]
[]
[]
[]
[]
[]
[]
[]
[]
[]
[]
[]
[]
[]
[]
[]
[]
[]
[]
[]
[]
[]
[]
[]
[]
[]
[]
[]
[]
[]
[]
[]
[]
[]
[]
[]
[]
[]
[]
[]
[]
[]
[]
[]
[]
[]
[]
[]
[]
[]
[]
[]
[]
[]
[]
[]
[]
[]
[]
[]
[]
[]
[]
[]
[]
[]
[]
[]
[]
[]
[]
[]
[]
[]
[]
[null,283]
[]
[]
[]
[]
[]
[]
[]
[]
[]
[]
[]
[]
[]
[]
[]
[]
[]
[]
[]
[]
[]
[]
[]
[]
[]
[]
[]
[]
[]
[]
[]
[]
[]
[]
[]
[]
[]
[]
[]
[]
[]
[]
[]
[]
[]
[]
[]
[]
[]
[]
[]
[]
[]
[]
[]
[]
[]
[]
[]
[]
[]
[]
[]
[]
[]
[]
[]
[]
[]
[]
[]
[]
[]
[]
[]
[]
[]
[]
[]
[]
[]
[]
[]
[]
[]
[]
[]
[]
[]
[]
[]
[]
[]
[]
[]
[]
[]
[]
[]
[]
[]
[]
[]
[]
[]
[]
[]
[]
[]
[]
[]
[]
[]
[]
[]
[]
[]
[]
[]
[]
[]
[]
[]
[]
[]
[]
[]
[]
[]
[]
[]
[]
[]
[]
[]
[]
[]
[]
[]
[]
[]
[]
[]
[]
[]
[]
[]
[]
[]
[]
[]
[]
[]
[]
[]
[]
[]
[]
[]
[]
[]
[]
[]
[]
[]
[]
[]
[]
[]
[]
[]
[]
[]
[]
[]
[]
[]
[]
[]
[]
[]
[]
[]
[]
[]
[]
[]
[]
[]
[]
[null,377]
[]
[]
[]
[]
[]
[]
[]
[]
[]
[]
[]
[]
[]
[]
[]
[]
[]
[]
[]
[]
[]
[]
[]
[]
[]
[]
[]
[]
[]
[]
[]
[]
[]
[]
[]
[]
[]
[]
[]
[]
[]
[]
[]
[]
[]
[]
[]
[]
[]
[]
[]
[]
[]
[]
[]
[]
[]
[]
[]
[]
[]
[]
[]
[]
[]
[]
[]
[]
[]
[]
[]
[]
[]
[]
[]
[]
[]
[]
[]
[]
[]
[]
[]
[]
[]
[]
[]
[]
[]
[]
[]
[]
[]
[]
[]
[]
[]
[]
[]
[]
[]
[]
[]
[]
[]
[]
[]
[]
[]
[]
[]
[]
[]
[]
[]
[]
[]
[]
[]
[]
[]
[]
[]
[]
[]
[]
[]
[]
[]
[]
[]
[]
[]
[]
[]
[]
[]
[]
[]
[]
[]
[]
[]
[]
[]
[]
[]
[]
[]
[]
[]
[]
[]
[]
[]
[]
[]
[]
[]
[]
[]
[]
[]
[]
[]
[]
[]
[]
[]
[]
[]
[]
[]
[]
[]
[]
[]
[]
[]
[]
[]
[]
[]
[null,468]
[]
[]
[]
[]
[]
[]
[]
[]
[]
[]
[]
[]
[]
[]
[]
[]
[]
[]
[]
[]
[]
[]
[]
[]
[]
[]
[]
[]
[]
[]
[]
[]
[]
[]
[]
[]
[]
[]
[]
[]
[]
[]
[]
[]
[]
[]
[]
[]
[]
[]
[]
[]
[]
[]
[]
[]
[]
[]
[]
[]
[]
[]
[]
[]
[]
[]
[]
[]
[]
[]
[null,503]
[]
[]
[]
[]
[]
[]
[]
[]
[]
[]
[]
[]
[]
[]
[]
[]
[]
[]
[]
[]
[]
[]
[]
[]
[]
[]
[]
[]
[]
[]
[]
[]
[]
[]
[]
[]
[]
[]
[]
[]
[]
[]
[]
[]
[]
[]
[]
[]
[]
[]
[]
[]
[]
[]
[]
[]
[]
[]
[]
[]
[]
[]
[null,534]
[]
[]
[]
[]
[]
[]
[]
[]
[]
[]
[]
[]
[]
[]
[]
[]
[]
[]
[]
[]
[]
[]
[]
[]
[]
[]
[]
[]
[]
[]
[]
[]
[]
[]
[]
[]
[]
[]
[]
[]
[]
[]
[]
[]
[]
[]
[]
[]
[]
[]
[]
[]
[]
[]
[]
[]
[]
[]
[]
[]
[]
[]
[]
[]
[]
[]
[]
[]
[]
[]
[]
[]
[]
[]
[]
[]
[]
[]
[]
[]
[]
[]
[]
[]
[]
[]
[]
[]
[]
[]
[null,579]
[]
[]
[]
[]
[]
[]
[]
[]
[]
[]
[]
[]
[]
[]
[]
[]
[]
[]
[]
[]
[]
[]
[]
[]
[]
[]
[]
[]
[]
[]
[]
[]
[]
[]
[]
[]
[]
[]
[]
[]
[]
[]
[]
[]
[]
[]
[]
[]
[]
[]
[]
[]
[]
[]
[]
[]
[]
[]
[]
[]
[]
[]
[]
[]
[]
[]
[]
[]
[]
[]
[]
[]
[]
[]
[]
[]
[]
[]
[]
[]
[]
[]
[]
[]
[]
[]
[]
[]
[]
[]
[]
[]
[]
[]
[]
[]
[]
[]
[]
[]
[]
[]
[]
[]
[]
[]
[]
[]
[]
[]
[]
[]
[]
[]
[]
[]
[]
[]
[]
[]
[]
[]
[]
[]
[]
[]
[]
[]
[]
[]
[]
[]
[]
[]
[]
[]
[]
[]
[]
[]
[]
[]
[]
[]
[]
[]
[]
[]
[]
[]
[]
[]
[]
[]
[]
[]
[]
[]
[]
[]
[]
[]
[]
[]
[]
[]
[]
[]
[]
[]
[]
[]
[]
[]
[]
[]
[]
[]
[]
[]
[]
[]
[]
[null,670]
[]
[]
[]
[]
[]
[]
[]
[]
[]
[]
[]
[]
[]
[]
[]
[]
[]
[]
[]
[]
[]
[]
[]
[]
[]
[]
[]
[]
[]
[]
[]
[]
[]
[]
[]
[]
[]
[]
[]
[]
[]
[]
[]
[]
[]
[]
[]
[]
[]
[]
[]
[]
[]
[]
[]
[]
[]
[]
[]
[]
[]
[]
[]
[]
[]
[]
[]
[]
[]
[]
[]
[]
[]
[]
[]
[]
[]
[]
[]
[]
[]
[]
[]
[]
[]
[]
[]
[]
[]
[]
[]
[]
[]
[]
[]
[]
[]
[]
[]
[]
[]
[]
[null,721]
[]
[]
[]
[]
[]
[]
[]
[]
[]
[]
[]
[]
[]
[]
[]
[]
[]
[]
[]
[]
[]
[]
[]
[]
[]
[]
[]
[]
[]
[]
[]
[]
[]
[]
[]
[]
[]
[]
[]
[]
[]
[]
[]
[]
[]
[]
[]
[]
[]
[]
[]
[]
[]
[]
[]
[]
[]
[]
[]
[]
[]
[]
[null,752]
[]
[]
[]
[]
[]
[]
[]
[]
[]
[]
[]
[]
[]
[]
[]
[]
[]
[]
[]
[]
[]
[]
[]
[]
[]
[]
[]
[]
[]
[]
[]
[]
[]
[]
[]
[]
[]
[]
[]
[]
[]
[]
[]
[]
[]
[]
[]
[]
[]
[]
[]
[]
[]
[]
[]
[]
[]
[]
[null,781]
[]
[]
[]
[]
[]
[]
[]
[]
[]
[]
[]
[]
[]
[]
[]
[]
[]
[]
[]
[]
[]
[]
[]
[]
[]
[]
[]
[]
[]
[]
[]
[]
[]
[]
[]
[]
[]
[]
[]
[]
[]
[]
[]
[]
[]
[]
[]
[]
[]
[]
[]
[]
[]
[]
[]
[]
[]
[]
[]
[]
[]
[]
[]
[]
[]
[]
[]
[]
[]
[]
[]
[]
[]
[]
[]
[]
[]
[]
[]
[]
[]
[]
[]
[]
[]
[]
[]
[]
[]
[]
[]
[]
[]
[]
[]
[]
[]
[]
[]
[]
[]
[]
[]
[]
[]
[]
[]
[]
[]
[]
[]
[]
[]
[]
[]
[]
[]
[]
[]
[]
[]
[]
[]
[]
[]
[]
[]
[]
[]
[]
[]
[]
[]
[]
[]
[]
[]
[]
[]
[]
[]
[]
[]
[]
[]
[]
[]
[]
[]
[]
[]
[]
[]
[]
[]
[]
[]
[]
[]
[]
[]
[]
[]
[]
[]
[]
[]
[]
[]
[]
[]
[]
[]
[]
[]
[]
[]
[]
[]
[]
[]
[]
[]
[null,872]
[]
[]
[]
[]
[]
[]
[]
[]
[]
[]
[]
[]
[]
[]
[]
[]
[]
[]
[]
[]
[]
[]
[]
[]
[]
[]
[]
[]
[]
[]
[]
[]
[]
[]
[]
[]
[]
[]
[]
[]
[]
[]
[]
[]
[]
[]
[]
[]
[]
[]
[]
[]
[]
[]
[]
[]
[]
[]
[]
[]
[]
[]
[]
[]
[]
[]
[]
[]
[]
[]
[]
[]
[]
[]
[]
[]
[]
[]
[]
[]
[]
[]
[]
[]
[]
[]
[]
[]
[]
[]
[]
[]
[]
[]
[]
[]
[]
[]
[]
[]
[]
[]
[]
[]
[]
[]
[]
[]
[]
[]
[]
[]
[]
[]
[]
[]
[]
[]
[]
[]
[]
[]
[]
[]
[]
[]
[]
[]
[]
[]
[]
[]
[]
[]
[]
[]
[]
[]
[]
[]
[]
[]
[]
[]
[]
[]
[]
[]
[]
[]
[]
[]
[]
[]
[]
[]
[]
[]
[]
[]
[]
[]
[]
[]
[]
[]
[]
[]
[]
[]
[]
[]
[]
[]
[]
[]
[]
[]
[]
[]
[]
[]
[]
[]
[]
[]
[]
[]
[]
[]
[]
[]
[]
[]
[]
[]
[]
[]
[]
[]
[]
[]
[]
[]
[]
[]
[]
[]
[]
[]
[]
[]
[]
[]
[]
[]
[]
[]
[]
[]
[]
[]
[]
[]
[]
[]
[]
[]
[]
[]
[]
[]
[]
[]
[]
[]
[]
[]
[]
[]
[]
[]
[]
[]
[]
[]
[]
[]
[]
[]
[]
[]
[]
[]
[]
[]
[]
[]
[]
[]
[]
[]
[]
[]
[]
[]
[]
[]
[]
[]
[]
[]
[]
[]
[]
[]
[]
[]
[]
[]
[]
[]
[]
[]
[]
[]
[]
[]
[]
[]
[]
[]
[]
[]
[]
[]
[]
[]
[]
[]
[]
[]
[]
[]
[]
[]
[]
[]
[]
[]
[]
[]
[]
[]
[]
[]
[]
[]
[]
[]
[]
[]
[]
[]
[]
[]
[]
[]
[]
[]
[]
[]
[]
[]
[]
[]
[]
[]
[]
[]
[]
[]
[]
[]
[]
[]
[]
[]
[]
[]
[]
[]
[]
[]
[]
[null,999]
[]
[]
[]
[]
[]
[]
[]
[]
[]
[]
[]
[]
[]
[]
[]
[]
[]
[]
[]
[]
[]
[]
[]
[]
[]
[]
[]
[]
[]
[]
[]
[]
[]
[]
[]
[]
[]
[]
[]
[]
[]
[]
[]
[]
[]
[]
[]
[]
[]
[]
[]
[]
[]
[]
[]
[]
[]
[]
[]
[]
[]
[]
[]
[]
[]
[]
[]
[]
[]
[]
[]
[]
[]
[]
[]
[]
[]
[]
[]
[]
[]
[]
[]
[]
[]
[]
[]
[]
[]
[]
[]
[]
[]
[]
[]
[]
[]
[]
[]
[]
[]
[]
[]
[]
[]
[]
[]
[]
[]
[]
[]
[]
[]
[]
[]
[]
[]
[]
[]
[]
[]
[]
[]
[]
[]
[]
[]
[]
[]
[]
[]
[]
[]
[]
[]
[]
[]
[]
[]
[]
[]
[]
[]
[]
[]
[]
[]
[]
[]
[]
[]
[]
[]
[]
[]
[]
[]
[]
[]
[]
[]
[]
[]
[]
[]
[]
[]
[]
[]
[]
[]
[]
[]
[]
[]
[]
[]
[]
[]
[]
[]
[]
[]
[]
[]
[]
[]
[]
[]
[]
[]
[]
[]
[]
[]
[]
[]
[]
[]
[null,1000]
[]
[]
[]
[]
[]
[]
[]
[]
[]
[]
[]
[]
[]
[]
[]
[]
[]
[]
[]
[]
[]
[]
[]
[]
[]
[]
[]
[]
[]
[]
[]
[]
[]
[]
[]
[]
[]
[]
[]
[]
[]
[]
[]
[]
[]
[]
[]
[]
[]
[]
[]
[]
[]
[]
[]
[]
[]
[]
[]
[]
[]
[]
[]
[]
[]
[]
[]
[]
[]
[]
[]
[]
[]
[]
[]
[]
[]
[]
[]
[]
[]
[]
[]
[]
[]
[]
[]
[]
[]
[]
[]
[]
[]
[]
[]
[]
[]
[]
[]
[]
[]
[]
[]
[]
[]
[]
[]
[]
[]
[]
[]
[]
[]
[]
[]
[]
[]
[]
[]
[]
[]
[]
[]
[]
[]
[]
[]
[]
[]
[]
[]
[]
[]
[]
[]
[]
[]
[]
[]
[]
[]
[]
[]
[]
[]
[]
[]
[]
[]
[]
[]
[]
[]
[]
[]
[]
[]
[]
[]
[]
[]
[]
[]
[]
[]
[]
[]
[]
[]
[]
[]
[]
[]
[]
[]
[]
[]
[]
[]
[]
[]
[]
[]
[]
[]
[]
[]
[]
[]
[]
[]
[]
[]
[]
[]
[]
[]
[]
[]
[null,1001]

{"sheet":"～202211_入出金履歴入力","index":6,"n_rows":120001,"n_cols":2,"rows_kept":4500,"cut":true,"hidden":false,"merged":[],"bounds":{"rows_first":2000,"rows_last":500,"rows_between":2000,"halvings":0}}
[null,1]
[]
[]
[]
[]
[]
[]
[]
[]
[]
[]
[]
[]
[]
[]
[]
[]
[]
[]
[]
[]
[]
[]
[]
[]
[]
[]
[]
[]
[]
[]
[]
[]
[]
[]
[]
[]
[]
[]
[]
[]
[]
[]
[]
[]
[]
[]
[]
[]
[]
[]
[]
[]
[]
[]
[]
[]
[]
[]
[]
[]
[]
[]
[]
[]
[]
[]
[]
[]
[]
[]
[]
[]
[]
[]
[]
[]
[]
[]
[]
[]
[]
[]
[]
[]
[]
[]
[]
[]
[]
[]
[]
[]
[]
[]
[]
[]
[]
[]
[]
[]
[]
[]
[]
[]
[]
[]
[]
[]
[]
[]
[]
[]
[]
[]
[]
[]
[]
[]
[]
[null,2]
[]
[]
[]
[]
[]
[]
[]
[]
[]
[]
[]
[]
[]
[]
[]
[]
[]
[]
[]
[]
[]
[]
[]
[]
[]
[]
[]
[]
[]
[]
[]
[]
[]
[]
[]
[]
[]
[]
[]
[]
[]
[]
[]
[]
[]
[]
[]
[]
[]
[]
[]
[]
[]
[]
[]
[]
[]
[]
[]
[]
[]
[]
[]
[]
[]
[]
[]
[]
[]
[]
[]
[]
[]
[]
[]
[]
[]
[]
[]
[]
[]
[]
[]
[]
[]
[]
[]
[]
[]
[]
[]
[]
[]
[]
[]
[]
[]
[]
[]
[]
[]
[]
[]
[]
[]
[]
[]
[]
[]
[]
[]
[]
[]
[]
[]
[]
[]
[]
[]
[null,3]
[]
[]
[]
[]
[]
[]
[]
[]
[]
[]
[]
[]
[]
[]
[]
[]
[]
[]
[]
[]
[]
[]
[]
[]
[]
[]
[]
[]
[]
[]
[]
[]
[]
[]
[]
[]
[]
[]
[]
[]
[]
[]
[]
[]
[]
[]
[]
[]
[]
[]
[]
[]
[]
[]
[]
[]
[]
[]
[]
[]
[]
[]
[]
[]
[]
[]
[]
[]
[]
[]
[]
[]
[]
[]
[]
[]
[]
[]
[]
[]
[]
[]
[]
[]
[]
[]
[]
[]
[]
[]
[]
[]
[]
[]
[]
[]
[]
[]
[]
[]
[]
[]
[]
[]
[]
[]
[]
[]
[]
[]
[]
[]
[]
[]
[]
[]
[]
[]
[]
[null,4]
[]
[]
[]
[]
[]
[]
[]
[]
[]
[]
[]
[]
[]
[]
[]
[]
[]
[]
[]
[]
[]
[]
[]
[]
[]
[]
[]
[]
[]
[]
[]
[]
[]
[]
[]
[]
[]
[]
[]
[]
[]
[]
[]
[]
[]
[]
[]
[]
[]
[]
[]
[]
[]
[]
[]
[]
[]
[]
[]
[]
[]
[]
[]
[]
[]
[]
[]
[]
[]
[]
[]
[]
[]
[]
[]
[]
[]
[]
[]
[]
[]
[]
[]
[]
[]
[]
[]
[]
[]
[]
[]
[]
[]
[]
[]
[]
[]
[]
[]
[]
[]
[]
[]
[]
[]
[]
[]
[]
[]
[]
[]
[]
[]
[]
[]
[]
[]
[]
[]
[null,5]
[]
[]
[]
[]
[]
[]
[]
[]
[]
[]
[]
[]
[]
[]
[]
[]
[]
[]
[]
[]
[]
[]
[]
[]
[]
[]
[]
[]
[]
[]
[]
[]
[]
[]
[]
[]
[]
[]
[]
[]
[]
[]
[]
[]
[]
[]
[]
[]
[]
[]
[]
[]
[]
[]
[]
[]
[]
[]
[]
[]
[]
[]
[]
[]
[]
[]
[]
[]
[]
[]
[]
[]
[]
[]
[]
[]
[]
[]
[]
[]
[]
[]
[]
[]
[]
[]
[]
[]
[]
[]
[]
[]
[]
[]
[]
[]
[]
[]
[]
[]
[]
[]
[]
[]
[]
[]
[]
[]
[]
[]
[]
[]
[]
[]
[]
[]
[]
[]
[]
[null,6]
[]
[]
[]
[]
[]
[]
[]
[]
[]
[]
[]
[]
[]
[]
[]
[]
[]
[]
[]
[]
[]
[]
[]
[]
[]
[]
[]
[]
[]
[]
[]
[]
[]
[]
[]
[]
[]
[]
[]
[]
[]
[]
[]
[]
[]
[]
[]
[]
[]
[]
[]
[]
[]
[]
[]
[]
[]
[]
[]
[]
[]
[]
[]
[]
[]
[]
[]
[]
[]
[]
[]
[]
[]
[]
[]
[]
[]
[]
[]
[]
[]
[]
[]
[]
[]
[]
[]
[]
[]
[]
[]
[]
[]
[]
[]
[]
[]
[]
[]
[]
[]
[]
[]
[]
[]
[]
[]
[]
[]
[]
[]
[]
[]
[]
[]
[]
[]
[]
[]
[null,7]
[]
[]
[]
[]
[]
[]
[]
[]
[]
[]
[]
[]
[]
[]
[]
[]
[]
[]
[]
[]
[]
[]
[]
[]
[]
[]
[]
[]
[]
[]
[]
[]
[]
[]
[]
[]
[]
[]
[]
[]
[]
[]
[]
[]
[]
[]
[]
[]
[]
[]
[]
[]
[]
[]
[]
[]
[]
[]
[]
[]
[]
[]
[]
[]
[]
[]
[]
[]
[]
[]
[]
[]
[]
[]
[]
[]
[]
[]
[]
[]
[]
[]
[]
[]
[]
[]
[]
[]
[]
[]
[]
[]
[]
[]
[]
[]
[]
[]
[]
[]
[]
[]
[]
[]
[]
[]
[]
[]
[]
[]
[]
[]
[]
[]
[]
[]
[]
[]
[]
[null,8]
[]
[]
[]
[]
[]
[]
[]
[]
[]
[]
[]
[]
[]
[]
[]
[]
[]
[]
[]
[]
[]
[]
[]
[]
[]
[]
[]
[]
[]
[]
[]
[]
[]
[]
[]
[]
[]
[]
[]
[]
[]
[]
[]
[]
[]
[]
[]
[]
[]
[]
[]
[]
[]
[]
[]
[]
[]
[]
[]
[]
[]
[]
[]
[]
[]
[]
[]
[]
[]
[]
[]
[]
[]
[]
[]
[]
[]
[]
[]
[]
[]
[]
[]
[]
[]
[]
[]
[]
[]
[]
[]
[]
[]
[]
[]
[]
[]
[]
[]
[]
[]
[]
[]
[]
[]
[]
[]
[]
[]
[]
[]
[]
[]
[]
[]
[]
[]
[]
[]
[null,9]
[]
[]
[]
[]
[]
[]
[]
[]
[]
[]
[]
[]
[]
[]
[]
[]
[]
[]
[]
[]
[]
[]
[]
[]
[]
[]
[]
[]
[]
[]
[]
[]
[]
[]
[]
[]
[]
[]
[]
[]
[]
[]
[]
[]
[]
[]
[]
[]
[]
[]
[]
[]
[]
[]
[]
[]
[]
[]
[]
[]
[]
[]
[]
[]
[]
[]
[]
[]
[]
[]
[]
[]
[]
[]
[]
[]
[]
[]
[]
[]
[]
[]
[]
[]
[]
[]
[]
[]
[]
[]
[]
[]
[]
[]
[]
[]
[]
[]
[]
[]
[]
[]
[]
[]
[]
[]
[]
[]
[]
[]
[]
[]
[]
[]
[]
[]
[]
[]
[]
[null,10]
[]
[]
[]
[]
[]
[]
[]
[]
[]
[]
[]
[]
[]
[]
[]
[]
[]
[]
[]
[]
[]
[]
[]
[]
[]
[]
[]
[]
[]
[]
[]
[]
[]
[]
[]
[]
[]
[]
[]
[]
[]
[]
[]
[]
[]
[]
[]
[]
[]
[]
[]
[]
[]
[]
[]
[]
[]
[]
[]
[]
[]
[]
[]
[]
[]
[]
[]
[]
[]
[]
[]
[]
[]
[]
[]
[]
[]
[]
[]
[]
[]
[]
[]
[]
[]
[]
[]
[]
[]
[]
[]
[]
[]
[]
[]
[]
[]
[]
[]
[]
[]
[]
[]
[]
[]
[]
[]
[]
[]
[]
[]
[]
[]
[]
[]
[]
[]
[]
[]
[null,11]
[]
[]
[]
[]
[]
[]
[]
[]
[]
[]
[]
[]
[]
[]
[]
[]
[]
[]
[]
[]
[]
[]
[]
[]
[]
[]
[]
[]
[]
[]
[]
[]
[]
[]
[]
[]
[]
[]
[]
[]
[]
[]
[]
[]
[]
[]
[]
[]
[]
[]
[]
[]
[]
[]
[]
[]
[]
[]
[]
[]
[]
[]
[]
[]
[]
[]
[]
[]
[]
[]
[]
[]
[]
[]
[]
[]
[]
[]
[]
[]
[]
[]
[]
[]
[]
[]
[]
[]
[]
[]
[]
[]
[]
[]
[]
[]
[]
[]
[]
[]
[]
[]
[]
[]
[]
[]
[]
[]
[]
[]
[]
[]
[]
[]
[]
[]
[]
[]
[]
[null,12]
[]
[]
[]
[]
[]
[]
[]
[]
[]
[]
[]
[]
[]
[]
[]
[]
[]
[]
[]
[]
[]
[]
[]
[]
[]
[]
[]
[]
[]
[]
[]
[]
[]
[]
[]
[]
[]
[]
[]
[]
[]
[]
[]
[]
[]
[]
[]
[]
[]
[]
[]
[]
[]
[]
[]
[]
[]
[]
[]
[]
[]
[]
[]
[]
[]
[]
[]
[]
[]
[]
[]
[]
[]
[]
[]
[]
[]
[]
[]
[]
[]
[]
[]
[]
[]
[]
[]
[]
[]
[]
[]
[]
[]
[]
[]
[]
[]
[]
[]
[]
[]
[]
[]
[]
[]
[]
[]
[]
[]
[]
[]
[]
[]
[]
[]
[]
[]
[]
[]
[null,13]
[]
[]
[]
[]
[]
[]
[]
[]
[]
[]
[]
[]
[]
[]
[]
[]
[]
[]
[]
[]
[]
[]
[]
[]
[]
[]
[]
[]
[]
[]
[]
[]
[]
[]
[]
[]
[]
[]
[]
[]
[]
[]
[]
[]
[]
[]
[]
[]
[]
[]
[]
[]
[]
[]
[]
[]
[]
[]
[]
[]
[]
[]
[]
[]
[]
[]
[]
[]
[]
[]
[]
[]
[]
[]
[]
[]
[]
[]
[]
[]
[]
[]
[]
[]
[]
[]
[]
[]
[]
[]
[]
[]
[]
[]
[]
[]
[]
[]
[]
[]
[]
[]
[]
[]
[]
[]
[]
[]
[]
[]
[]
[]
[]
[]
[]
[]
[]
[]
[]
[null,14]
[]
[]
[]
[]
[]
[]
[]
[]
[]
[]
[]
[]
[]
[]
[]
[]
[]
[]
[]
[]
[]
[]
[]
[]
[]
[]
[]
[]
[]
[]
[]
[]
[]
[]
[]
[]
[]
[]
[]
[]
[]
[]
[]
[]
[]
[]
[]
[]
[]
[]
[]
[]
[]
[]
[]
[]
[]
[]
[]
[]
[]
[]
[]
[]
[]
[]
[]
[]
[]
[]
[]
[]
[]
[]
[]
[]
[]
[]
[]
[]
[]
[]
[]
[]
[]
[]
[]
[]
[]
[]
[]
[]
[]
[]
[]
[]
[]
[]
[]
[]
[]
[]
[]
[]
[]
[]
[]
[]
[]
[]
[]
[]
[]
[]
[]
[]
[]
[]
[]
[null,15]
[]
[]
[]
[]
[]
[]
[]
[]
[]
[]
[]
[]
[]
[]
[]
[]
[]
[]
[]
[]
[]
[]
[]
[]
[]
[]
[]
[]
[]
[]
[]
[]
[]
[]
[]
[]
[]
[]
[]
[]
[]
[]
[]
[]
[]
[]
[]
[]
[]
[]
[]
[]
[]
[]
[]
[]
[]
[]
[]
[]
[]
[]
[]
[]
[]
[]
[]
[]
[]
[]
[]
[]
[]
[]
[]
[]
[]
[]
[]
[]
[]
[]
[]
[]
[]
[]
[]
[]
[]
[]
[]
[]
[]
[]
[]
[]
[]
[]
[]
[]
[]
[]
[]
[]
[]
[]
[]
[]
[]
[]
[]
[]
[]
[]
[]
[]
[]
[]
[]
[null,16]
[]
[]
[]
[]
[]
[]
[]
[]
[]
[]
[]
[]
[]
[]
[]
[]
[]
[]
[]
[]
[]
[]
[]
[]
[]
[]
[]
[]
[]
[]
[]
[]
[]
[]
[]
[]
[]
[]
[]
[]
[]
[]
[]
[]
[]
[]
[]
[]
[]
[]
[]
[]
[]
[]
[]
[]
[]
[]
[]
[]
[]
[]
[]
[]
[]
[]
[]
[]
[]
[]
[]
[]
[]
[]
[]
[]
[]
[]
[]
[]
[]
[]
[]
[]
[]
[]
[]
[]
[]
[]
[]
[]
[]
[]
[]
[]
[]
[]
[]
[]
[]
[]
[]
[]
[]
[]
[]
[]
[]
[]
[]
[]
[]
[]
[]
[]
[]
[]
[]
[null,17]
[]
[]
[]
[]
[]
[]
[]
[]
[]
[]
[]
[]
[]
[]
[]
[]
[]
[]
[]
[]
[]
[]
[]
[]
[]
[]
[]
[]
[]
[]
[]
[]
[]
[]
[]
[]
[]
[]
[]
[]
[]
[]
[]
[]
[]
[]
[]
[]
[]
[]
[]
[]
[]
[]
[]
[]
[]
[]
[]
[]
[]
[]
[]
[]
[]
[]
[]
[]
[]
[]
[]
[]
[]
[]
[]
[]
[]
[]
[]
[]
[]
[]
[]
[]
[]
[]
[]
[]
[]
[]
[]
[]
[]
[]
[]
[]
[]
[]
[]
[]
[]
[]
[]
[]
[]
[]
[]
[]
[]
[]
[]
[]
[]
[]
[]
[]
[]
[]
[]
[]
[]
[]
[]
[]
[]
[]
[]
[]
[]
[]
[]
[]
[]
[]
[]
[]
[]
[]
[]
[]
[]
[]
[]
[]
[]
[null,50]
[]
[]
[]
[]
[]
[]
[]
[]
[]
[]
[]
[]
[]
[]
[]
[]
[]
[]
[]
[]
[]
[]
[]
[]
[]
[]
[]
[]
[]
[]
[]
[]
[]
[]
[]
[]
[]
[]
[]
[]
[]
[]
[]
[]
[]
[]
[]
[]
[]
[]
[]
[]
[]
[]
[]
[]
[]
[]
[]
[]
[]
[]
[]
[]
[]
[]
[]
[]
[]
[]
[null,85]
[]
[]
[]
[]
[]
[]
[]
[]
[]
[]
[]
[]
[]
[]
[]
[]
[]
[]
[]
[]
[]
[]
[]
[]
[]
[]
[]
[]
[]
[]
[]
[]
[]
[]
[]
[]
[]
[]
[]
[]
[]
[]
[]
[]
[]
[]
[]
[]
[]
[]
[]
[]
[]
[]
[]
[]
[]
[]
[]
[]
[]
[]
[]
[]
[]
[]
[]
[]
[]
[]
[]
[]
[]
[]
[]
[]
[]
[]
[]
[]
[]
[]
[]
[]
[]
[]
[]
[]
[]
[]
[]
[]
[]
[]
[]
[]
[]
[]
[]
[]
[]
[]
[]
[]
[]
[]
[]
[]
[]
[]
[]
[]
[]
[]
[]
[]
[]
[]
[]
[]
[]
[]
[]
[]
[]
[]
[]
[]
[]
[]
[]
[]
[]
[]
[]
[]
[]
[]
[]
[]
[]
[]
[]
[]
[]
[]
[]
[]
[]
[]
[]
[]
[]
[]
[]
[]
[]
[]
[]
[]
[]
[]
[]
[]
[]
[]
[]
[]
[]
[]
[]
[]
[]
[]
[]
[]
[]
[]
[]
[]
[]
[]
[]
[]
[]
[]
[]
[]
[]
[]
[]
[]
[]
[]
[]
[]
[]
[]
[]
[]
[]
[]
[]
[]
[]
[]
[]
[]
[]
[]
[]
[]
[]
[]
[]
[]
[]
[]
[]
[]
[]
[]
[]
[]
[]
[]
[]
[]
[]
[]
[]
[]
[]
[]
[]
[]
[]
[]
[]
[]
[]
[]
[]
[]
[]
[]
[]
[]
[]
[]
[]
[]
[]
[]
[]
[]
[]
[]
[]
[]
[]
[]
[]
[]
[]
[]
[]
[null,216]
[]
[]
[]
[]
[]
[]
[]
[]
[]
[]
[]
[]
[]
[]
[]
[]
[]
[]
[]
[]
[]
[]
[]
[]
[]
[]
[]
[]
[]
[]
[]
[]
[]
[]
[]
[]
[]
[]
[]
[]
[]
[]
[]
[]
[]
[]
[]
[]
[]
[]
[]
[]
[]
[]
[null,243]
[]
[]
[]
[]
[]
[]
[]
[]
[]
[]
[]
[]
[]
[]
[]
[]
[]
[]
[]
[]
[]
[]
[]
[]
[]
[]
[]
[]
[]
[]
[]
[]
[]
[]
[]
[]
[]
[]
[]
[]
[]
[]
[]
[]
[]
[]
[]
[]
[]
[]
[]
[]
[]
[]
[]
[]
[]
[]
[]
[]
[]
[]
[]
[]
[]
[]
[]
[]
[]
[]
[]
[]
[]
[]
[]
[]
[]
[]
[]
[]
[]
[]
[]
[]
[]
[]
[]
[]
[]
[]
[]
[]
[]
[]
[]
[]
[]
[]
[]
[null,292]
[]
[]
[]
[]
[]
[]
[]
[]
[]
[]
[]
[]
[]
[]
[]
[]
[]
[]
[]
[]
[]
[]
[]
[]
[]
[]
[]
[]
[]
[]
[]
[]
[]
[]
[]
[]
[null,310]
[]
[]
[]
[]
[]
[]
[]
[]
[]
[]
[]
[]
[]
[]
[]
[]
[]
[]
[]
[]
[]
[]
[]
[]
[]
[]
[]
[]
[]
[]
[]
[]
[]
[]
[]
[]
[]
[]
[]
[]
[]
[]
[]
[]
[]
[]
[]
[]
[]
[]
[]
[]
[]
[]
[]
[]
[]
[]
[]
[]
[]
[]
[]
[]
[]
[]
[]
[]
[]
[]
[]
[]
[]
[]
[]
[]
[]
[]
[]
[]
[]
[]
[]
[]
[]
[]
[]
[]
[]
[]
[]
[]
[]
[]
[]
[]
[]
[]
[]
[]
[]
[]
[]
[]
[]
[]
[]
[]
[]
[]
[]
[]
[]
[]
[]
[]
[]
[]
[]
[]
[]
[]
[]
[]
[]
[]
[]
[]
[]
[]
[]
[]
[]
[]
[]
[]
[]
[]
[]
[]
[]
[]
[]
[]
[]
[]
[]
[]
[]
[]
[]
[]
[]
[]
[]
[]
[]
[]
[]
[]
[]
[]
[]
[]
[]
[]
[]
[]
[]
[]
[]
[]
[]
[]
[]
[]
[]
[]
[]
[]
[]
[]
[]
[]
[]
[]
[]
[]
[]
[]
[]
[]
[]
[]
[]
[]
[]
[]
[]
[]
[]
[]
[]
[]
[]
[]
[]
[]
[]
[]
[]
[]
[]
[]
[]
[]
[]
[]
[]
[]
[]
[]
[]
[]
[]
[]
[]
[]
[]
[]
[]
[]
[]
[]
[]
[]
[]
[]
[]
[]
[]
[]
[]
[]
[]
[]
[]
[]
[]
[]
[]
[]
[]
[]
[]
[]
[]
[]
[]
[]
[]
[]
[]
[]
[]
[]
[]
[]
[]
[]
[]
[]
[]
[]
[]
[]
[]
[]
[]
[]
[]
[]
[]
[]
[]
[]
[]
[]
[]
[]
[]
[]
[]
[]
[]
[]
[]
[]
[]
[]
[]
[]
[]
[]
[]
[]
[]
[]
[]
[]
[]
[]
[]
[]
[]
[]
[]
[]
[]
[null,467]
[]
[]
[]
[]
[]
[]
[]
[]
[]
[]
[]
[]
[]
[]
[]
[]
[]
[]
[]
[]
[]
[]
[]
[]
[]
[]
[]
[]
[]
[]
[]
[]
[]
[]
[]
[]
[]
[]
[]
[]
[]
[]
[null,488]
[]
[]
[]
[]
[]
[]
[]
[]
[]
[]
[]
[]
[]
[]
[]
[]
[]
[]
[]
[]
[]
[]
[]
[]
[]
[]
[]
[]
[]
[]
[]
[]
[]
[]
[]
[]
[]
[]
[]
[]
[]
[]
[]
[]
[]
[]
[]
[]
[]
[]
[]
[]
[]
[]
[]
[]
[]
[]
[]
[]
[]
[]
[]
[]
[]
[]
[]
[]
[]
[]
[]
[]
[]
[]
[]
[]
[]
[]
[]
[]
[]
[]
[]
[]
[]
[]
[]
[]
[]
[]
[]
[]
[]
[]
[]
[]
[]
[]
[]
[]
[]
[]
[]
[]
[]
[]
[]
[]
[]
[]
[]
[]
[]
[]
[]
[]
[]
[]
[]
[]
[]
[]
[]
[]
[]
[]
[]
[]
[]
[]
[]
[]
[]
[]
[]
[]
[]
[]
[]
[]
[]
[]
[]
[]
[]
[]
[]
[]
[]
[]
[]
[]
[]
[]
[]
[]
[]
[]
[]
[]
[]
[]
[]
[]
[]
[]
[]
[]
[]
[]
[]
[]
[]
[]
[]
[]
[]
[]
[]
[]
[]
[]
[]
[]
[]
[]
[]
[]
[]
[]
[]
[]
[]
[]
[]
[]
[]
[]
[]
[]
[]
[]
[]
[]
[]
[]
[]
[]
[]
[]
[]
[]
[]
[]
[]
[]
[]
[]
[]
[]
[]
[]
[]
[]
[]
[]
[]
[]
[]
[]
[]
[]
[]
[]
[]
[]
[]
[]
[]
[]
[]
[]
[]
[]
[]
[]
[]
[]
[]
[]
[]
[]
[]
[]
[]
[]
[]
[]
[]
[]
[]
[]
[]
[]
[]
[]
[]
[]
[]
[]
[]
[]
[]
[]
[]
[]
[]
[]
[]
[]
[]
[]
[]
[]
[]
[]
[]
[]
[]
[]
[]
[]
[]
[]
[]
[]
[]
[]
[]
[]
[]
[]
[]
[]
[]
[]
[]
[]
[]
[]
[]
[]
[]
[]
[]
[]
[]
[]
[]
[]
[]
[]
[]
[]
[]
[]
[]
[]
[null,649]
[]
[]
[]
[]
[]
[]
[]
[]
[]
[]
[]
[]
[]
[]
[]
[]
[]
[]
[]
[]
[]
[]
[]
[]
[]
[]
[]
[]
[]
[]
[]
[]
[]
[]
[]
[]
[]
[]
[]
[]
[]
[]
[]
[]
[]
[]
[]
[]
[]
[]
[]
[]
[null,675]
[]
[]
[]
[]
[]
[]
[]
[]
[]
[]
[]
[]
[]
[]
[]
[]
[]
[]
[]
[]
[]
[]
[]
[]
[]
[]
[]
[]
[]
[]
[]
[]
[]
[]
[]
[]
[]
[]
[]
[]
[]
[]
[]
[]
[]
[]
[]
[]
[]
[]
[]
[]
[]
[]
[]
[]
[]
[]
[]
[]
[]
[]
[]
[]
[]
[]
[]
[]
[]
[]
[]
[]
[]
[]
[]
[]
[]
[]
[]
[]
[]
[]
[]
[]
[]
[]
[]
[]
[]
[]
[]
[]
[]
[]
[]
[]
[]
[]
[]
[]
[]
[]
[]
[]
[]
[]
[]
[]
[]
[]
[]
[]
[]
[]
[]
[]
[]
[]
[]
[]
[]
[]
[]
[]
[]
[]
[]
[]
[]
[]
[]
[]
[]
[]
[]
[]
[]
[]
[]
[]
[]
[]
[]
[]
[]
[]
[]
[]
[]
[]
[]
[]
[]
[]
[]
[]
[]
[]
[]
[]
[]
[]
[]
[]
[]
[]
[]
[]
[]
[]
[]
[]
[]
[]
[]
[]
[]
[]
[]
[]
[]
[]
[]
[]
[]
[]
[]
[]
[]
[]
[]
[]
[]
[]
[]
[]
[]
[]
[]
[]
[]
[]
[]
[]
[]
[]
[]
[]
[]
[]
[]
[]
[]
[]
[null,780]
[]
[]
[]
[]
[]
[]
[]
[]
[]
[]
[]
[]
[]
[]
[]
[]
[]
[]
[]
[]
[]
[]
[]
[]
[]
[]
[]
[]
[]
[]
[]
[]
[]
[]
[]
[]
[]
[]
[]
[]
[]
[]
[]
[]
[]
[]
[]
[]
[]
[]
[]
[]
[]
[]
[]
[]
[]
[]
[]
[]
[null,810]
[]
[]
[]
[]
[]
[]
[]
[]
[]
[null,815]
[]
[]
[]
[]
[]
[]
[]
[]
[]
[]
[]
[]
[]
[]
[]
[]
[]
[]
[]
[]
[]
[]
[]
[]
[]
[]
[]
[]
[]
[]
[]
[]
[]
[]
[]
[]
[]
[]
[]
[]
[]
[]
[]
[]
[]
[]
[]
[]
[]
[]
[]
[]
[]
[]
[]
[]
[]
[]
[]
[]
[null,845]
[]
[]
[]
[]
[]
[]
[]
[]
[]
[]
[]
[]
[]
[]
[]
[]
[]
[]
[]
[]
[]
[]
[]
[]
[]
[]
[]
[]
[]
[]
[]
[]
[]
[]
[]
[]
[]
[]
[]
[]
[]
[]
[]
[]
[]
[]
[]
[]
[]
[]
[]
[]
[]
[]
[]
[]
[]
[]
[]
[]
[]
[]
[]
[]
[]
[]
[]
[]
[]
[]
[]
[]
[]
[]
[]
[]
[]
[null,883]
[]
[]
[]
[]
[]
[]
[]
[]
[]
[]
[]
[]
[]
[]
[]
[]
[]
[]
[]
[]
[]
[]
[]
[]
[]
[]
[]
[]
[]
[]
[]
[]
[]
[]
[]
[]
[]
[]
[]
[]
[]
[]
[]
[]
[]
[]
[]
[]
[]
[]
[]
[]
[]
[]
[]
[]
[]
[]
[]
[]
[]
[]
[]
[]
[]
[]
[]
[]
[]
[]
[]
[]
[]
[]
[]
[]
[]
[]
[]
[]
[]
[]
[]
[]
[]
[]
[]
[]
[]
[]
[]
[]
[]
[]
[]
[]
[]
[]
[]
[]
[]
[]
[]
[]
[]
[]
[]
[]
[]
[]
[]
[]
[]
[]
[]
[]
[]
[]
[]
[]
[]
[]
[]
[]
[]
[]
[]
[]
[]
[]
[]
[]
[]
[]
[]
[]
[]
[]
[]
[]
[]
[]
[]
[]
[]
[]
[]
[]
[]
[]
[]
[]
[]
[]
[]
[]
[]
[]
[]
[]
[]
[]
[]
[]
[]
[]
[]
[]
[]
[]
[]
[]
[]
[]
[]
[]
[]
[]
[]
[]
[]
[]
[]
[]
[]
[]
[]
[]
[]
[null,976]
[]
[]
[]
[]
[]
[]
[]
[]
[]
[]
[]
[]
[]
[]
[]
[]
[]
[]
[]
[]
[]
[]
[]
[]
[]
[]
[]
[]
[]
[]
[]
[]
[]
[]
[]
[]
[]
[]
[]
[]
[]
[]
[]
[]
[]
[]
[]
[]
[]
[]
[]
[]
[]
[]
[]
[]
[]
[]
[]
[]
[]
[null,997]
[]
[]
[]
[]
[]
[]
[]
[]
[]
[]
[]
[]
[]
[]
[]
[]
[]
[]
[]
[]
[]
[]
[]
[]
[]
[]
[]
[]
[]
[]
[]
[]
[]
[]
[]
[]
[]
[]
[]
[]
[]
[]
[]
[]
[]
[]
[]
[]
[]
[]
[]
[]
[]
[]
[]
[]
[]
[]
[]
[]
[]
[]
[]
[]
[]
[]
[]
[]
[]
[]
[]
[]
[]
[]
[]
[]
[]
[]
[]
[]
[]
[]
[]
[]
[]
[]
[]
[]
[]
[]
[]
[]
[]
[]
[]
[]
[]
[]
[]
[]
[]
[]
[]
[]
[]
[]
[]
[]
[]
[]
[]
[]
[]
[]
[]
[]
[]
[]
[]
[null,998]
[]
[]
[]
[]
[]
[]
[]
[]
[]
[]
[]
[]
[]
[]
[]
[]
[]
[]
[]
[]
[]
[]
[]
[]
[]
[]
[]
[]
[]
[]
[]
[]
[]
[]
[]
[]
[]
[]
[]
[]
[]
[]
[]
[]
[]
[]
[]
[]
[]
[]
[]
[]
[]
[]
[]
[]
[]
[]
[]
[]
[]
[]
[]
[]
[]
[]
[]
[]
[]
[]
[]
[]
[]
[]
[]
[]
[]
[]
[]
[]
[]
[]
[]
[]
[]
[]
[]
[]
[]
[]
[]
[]
[]
[]
[]
[]
[]
[]
[]
[]
[]
[]
[]
[]
[]
[]
[]
[]
[]
[]
[]
[]
[]
[]
[]
[]
[]
[]
[]
[null,999]
[]
[]
[]
[]
[]
[]
[]
[]
[]
[]
[]
[]
[]
[]
[]
[]
[]
[]
[]
[]
[]
[]
[]
[]
[]
[]
[]
[]
[]
[]
[]
[]
[]
[]
[]
[]
[]
[]
[]
[]
[]
[]
[]
[]
[]
[]
[]
[]
[]
[]
[]
[]
[]
[]
[]
[]
[]
[]
[]
[]
[]
[]
[]
[]
[]
[]
[]
[]
[]
[]
[]
[]
[]
[]
[]
[]
[]
[]
[]
[]
[]
[]
[]
[]
[]
[]
[]
[]
[]
[]
[]
[]
[]
[]
[]
[]
[]
[]
[]
[]
[]
[]
[]
[]
[]
[]
[]
[]
[]
[]
[]
[]
[]
[]
[]
[]
[]
[]
[]
[null,1000]
[]
[]
[]
[]
[]
[]
[]
[]
[]
[]
[]
[]
[]
[]
[]
[]
[]
[]
[]
[]
[]
[]
[]
[]
[]
[]
[]
[]
[]
[]
[]
[]
[]
[]
[]
[]
[]
[]
[]
[]
[]
[]
[]
[]
[]
[]
[]
[]
[]
[]
[]
[]
[]
[]
[]
[]
[]
[]
[]
[]
[]
[]
[]
[]
[]
[]
[]
[]
[]
[]
[]
[]
[]
[]
[]
[]
[]
[]
[]
[]
[]
[]
[]
[]
[]
[]
[]
[]
[]
[]
[]
[]
[]
[]
[]
[]
[]
[]
[]
[]
[]
[]
[]
[]
[]
[]
[]
[]
[]
[]
[]
[]
[]
[]
[]
[]
[]
[]
[]
[null,1001]

{"sheet":"NFT取引履歴入力","index":7,"n_rows":0,"n_cols":0,"rows_kept":0,"cut":false,"hidden":false,"merged":[]}

{"sheet":"収支補正","index":8,"n_rows":38,"n_cols":11,"rows_kept":38,"cut":false,"hidden":false,"merged":[]}
[null,null,"送金による入金","Jobtribes",null,null,null,null,"送金による出金","Jobtribes"]
[null,null,"その他入金、取引所からの入金（2022.9以前）","麺屋！ドラゴンラーメン",null,null,null,null,"その他出金","麺屋！ドラゴンラーメン"]
[null,null,"取引所からの入金（2022.10以降）","Cookin’ Burger",null,null,null,null,null,"Cookin’ Burger"]
[null,null,"その他DEAPCHECK","グラフィティレーサー",null,null,null,null,null,"グラフィティレーサー"]
[null,null,"エアドロップ関連","LuckyFarmer",null,null,null,null,null,"LuckyFarmer"]
[null,null,null,"Lost Archive+",null,null,null,null,null,"Lost Archive+"]
[null,null,null,"SOULFusers",null,null,null,null,null,"SOULFusers"]
[null,null,null,"Rogue Roll Rulers",null,null,null,null,null,"Rogue Roll Rulers"]
[null,null,null,"バウンシーバニー",null,null,null,null,null,"バウンシーバニー"]
[null,null,null,"いしとほし",null,null,null,null,null,"いしとほし"]
[null,null,null,"Answer to Earn",null,null,null,null,null,"Answer to Earn"]
[null,null,null,"ピクトレ",null,null,null,null,null,"ピクトレ"]
[null,null,null,"PlaysiaTV",null,null,null,null,null,"PlaysiaTV"]
[null,null,null,"カムイバース",null,null,null,null,null,"カムイバース"]
[null,null,null,"その他",null,null,null,null,null,"その他"]
[]
["入金or\n出金","DEP","推定用途","分類先","メモ",null,"入金or\n出金","DEP","推定用途","分類先","メモ"]
["入金",null,null,null,null,null,"出金"]
["入金",null,null,null,null,null,"出金"]
["入金",null,null,null,null,null,"出金"]
["入金",null,null,null,null,null,"出金"]
["入金",null,null,null,null,null,"出金"]
["入金",null,null,null,null,null,"出金"]
["入金",null,null,null,null,null,"出金"]
["入金",null,null,null,null,null,"出金"]
["入金",null,null,null,null,null,"出金"]
["入金",null,null,null,null,null,"出金"]
["入金",null,null,null,null,null,"出金"]
["入金",null,null,null,null,null,"出金"]
["入金",null,null,null,null,null,"出金"]
["入金",null,null,null,null,null,"出金"]
["入金",null,null,null,null,null,"出金"]
["入金",null,null,null,null,null,"出金"]
["入金",null,null,null,null,null,"出金"]
["入金",null,null,null,null,null,"出金"]
["入金",null,null,null,null,null,"出金"]
["入金",null,null,null,null,null,"出金"]
["入金",null,null,null,null,null,"出金"]

{"sheet":"入出金履歴結果","index":9,"n_rows":1,"n_cols":9,"rows_kept":1,"cut":false,"hidden":false,"merged":[]}
["日付","時間","入金or出金","額（DEP）","アドレス","内容","memo","content","推定用途"]

{"sheet":"～202211_入出金履歴結果","index":10,"n_rows":1,"n_cols":7,"rows_kept":1,"cut":false,"hidden":false,"merged":[]}
["日付","時間","入金or出金","額（DEP）","アドレス","内容","推定用途"]

{"sheet":"NFT取引履歴結果","index":11,"n_rows":1,"n_cols":7,"rows_kept":1,"cut":false,"hidden":false,"merged":[]}
["日付","時間","額（DEP）","NFT名","NFT名（ナンバー等なし）","分類","額（DEP）(購入分マイナス表記)"]

{"sheet":"NFT状況","index":12,"n_rows":2,"n_cols":8,"rows_kept":2,"cut":false,"hidden":false,"merged":[]}
["NFT名","購入",null,null,null,"売却"]
["NFT名","日付","時間","額（DEP）",null,"日付","時間","額（DEP）"]

{"sheet":"入出金NFT結果","index":13,"n_rows":1,"n_cols":10,"rows_kept":1,"cut":false,"hidden":false,"merged":[]}
["日付","時間","入金or出金","額（DEP）","アドレス","内容","memo","content","推定用途","NFT情報"]

{"sheet":"推定用途置換ルール","index":14,"n_rows":27,"n_cols":17,"rows_kept":27,"cut":false,"hidden":false,"merged":[]}
["入金or出金","内容の先頭","開始アドレス\n（4桁）","終了アドレス\n（4桁）","memo_最初の文字","content","推定用途","集約",null,"入金or出金","内容の先頭","開始アドレス\n（4桁）","終了アドレス\n（4桁）","memo_最初の文字","content","推定用途","集約"]
["入金","DEAPCHECK_USE","0x06",3199,null,null,"JobTribes：NFTクエスト報酬、給料日","〇",null,"出金","OTHER","0xff","4b9b",null,null,"JobTribes：限界突破アイテム購入","〇"]
["入金","DEAPCHECK_USE",null,null,null,"Menya Dragon Ramen","メンドラ：ラーメン報酬","〇",null,"出金","OTHER","0x38","a14a",null,null,"JobTribes：育成アイテム購入","〇"]
["入金","DEAPCHECK_USE",null,null,null,null,"その他DEAPCHECK",null,null,"出金","OTHER","0xdc","166b",null,"Menya Dragon Ramen","メンドラ：DEAPcoinショップ","〇"]
["入金","OTHER","0x85","536c","GraffitiRacer_RankingRaceReward","Graffiti Racer","グラフィティレーサー：レース賞金","〇",null,"出金","OTHER","0xdc","166b",null,null,"JobTribes：ガチャ購入","〇"]
["入金","OTHER","0x85","536c","Graffiti Racer Ranking race reward","Graffiti Racer","グラフィティレーサー：レース賞金2","〇",null,"出金","PURCHASE_IN_CONTENT","0xdc","166b","In-game Purchase","JobTribes","JobTribes：プレミアム求神","〇"]
["入金","OTHER","0x85","536c","Graffiti Racer Sell film","Graffiti Racer","グラフィティレーサー：フィルム販売","〇",null,"出金","OTHER","0x85","536c","GraffitiRacer_BuyFilm","Graffiti Racer","グラフィティレーサー：フィルム購入","〇"]
["入金","OTHER","0x85","536c",null,null,"グラフィティレーサー：レース賞金、フィルム販売","〇",null,"出金","OTHER","0x85","536c","Graffiti Racer Buy film","Graffiti Racer","グラフィティレーサー：フィルム購入2","〇"]
["入金","OTHER","0x18","ef31","DCCをDEPに変換による増減","Rogue Roll Ruler's","Rogue Roll Ruler's　報酬1",null,null,"出金","OTHER","0x85","536c","Graffiti Racer Buy nft","Graffiti Racer","グラフィティレーサー：シートをゲット","〇"]
["入金","OTHER","0x18","ef31","DCCをDEPに変換","Rogue Roll Ruler's","Rogue Roll Ruler's　報酬2",null,null,"出金","OTHER","0x85","536c","Graffiti Racer Inherit film","Graffiti Racer","グラフィティレーサー：フィルムの色引継ぎ、復元","〇"]
["入金","OTHER",null,null,null,null,"その他入金、取引所からの入金（2022.9以前）",null,null,"出金","OTHER","0x85","536c","GraffitiRacer_RaceFee","Graffiti Racer","グラフィティレーサー：フィルムコーティング","〇"]
["入金","DEPOSIT",null,null,null,null,"取引所からの入金（2022.10以降）",null,null,"出金","OTHER","0x85","536c",null,null,"グラフィティレーサー：フィルム購入、シートをゲット","〇"]
["入金","AIRDROP",null,null,"PlaysiaTV_Lottery_","-","PlaysiaTV：動画視聴くじ報酬",null,null,"出金","OTHER","0xd6","dcad","cookinburger_repairshop","Cookin'Burger","Cookin’ Burger：shop修復"]
["入金","AIRDROP",null,null,"CB season","-","Cookin’ Burger：給料報酬",null,null,"出金","OTHER",null,null,"luckyfarmer_staminarecovery","Lucky Farmer","LuckyFarmer：スタミナゲージ回復"]
["入金","AIRDROP",null,null,null,"Lucky Farmer","LuckyFarmer：ランキング賞金",null,null,"出金","OTHER",null,null,"luckyfarmer_land_recovery","Lucky Farmer","LuckyFarmer：農地耐久値回復"]
["入金","AIRDROP",null,null,null,"Fujiwara Kamui Verse","カムイバース：リーダー報酬、依頼書報酬",null,null,"出金","OTHER",null,null,"luckyfarmer_gachasub","Lucky Farmer","LuckyFarmer：各種ガチャ"]
["入金","AIRDROP",null,null,"Refunds_of_SOUL_Fusers","-","SOUL_Fusers：返金処理",null,null,"出金","PURCHASE_IN_CONTENT_FT","0xdc","166b","In-game Purchase","Lucky Farmer","LuckyFarmer：各種ガチャ2"]
["入金","AIRDROP",null,null,"NFT_QUEST_","SOUL Fusers","SOUL_Fusers：NFTクエスト報酬",null,null,"出金","PURCHASE_IN_CONTENT_FT","0xdc","166b","In-game Purchase","SOUL Fusers","SOUL Fusers：ソウルフューズ（NFT化）、アイテム購入"]
["入金","AIRDROP",null,null,"ARENA_","SOUL Fusers","SOUL_Fusers：アリーナ報酬",null,null,"出金","PURCHASE_IN_CONTENT_FT",null,null,"In-game Purchase","Rogue Roll Ruler's","Rogue Roll Ruler's：装備NFT化・ゲーム内アイテム購入"]
["入金","AIRDROP",null,null,"Answer to Earn_ ","Answer to Earn","Answer to Earn：報酬",null,null,"出金","OTHER",null,null,null,null,"その他出金"]
["入金","AIRDROP",null,null,null,null,"エアドロップ関連",null,null,"出金","REVENUE_1ST",null,null,null,null,"NFT購入（オフィシャル販売）"]
["入金","TRADE_2ND",null,null,null,null,"NFT売却",null,null,"出金","TRADE_1ST",null,null,null,null,"NFT購入（オフィシャル販売）"]
["入金","WITHDRAWAL",null,null,null,null,"送金による入金",null,null,"出金","TRADE_2ND",null,null,null,null,"NFT購入（ユーザー販売）"]
[null,null,null,null,null,null,null,null,null,"出金","BUY_COMMISION_2ND",null,null,null,null,"NFT購入手数料"]
[null,null,null,null,null,null,null,null,null,"出金","EXHIBIT_COMMISION_2ND",null,null,null,null,"NFT販売手数料"]
[null,null,null,null,null,null,null,null,null,"出金","TRANSFER_FEE",null,null,null,null,"送金手数料"]
[null,null,null,null,null,null,null,null,null,"出金","WITHDRAWAL",null,null,null,null,"送金による出金"]

{"sheet":"NFT一覧","index":15,"n_rows":272,"n_cols":23,"rows_kept":272,"cut":false,"hidden":false,"merged":[]}
["JobTribes：LEGENDARY","JobTribes：EPIC","JobTribes：RARE","JobTribes：COMMON","Lucky Farmer","PlayMining NFT","Cookin’ Burger","Graffiti Racer：SSS","Graffiti Racer：SS","Graffiti Racer：S","Graffiti Racer：A","Graffiti Racer：B","Graffiti Racer：C","Fujiwara Kamui Verse","Menya Dragon Ramen","PlaysiaTV","Lost Archive+","SOUL Fusers","Rogue Roll Rulers","いしとほし","バウンシーバニー","Answer to Earn","ピクトレ"]
["アイドル(Fire)","メイドカフェ店員(Fire)","DJ(Fire)","AIエンジニア(Fire)","【Lucky Farmer】ジョンじいさん（パジャマ）","赤ちゃん(兄)","【Cookin' Burger】Food Truck “Fuji”-JCIDX","【Graffiti Racer】紅葉","【Graffiti Racer】《喪失の勇者》ユーキ（勇敢）","【Graffiti Racer】ジル","【Graffiti Racer】クララ",null,"【Graffiti Racer】ヘキゴン","【Fujiwara Kamui Verse】Land","【麺屋 ドラゴンラーメン】ザンダ・グラシム","【PlaysiaTV】マルセリーノ・フェルディナン / KMSK Deinze （2023年3月）","【Lost Archive+】夢乗りの鉱山","【SOUL Fusers】エンバー","【Rogue Roll Ruler’s】ユーギル","【いしとほし】ふろあらぽ（September,2023）","【バウンシーバニー】セルマ","【Answer to Earn】ゴールドプレミアムパスNFT","【ピクトレ】電柱 - 前橋市／本庁"]
["アイドル(Water)","メイドカフェ店員(Water)","DJ(Water)","AIエンジニア(Water)","【Lucky Farmer】エヴァ","赤ちゃん(妹)","【Cookin' Burger】Food Truck “Star”-WCIDX","【Graffiti Racer】アメリー","【Graffiti Racer】《喪失の勇者》ユーキ（果敢）","【Graffiti Racer】エンエン","【Graffiti Racer】ローズマリー",null,null,"【Fujiwara Kamui Verse】To 1st Land holder","【麺屋 ドラゴンラーメン】リーア・メディナ","【PlaysiaTV】マルセリーノ・フェルディナン / KMSK Deinze （2023年5月）","【Lost Archive+】フェアリーナイト","【SOUL Fusers】エンベリオン","【Rogue Roll Ruler’s】レグリアン","【いしとほし】てんまみどり（September,2023）","【バウンシーバニー】ダッドリー","【Answer to Earn】プラチナプレミアムパスNFT"]
["アイドル(Nature)","メイドカフェ店員(Nature)","DJ(Nature)","AIエンジニア(Nature)","【Lucky Farmer】ピノ","【ユーザー100万人記念】PlayMiningバトン（赤）","【Cookin' Burger】Food Truck “Dragon”-CCIDX","【Graffiti Racer】リーナ","【Graffiti Racer】《喪失の勇者》ユーキ（冷静）","【Graffiti Racer】ヴァレンティーナ","【Graffiti Racer】ビビ",null,null,"【Fujiwara Kamui Verse】Memorial NFT 001","【麺屋 ドラゴンラーメン】ノマディス・ヴォルペ",null,"【Lost Archive+】次元石","【SOUL Fusers】エンバーハート","【Rogue Roll Ruler’s】クレアニア","【いしとほし】きらめるり（September,2023）","【バウンシーバニー】ルーク","【Answer to Earn】シルバープレミアムパスNFT"]
["アイドル(Thunder)","メイドカフェ店員(Thunder)","DJ(Thunder)","AIエンジニア(Thunder)","【Lucky Farmer】ピノ（砂遊び）","【ユーザー100万人記念】PlayMiningバトン（青）","【Cookin' Burger】Food Truck “Fuji”-JCODX","【Graffiti Racer】シャリー","【Graffiti Racer】《奮起の勇者》ユーキ（勇敢）","【Graffiti Racer】ティーノ","【Graffiti Racer】ジョージ",null,null,"【Fujiwara Kamui Verse】 Neo Tokyo Punks Collaboration NFT 001","【麺屋 ドラゴンラーメン】コウ・ショウラン",null,"【Lost Archive+】エルフの笛吹き","【SOUL Fusers】イグニット","【Rogue Roll Ruler’s】[副長]ニルガナ","【いしとほし】あかほしれん（September,2023）","【バウンシーバニー】マージョリー #004","【Answer to Earn】ブロンズプレミアムパスNFT"]
["アイドル(Poison)","メイドカフェ店員(Poison)","DJ(Poison)","AIエンジニア(Poison)","【Lucky Farmer】キラナ","【ユーザー100万人記念】PlayMiningバトン（黄）","【Cookin' Burger】Food Truck “Star”-WCODX","【Graffiti Racer】ひまわり","【Graffiti Racer】《奮起の勇者》ユーキ（果敢）","【Graffiti Racer】Lin","【Graffiti Racer】小夜子",null,null,"【Fujiwara Kamui Verse】世界創造リワードNFT 001","【麺屋 ドラゴンラーメン】セイスイ",null,"【Lost Archive+】彷徨う怪物","【SOUL Fusers】イグニレックス","【Rogue Roll Ruler’s】[副長]ファルマ","【いしとほし】よぞらみゆ（September,2023）","【バウンシーバニー】フィリップ"]
["アイドル(Earth)","メイドカフェ店員(Earth)","DJ(Earth)","AIエンジニア(Earth)","【Lucky Farmer】ジョンじいさん（水着）","【ユーザー100万人記念】PlayMiningバトン（緑）","【Cookin' Burger】Food Truck “Dragon”-CCODX","【Graffiti Racer】Mr.ジャックポット","【Graffiti Racer】《奮起の勇者》ユーキ（冷静）","【Graffiti Racer】アマネ","【Graffiti Racer】茶々丸",null,null,"【Fujiwara Kamui Verse】 CryptoBeerPunks コラボレーション NFT 001","【麺屋 ドラゴンラーメン】ラン・レイリン",null,"【Lost Archive+】幻創のヴァレリ","【SOUL Fusers】イグニロード","【Rogue Roll Ruler’s】[毒射]ティロ","【いしとほし】あおなゆめ（September,2023）","【バウンシーバニー】ルーファス"]
["科学捜査官(Fire)","保育士(Thunder)","トマト農家(Fire)","イチゴ農家(Fire)","【Lucky Farmer】エヴァ（ワンピース）","【ユーザー100万人記念】PlayMiningバトン（黒）","【Cookin' Burger】Food Truck “Fuji”-JBEDX","【Graffiti Racer】ダラガン ピリピーナ","【Graffiti Racer】《浄化の看護師》アイ（平静）","【Graffiti Racer】パレット","【Graffiti Racer】《TGS2022 コンパニオン》ローラ",null,null,"【Fujiwara Kamui Verse】ヌマンガ NFT 001","【麺屋 ドラゴンラーメン】ジャク・ロン",null,"【Lost Archive+】星の嵐","【SOUL Fusers】ラグナ","【Rogue Roll Ruler’s】[癒し手]ミラ","【いしとほし】みなほしかるり（September,2023）","【バウンシーバニー】バーナビー"]
["科学捜査官(Water)","カニ漁師(Water)","トマト農家(Nature)","イチゴ農家(Nature)","【Lucky Farmer】ピノ（吸血鬼）","【Puzzle Ranger】今日はピクニック日和＜イラストNFT＞","【Cookin' Burger】Food Truck “Star”-WBEDX","【Graffiti Racer】ルミナ","【Graffiti Racer】《浄化の看護師》アイ（愛嬌）","【Graffiti Racer】《旅立ちの勇者》ユーキ（勇敢）","【Graffiti Racer】《TGS2022 スタッフ》カワイアン",null,null,"【Fujiwara Kamui Verse】Zampudipo Festival TRPG memorial NFT_Mushika part","【麺屋 ドラゴンラーメン】シャンフ・メリア",null,"【Lost Archive+】ロストカラー","【SOUL Fusers】ドラグナー","【Rogue Roll Ruler’s】[防壁]ヴァレム","【いしとほし】記念NFT（September,2023）","【バウンシーバニー】マックス #002"]
["科学捜査官(Nature)","テレビ局社員(Fire)","WEBプログラマー(Water)","メロン農家(Water)","【Lucky Farmer】キラナ（魔女）","【PlayMining】Decentralandチケット＜2021年8月 ~ 2022年8月＞","【Cookin' Burger】Food Truck “Dragon”-CBEDX","【Graffiti Racer】アシュレッテ","【Graffiti Racer】《浄化の看護師》アイ（気合）","【Graffiti Racer】《旅立ちの勇者》ユーキ（果敢）","【Graffiti Racer】《TGS2022 スタッフ》しょこたん",null,null,"【Fujiwara Kamui Verse】Zampudipo Festival TRPG memorial NFT_Yury part","【麺屋 ドラゴンラーメン】サイネ",null,"【Lost Archive+】花盛りの楽園","【SOUL Fusers】ドラゴナライズ","【Rogue Roll Ruler’s】[賢人]ハアヤガ","【いしとほし】ふろあらぽ（October,2023 B）","【バウンシーバニー】ハミッシュ"]
["科学捜査官(Thunder)","テレビ局社員(Thunder)","WEBプログラマー(Thunder)","メロン農家(Nature)","【Lucky Farmer】ピノ（トナカイ）","【NFTv】NF-Teruko＜イラストNFT＞","【Cookin' Burger】Food Truck “Fuji”-JCIEC","【Graffiti Racer】《炎の勇者》ユーキ（勇敢）","【Graffiti Racer】《癒しの浄化》アイ（平静）","【Graffiti Racer】《旅立ちの勇者》ユーキ（冷静）","【Graffiti Racer】《TGS2022 スタッフ》アメリー",null,null,"【Fujiwara Kamui Verse】Zampudipo Festival TRPG memorial NFT_NiangNiang part","【麺屋 ドラゴンラーメン】ルビル・マルク",null,"【Lost Archive+】大嵐のドラゴン","【SOUL Fusers】クラウビー","【Rogue Roll Ruler’s】[旗印]ラトリア","【いしとほし】てんまみどり（October,2023 B）","【バウンシーバニー】ホレイシオ"]
["科学捜査官(Poison)","不動産販売業者(Water)","一級建築士(Fire)","トラック運転手(Fire)","【Lucky Farmer】ジョンじいさん（サンタクロース）","TGS-NF-Teruko＜イラストNFT＞","【Cookin' Burger】Food Truck “Star”-WCIEC","【Graffiti Racer】《炎の勇者》ユーキ（果敢）","【Graffiti Racer】《癒しの浄化》アイ（愛嬌）","【Graffiti Racer】《旅の始まり》ユーキ（勇敢）","【Graffiti Racer】《TGS2022 スタッフ》ひまわり",null,null,"【Fujiwara Kamui Verse】Zampudipo Festival TRPG memorial NFT_Yomi part","【麺屋 ドラゴンラーメン】マリル・アルヒー",null,"【Lost Archive+】栄光の凱旋歌","【SOUL Fusers】クラヴァリアー","【Rogue Roll Ruler’s】[愚者]ョンェヲ","【いしとほし】きらめるり（October,2023 A）","【バウンシーバニー】トッド #002"]
["科学捜査官(Earth)","不動産販売業者(Thunder)","一級建築士(Nature)","トラック運転手(Earth)","【Lucky Farmer】やわらかい春の農地[★1]","PlayMining PH Night Pass","【Cookin' Burger】Food Truck “Dragon”-CCIEC","【Graffiti Racer】《炎の勇者》ユーキ（冷静）","【Graffiti Racer】《癒しの浄化》アイ（気合）","【Graffiti Racer】《旅の始まり》ユーキ（果敢）","【Graffiti Racer】《TGS2022 スタッフ》Mr.ジャックポット",null,null,"【Fujiwara Kamui Verse】SAMURAI Art Collaboration NFT 001","【麺屋 ドラゴンラーメン】ツイ・ホウ",null,"【Lost Archive+】拳聖 ジェド","【SOUL Fusers】クラウナイト","【Rogue Roll Ruler's】親衛隊の盾","【いしとほし】きらめるり（October,2023 B）","【バウンシーバニー】ダッドリー #002"]
["中華料理長(Nature)","外交官(Poison)","デイトレーダー(Thunder)","トリマー(Water)","【Lucky Farmer】やわらかい春の農地[★2]","【PlayMining Olympians】Kuya Sai","【Cookin' Burger】Food Truck “Fuji”-JCOEC","【Graffiti Racer】《真の勇者》ユーキ（勇敢）","【Graffiti Racer】《恋するエルフ》メルロス（温厚）","【Graffiti Racer】《旅の始まり》ユーキ（冷静）","【Graffiti Racer】《村の勇者》ユーキ（勇敢）",null,null,"【Fujiwara Kamui Verse】AZITO Collaboration NFT 001_Nagi","【麺屋 ドラゴンラーメン】リーヴァ・ロッソ",null,"【Lost Archive+】刻の規範 ヘイグロト","【SOUL Fusers】ソウズゥ","【Rogue Roll Ruler's】鉄火鋏","【いしとほし】あかほしれん（October,2023 B）","【バウンシーバニー】ルーク #002"]
["騎手(Thunder)","外交官(Earth)","デイトレーダー(Poison)","トリマー(Thunder)","【Lucky Farmer】やわらかい春の農地[★3]","【PlayMining Olympians】MELVSDARA2016","【Cookin' Burger】Food Truck “Star”-WCOEC","【Graffiti Racer】《真の勇者》ユーキ（果敢）","【Graffiti Racer】《恋するエルフ》メルロス（大胆）","【Graffiti Racer】《異世界看護師》アイ（平静）","【Graffiti Racer】《村の勇者》ユーキ（果敢）",null,null,"【Fujiwara Kamui Verse】AZITO Collaboration NFT 002_Nazha_A","【麺屋 ドラゴンラーメン】リーヴァ・ブルゥ",null,"【Lost Archive+】刻の先陣 ラスフィア","【SOUL Fusers】ソウズホン","【Rogue Roll Ruler's】魔道書～入門編～","【いしとほし】ふろあらぽ（October,2023 A）","【バウンシーバニー】ブルース"]
["宇宙飛行士(Poison)","庭師(Fire)","パタンナー(Fire)","パティシエール(Water)","【Lucky Farmer】やわらかい春の農地[★4]","【PlayMining Olympians】Hiro_SG","【Cookin' Burger】Food Truck “Dragon”-CCOEC","【Graffiti Racer】《真の勇者》ユーキ（冷静）","【Graffiti Racer】《恋するエルフ》メルロス（余裕）","【Graffiti Racer】《異世界看護師》アイ（愛嬌）","【Graffiti Racer】《村の勇者》ユーキ（冷静）",null,null,"【Fujiwara Kamui Verse】AZITO Collaboration NFT 003_Nazha_B","【麺屋 ドラゴンラーメン】リーヴァ・ヴェルデ",null,"【Lost Archive+】刻の験者 スフラトゥス","【SOUL Fusers】ソウズモ","【Rogue Roll Ruler's】親衛隊の鎧","【いしとほし】みなほしかるり（October,2023 B）","【バウンシーバニー】フィービー #004"]
["ボディビルダー(Thunder)","庭師(Water)","パタンナー(Poison)","パティシエール(Poison)","【Lucky Farmer】かたい春の農地[★1]","【PlayMining Olympians】じゅん","【Cookin' Burger】Food Truck “Fuji”-JBEEC","【Graffiti Racer】《天使の看護師》アイ（平静）","【Graffiti Racer】《恋に盲目》メルロス（温厚）","【Graffiti Racer】《異世界看護師》アイ（気合）","【Graffiti Racer】《勇者への歩み》ユーキ（勇敢）",null,null,"【Fujiwara Kamui Verse】ワコクキービジュアルNFT","【麺屋 ドラゴンラーメン】リーヴァ・ジャッロ",null,"【Lost Archive+】メイドミルフィー","【SOUL Fusers】ウミ","【Rogue Roll Ruler's】慈悲の杭","【いしとほし】よぞらみゆ（October,2023 B）","【バウンシーバニー】バーナビー #002"]
["ボディビルダー(Earth)","庭師(Nature)","マーシャラー(Fire)","ライター(Fire)","【Lucky Farmer】かたい春の農地[★2]","【PlayMining Olympians】アケジ","【Cookin' Burger】Food Truck “Star”-WBEEC","【Graffiti Racer】《天使の看護師》アイ（愛嬌）","【Graffiti Racer】《恋に盲目》メルロス（大胆）","【Graffiti Racer】《水の使い手》アイ（平静）","【Graffiti Racer】《勇者への歩み》ユーキ（果敢）",null,null,"【Fujiwara Kamui Verse】ワコクTRPG～赤月祭～参加チケットNFT_シナリオA","【麺屋 ドラゴンラーメン】リーヴァ・ビオラ",null,"【Lost Archive+】爛漫のエリザベート","【SOUL Fusers】ツノガメ","【Rogue Roll Ruler's】護身のお守り","【いしとほし】よぞらみゆ（October,2023 A）","【バウンシーバニー】セルマ #002"]
["指揮者(Water)","庭師(Thunder)","マーシャラー(Water)","ライター(Water)","【Lucky Farmer】かたい春の農地[★3]","【PlayMining Olympians】haseo","【Cookin' Burger】Food Truck “Dragon”-CBEEC","【Graffiti Racer】《天使の看護師》アイ（気合）","【Graffiti Racer】《恋に盲目》メルロス（余裕）","【Graffiti Racer】《水の使い手》アイ（愛嬌）","【Graffiti Racer】《勇者への歩み》ユーキ（冷静）",null,null,"【Fujiwara Kamui Verse】ワコクTRPG～赤月祭～参加チケットNFT_シナリオB","【麺屋 ドラゴンラーメン】テイ・ファン",null,"【Lost Archive+】流浪の剣豪 カンナ","【SOUL Fusers】センカメ","【Rogue Roll Ruler's】黄泉の鏡","【いしとほし】あおなゆめ（October,2023 A）","【バウンシーバニー】フレディ #002"]
["指揮者(Poison)","庭師(Poison)","マーシャラー(Nature)","ライター(Nature)","【Lucky Farmer】かたい春の農地[★4]","【PlayMining Olympians】いわぽよ","【Cookin' Burger】Food Truck “Fuji”-JCISH","【Graffiti Racer】《癒しの天使》アイ（平静）","【Graffiti Racer】《王国神官》ホープ（沈着）","【Graffiti Racer】《水の使い手》アイ（気合）","【Graffiti Racer】《笑顔の看護師》アイ（平静）",null,null,"【Fujiwara Kamui Verse】世界創造リワードNFT 002","【麺屋 ドラゴンラーメン】テイ・ルー",null,"【Lost Archive+】サブアトラス モエエ","【SOUL Fusers】アルドナ","【Rogue Roll Ruler's】ロッド","【いしとほし】てんまみどり（October,2023 A）","【バウンシーバニー】フィービー #002"]
["稲作農家(Fire)","庭師(Earth)","マーシャラー(Thunder)","ライター(Thunder)","【Lucky Farmer】サラサラな春の農地[★1]","【PlayMining Olympians】のろいちゃん","【Cookin' Burger】Food Truck “Star”-WCISH","【Graffiti Racer】《癒しの天使》アイ（愛嬌）","【Graffiti Racer】《王国神官》ホープ（詠唱）","【Graffiti Racer】《上京エルフ》メルロス（温厚）","【Graffiti Racer】《笑顔の看護師》アイ（愛嬌）",null,null,"【Fujiwara Kamui Verse】ワコクTRPG～赤月祭～リプレイイラスト_シナリオA","【麺屋 ドラゴンラーメン】テイ・ソン",null,"【Lost Archive+】クロエ&対神兵器試作型","【SOUL Fusers】ヴォルウィッチ","【Rogue Roll Ruler's】魔道書～皆伝～","【いしとほし】あかほしれん（October,2023 A）","【バウンシーバニー】セルマ #003"]
["稲作農家(Water)","教師(Water)","マーシャラー(Poison)","ライター(Poison)","【Lucky Farmer】サラサラな春の農地[★2]","DEPバーンNFT 2023","【Cookin' Burger】Food Truck “Dragon”-CCISH","【Graffiti Racer】《癒しの天使》アイ（気合）","【Graffiti Racer】《王国神官》ホープ（不適）","【Graffiti Racer】《上京エルフ》メルロス（大胆）","【Graffiti Racer】《笑顔の看護師》アイ（気合）",null,null,"【Fujiwara Kamui Verse】ワコクTRPG～赤月祭～リプレイイラスト_シナリオB","【麺屋 ドラゴンラーメン】テイ・カン",null,"【Lost Archive+】豊穣のエルフ","【SOUL Fusers】タイガーフィスト","【Rogue Roll Ruler's】朽成","【いしとほし】みなほしかるり（October,2023 A）","【バウンシーバニー】セルマ #004"]
["稲作農家(Nature)","教師(Poison)","マーシャラー(Earth)","ライター(Earth)","【Lucky Farmer】サラサラな春の農地[★3]","【PlayMiningChannel】Myho ＆ ABII（December,2023）","【Cookin' Burger】Food Truck “Fuji”-JCOSH","【Graffiti Racer】《疾風のエルフ》メルロス（温厚）","【Graffiti Racer】《旅立つ神官》ホープ（沈着）","【Graffiti Racer】《上京エルフ》メルロス（余裕）","【Graffiti Racer】《注射器使い》アイ（平静）",null,null,"【Fujiwara Kamui Verse】ワコクイメージビジュアルNFT","【麺屋 ドラゴンラーメン】テイ・ジン",null,"【Lost Archive+】月詠みの聖女","【SOUL Fusers】ライタイガー","【Rogue Roll Ruler's】魔術布のグローブ","【いしとほし】あおなゆめ（October,2023 B）","【バウンシーバニー】マージョリー #002"]
["稲作農家(Thunder)","溶接工(Fire)","ラーメン店店長(Fire)","リフレクソロジスト(Fire)","【Lucky Farmer】サラサラな春の農地[★4]","【PlayMining】NF-Teruko＜スペシャルNFT・うさぎ＞","【Cookin' Burger】Food Truck “Star”-WCOSH","【Graffiti Racer】《疾風のエルフ》メルロス（大胆）","【Graffiti Racer】《旅立つ神官》ホープ（詠唱）","【Graffiti Racer】《目指せ都会》メルロス（温厚）","【Graffiti Racer】《注射器使い》アイ（愛嬌）",null,null,"【Fujiwara Kamui Verse】RAIKA Collaboration NFT 001","【麺屋 ドラゴンラーメン】チャー・ホン",null,"【Lost Archive+】輝く魔法少女 リーザ","【SOUL Fusers】トライデン","【Rogue Roll Ruler's】鉄のナイフ","【いしとほし】記念NFT（October,2023）","【バウンシーバニー】マックス"]
["稲作農家(Poison)","プロ棋士(Poison)","ラーメン店店長(Water)","リフレクソロジスト(Earth)","【Lucky Farmer】ふつうの春の農地[★1]","【PlayMining】くりごはん","【Cookin' Burger】Food Truck “Dragon”-CCOSH","【Graffiti Racer】《疾風のエルフ》メルロス（余裕）","【Graffiti Racer】《旅立つ神官》ホープ（不適）","【Graffiti Racer】《目指せ都会》メルロス（大胆）","【Graffiti Racer】《注射器使い》アイ（気合）",null,null,"【Fujiwara Kamui Verse】SweetDogCafe Collaboration NFT 001","【麺屋 ドラゴンラーメン】チャー・チン",null,"【Lost Archive+】決意する魔法剣士 エリス","【SOUL Fusers】フォクシー","【Rogue Roll Ruler's】宝剣　魂刈","【いしとほし】ふろあらぽ（November,2023）","【バウンシーバニー】ルーファス #002"]
["稲作農家(Earth)","花屋(Nature)","人事課社員(Water)","レジャー施設業界人(Thunder)","【Lucky Farmer】ふつうの春の農地[★2]","怪盗＜メイキングNFT＞","【Cookin' Burger】Food Truck “Fuji”-JBESH","【Graffiti Racer】《風の弓》メルロス（温厚）","【Graffiti Racer】《発掘冒険者》パウワウ（勇猛）","【Graffiti Racer】《目指せ都会》メルロス（余裕）","【Graffiti Racer】《森の民》メルロス（温厚）",null,null,"【Fujiwara Kamui Verse】ヤンシャオキービジュアル日中版","【麺屋 ドラゴンラーメン】チャー・リョウ",null,"【Lost Archive+】小さな賢者見習い クレア","【SOUL Fusers】メイラ","【Rogue Roll Ruler's】呪術札","【いしとほし】あかほしれん（November,2023）","【バウンシーバニー】ハミッシュ #003"]
["アニメーター(Fire)","製薬会社社員(Fire)","人事課社員(Earth)","保険外交員(Nature)","【Lucky Farmer】ふつうの春の農地[★3]","【DEP Channel】Myho ＆ ABII（January,2024）","【Cookin' Burger】Food Truck “Star”-WBESH","【Graffiti Racer】《風の弓》メルロス（大胆）","【Graffiti Racer】《発掘冒険者》パウワウ（堂々）","【Graffiti Racer】《魔法学生》ホープ（沈着）","【Graffiti Racer】《森の民》メルロス（大胆）",null,null,"【Fujiwara Kamui Verse】ヤンシャオキービジュアル夕方版","【麺屋 ドラゴンラーメン】チャー・ファン",null,"【Lost Archive+】3番隊副隊長 ナタリー","【SOUL Fusers】カグラ","【Rogue Roll Ruler's】鉄の大剣","【いしとほし】よぞらみゆ（November,2023）","【バウンシーバニー】ダッドリー #004"]
["アニメーター(Poison)","ホスト(Nature)","半導体エンジニア(Fire)","保険外交員(Thunder)","【Lucky Farmer】ふつうの春の農地[★4]","【DEP Channel】Special NFT（February,2024）","【Cookin' Burger】Food Truck “Dragon”-CBESH","【Graffiti Racer】《風の弓》メルロス（余裕）","【Graffiti Racer】《発掘冒険者》パウワウ（豪快）","【Graffiti Racer】《魔法学生》ホープ（詠唱）","【Graffiti Racer】《森の民》メルロス（余裕）",null,null,"【Fujiwara Kamui Verse】NFT-RPG「湖底の秘宝」参加チケットNFT","【麺屋 ドラゴンラーメン】チャー・ヘイ",null,"【Lost Archive+】2番隊副隊長 プラトン","【SOUL Fusers】ベアーボー","【Rogue Roll Ruler's】モーニングスター","【いしとほし】みなほしかるり（November,2023）","【バウンシーバニー】フィービー"]
["ブロックチェーンエンジニア(Fire)","証券アナリスト(Fire)","半導体エンジニア(Water)","力士(Thunder)","【Lucky Farmer】やわらかい夏の農地[★1]","【DEP Channel】Special NFT（March,2024）","【Cookin' Burger】Food Cart “Fuji”-JCIDX","【Graffiti Racer】《変える力》ホープ（沈着）","【Graffiti Racer】《鉱物を求めて》パウワウ（勇猛）","【Graffiti Racer】《魔法学生》ホープ（不適）","【Graffiti Racer】《夢見るエルフ》メルロス（温厚）",null,null,"【Fujiwara Kamui Verse】NFT-RPG「雨の神を探して」参加チケットNFT","【麺屋 ドラゴンラーメン】ウカ",null,"【Lost Archive+】3番隊隊長 凛","【SOUL Fusers】ワリオーソ","【Rogue Roll Ruler's】魔道書～上級編～","【いしとほし】あおなゆめ（November,2023）","【バウンシーバニー】フィリップ #003"]
["ブロックチェーンエンジニア(Water)","エステティシャン(Water)","国税専門官(Thunder)","力士(Earth)","【Lucky Farmer】やわらかい夏の農地[★2]","【DEP Channel】Special NFT（April,2024）","【Cookin' Burger】Food Cart “Star”-WCIDX","【Graffiti Racer】《変える力》ホープ（詠唱）","【Graffiti Racer】《鉱物を求めて》パウワウ（堂々）","【Graffiti Racer】《人間観察》ホープ（沈着）","【Graffiti Racer】《夢見るエルフ》メルロス（大胆）",null,null,"【Fujiwara Kamui Verse】 NFT-RPG「ワコク鳴動す」参加チケットNFT","【麺屋 ドラゴンラーメン】チノ",null,"【Lost Archive+】凄腕のマークスマン ブレンダ","【SOUL Fusers】ベアサーカー","【Rogue Roll Ruler's】鋼の大斧","【いしとほし】記念NFT（November,2023）","【バウンシーバニー】フィリップ #002"]
["ブロックチェーンエンジニア(Nature)","精神科医(Thunder)","書店員(Poison)","声優(Fire)","【Lucky Farmer】やわらかい夏の農地[★3]",null,"【Cookin' Burger】Food Cart “Dragon”-CCIDX","【Graffiti Racer】《変える力》ホープ（不適）","【Graffiti Racer】《鉱物を求めて》パウワウ（豪快）","【Graffiti Racer】《人間観察》ホープ（詠唱）","【Graffiti Racer】《夢見るエルフ》メルロス（余裕）",null,null,"【Fujiwara Kamui Verse】NFT-RPG「砂漠の神殿」参加チケットNFT","【麺屋 ドラゴンラーメン】パヴォ・アスター",null,"【Lost Archive+】ガーデンナイト","【SOUL Fusers】チバニー","【Rogue Roll Ruler's】鉄のサバトン","【いしとほし】きらめるり（November,2023）","【バウンシーバニー】トッド"]
["ブロックチェーンエンジニア(Thunder)","リンゴ農家(Nature)","歯科技工士(Fire)","声優(Thunder)","【Lucky Farmer】やわらかい夏の農地[★4]",null,"【Cookin' Burger】Food Cart “Fuji”-JCODX","【Graffiti Racer】《月の力》ホープ（沈着）","【Graffiti Racer】《浸食》マオ（微笑）","【Graffiti Racer】《人間観察》ホープ（不適）","【Graffiti Racer】《月の民》ホープ（沈着）",null,null,"【Fujiwara Kamui Verse】NFT-RPG用キャラ作成NFT","【麺屋 ドラゴンラーメン】セン・モウシュン",null,"【Lost Archive+】ウィル・オ・ウィスプ","【SOUL Fusers】スノーチャー","【Rogue Roll Ruler's】チェーンメイル","【いしとほし】てんまみどり（November,2023）","【バウンシーバニー】フレディ #003"]
["眼科医(Water)","フラワーデザイナー(Earth)","歯科技工士(Water)","大学教授(Fire)","【Lucky Farmer】かたい夏の農地[★1]",null,"【Cookin' Burger】Food Cart “Star”-WCODX","【Graffiti Racer】《月の力》ホープ（詠唱）","【Graffiti Racer】《浸食》マオ（憂鬱）","【Graffiti Racer】《パワー系鍛冶師》パウワウ（勇猛）","【Graffiti Racer】《月の民》ホープ（詠唱）",null,null,"【Fujiwara Kamui Verse】世界創造リワードNFT 003","【麺屋 ドラゴンラーメン】レチリア・ローザ",null,"【Lost Archive+】孤高のゴブリン","【SOUL Fusers】ラべランチ","【Rogue Roll Ruler's】火柱大槌","【いしとほし】きらめるり（December,2023）","【バウンシーバニー】バーナビー #003"]
["眼科医(Nature)","ウェブデザイナー(Poison)","歯科技工士(Nature)","大学教授(Water)","【Lucky Farmer】かたい夏の農地[★2]",null,"【Cookin' Burger】Food Cart “Dragon”-CCODX","【Graffiti Racer】《月の力》ホープ（不適）","【Graffiti Racer】《浸食》マオ（面妖）","【Graffiti Racer】《パワー系鍛冶師》パウワウ（堂々）","【Graffiti Racer】《月の民》ホープ（不適）",null,null,"【Fujiwara Kamui Verse】NFT-RPG サブシナリオ「石人間現る！」参加チケットNFT","【麺屋 ドラゴンラーメン】ヴァン・バルド",null,"【Lost Archive+】一般兵","【SOUL Fusers】マモッチ","【Rogue Roll Ruler's】鋼のメイス","【いしとほし】みなほしかるり（December,2023）","【バウンシーバニー】ダッドリー #003"]
["眼科医(Thunder)","公式コスプレイヤーMiho（看護師）(Fire)","歯科技工士(Thunder)","大学教授(Nature)","【Lucky Farmer】かたい夏の農地[★3]",null,"【Cookin' Burger】Food Cart “Fuji”-JBEDX","【Graffiti Racer】《石の力》パウワウ（勇猛）","【Graffiti Racer】《汚染》マオ（微笑）","【Graffiti Racer】《パワー系鍛冶師》パウワウ（豪快）","【Graffiti Racer】《人間界へ》ホープ（沈着）",null,null,"【Fujiwara Kamui Verse】NFT-RPG サブシナリオ「災害の村を救え！」参加チケットNFT","【麺屋 ドラゴンラーメン】リソウ・コクショウ",null,"【Lost Archive+】向こう見ずのゴブリン","【SOUL Fusers】アマモス","【Rogue Roll Ruler's】異国の魔包","【いしとほし】あおなゆめ（December,2023）","【バウンシーバニー】ホレイシオ #002"]
["裁判官(Fire)","公式コスプレイヤーSikay（アイドル）(Water)","歯科技工士(Poison)","大学教授(Thunder)","【Lucky Farmer】かたい夏の農地[★4]",null,"【Cookin' Burger】Food Cart “Star”-WBEDX","【Graffiti Racer】《石の力》パウワウ（堂々）","【Graffiti Racer】《汚染》マオ（憂鬱）","【Graffiti Racer】《見極めの鍛冶師》パウワウ（勇猛）","【Graffiti Racer】《人間界へ》ホープ（詠唱）",null,null,"【Fujiwara Kamui Verse】NFT-RPG サブシナリオ「メトセラの謎」参加チケットNFT","【麺屋 ドラゴンラーメン】ユウユウ",null,"【Lost Archive+】突撃兵","【SOUL Fusers】プラウドモス","【Rogue Roll Ruler's】タイタンシールド","【いしとほし】ふろあらぽ（December,2023）","【バウンシーバニー】フィービー #005"]
["裁判官(Earth)","薬剤師(Nature)","歯科技工士(Earth)","大学教授(Poison)","【Lucky Farmer】サラサラな夏の農地[★1]",null,"【Cookin' Burger】Food Cart “Dragon”-CBEDX","【Graffiti Racer】《石の力》パウワウ（豪快）","【Graffiti Racer】《汚染》マオ（面妖）","【Graffiti Racer】《見極めの鍛冶師》パウワウ（堂々）","【Graffiti Racer】《人間界へ》ホープ（不適）",null,null,"【Fujiwara Kamui Verse】カムイバー酒記念NFT_タイプB","【麺屋 ドラゴンラーメン】ラン・レイリン(22' 聖夜)",null,"【Lost Archive+】境界からの伝言","【SOUL Fusers】グリチック","【Rogue Roll Ruler's】鬼火の加護","【いしとほし】記念NFT（December,2023）","【バウンシーバニー】ダッドリー #005"]
["銀行業界人(Nature)","公式コスプレイヤーThames（科学捜査官）(Thunder)","寿司職人(Water)","大学教授(Earth)","【Lucky Farmer】サラサラな夏の農地[★2]",null,"【Cookin' Burger】Food Cart “Fuji”-JCIEC","【Graffiti Racer】《精霊の加護》パウワウ（勇猛）","【Graffiti Racer】《寄り道花摘み》赤ずきん","【Graffiti Racer】《見極めの鍛冶師》パウワウ（豪快）","【Graffiti Racer】《未開の民》パウワウ（勇猛）",null,null,"【Fujiwara Kamui Verse】カムイバー酒記念NFT_タイプA（ホログラムバージョン）","【麺屋 ドラゴンラーメン】ジャク・ロン('23 正月)",null,"【Lost Archive+】瞬間的な増強","【SOUL Fusers】グリフィンゲイル","【Rogue Roll Ruler's】霊獣の脚骨","【いしとほし】あかほしれん（December,2023）","【バウンシーバニー】ホレイシオ #003"]
["銀行業界人(Thunder)","不動産鑑定士(Fire)","忍者(Poison)","現場監督(Fire)","【Lucky Farmer】サラサラな夏の農地[★3]",null,"【Cookin' Burger】Food Cart “Star”-WCIEC","【Graffiti Racer】《精霊の加護》パウワウ（堂々）","【Graffiti Racer】《寄り道花摘み》オオカミ耳 赤ずきん","【Graffiti Racer】《罪》マオ（微笑）","【Graffiti Racer】《未開の民》パウワウ（堂々）",null,null,"【Fujiwara Kamui Verse】NFT-RPG「青天の霹靂」参加チケットNFT","【麺屋 ドラゴンラーメン】ヤマジイ",null,"【Lost Archive+】知識の妄信者","【SOUL Fusers】グリフィンホーク","【Rogue Roll Ruler's】フェザーソード","【いしとほし】てんまみどり（December,2023）","【バウンシーバニー】トッド #004"]
["銀行業界人(Poison)","公式コスプレイヤーMiho（アイドル）(Earth)","忍者(Earth)","自動車製造業社社員(Fire)","【Lucky Farmer】サラサラな夏の農地[★4]",null,"【Cookin' Burger】Food Cart “Dragon”-CCIEC","【Graffiti Racer】《精霊の加護》パウワウ（豪快）","【Graffiti Racer】《寄り道花摘み》クマ耳 赤ずきん","【Graffiti Racer】《罪》マオ（憂鬱）","【Graffiti Racer】《未開の民》パウワウ（豪快）",null,null,"【Fujiwara Kamui Verse】NFT-RPG「冥界下りのその先に」参加チケットNFT","【麺屋 ドラゴンラーメン】ペスカーナ・マリーネ",null,"【Lost Archive+】プロテクション","【SOUL Fusers】ポニン","【Rogue Roll Ruler's】大火の皮鎧","【いしとほし】よぞらみゆ（December,2023）","【バウンシーバニー】トッド #003"]
["陶芸家(Fire)","公式コスプレイヤーThames（漫画家）(Poison)","市役所職員(Nature)","調理師(Fire)","【Lucky Farmer】ふつうの夏の農地[★1]",null,"【Cookin' Burger】Food Cart “Fuji”-JCOEC","【Graffiti Racer】《破滅》マオ（微笑）","【Graffiti Racer】《寄り道花摘み》ウサ耳 赤ずきん","【Graffiti Racer】《罪》マオ（面妖）","【Graffiti Racer】《民族の青年》パウワウ（勇猛）",null,null,"【Fujiwara Kamui Verse】NFT-RPG「眼か、心か」参加チケットNFT","【麺屋 ドラゴンラーメン】リィ・バオエン",null,"【Lost Archive+】悪戯好きなフェアリー","【SOUL Fusers】アベニス","【Rogue Roll Ruler's】ファランクス","【いしとほし】ふろあらぽ（April,2024）","【バウンシーバニー】マージョリー"]
["マジシャン(Water)","夢魔使い(Poison)","記者(Water)","調理師(Poison)","【Lucky Farmer】ふつうの夏の農地[★2]",null,"【Cookin' Burger】Food Cart “Star”-WCOEC","【Graffiti Racer】《破滅》マオ（憂鬱）","【Graffiti Racer】《トレジャーハンター》ジャック","【Graffiti Racer】《崩壊》マオ（微笑）","【Graffiti Racer】《民族の青年》パウワウ（堂々）",null,null,"【Fujiwara Kamui Verse】NFT-RPG「救いの手はここに」参加チケットNFT","【麺屋 ドラゴンラーメン】シエナ・エレーナ",null,"【Lost Archive+】精神の測定者","【SOUL Fusers】ぺガリオン","【Rogue Roll Ruler's】脇差　ー朧―","【いしとほし】あかほしれん（April,2024）","【バウンシーバニー】ハミッシュ #004"]
["外科医(Earth)","フィギュアスケーター(Water)","記者(Poison)","通訳(Poison)","【Lucky Farmer】ふつうの夏の農地[★3]",null,"【Cookin' Burger】Food Cart “Dragon”-CCOEC","【Graffiti Racer】《破滅》マオ（面妖）","【Graffiti Racer】《トレジャーハンター》エンドウ豆 ジャック","【Graffiti Racer】《崩壊》マオ（憂鬱）","【Graffiti Racer】《民族の青年》パウワウ（豪快）",null,null,"【Fujiwara Kamui Verse】NFT-RPG「ムーン・フォール」参加チケットNFT","【麺屋 ドラゴンラーメン】カヴァロ・チェローネ",null,"【Lost Archive+】若き軍師 バーナード","【SOUL Fusers】エアリー","【Rogue Roll Ruler's】覇王の鎧","【いしとほし】てんまみどり（April,2024）","【バウンシーバニー】ルーク #003"]
["タピオカミルクティーショップ店員(Thunder)","歯科医師(Thunder)","養蜂家(Nature)","ウェブプランナー(Poison)","【Lucky Farmer】ふつうの夏の農地[★4]",null,"【Cookin' Burger】Food Cart “Fuji”-JBEEC","【Graffiti Racer】《魔王》マオ（微笑）","【Graffiti Racer】《トレジャーハンター》黄花 ジャック","【Graffiti Racer】《崩壊》マオ（面妖）","【Graffiti Racer】《自信家魔法使い》マオ（微笑）",null,null,"【Fujiwara Kamui Verse】NFT-RPG「暗夜、いきづまり心中」参加チケットNFT","【麺屋 ドラゴンラーメン】ユーキ・ラチカ",null,"【Lost Archive+】月輝の踊り子","【SOUL Fusers】アネモニックス","【Rogue Roll Ruler's】魔法の水晶","【いしとほし】よぞらみゆ（April,2024）","【バウンシーバニー】フレディ"]
["漫画家(Nature)","サンタクロース（グリーン）(Nature)","キャバクラ嬢(Poison)","ウェブプランナー(Earth)","【Lucky Farmer】やわらかい秋の農地[★1]",null,"【Cookin' Burger】Food Cart “Star”-WBEEC","【Graffiti Racer】《魔王》マオ（憂鬱）","【Graffiti Racer】《トレジャーハンター》木の実 ジャック","【Graffiti Racer】《お見舞い》赤ずきん","【Graffiti Racer】《自信家魔法使い》マオ（憂鬱）",null,null,"【Fujiwara Kamui Verse】NFT-RPG「女神ティータイム」参加チケットNFT","【麺屋 ドラゴンラーメン】テッケツ",null,"【Lost Archive+】徴収","【SOUL Fusers】プレイグウィング","【Rogue Roll Ruler's】虚竜の牙","【いしとほし】きらめるり（April,2024）","【バウンシーバニー】マックス #003"]
["水泳インストラクター(Water)","司法書士(Earth)","製薬会社営業(Thunder)","クローズドβテスター(Nature)","【Lucky Farmer】やわらかい秋の農地[★2]",null,"【Cookin' Burger】Food Cart “Dragon”-CBEEC","【Graffiti Racer】《魔王》マオ（面妖）","【Graffiti Racer】《異界に導かれし者》アリス","【Graffiti Racer】《お見舞い》オオカミ耳 赤ずきん","【Graffiti Racer】《自信家魔法使い》マオ（面妖）",null,null,"【Fujiwara Kamui Verse】Aopanda Party Collaboration NFT 002","【麺屋 ドラゴンラーメン】リズ・プリム",null,"【Lost Archive+】予言","【SOUL Fusers】ゴーレン","【Rogue Roll Ruler's】親衛隊の脚甲","【いしとほし】あおなゆめ（April,2024）","【バウンシーバニー】ブルース #003"]
["ホステス(Nature)","ポータルサイター(Fire)","土木作業員(Earth)","子供の村人（女性）(Fire)","【Lucky Farmer】やわらかい秋の農地[★3]",null,"【Cookin' Burger】Food Cart “Fuji”-JCISH","【Graffiti Racer】オオカミ少女 赤ずきん","【Graffiti Racer】《異界に導かれし者》ハート アリス","【Graffiti Racer】《お見舞い》クマ耳 赤ずきん","【Graffiti Racer】《魔法の天才》マオ（微笑）",null,null,"【Fujiwara Kamui Verse】Aopanda Party Collaboration NFT 001","【麺屋 ドラゴンラーメン】イェンフー",null,"【Lost Archive+】長槍兵","【SOUL Fusers】ゴレット","【Rogue Roll Ruler's】異国の魔砲","【いしとほし】みなほしかるり（April,2024）","【バウンシーバニー】ホレイシオ #004"]
["中国拳法道場主(Thunder)","映画監督(Earth)","水族館飼育員(Water)","子供の村人（男性）(Water)","【Lucky Farmer】やわらかい秋の農地[★4]",null,"【Cookin' Burger】Food Cart “Star”-WCISH","【Graffiti Racer】森のお友達 赤ずきん","【Graffiti Racer】《異界に導かれし者》スター アリス","【Graffiti Racer】《お見舞い》ウサ耳 赤ずきん","【Graffiti Racer】《魔法の天才》マオ（憂鬱）",null,null,"【Fujiwara Kamui Verse】NFT-RPG「サンダーディスコフィーバー」参加チケットNFT","【麺屋 ドラゴンラーメン】トーラ・トレヴィス",null,"【Lost Archive+】長弓兵","【SOUL Fusers】ゴルーク","【Rogue Roll Ruler's】鉄の盾",null,"【バウンシーバニー】マージョリー #003"]
["蛇使い(Water)","重機メーカー社員(Thunder)","電車運転士(Fire)","老年の村人（女性）(Nature)","【Lucky Farmer】かたい秋の農地[★1]",null,"【Cookin' Burger】Food Cart “Dragon”-CCISH","【Graffiti Racer】一刀両断 ジャック","【Graffiti Racer】《異界に導かれし者》バニー アリス","【Graffiti Racer】《破天荒な挑戦》ジャック","【Graffiti Racer】《魔法の天才》マオ（面妖）",null,null,"【Fujiwara Kamui Verse】NFT-RPG「巨大ヌマンガ、襲来」参加チケットNFT","【麺屋 ドラゴンラーメン】ベル・チュンシー",null,"【Lost Archive+】蔵書の追加","【SOUL Fusers】リルボア","【Rogue Roll Ruler's】紅蓮の宝石",null,"【バウンシーバニー】ブルース #004"]
["官僚(Fire)","アロマセラピスト(Water)","ひよこ鑑定士(Nature)","老年の村人（男性）(Thunder)","【Lucky Farmer】かたい秋の農地[★2]",null,"【Cookin' Burger】Food Cart “Fuji”-JCOSH","【Graffiti Racer】迫り来る大男 ジャック","【Graffiti Racer】《ドレスアップ》シンデレラ","【Graffiti Racer】《破天荒な挑戦》エンドウ豆 ジャック","【Graffiti Racer】《初めてのおつかい》赤ずきん",null,null,"【Fujiwara Kamui Verse】2024カルタキャンペーン記念NFT","【麺屋 ドラゴンラーメン】ラント・ニコーレ",null,"【Lost Archive+】魅惑的な悪魔","【SOUL Fusers】ハンマーテイル","【Rogue Roll Ruler's】[大文豪]ヤァエ",null,"【バウンシーバニー】ブルース #002"]
["花火師(Fire)","博士研究員(Poison)","古代中国の将軍(Earth)","労働基準監督官(Nature)","【Lucky Farmer】かたい秋の農地[★3]",null,"【Cookin' Burger】Food Cart “Star”-WCOSH","【Graffiti Racer】ティーパーティー アリス","【Graffiti Racer】《ドレスアップ》ポニーテール シンデレラ","【Graffiti Racer】《破天荒な挑戦》黄花 ジャック","【Graffiti Racer】《初めてのおつかい》オオカミ耳 赤ずきん",null,null,"【Fujiwara Kamui Verse】NFT-RPG「煌めきの迷路」参加チケットNFT","【麺屋 ドラゴンラーメン】マリル・アルヒー(ハーフアニバーサリー)",null,"【Lost Archive+】精鋭の兵士","【SOUL Fusers】ウォーホグ","【Rogue Roll Ruler's】駿馬甲",null,"【バウンシーバニー】ルーファス #003"]
["名義貸し(Nature)","ライバー(Fire)","小児科医(Thunder)","広告代理店社員(Poison)","【Lucky Farmer】かたい秋の農地[★4]",null,"【Cookin' Burger】Food Cart “Dragon”-CCOSH","【Graffiti Racer】ウサギと追いかけっこ アリス","【Graffiti Racer】《ドレスアップ》ツインテール シンデレラ","【Graffiti Racer】《破天荒な挑戦》木の実 ジャック","【Graffiti Racer】《初めてのおつかい》クマ耳 赤ずきん",null,null,"【Fujiwara Kamui Verse】NFT-RPG「陽に挑む」参加チケットNFT","【麺屋 ドラゴンラーメン】ヤオ・フーマオ",null,"【Lost Archive+】熟達の冒険者","【SOUL Fusers】モレナー","【Rogue Roll Ruler's】[秩序]ダフリ",null,"【バウンシーバニー】フィービー #003"]
["受け子(Earth)","入国審査官(Nature)","【WORLD FLAGS】マレーシア＜阿漸武（AXAMU）＞(Water)","歯科衛生士(Water)","【Lucky Farmer】サラサラな秋の農地[★1]",null,"【Cookin' Burger】Food Cart “Fuji”-JBESH","【Graffiti Racer】魔法に魅せられて シンデレラ","【Graffiti Racer】《ドレスアップ》ウェーブ シンデレラ","【Graffiti Racer】《ウサギ穴に落ちて》アリス","【Graffiti Racer】《初めてのおつかい》ウサ耳 赤ずきん",null,null,"【Fujiwara Kamui Verse】カムイバースカップ記念NFT","【麺屋 ドラゴンラーメン】ヨウリン・ファラクス",null,"【Lost Archive+】武具の調達","【SOUL Fusers】モルクロー","【Rogue Roll Ruler's】魔法のブーツ",null,"【バウンシーバニー】ハミッシュ #002"]
["殺し屋(Poison)","産婦人科医(Thunder)","【WORLD FLAGS】フィリピン共和国＜利沙琉（RISAR）＞(Nature)","美容師(Thunder)","【Lucky Farmer】サラサラな秋の農地[★2]",null,"【Cookin' Burger】Food Cart “Star”-WBESH","【Graffiti Racer】0時を告げる時打ちの音 シンデレラ","【Graffiti Racer】《お菓子の家》ヘンゼルとグレーテル","【Graffiti Racer】《ウサギ穴に落ちて》ハート アリス","【Graffiti Racer】《牛飼いの青年》ジャック",null,null,null,"【麺屋 ドラゴンラーメン】ニーユン",null,"【Lost Archive+】テレポート","【SOUL Fusers】メカモグ","【Rogue Roll Ruler's】怨嗟の衣",null,"【バウンシーバニー】トーマス"]
["ハッカー(Thunder)","移植コーディネーター(Earth)","【WORLD FLAGS】アメリカ合衆国＜駄須天（JUSTIN）＞(Thunder)","特殊清掃士(Poison)","【Lucky Farmer】サラサラな秋の農地[★3]",null,"【Cookin' Burger】Food Cart “Dragon”-CBESH","【Graffiti Racer】逆転の一撃 ヘンゼルとグレーテル","【Graffiti Racer】《お菓子の家》スター ヘンゼルとグレーテル","【Graffiti Racer】《ウサギ穴に落ちて》スター アリス","【Graffiti Racer】《牛飼いの青年》エンドウ豆 ジャック",null,null,null,"【麺屋 ドラゴンラーメン】ドンジン",null,"【Lost Archive+】ファイアージャベリン","【SOUL Fusers】リリーフ","【Rogue Roll Ruler's】ヨルゲン・ソロ",null,"【バウンシーバニー】トーマス #002"]
["拷問師(Poison)","公認会計士(Water)","【WORLD FLAGS】インドネシア共和国＜真春出伊華（MAHARUDIKA）＞(Fire)","若い村人（女性）(Poison)","【Lucky Farmer】サラサラな秋の農地[★4]",null,"【Cookin' Burger】Food Cart “Fuji”-JTGSH","【Graffiti Racer】束の間の休息 ヘンゼルとグレーテル","【Graffiti Racer】《お菓子の家》ハート ヘンゼルとグレーテル","【Graffiti Racer】《ウサギ穴に落ちて》バニー アリス","【Graffiti Racer】《牛飼いの青年》黄花 ジャック",null,null,null,"【麺屋 ドラゴンラーメン】メル",null,"【Lost Archive+】堅牢な門番","【SOUL Fusers】フロンナ","【Rogue Roll Ruler's】グランディアー",null,"【バウンシーバニー】トーマス #004"]
["シールドマシンオペレーター(Earth)","海事代理士(Water)","【WORLD FLAGS】チリ共和国＜佐々（Za-Sa）＞(Earth)","若い村人（男性）(Earth)","【Lucky Farmer】ふつうの秋の農地[★1]",null,"【Cookin' Burger】Food Cart “Star”-WTGSH","【Graffiti Racer】マーチングパレード ハーメルン","【Graffiti Racer】《お菓子の家》バニー ヘンゼルとグレーテル","【Graffiti Racer】《お掃除メイド》シンデレラ","【Graffiti Racer】《牛飼いの青年》木の実 ジャック",null,null,null,"【麺屋 ドラゴンラーメン】シャンフ・メリア(チアガール)",null,"【Lost Archive+】雲の管理人","【SOUL Fusers】リリークロン","【Rogue Roll Ruler's】防火の長靴",null,"【バウンシーバニー】ボビー #002"]
["宝くじ販売員(Nature)","フードコーディネーター(Nature)","土地家屋調査士(Earth)","中年の村人（女性）(Fire)","【Lucky Farmer】ふつうの秋の農地[★2]",null,"【Cookin' Burger】Food Cart “Dragon”-CTGSH","【Graffiti Racer】魅惑の調べ ハーメルン","【Graffiti Racer】《魔笛の導き》ハーメルン","【Graffiti Racer】《お掃除メイド》ポニーテール シンデレラ","【Graffiti Racer】《好奇心旺盛》アリス",null,null,null,"【麺屋 ドラゴンラーメン】ユリシス・ルース",null,"【Lost Archive+】さらなる知識","【SOUL Fusers】モニエタ","【Rogue Roll Ruler's】プレートアーマー",null,"【バウンシーバニー】バネッサ #003"]
["機動隊員(Thunder)","麻酔科医(Fire)","廃棄物収集業者(Poison)","中年の村人（男性）(Water)","【Lucky Farmer】ふつうの秋の農地[★3]",null,"【Cookin' Burger】Food Cart “Fuji”-JTGEC",null,"【Graffiti Racer】《魔笛の導き》ポニーテール ハーメルン","【Graffiti Racer】《お掃除メイド》ツインテール シンデレラ","【Graffiti Racer】《好奇心旺盛》ハート アリス",null,null,null,"【麺屋 ドラゴンラーメン】ジース",null,"【Lost Archive+】水辺のフェアリー","【SOUL Fusers】チンパンキ","【Rogue Roll Ruler's】[純真]パディ",null,"【バウンシーバニー】ボビー"]
["鍛冶職人(Fire)","競馬調教師(Thunder)","コスプレイヤーhimeshinra（騎手）(Water)","ワークドッグ(Nature)","【Lucky Farmer】ふつうの秋の農地[★4]",null,"【Cookin' Burger】Food Cart “Star”-WTGEC",null,"【Graffiti Racer】《魔笛の導き》ボブ ハーメルン","【Graffiti Racer】《お掃除メイド》ウェーブ シンデレラ","【Graffiti Racer】《好奇心旺盛》スター アリス",null,null,null,"【麺屋 ドラゴンラーメン】ハーチナ",null,"【Lost Archive+】兵隊蜂 キュリー","【SOUL Fusers】パットパット","【Rogue Roll Ruler's】冷風の羽織",null,"【バウンシーバニー】ボビー #003"]
["看護師(Earth)","鉄筋工(Earth)","コスプレイヤーKOYUKI（水泳インストラクター）(Nature)","猫カフェ店員(Poison)","【Lucky Farmer】やわらかい冬の農地[★1]",null,"【Cookin' Burger】Food Cart “Dragon”-CTGEC",null,"【Graffiti Racer】《魔笛の導き》ショート ハーメルン","【Graffiti Racer】《彷徨いの森》ヘンゼルとグレーテル","【Graffiti Racer】《好奇心旺盛》バニー アリス",null,null,null,"【麺屋 ドラゴンラーメン】デューラ・セロヴァ",null,"【Lost Archive+】踏みつぶし","【SOUL Fusers】リーゴート","【Rogue Roll Ruler's】アサシンマント",null,"【バウンシーバニー】トーマス #003"]
["カカオ農園主(Nature)","画家(Poison)","ドッグトレーナー(Nature)","作曲家(Water)","【Lucky Farmer】やわらかい冬の農地[★2]",null,"【Cookin' Burger】Food Truck “Fuji”-JCIDXB",null,"【Graffiti Racer】《Lucky Farmer》ピノとキラナ","【Graffiti Racer】《彷徨いの森》スター ヘンゼルとグレーテル","【Graffiti Racer】《灰かぶりの娘》シンデレラ",null,null,null,"【麺屋 ドラゴンラーメン】ロレール・ノエ",null,"【Lost Archive+】広がる森林","【SOUL Fusers】ヴァルキドラ","【Rogue Roll Ruler's】ラウンドシールド",null,"【バウンシーバニー】バネッサ"]
["駅長(Thunder)","【PvP チャンピオン】shinkei ＜2021年7月＞(Nature)","サンタクロース（ブラック）(Water)","タレント犬(Thunder)","【Lucky Farmer】やわらかい冬の農地[★3]",null,"【Cookin' Burger】Food Truck “Star”-WCIDXB",null,null,"【Graffiti Racer】《彷徨いの森》ハート ヘンゼルとグレーテル","【Graffiti Racer】《灰かぶりの娘》ポニーテール シンデレラ",null,null,null,"【麺屋 ドラゴンラーメン】ルー",null,"【Lost Archive+】兵器の提供","【SOUL Fusers】フロラゴート","【Rogue Roll Ruler's】懺悔の書",null,"【バウンシーバニー】バネッサ #002"]
["演歌歌手(Water)","【ヤッターマン】ヤッターマン(Water)","コスプレイヤーCoser - Black/黒（宝くじ販売員）(Poison)","タレント猫(Earth)","【Lucky Farmer】やわらかい冬の農地[★4]",null,"【Cookin' Burger】Food Truck “Dragon”-CCIDXB",null,null,"【Graffiti Racer】《彷徨いの森》バニー ヘンゼルとグレーテル","【Graffiti Racer】《灰かぶりの娘》ツインテール シンデレラ",null,null,null,"【麺屋 ドラゴンラーメン】トルシナ・ヨーシュ",null,"【Lost Archive+】モーラ","【SOUL Fusers】ハイブリング","【Rogue Roll Ruler's】愛国の印",null,"【バウンシーバニー】ボビー #004"]
["猟師(Earth)","【ヤッターマン】ボヤッキー(Nature)","コスプレイヤーPAINS（マジシャン）(Earth)","プロブロガー(Fire)","【Lucky Farmer】かたい冬の農地[★1]",null,"【Cookin' Burger】Food Truck “Fuji”-JCODXB",null,null,"【Graffiti Racer】《世話好き》ハーメルン","【Graffiti Racer】《灰かぶりの娘》ウェーブ シンデレラ",null,null,null,"【麺屋 ドラゴンラーメン】【ラーメン箱推し！】SKE48 相川 暖花",null,"【Lost Archive+】空からの贈り物","【SOUL Fusers】ハイブノム","【Rogue Roll Ruler's】[護聖]イェッタ",null,"【バウンシーバニー】バネッサ #004"]
["新聞記者(Poison)","【ヤッターマン】トンズラー(Poison)","ネイリスト(Water)","自動車教習所指導員(Poison)","【Lucky Farmer】かたい冬の農地[★2]",null,"【Cookin' Burger】Food Truck “Star”-WCODXB",null,null,"【Graffiti Racer】《世話好き》ポニーテール ハーメルン","【Graffiti Racer】《木こり一家の兄妹》ヘンゼルとグレーテル",null,null,null,"【麺屋 ドラゴンラーメン】【メンドル】SKE48 相川 暖花",null,"【Lost Archive+】見習い魔導士 ニコル","【SOUL Fusers】クイーンベニー","【Rogue Roll Ruler's】銀の弾丸",null,"【バウンシーバニー】イーサン #003"]
["怪盗(Fire)","カイロプラクター(Fire)","コスプレイヤーVehlo Kaze 風（科学捜査官）(Fire)","コソ泥(Fire)","【Lucky Farmer】かたい冬の農地[★3]",null,"【Cookin' Burger】Food Truck “Dragon”-CCODXB",null,null,"【Graffiti Racer】《世話好き》ボブ ハーメルン","【Graffiti Racer】《木こり一家の兄妹》スター ヘンゼルとグレーテル",null,null,null,"【麺屋 ドラゴンラーメン】【ラーメン部】SKE48 相川 暖花",null,"【Lost Archive+】勇気の紋章","【SOUL Fusers】オウリー","【Rogue Roll Ruler's】音無",null,"【バウンシーバニー】イーサン #004"]
["フレンチシェフ(Nature)","スポーツトレーナー(Thunder)","酪農家(Nature)","追い剥ぎ(Water)","【Lucky Farmer】かたい冬の農地[★4]",null,"【Cookin' Burger】Food Truck “Fuji”-JBEDXB",null,null,"【Graffiti Racer】《世話好き》ショート ハーメルン","【Graffiti Racer】《木こり一家の兄妹》ハート ヘンゼルとグレーテル",null,null,null,"【麺屋 ドラゴンラーメン】SKE48 相川 暖花",null,"【Lost Archive+】蜜集めのフェアリー","【SOUL Fusers】ソウルサラー","【Rogue Roll Ruler's】英雄の眼",null,"【バウンシーバニー】ローザ #003"]
["総理大臣(Poison)","＜Kanoa＞勇者(Nature)","理学療法士(Fire)","登山家(Nature)","【Lucky Farmer】サラサラな冬の農地[★1]",null,"【Cookin' Burger】Food Truck “Star”-WBEDXB",null,null,"【Graffiti Racer】《Lucky Farmer》ジョンじいさん","【Graffiti Racer】《木こり一家の兄妹》バニー ヘンゼルとグレーテル",null,null,null,"【麺屋 ドラゴンラーメン】【イマドキ拉麺！】SKE48 中野 愛理",null,"【Lost Archive+】ホブゴブリン","【SOUL Fusers】メイガソウル","【Rogue Roll Ruler's】無垢の手",null,"【バウンシーバニー】バーノン"]
["占い師(Water)","＜L-ilith＞魔王(Poison)","治験コーディネーター(Poison)","食い逃げ(Thunder)","【Lucky Farmer】サラサラな冬の農地[★2]",null,"【Cookin' Burger】Food Truck “Dragon”-CBEDXB",null,null,null,"【Graffiti Racer】《流浪の旅人》ハーメルン",null,null,null,"【麺屋 ドラゴンラーメン】【メンドル】SKE48 中野 愛理",null,"【Lost Archive+】見習い魔導士 クリス","【SOUL Fusers】レオン","【Rogue Roll Ruler's】奈落歩き",null,"【バウンシーバニー】ローザ #004"]
["靴職人(Earth)","ショコラティエール(Earth)","コスプレイヤーYuan Cross（麻薬密売人）(Thunder)","万引き(Earth)","【Lucky Farmer】サラサラな冬の農地[★3]",null,"【PlayMining】バーガーくん（ブロマイドNFT）",null,null,null,"【Graffiti Racer】《流浪の旅人》ポニーテール ハーメルン",null,null,null,"【麺屋 ドラゴンラーメン】【ラーメン部】SKE48 中野 愛理",null,"【Lost Archive+】見習い魔導士 ケヴィン","【SOUL Fusers】レオンハート","【Rogue Roll Ruler's】[聖女]カ・タルア",null,"【バウンシーバニー】イーサン"]
["茶道家(Water)","【PvP チャンピオン】Neoneow ＜2021年11月＞(Thunder)","航空機操縦士(Fire)","養豚農家(Nature)","【Lucky Farmer】サラサラな冬の農地[★4]",null,null,null,null,null,"【Graffiti Racer】《流浪の旅人》ボブ ハーメルン",null,null,null,"【麺屋 ドラゴンラーメン】SKE48 中野 愛理",null,"【Lost Archive+】落日","【SOUL Fusers】ブレディオン","【Rogue Roll Ruler's】[聖夜]カーシャ",null,"【バウンシーバニー】バーノン #002"]
["オンライン英会話教師(Thunder)","【カイジ】利根川幸雄(Thunder)","百貨店外商社員(Thunder)","自動車組立工(Thunder)","【Lucky Farmer】ふつうの冬の農地[★1]",null,null,null,null,null,"【Graffiti Racer】《流浪の旅人》ショート ハーメルン",null,null,null,"【麺屋 ドラゴンラーメン】【マシマシ鬼盛り！】SKE48 菅原 茉椰",null,"【Lost Archive+】黒い月","【SOUL Fusers】ポイズンルーク","【Rogue Roll Ruler's】親衛隊の槍",null,"【バウンシーバニー】ローザ #002"]
["プロボウラー(Fire)","【カイジ】大槻班長(Earth)","税理士(Poison)","ベーカリー店員(Fire)","【Lucky Farmer】ふつうの冬の農地[★2]",null,null,null,null,null,"【Graffiti Racer】ワンダーランド カーニバル",null,null,null,"【麺屋 ドラゴンラーメン】【メンドル】SKE48 菅原 茉椰",null,"【Lost Archive+】白日","【SOUL Fusers】クロウジオン","【Rogue Roll Ruler's】鬼火",null,"【バウンシーバニー】バーノン #003"]
["小籠包職人(Nature)","【カイジ】兵藤和尊(Poison)","行政書士(Fire)","システムエンジニア(Poison)","【Lucky Farmer】ふつうの冬の農地[★3]",null,null,null,null,null,null,null,null,null,"【麺屋 ドラゴンラーメン】【ラーメン部】SKE48 菅原 茉椰",null,"【Lost Archive+】特務部隊の精鋭","【SOUL Fusers】Dr.クオラントム","【Rogue Roll Ruler's】深淵の口",null,"【バウンシーバニー】イーサン #002"]
["臨床研修医師(Poison)","【ドラゴン桜2】水野直美(Water)","ショーダンサー(Water)","バスガイド(Earth)","【Lucky Farmer】ふつうの冬の農地[★4]",null,null,null,null,null,null,null,null,null,"【麺屋 ドラゴンラーメン】SKE48 菅原 茉椰",null,"【Lost Archive+】武装少女","【SOUL Fusers】エルフィンローズ","【Rogue Roll Ruler's】打烙三號",null,"【バウンシーバニー】バーノン #004"]
["サンタクロース（レッド）(Fire)","【インベスターZ】神代圭介(Thunder)","診療放射線技師(Thunder)","ソムリエール(Water)","【Lucky Farmer】ジョンじいさん（ピンクパジャマ）",null,null,null,null,null,null,null,null,null,"【麺屋 ドラゴンラーメン】【辛味で幸せ！】SKE48 末永 桜花",null,"【Lost Archive+】若き天才メカニック シズク","【SOUL Fusers】ロゼフィーナ","【Rogue Roll Ruler's】ショートボウ",null,"【バウンシーバニー】ローザ"]
["カーデザイナー(Thunder)","航海士(Water)","宝飾デザイナー(Earth)","医療事務員(Earth)","【Lucky Farmer】ピノ（ウェスタン）",null,null,null,null,null,null,null,null,null,"【麺屋 ドラゴンラーメン】【メンドル】SKE48 末永 桜花",null,"【Lost Archive+】森林狼","【SOUL Fusers】ブラッディローゼン","【Rogue Roll Ruler's】[聖夜]レグリアン",null,"【バウンシーバニー】ハイマン #003"]
["ナニー(Fire)","イラストレーター(Thunder)","【PvP チャンピオン】shinkei ＜2021年2月＞(Water)","【Puzzle Ranger】パズルレッド＜リッキー＞(Fire)","【Lucky Farmer】エヴァ（ウェスタン）",null,null,null,null,null,null,null,null,null,"【麺屋 ドラゴンラーメン】【ラーメン部】SKE48 末永 桜花",null,"【Lost Archive+】ファイアーストーム","【SOUL Fusers】モキボックス","【Rogue Roll Ruler's】[道化]アラン",null,"【バウンシーバニー】ヴェロニカ #002"]
["ハッピーニューイヤーマン2021(Water)","公式コスプレイヤーmiho（スポーツトレーナー）(Fire)","オペラ歌手(Nature)","【Puzzle Ranger】パズルブルー＜カイル＞(Water)","【Lucky Farmer】麗麗（春節）",null,null,null,null,null,null,null,null,null,"【麺屋 ドラゴンラーメン】SKE48 末永 桜花",null,"【Lost Archive+】降り注ぐ絶望の羽","【SOUL Fusers】グリムボックス","【Rogue Roll Ruler's】無形",null,"【バウンシーバニー】オーウェン #003"]
["巫女(Water)","公式コスプレイヤーSikay（ショーダンサー）(Poison)","プロポーカー選手(Poison)","【Puzzle Ranger】パズルイエロー＜チャンディ＞(Poison)","【Lucky Farmer】ジョンじいさん（春節）",null,null,null,null,null,null,null,null,null,"【麺屋 ドラゴンラーメン】リーア・アディナ",null,"【Lost Archive+】光の魔導士 ニコル","【SOUL Fusers】デストロボックス","【Rogue Roll Ruler's】頑丈な射籠手",null,"【バウンシーバニー】オーウェン"]
["入国警備官(Earth)","公式コスプレイヤーThames（ソーシャルメディアプランナー）(Earth)","ブライダルコーディネーター(Earth)","【Puzzle Ranger】パズルグリーン＜パロン＞(Nature)","【Lucky Farmer】《B-idol》Rin",null,null,null,null,null,null,null,null,null,"【麺屋 ドラゴンラーメン】リソウ・カイエン",null,"【Lost Archive+】湧力の大樹","【SOUL Fusers】ブードゥーム","【Rogue Roll Ruler's】バンボレッタ",null,"【バウンシーバニー】オーウェン #004"]
["女性アナウンサー(Thunder)","【大東京トイボックス】仙水伊鶴(Poison)","船長(Water)","【Puzzle Ranger】パズルホワイト＜テン＞(Thunder)","【Lucky Farmer】《B-idol》Youran",null,null,null,null,null,null,null,null,null,"【麺屋 ドラゴンラーメン】ルビル・ウィルス",null,"【Lost Archive+】獣語の通訳者","【SOUL Fusers】フォーレンナイト","【Rogue Roll Ruler's】無名",null,"【バウンシーバニー】ヴェロニカ #004"]
["快眠セラピスト(Nature)","小説家(Nature)","【PvP チャンピオン】Neoneow ＜2021年4月＞(Thunder)","プロゲーマー(Thunder)","【Lucky Farmer】《世界を変えよう！支援NFT》DJhau",null,null,null,null,null,null,null,null,null,"【麺屋 ドラゴンラーメン】ツイ・ソウ",null,"【Lost Archive+】蒼空の殲槍 セラフィナ","【SOUL Fusers】ドラゴスケル","【Rogue Roll Ruler's】ショーテル",null,"【バウンシーバニー】ハイマン"]
["バーテンダー(Poison)","【アイドル雀士スーチーパイ】スーチーパイ&Rin(Fire)","みかん農家(Nature)","焼き芋販売員(Fire)","【Lucky Farmer】サイゾウ（忍者）",null,null,null,null,null,null,null,null,null,"【麺屋 ドラゴンラーメン】サイネ(23' サマー)",null,"【Lost Archive+】目印の大旗","【SOUL Fusers】フレアラ","【Rogue Roll Ruler's】無念の痕跡",null,"【バウンシーバニー】ハイマン #004"]
["麻薬密売人(Poison)","【アイドル雀士スーチーパイ】ピーチパイ＆Sophia(Nature)","新聞配達員(Fire)","【PlayMiningTV】オリビア(Thunder)","【Lucky Farmer】キラナ（忍者）",null,null,null,null,null,null,null,null,null,"【麺屋 ドラゴンラーメン】ドットーレ・クルル",null,"【Lost Archive+】テンペスト","【SOUL Fusers】アイトリック","【Rogue Roll Ruler's】[罪人]ガングラ",null,"【バウンシーバニー】ヴェロニカ #003"]
["仲居(Nature)","【アイドル雀士スーチーパイ】レモンパイ＆Emma(Thunder)","【ヤッターマン】ヤッターワン(Earth)","書籍編集者(Water)","【Lucky Farmer】エヴァ（レインコート）",null,null,null,null,null,null,null,null,null,"【麺屋 ドラゴンラーメン】フレデリコ・ディル",null,"【Lost Archive+】紅蓮の世界","【SOUL Fusers】ガルーディア","【Rogue Roll Ruler's】儀仗杖",null,"【バウンシーバニー】ハイマン #002"]
["動物看護師(Fire)","【アイドル雀士スーチーパイ】チェリーパイ＆Camille(Poison)","【ヤッターマン】ヤッターペリカン(Nature)","【PvP チャンピオン】shinkei ＜2021年1月＞(Nature)","【Lucky Farmer】麗麗（レインコート）",null,null,null,null,null,null,null,null,null,"【麺屋 ドラゴンラーメン】【配信者企画チャンピオン】わこ",null,"【Lost Archive+】熟達の暗殺者","【SOUL Fusers】ピンキー","【Rogue Roll Ruler's】バグ・ナク",null,"【バウンシーバニー】オーウェン #002"]
["学芸員(Earth)","【アイドル雀士スーチーパイ】ミルキーパイ＆Youran(Earth)","【ヤッターマン】ヤッターアンコウ(Thunder)","ゲームプランナー(Poison)","【Lucky Farmer】《Graffiti Racer》ローラ",null,null,null,null,null,null,null,null,null,"【麺屋 ドラゴンラーメン】コウ・リュウラン",null,"【Lost Archive+】マタンゴ","【SOUL Fusers】フロラゼル","【Rogue Roll Ruler's】絶望珠",null,"【バウンシーバニー】ヴェロニカ"]
["バイクタクシー運転手(Thunder)","【アイドル雀士スーチーパイ】スーチーユキ＆Amelia(Water)","メイクアップアーティスト(Poison)","社会保険労務士(Earth)","【Lucky Farmer】《Graffiti Racer》赤ずきん",null,null,null,null,null,null,null,null,null,"【麺屋 ドラゴンラーメン】パヴォ・ネモス",null,"【Lost Archive+】先導する守護者 リコ","【SOUL Fusers】ロゼヴァルキュリア","【Rogue Roll Ruler's】グラライト晶"]
["カフェ・バリスタ(Water)","モデル(Poison)","発破技師(Fire)","【Puzzle Ranger 2nd】パズルレッド＜リッキー＞(Fire)","【Lucky Farmer】ピノ（アラジンと魔法のランプ）",null,null,null,null,null,null,null,null,null,"【麺屋 ドラゴンラーメン】ルビル・クッド",null,"【Lost Archive+】エアライダー","【SOUL Fusers】メガソン","【Rogue Roll Ruler's】[舞姫]ガウリカ"]
["プロ野球選手(Fire)","【機動警察パトレイバー】TYPE-J9 グリフォン(Poison)","【PvP チャンピオン】MaouKun ＜2021年9月＞(Poison)","【Puzzle Ranger 2nd】パズルブルー＜カイル＞(Water)","【Lucky Farmer】キラナ（アラジンと魔法のランプ）",null,null,null,null,null,null,null,null,null,"【麺屋 ドラゴンラーメン】ツイ・オウ",null,"【Lost Archive+】注がれる生命","【SOUL Fusers】ハウレット","【Rogue Roll Ruler's】[獣師]フラム"]
["塗師(Nature)","工業デザイナー(Thunder)","【PvP チャンピオン】アジフライ(ajihurai) ＜2021年10月＞(Nature)","【Puzzle Ranger 2nd】パズルイエロー＜チャンディ＞(Poison)","【Lucky Farmer】《B-idol》Camille",null,null,null,null,null,null,null,null,null,"【麺屋 ドラゴンラーメン】ニャンニャン",null,"【Lost Archive+】炎の魔術師 クリス","【SOUL Fusers】ルナスカル","【Rogue Roll Ruler's】エッグベル"]
["綿職人(Earth)","クリエイティブデザイナー(Poison)","美術商(Poison)","【Puzzle Ranger 2nd】パズルグリーン＜パロン＞(Nature)","【Lucky Farmer】《B-idol》Amelia",null,null,null,null,null,null,null,null,null,"【麺屋 ドラゴンラーメン】ラン・レイリン＆ジャク・ロン",null,"【Lost Archive+】氷の魔術師 ケヴィン","【SOUL Fusers】マスキティ","【Rogue Roll Ruler's】白銀鎧"]
["レインシャーマン(Water)","フラワーデザイナー(Fire)","DEPトレーダー(Thunder)","【Puzzle Ranger 2nd】パズルホワイト＜テン＞(Thunder)","【Lucky Farmer】麗麗（モンスター）",null,null,null,null,null,null,null,null,null,"【麺屋 ドラゴンラーメン】ジョシュ・ジョイ・ジョンソン",null,"【Lost Archive+】希望の標","【SOUL Fusers】ミャウトム"]
["衣料品販売員(Earth)","画家(Water)","【My DeFi Pet】Winged Pupper(Poison)","【NFTv】NF-Teruko(Nature)","【Lucky Farmer】ジョンじいさん（モンスター）",null,null,null,null,null,null,null,null,null,"【麺屋 ドラゴンラーメン】ツイ・ホァシャ",null,"【Lost Archive+】熟達者の暗殺","【SOUL Fusers】ブルービー"]
["読者モデル(Poison)","アロマセラピスト(Nature)","【My DeFi Pet】Rudolph(Thunder)","【PvP 準チャンピオン】Rakuya ＜2021年2月＞(Fire)","【Lucky Farmer】ジョンじいさん（1周年）",null,null,null,null,null,null,null,null,null,"【麺屋 ドラゴンラーメン】ルビー",null,"【Lost Archive+】ジャークラー大佐","【SOUL Fusers】アクアメイデン"]
["VRアーティスト(Water)","ドローン操縦士(Nature)","【My DeFi Pet】Adonis(Fire)","精神保健福祉士(Poison)","【Lucky Farmer】ピノ（1周年）",null,null,null,null,null,null,null,null,null,"【麺屋 ドラゴンラーメン】リーア・メディチカ",null,"【Lost Archive+】価値の創造","【SOUL Fusers】マゴーレム"]
["麻薬取締捜査官(Thunder)","IGNITTO & ゲームプロデューサー(Earth)","【My DeFi Pet】Fang(Earth)","貿易事務員(Nature)","【Lucky Farmer】エヴァ（1周年）",null,null,null,null,null,null,null,null,null,"【麺屋 ドラゴンラーメン】新妻八恵",null,"【Lost Archive+】タイダルウェイブ","【SOUL Fusers】スパイクディガー"]
["宇宙海賊コブラ(Thunder)","IGNILORD ＆ カニ漁師(Thunder)","【カイジ】黒服(Water)","ソーシャルメディアプランナー(Thunder)","【Lucky Farmer】《Cookin’ Burger》バーガーコックさん",null,null,null,null,null,null,null,null,null,"【麺屋 ドラゴンラーメン】鳳ここな",null,"【Lost Archive+】ファイアーボール","【SOUL Fusers】ホーリーホップ"]
["詐欺師(Poison)","DRAGNARISE ＆ キャバクラ嬢(Poison)","DEPトレーダー(Fire)","【PvP チャンピオン】Neoneow＜2021年3月＞(Thunder)","【Lucky Farmer】《Cookin’ Burger》ポテ子",null,null,null,null,null,null,null,null,null,"【麺屋 ドラゴンラーメン】静香",null,"【Lost Archive+】死神からの贈り物","【SOUL Fusers】スターライトルーン"]
["美容部員(Water)","ジャク・ロン ＆ 古代中国の将軍(Fire)","DEPトレーダー(Water)","南極地域観測隊員(Water)","【Lucky Farmer】《B-idol》Sophia",null,null,null,null,null,null,null,null,null,"【麺屋 ドラゴンラーメン】カトリナ・グリーベル",null,"【Lost Archive+】インフェルノ","【SOUL Fusers】アズモデウス"]
["植物学者(Nature)","ラン・レイリン ＆ ラーメン店店長(Water)","DEPトレーダー(Nature)","【PvP 3位】アジフライ(ajihurai) ＜2021年4月＞(Water)","【Lucky Farmer】《B-idol》Emma",null,null,null,null,null,null,null,null,null,"【麺屋 ドラゴンラーメン】ナタラ・カラメッレ",null,"【Lost Archive+】深闇の狂戦士","【SOUL Fusers】SOUL Fusers プレセール召喚 青"]
["小学校教師(Fire)","リンゴ農家(Fire)","DEPトレーダー(Poison)","コピーライター(Poison)",null,null,null,null,null,null,null,null,null,null,"【麺屋 ドラゴンラーメン】ラーヤンディ",null,"【Lost Archive+】クルーエルフレイム","【SOUL Fusers】SOUL Fusers プレセール召喚 紫"]
["ディスパッチャー(Thunder)","競馬調教師(Nature)","DEPトレーダー(Earth)","PlayMiningTV 視聴者(Poison)",null,null,null,null,null,null,null,null,null,null,"【麺屋 ドラゴンラーメン】ニウ",null,"【Lost Archive+】暴走する魔獣","【SOUL Fusers】フロンナ Zaif特別イラスト"]
["超・カニ漁師(Poison)","ショコラティエール(Water)","【B-idol】Rin（ナイト）(Fire)","WEBプロデューサー(Earth)",null,null,null,null,null,null,null,null,null,null,"【麺屋 ドラゴンラーメン】アザネ",null,"【Lost Archive+】ベヒモス","【SOUL Fusers】フロンナ Discord open"]
["華道家(Earth)","考古学者(Poison)","【B-idol】Amelia（ランサー）(Water)","【Puzzle Ranger 3rd】パズルレッド＜リッキー＞(Fire)",null,null,null,null,null,null,null,null,null,null,"【麺屋 ドラゴンラーメン】ルドミラ・ゴリスラヴァ",null,"【Lost Archive+】絶滅の風","【SOUL Fusers】リリーフ Zaif特別イラスト"]
["フラメンコダンサー(Fire)","音響技術者(Poison)","【B-idol】Sophia（アーチャー）(Nature)","【Puzzle Ranger 3rd】パズルブルー＜カイル＞(Water)",null,null,null,null,null,null,null,null,null,null,"【麺屋 ドラゴンラーメン】シャノン・フルール",null,"【Lost Archive+】圧倒的な湧出","【SOUL Fusers】アクアメイデン Server Boost"]
["民間軍事会社警備員(Poison)","照明技術(Thunder)","【B-idol】Emma（ウォリアー）(Thunder)","【Puzzle Ranger 3rd】パズルイエロー＜チャンディ＞(Poison)",null,null,null,null,null,null,null,null,null,null,"【麺屋 ドラゴンラーメン】【麺神】コウ・ショウラン",null,"【Lost Archive+】剣聖 エンペラー","【SOUL Fusers】ライタイガー Invite Friends"]
["【Vanguard】ブラスター・ブレード(Thunder)","マンション管理士(Earth)","【B-idol】Camille（ウィザード）(Poison)","【Puzzle Ranger 3rd】パズルグリーン＜パロン＞(Nature)",null,null,null,null,null,null,null,null,null,null,"【麺屋 ドラゴンラーメン】【麺神】ベル・チュンシー",null,"【Lost Archive+】刻の聖裁 は～たん","【SOUL Fusers】リリークロン Zaif特別イラスト"]
["【Vanguard】ドラゴニック・オーバーロード(Fire)","手話通訳者(Fire)","【B-idol】Youran（レンジャー）(Earth)","【Puzzle Ranger 3rd】パズルホワイト＜テン＞(Thunder)",null,null,null,null,null,null,null,null,null,null,"【麺屋 ドラゴンラーメン】【麺神】ラン・レイリン",null,"【Lost Archive+】刻の英傑 アクラハイル","【SOUL Fusers】リリーフ Discord open"]
["【Vanguard】ブラスター・ダーク(Poison)","装丁家(Water)","【ドラゴン桜2】矢島勇介(Earth)","【PvP チャンピオン】akarui ＜2021年6月＞(Earth)",null,null,null,null,null,null,null,null,null,null,"【麺屋 ドラゴンラーメン】【麺神】セン・モウシュン",null,"【Lost Archive+】刻の謀計 セレン","【SOUL Fusers】ソウズホン Discord Pre-open"]
["女性プロゴルファー(Nature)","ナレーター(Nature)","【ドラゴン桜2】鍋明美(Thunder)","【PvPチャンピオンシップ】8人目の挑戦者A＜2021年8月＞(Fire)",null,null,null,null,null,null,null,null,null,null,"【麺屋 ドラゴンラーメン】【麺神】ジャク・ロン",null,"【Lost Archive+】ドイル","【SOUL Fusers】ソウズゥ Discord Pre-open"]
["千里眼師(Water)","音楽療法士(Water)","【インベスターZ】藤田美雪(Fire)","【PvPチャンピオンシップ】8人目の挑戦者B＜2021年8月＞(Fire)",null,null,null,null,null,null,null,null,null,null,"【麺屋 ドラゴンラーメン】【麺神】ドンジン",null,"【Lost Archive+】シャーロット","【SOUL Fusers】ブルービー Server Boost"]
["祝福の槍騎兵ディアナ(Nature)","Web3コミュニティマネージャー(Nature)","【インベスターZ】月浜蓮(Nature)","板前(Nature)",null,null,null,null,null,null,null,null,null,null,"【麺屋 ドラゴンラーメン】【麺神】マリル・アルヒー",null,"【Lost Archive+】ナル","【SOUL Fusers】ソウズモ Discord Pre-open"]
["黒翼の僧兵アルマダ(Poison)","NFT minter (Thunder)","愛妻家(Nature)","【PvP 準チャンピオン】MaouKun ＜2021年7月＞(Fire)",null,null,null,null,null,null,null,null,null,null,"【麺屋 ドラゴンラーメン】【麺神】ヤマジイ",null,"【Lost Archive+】高潔の令嬢 ロゼッタ","【SOUL Fusers】トライデン Invite Friends"]
["火山の守り手ルティヤー(Earth)","臨床心理士(Fire)","NFTコレクター(Water)","【PvP 3位】KANEMORI ＜2021年6月＞(Thunder)",null,null,null,null,null,null,null,null,null,null,"【麺屋 ドラゴンラーメン】【贋作】RBA　S2 Tier2　3位　トロフィー",null,"【Lost Archive+】シーハンター","【SOUL Fusers】タイガーフィスト Invite Friends"]
["神話の語り部シン・キバヤシ(Thunder)","内科医(Poison)","スタントマン(Fire)","臨床工学技士(Thunder)",null,null,null,null,null,null,null,null,null,null,"【麺屋 ドラゴンラーメン】RBA　S2 Tier1　3位　トロフィー",null,"【Lost Archive+】ミミズクの店主","【SOUL Fusers】リリークロン Discord open"]
["伝説の語り部ユウコ・キバヤシ(Water)","臨床検査技師(Earth)","ゲームプログラマー(Nature)","【ヤッターマン】おだてブタ(Nature)",null,null,null,null,null,null,null,null,null,null,"【麺屋 ドラゴンラーメン】RBA　S2 Tier3　3位　トロフィー",null,"【Lost Archive+】長靴を履いた猫","【SOUL Fusers】Kamui Verse x SOUL Fusers イベントNFT(Kamui Verse賞)"]
["【ヤッターマン】ドロンジョ(Fire)","公認会計士(Poison)","コスプレイヤーCoser Black/黒（花屋）(Thunder)","【ヤッターマン】オモッチャマ(Earth)",null,null,null,null,null,null,null,null,null,null,"【麺屋 ドラゴンラーメン】RBA　S2 Tier2　優勝　トロフィー",null,"【Lost Archive+】開戦の軍旗","【SOUL Fusers】Kamui Verse x SOUL Fusers イベントNFT(SOUL Fusers賞)"]
["【BJによろしく】研修医斉藤(Water)","証券アナリスト(Thunder)","コスプレイヤーVehlo Kaze（ホスト）(Water)","気象予報士(Water)",null,null,null,null,null,null,null,null,null,null,"【麺屋 ドラゴンラーメン】RBA　S2 Tier2　準優勝　トロフィー",null,"【Lost Archive+】オニオンバギー"]
["【BJによろしく】内科研修医斉藤(Nature)","レコーディングエンジニア(Nature)","コスプレイヤーhimeshinra（薬剤師）(Fire)","【PvP 準チャンピオン】tattuu ＜2021年12月＞(Poison)",null,null,null,null,null,null,null,null,null,null,"【麺屋 ドラゴンラーメン】【贋作】RBA　S2 Tier1　準優勝　トロフィー",null,"【Lost Archive+】慈しみのエルフ"]
["【BJによろしく】小児科研修医斉藤(Thunder)","キャンプ場経営者(Nature)","コスプレイヤーPAINS（外交官）(Nature)","【PvP 3位】Hiro_SG ＜2021年12月＞(Nature)",null,null,null,null,null,null,null,null,null,null,"【麺屋 ドラゴンラーメン】【贋作】RBA　S2 Tier1　3位　トロフィー",null,"【Lost Archive+】待ち構えるエルフ"]
["【BJによろしく】外科研修医斉藤(Poison)","ビール立売スタッフ(Thunder)","コスプレイヤーYuan Cross（証券アナリスト）(Earth)","【PvP チャンピオン】kashi40 ＜2021年12月＞(Poison)",null,null,null,null,null,null,null,null,null,null,"【麺屋 ドラゴンラーメン】【贋作】RBA　S2 Tier3　3位　トロフィー",null,"【Lost Archive+】ドラゴンフロッグ"]
["【BJによろしく】心療内科研修医斉藤(Fire)","わなげ屋(Thunder)","コスプレイヤーKael Pk（ブロックチェーンエンジニア）(Poison)","【PvP チャンピオン】kougane＜2022年1月＞(Thunder)",null,null,null,null,null,null,null,null,null,null,"【麺屋 ドラゴンラーメン】RBA　S2 Tier3　準優勝　トロフィー",null,"【Lost Archive+】早詠みの魔導書"]
["【BJによろしく】泌尿器科研修医斉藤(Earth)","お化け役スタッフ(Poison)","【大東京トイボックス】天川太陽(Fire)","【PvP チャンピオン】nari0958 ＜2022年2月＞(Thunder)",null,null,null,null,null,null,null,null,null,null,"【麺屋 ドラゴンラーメン】【贋作】RBA　S2 Tier1　優勝　トロフィー",null,"【Lost Archive+】マナ詠みの預言者"]
["【初代PvPグランドチャンピオン】アジフライ(ajihurai)(Fire)","フェスオーガナイザー(Earth)","【大東京トイボックス】月山星乃(Water)","プロカードゲーマー(Poison)",null,null,null,null,null,null,null,null,null,null,"【麺屋 ドラゴンラーメン】RBA　S2 Tier2　3位　トロフィー",null,"【Lost Archive+】黙殺の聖女"]
["トナカイ(Earth)","鰻師(Fire)","【大東京トイボックス】谷崎七海(Thunder)","ゲーム音楽作曲家(Water)",null,null,null,null,null,null,null,null,null,null,"【麺屋 ドラゴンラーメン】【贋作】RBA　S2 Tier3　優勝　トロフィー",null,"【Lost Archive+】赤ずきん ウェアルー"]
["ハッピーニューイヤーマン2022(Earth)","ジャバウォック(Earth)","タクシー運転手(Nature)","【大東京トイボックス】金田正志(Nature)",null,null,null,null,null,null,null,null,null,null,"【麺屋 ドラゴンラーメン】RBA　S2 Tier1　優勝　トロフィー",null,"【Lost Archive+】急襲のハヤブサ"]
["大学職員(Thunder)","マッドハッター(Thunder)","演出家(Fire)","【大東京トイボックス】依田敦史(Earth)",null,null,null,null,null,null,null,null,null,null,"【麺屋 ドラゴンラーメン】【贋作】RBA　S2 Tier3　準優勝　トロフィー",null,"【Lost Archive+】タイタロス"]
["書道家(Poison)","【ジョブトロイド】掃除メイド(Water)","e-sports コンパニオン(Thunder)","ハンバーガーショップ店員(Earth)",null,null,null,null,null,null,null,null,null,null,"【麺屋 ドラゴンラーメン】ネーミングライツ　RBA ’24 S2 3回大会",null,"【Lost Archive+】1番隊副隊長 マルス"]
["【カイジ】伊藤開司(Nature)","植物園職員(Nature)","デインズ市長Jan Vermeulen(Earth)","お抱え運転手(Water)",null,null,null,null,null,null,null,null,null,null,"【麺屋 ドラゴンラーメン】【贋作】RBA　S2 Tier2　優勝　トロフィー",null,"【Lost Archive+】密林の黒ヒョウ"]
["【ドラゴン桜2】桜木建二(Earth)","サーフィンインストラクター(Water)","ラジオDJ(Water)","バイク便ライダー(Earth)",null,null,null,null,null,null,null,null,null,null,"【麺屋 ドラゴンラーメン】RBA　S2 Tier1　準優勝　トロフィー",null,"【Lost Archive+】1番隊隊長 ライオ"]
["【インベスターZ】財前孝史(Water)","プロバスケットボール選手(Earth)","【機動警察パトレイバー】98式AV イングラム２号機(Earth)","デリバリー送迎員(Thunder)",null,null,null,null,null,null,null,null,null,null,"【麺屋 ドラゴンラーメン】【贋作】RBA　S2 Tier2　準優勝　トロフィー",null,"【Lost Archive+】ブヒコーン"]
["警備員(Thunder)","ギタリスト(Poison)","【機動警察パトレイバー】ARL-99 ヘルダイバー(Nature)","脚本家(Thunder)",null,null,null,null,null,null,null,null,null,null,"【麺屋 ドラゴンラーメン】RBA　S2 Tier3　優勝　トロフィー",null,"【Lost Archive+】加護を受けし者"]
["茶畑経営者(Nature)","カジノディーラー(Thunder)","【機動警察パトレイバー】AV-X0 零式(Thunder)","e-sports 実況(Earth)",null,null,null,null,null,null,null,null,null,null,"【麺屋 ドラゴンラーメン】ヴィトー・シームルグ",null,"【Lost Archive+】キールフェット中佐"]
["【2代目PvPグランドチャンピオン】アジフライ(ajihurai)(Nature)","わたあめ屋(Water)","作業療法士(Earth)","e-sports 解説者(Nature)",null,null,null,null,null,null,null,null,null,null,"【麺屋 ドラゴンラーメン】ブリリアン・シャット",null,"【Lost Archive+】天聖ゴーレム"]
["【南国少年パプワくん】パプワ＆チャッピー(Nature)","パンプキンパッチ(Earth)","医療ソーシャルワーカー(Thunder)","e-sports 格闘ゲームプレイヤー(Fire)",null,null,null,null,null,null,null,null,null,null,"【麺屋 ドラゴンラーメン】【麺神】パヴォ・アスター",null,"【Lost Archive+】宝石亀"]
["【ジバクくん】爆＆ジバクくん(Fire)","ネコの置物を売る店(Fire)","動物園飼育員(Nature)","e-sports 戦略ゲームプレイヤー(Poison)",null,null,null,null,null,null,null,null,null,null,"【麺屋 ドラゴンラーメン】【麺神】ユウユウ",null,"【Lost Archive+】鼓舞する教官"]
["ゲームプロデューサー(Fire)","皮なめし(Earth)","水族館飼育員(Thunder)","選手を支えるデインズサポーター(Fire)",null,null,null,null,null,null,null,null,null,null,"【麺屋 ドラゴンラーメン】【麺神】シャンフ・メリア",null,"【Lost Archive+】対抗詠唱"]
["【大東京トイボックス】天川太陽(影)(Earth)","石工(Earth)","みかん農家(Earth)","カメラマン(Nature)",null,null,null,null,null,null,null,null,null,null,"【麺屋 ドラゴンラーメン】【麺神】セイスイ",null,"【Lost Archive+】悪意ある検閲"]
["ホワイトハッカー(Water)","除雪作業員(Earth)","義肢装具士(Poison)","ギルドゲーマー(Thunder)",null,null,null,null,null,null,null,null,null,null,"【麺屋 ドラゴンラーメン】ネーミングライツ　RBA ’24 S2 4回大会",null,"【Lost Archive+】疑わしき罪"]
["【ひろぴーコラボ】取り立て屋 ひろぴー(Fire)","焼きソーセージ屋(Water)","ビビ ＆ ライバー(Fire)","【機動警察パトレイバー】泉野明(Nature)",null,null,null,null,null,null,null,null,null,null,"【麺屋 ドラゴンラーメン】カムイバースカップ Tier1　優勝　トロフィー",null,"【Lost Archive+】魔石の飛散"]
["【ひろぴーコラボ】お祈りトレーダー ひろぴー(Poison)","だて巻き職人(Earth)","茶々丸 ＆ 庭師(Nature)","【機動警察パトレイバー】篠原遊馬(Water)",null,null,null,null,null,null,null,null,null,null,"【麺屋 ドラゴンラーメン】神威麺器ラーヤングオ",null,"【Lost Archive+】戦略的挑発"]
["【ひろぴーコラボ】波乗りＦＸトレーダー ひろぴー(Water)","飛鳥了(Water)","フレイヤ ＆ DEPトレーダー(Poison)","【機動警察パトレイバー】太田功(Fire)",null,null,null,null,null,null,null,null,null,null,"【麺屋 ドラゴンラーメン】カムイバースカップ Tier3　3位　トロフィー",null,"【Lost Archive+】スチームキャット"]
["【ひろぴーコラボ】釣りトレーダー ひろぴー(Earth)","不動明(Fire)","天仰の騎士ティプトーン ＆ ゲームプログラマー(Earth)","【機動警察パトレイバー】南雲しのぶ(Thunder)",null,null,null,null,null,null,null,null,null,null,"【麺屋 ドラゴンラーメン】カムイバースカップ　ネーミングライツ　トロフィー",null,"【Lost Archive+】反応する獣"]
["【ひろぴーコラボ】社長トレーダー ひろぴー(Nature)","牧村美樹(Nature)","男子サッカー選手 ＆ エステティシャン(Water)","【機動警察パトレイバー】後藤喜一(Earth)",null,null,null,null,null,null,null,null,null,null,"【麺屋 ドラゴンラーメン】【贋作】カムイバースカップ Tier1　準優勝　トロフィー",null,"【Lost Archive+】防壁の建設"]
["【ひろぴーコラボ】ストップハンター ひろぴー(Thunder)","チョコレート技師(Fire)","女子サッカー選手 ＆ スポーツトレーナー(Thunder)","殺陣師(Poison)",null,null,null,null,null,null,null,null,null,null,"【麺屋 ドラゴンラーメン】カムイバースカップ Tier2　3位　トロフィー",null,"【Lost Archive+】まとわりつく溶解液"]
["名探偵(Earth)","ガルドマンジェ(Nature)","ひよこ鑑定士(Thunder)","あん摩マッサージ指圧師(Water)",null,null,null,null,null,null,null,null,null,null,"【麺屋 ドラゴンラーメン】麺器ラーヤングオ",null,"【Lost Archive+】強制的な飛行"]
["検察官(Poison)","きこり(Nature)","メイクアップアーティスト(Nature)","【PlayMiner】フィリピン(Nature)",null,null,null,null,null,null,null,null,null,null,"【麺屋 ドラゴンラーメン】カムイバースカップ Tier1　準優勝　トロフィー",null,"【Lost Archive+】エルフの魔術師"]
["レースクイーン(Thunder)","柔道整復師(Thunder)","プロポーカー選手(Fire)","コピーライター(Nature)",null,null,null,null,null,null,null,null,null,null,"【麺屋 ドラゴンラーメン】ニフィーサ",null,"【Lost Archive+】貴族の騎士"]
["【機動警察パトレイバー】98式AV イングラム１号機(Water)","山岳救助隊員(Fire)","新聞配達員(Earth)","気象予報士(Thunder)",null,null,null,null,null,null,null,null,null,null,"【麺屋 ドラゴンラーメン】カムイバースカップ Tier1　3位　トロフィー",null,"【Lost Archive+】呼応する戦鷲"]
["キャラクターデザイナー(Nature)","発掘調査員(Earth)","【WORLD FLAGS】南アフリカ共和国＜万駄羅（Mandela）＞(Fire)","ソムリエール(Poison)",null,null,null,null,null,null,null,null,null,null,"【麺屋 ドラゴンラーメン】【贋作】カムイバースカップ Tier3　3位　トロフィー",null,"【Lost Archive+】残響する思念体"]
["刑務官(Fire)","地図編集者(Water)","【WORLD FLAGS】ドイツ連邦共和国＜外御流具（GEORGE）＞(Water)","ベーカリー店員(Earth)",null,null,null,null,null,null,null,null,null,null,"【麺屋 ドラゴンラーメン】カムイバースカップ Tier2　準優勝　トロフィー",null,"【Lost Archive+】ゴブリン呼び"]
["化粧品広報(Earth)","ストーンセラピスト(Poison)","【WORLD FLAGS】日本国＜釜本（KAMAMOTO）＞(Nature)","環境計量士(Fire)",null,null,null,null,null,null,null,null,null,null,"【麺屋 ドラゴンラーメン】カムイバースカップ Tier2　優勝　トロフィー",null,"【Lost Archive+】大地の共鳴者"]
["NFTマーケットプレイス店長(Fire)",null,"【WORLD FLAGS】イギリス＜宇位里阿夢（William）＞(Thunder)","美容師(Water)",null,null,null,null,null,null,null,null,null,null,"【麺屋 ドラゴンラーメン】カムイバースカップ Tier3　準優勝　トロフィー",null,"【Lost Archive+】星の魔術師"]
["入国警備官(Water)",null,"【WORLD FLAGS】デンマーク王国＜久利須天仙（Christensen）＞(Poison)","登山家(Earth)",null,null,null,null,null,null,null,null,null,null,"【麺屋 ドラゴンラーメン】【贋作】カムイバースカップ Tier2　準優勝　トロフィー",null,"【Lost Archive+】虚影の剣閃 アイリ"]
["美容部員(Poison)",null,"【WORLD FLAGS】中華人民共和国＜炎龍諭（Aaron）＞(Earth)","ゲームプランナー(Nature)",null,null,null,null,null,null,null,null,null,null,"【麺屋 ドラゴンラーメン】【贋作】カムイバースカップ Tier2　3位　トロフィー",null,"【Lost Archive+】吸収するドラゴン"]
["航空整備士(Water)",null,"作詞家(Poison)","プロゲーマー(Poison)",null,null,null,null,null,null,null,null,null,null,"【麺屋 ドラゴンラーメン】カムイバースカップ Tier3　優勝　トロフィー",null,"【Lost Archive+】遺跡喰らいのワーム"]
["マジシャン(Fire)",null,"空間デザイナー(Thunder)","【PlayMining Olympians】いわぽよ",null,null,null,null,null,null,null,null,null,null,"【麺屋 ドラゴンラーメン】【贋作】カムイバースカップ Tier3　準優勝　トロフィー",null,"【Lost Archive+】ゴブリンの王"]
["衣料品販売員(Fire)",null,"建設コンサルタント(Earth)","チアガール(Fire)",null,null,null,null,null,null,null,null,null,null,"【麺屋 ドラゴンラーメン】【贋作】カムイバースカップ　ネーミングライツ　トロフィー",null,"【Lost Archive+】秘めたる力の魔術師"]
["占い師(Poison)",null,"極みに至りし村人(Thunder)","モバイルショップ販売員(Water)",null,null,null,null,null,null,null,null,null,null,"【麺屋 ドラゴンラーメン】【贋作】カムイバースカップ Tier1　3位　トロフィー",null,"【Lost Archive+】秘術の継承者"]
["小籠包職人(Earth)",null,"焔を纏い闇依り齎されし村人(Fire)","電子書籍販売事業者(Nature)",null,null,null,null,null,null,null,null,null,null,"【麺屋 ドラゴンラーメン】【贋作】カムイバースカップ Tier1　優勝　トロフィー"]
["サンタクロース（レッド）(Thunder)",null,"介護事務(Fire)","モバイルサポートオペレーター(Thunder)",null,null,null,null,null,null,null,null,null,null,"【麺屋 ドラゴンラーメン】【贋作】カムイバースカップ Tier3　優勝　トロフィー"]
["レインシャーマン(Nature)",null,"通関士(Water)","添乗員(Poison)",null,null,null,null,null,null,null,null,null,null,"【麺屋 ドラゴンラーメン】【贋作】カムイバースカップ Tier2　優勝　トロフィー"]
["千里眼師(Earth)",null,"相続診断士(Nature)","ネットスーパー配達員(Earth)",null,null,null,null,null,null,null,null,null,null,"【麺屋 ドラゴンラーメン】ハース・フロル"]
["ホステス(Poison)",null,"【ジョブトロイド】料理メイド(Fire)","カメラマン(Fire)",null,null,null,null,null,null,null,null,null,null,"【麺屋 ドラゴンラーメン】【麺神】ノマディス・ヴォルペ"]
["読者モデル(Nature)",null,"栗農家(Nature)","殺陣師(Water)",null,null,null,null,null,null,null,null,null,null,"【麺屋 ドラゴンラーメン】【麺神】トーラ・トレヴィス"]
["巫女(Fire)",null,"カボチャ農家(Thunder)","あん摩マッサージ指圧師(Nature)",null,null,null,null,null,null,null,null,null,null,"【麺屋 ドラゴンラーメン】【麺神】ニーユン"]
["陶芸家(Poison)",null,"刀削麺職人(Thunder)","環境計量士(Thunder)",null,null,null,null,null,null,null,null,null,null,"【麺屋 ドラゴンラーメン】ネーミングライツ　RBA ’24 S2 5回大会"]
["鍛冶職人(Earth)",null,"心失い修羅に堕ちし村人(Poison)","ゲーム音楽作曲家(Poison)",null,null,null,null,null,null,null,null,null,null,"【麺屋 ドラゴンラーメン】【麺神】ヨウリン・ファラクス"]
["靴職人(Water)",null,"闇に隠れ命頂戴す村人(Nature)","脚本家(Earth)"]
["ネットショップ店員(Fire)",null,null,"チョコレートソムリエ(Earth)"]
["映像配信事業者(Water)",null,null,"ちゃんこ番(Poison)"]
["旅行代理店社員(Nature)"]
["野球監督(Thunder)"]
["ネット銀行員(Poison)"]
["球団オーナー(Earth)"]
["ゲームプロデューサー(Earth)"]
["音楽プロデューサー(Poison)"]
["ゲームグラフィッカー(Thunder)"]
["宅地建物取引士(Earth)"]
["点字通訳者(Fire)"]
["図書館司書(Water)"]
["シンガーソングライター(Nature)"]
["消防士(Fire)"]
["革職人(Earth)"]
["交渉人(Poison)"]
["ふわふわんだーらんど(Thunder)"]
["人形師(Earth)"]
["諜報員(Fire)"]
["ガラス職人(Water)"]
["木彫り職人(Earth)"]
["ボディーガード(Nature)"]
["ハンドメイド作家(Thunder)"]
["警察特殊部隊員(Poison)"]
["獣医(Nature)"]
["助産師(Thunder)"]
["歯科助手(Water)"]
["【3rd Anniv】リカ＆キリ(Fire)"]
["化学教師(Poison)"]
["サウンドプログラマー(Water)"]
["舞妓(Fire)"]
["飴細工職人(Earth)"]
["天ぷら職人(Thunder)"]
["迷宮の支配者(Thunder)"]
["キャビンアテンダント(Water)"]
["アウフギーサー(Fire)"]
["【IGG】いわぽよ(Poison)"]
["プール監視員(Water)"]
["ネイチャーガイド(Nature)"]
["デーモンクリエイター(Fire)"]
["アリス(Poison)"]
["【ジョブトロイド】メイド長(Earth)"]
["橋造り職人(Earth)"]
["腹話術師(Thunder)"]
["【コインムスメ】DEPちゃん(Earth)"]
["レスキュー(Fire)"]
["フードファイター(Nature)"]
["エクスプローラー(Water)"]
["ヒップホップダンサー(Earth)"]
["ボートレーサー(Thunder)"]
["カーレーサー(Poison)"]
["【インフルエンサー総選挙】ゆうめろ(Nature)"]
["【インフルエンサー総選挙】しぴたん(Thunder)"]
["【インフルエンサー総選挙】水川美南(Water)"]
["AI支援医療技師(Water)"]
["AIクリエイター(Thunder)"]
["VJ(Poison)"]
["ベビーシッター(Nature)"]
["献血看護師(Poison)"]
["網職人(Fire)"]
["ジャックオーランタン職人(Thunder)"]
["【冷静な案内人】キリ(Water)"]
["ランプ職人(Poison)"]
["【熱血な案内人】リカ(Fire)"]
["占星術師(Thunder)"]
["鳥使い(Nature)"]
["ハウスキーパー(Water)"]
["グリューワイン屋(Poison)"]
["クリスマスリース屋(Nature)"]
["屋根の雪下ろし(Fire)"]
["門松職人(Nature)"]
["独楽職人(Water)"]
["【遊戯の義賊】独楽職人(Water)"]
["デビルマン(Poison)"]
["【怒りの炎】デビルマン(Fire)"]
["【阿修羅地獄】不動明(Earth)"]
["大魔神サタン(Thunder)"]
["クッキー屋(Earth)"]
["チョコレート専門店(Poison)"]
["メンタルトレーナー(Earth)"]
["召霊師(Poison)"]
["ファイナンシャルプランナー(Nature)"]
["バーチャルアパレルNFTショップ店員(Fire)"]
["デジタルツインエンジニア(Water)"]
["人材紹介エージェント(Thunder)"]
["空中ブランコ(Earth)"]
["つな渡り(Water)"]
["火吹き(Fire)"]
["サーカス支配人(Thunder)"]
["猛獣使い(Nature)"]
["ジャグラー(Poison)"]
["和菓子職人(Water)"]
["インドカレー屋(Earth)"]
["彩弧由貴(Fire)"]
["キディ・フェニル(Nature)"]
["香津美・リキュール(Water)"]
["香津美・リキュール(Fire)"]
["レビア・マーベリック(Earth)"]
["闇雲那魅(Poison)"]
["ラリー・シャイアン(Thunder)"]

{"sheet":"参考価格","index":16,"n_rows":365,"n_cols":6,"rows_kept":365,"cut":false,"hidden":true,"merged":[]}
["Date",null,"DEP-USD","Date","Close","DEP-JPY"]
["2022-01-01","2022-01-01",3.7810000000000003E-2,"2022-01-01",115.108,4.3523747180000001]
["2022-01-02","2022-01-02",3.8670000000000003E-2,"2022-01-02",115.1405,4.4523437000000001]
["2022-01-03","2022-01-03",3.7470000000000003E-2,"2022-01-03",115.32899999999999,4.3209467610000001]
["2022-01-04","2022-01-04",3.7769999999999998E-2,"2022-01-04",116.163,4.387777721]
["2022-01-05","2022-01-05",3.4709999999999998E-2,"2022-01-05",116.12350000000001,4.0303503379999999]
["2022-01-06","2022-01-06",3.3919999999999999E-2,"2022-01-06",115.8605,3.9300178200000002]
["2022-01-07","2022-01-07",3.0890000000000001E-2,"2022-01-07",115.617,3.571543014]
["2022-01-08","2022-01-08",3.0009999999999998E-2,"2022-01-08",115.58799999999999,3.4690809200000001]
["2022-01-09","2022-01-09",2.8299999999999999E-2,"2022-01-09",115.6275,3.272499796]
["2022-01-10","2022-01-10",2.9440000000000001E-2,"2022-01-10",115.274,3.393821027]
["2022-01-11","2022-01-11",2.6040000000000001E-2,"2022-01-11",115.327,3.0029091060000002]
["2022-01-12","2022-01-12",2.6700000000000002E-2,"2022-01-12",114.678,3.0618403299999999]
["2022-01-13","2022-01-13",2.8289999999999999E-2,"2022-01-13",114.119,3.228840876]
["2022-01-14","2022-01-14",2.7699999999999999E-2,"2022-01-14",114.235,3.1647726089999999]
["2022-01-15","2022-01-15",2.768E-2,"2022-01-15",114.235,3.1621770749999998]
["2022-01-16","2022-01-16",2.7629999999999998E-2,"2022-01-16",114.3045,3.157920598]
["2022-01-17","2022-01-17",2.741E-2,"2022-01-17",114.572,3.140508917]
["2022-01-18","2022-01-18",2.8340000000000001E-2,"2022-01-18",114.57899999999999,3.2472866470000001]
["2022-01-19","2022-01-19",3.1320000000000001E-2,"2022-01-19",114.352,3.581662331]
["2022-01-20","2022-01-20",3.5459999999999998E-2,"2022-01-20",113.974,4.0413761419999998]
["2022-01-21","2022-01-21",5.5719999999999999E-2,"2022-01-21",113.66849999999999,6.3335797210000004]
["2022-01-22","2022-01-22",3.8580000000000003E-2,"2022-01-22",113.66849999999999,4.3849682410000002]
["2022-01-23","2022-01-23",3.4979999999999997E-2,"2022-01-23",113.7555,3.9796765600000001]
["2022-01-24","2022-01-24",4.6969999999999998E-2,"2022-01-24",113.9975,5.3544120739999999]
["2022-01-25","2022-01-25",4.9660000000000003E-2,"2022-01-25",113.88,5.6552855830000004]
["2022-01-26","2022-01-26",5.7279999999999998E-2,"2022-01-26",114.724,6.5717314499999997]
["2022-01-27","2022-01-27",5.1700000000000003E-2,"2022-01-27",115.354,5.9636553000000001]
["2022-01-28","2022-01-28",4.904E-2,"2022-01-28",115.215,5.6504387810000001]
["2022-01-29","2022-01-29",4.7809999999999998E-2,"2022-01-29",115.215,5.5080046979999997]
["2022-01-30","2022-01-30",4.6449999999999998E-2,"2022-01-30",115.2795,5.3544976049999997]
["2022-01-31","2022-01-31",4.2700000000000002E-2,"2022-01-31",115.131,4.9156899359999997]
["2022-02-01","2022-02-01",4.1759069000000003E-2,"2022-02-01",114.73950000000001,4.7914146979999996]
["2022-02-02","2022-02-02",4.0533991999999998E-2,"2022-02-02",114.37,4.6358726649999999]
["2022-02-03","2022-02-03",3.7372349999999999E-2,"2022-02-03",114.965,4.2965122180000002]
["2022-02-04","2022-02-04",3.7434447000000003E-2,"2022-02-04",115.22499999999999,4.3133841559999997]
["2022-02-05","2022-02-05",3.8525134000000003E-2,"2022-02-05",115.22499999999999,4.4390585649999998]
["2022-02-06","2022-02-06",3.7983975000000003E-2,"2022-02-06",115.2255,4.3767225109999996]
["2022-02-07","2022-02-07",3.8096649000000003E-2,"2022-02-07",115.066,4.3836290140000003]
["2022-02-08","2022-02-08",4.2464489000000001E-2,"2022-02-08",115.57599999999999,4.9078757810000004]
["2022-02-09","2022-02-09",4.0587362000000002E-2,"2022-02-09",115.59099999999999,4.6915337609999996]
["2022-02-10","2022-02-10",3.9834256999999998E-2,"2022-02-10",116.04900000000001,4.6227256910000003]
["2022-02-11","2022-02-11",3.9168492999999999E-2,"2022-02-11",115.59699999999999,4.5277602850000003]
["2022-02-12","2022-02-12",3.6286021000000002E-2,"2022-02-12",115.89700000000001,4.2054409760000002]
["2022-02-13","2022-02-13",3.4545781999999997E-2,"2022-02-13",115.59050000000001,3.9931642140000001]
["2022-02-14","2022-02-14",3.4289812000000003E-2,"2022-02-14",115.53749999999999,3.9617591540000001]
["2022-02-15","2022-02-15",3.4599552999999998E-2,"2022-02-15",115.64,4.0010923089999997]
["2022-02-16","2022-02-16",3.5827428000000001E-2,"2022-02-16",115.393,4.1342343990000003]
["2022-02-17","2022-02-17",3.7808560999999997E-2,"2022-02-17",114.8755,4.3432773490000001]
["2022-02-18","2022-02-18",3.5794129000000001E-2,"2022-02-18",114.99850000000001,4.1162711439999997]
["2022-02-19","2022-02-19",3.4053950999999999E-2,"2022-02-19",114.99850000000001,3.916153284]
["2022-02-20","2022-02-20",3.1711955999999999E-2,"2022-02-20",114.95950000000001,3.6455906059999998]
["2022-02-21","2022-02-21",3.1557201E-2,"2022-02-21",114.636,3.6175912939999999]
["2022-02-22","2022-02-22",3.1915978999999997E-2,"2022-02-22",115.1005,3.673545141]
["2022-02-23","2022-02-23",3.0429924000000001E-2,"2022-02-23",114.88849999999999,3.4960483230000001]
["2022-02-24","2022-02-24",3.0542654999999998E-2,"2022-02-24",115.57250000000001,3.5298909950000001]
["2022-02-25","2022-02-25",2.8192135E-2,"2022-02-25",115.5565,3.2577844480000002]
["2022-02-26","2022-02-26",2.9120441E-2,"2022-02-26",115.545,3.3647213549999999]
["2022-02-27","2022-02-27",3.0862687E-2,"2022-02-27",115.5585,3.5664458159999999]
["2022-02-28","2022-02-28",3.0815037E-2,"2022-02-28",115.08150000000001,3.546240681]
["2022-03-01","2022-03-01",3.2908422E-2,"2022-03-01",114.831,3.7789070069999999]
["2022-03-02","2022-03-02",3.5406112000000003E-2,"2022-03-02",115.5125,4.0898485119999997]
["2022-03-03","2022-03-03",3.4512595E-2,"2022-03-03",115.479,3.985479958]
["2022-03-04","2022-03-04",3.5463459000000003E-2,"2022-03-04",114.815,4.0717370449999999]
["2022-03-05","2022-03-05",3.5067672000000001E-2,"2022-03-05",114.815,4.0262947609999999]
["2022-03-06","2022-03-06",3.4160866999999998E-2,"2022-03-06",114.9405,3.9264671330000001]
["2022-03-07","2022-03-07",3.3597780000000001E-2,"2022-03-07",115.37649999999999,3.876394264]
["2022-03-08","2022-03-08",3.2525748E-2,"2022-03-08",115.7235,3.7639933989999999]
["2022-03-09","2022-03-09",3.1789967000000002E-2,"2022-03-09",115.91549999999999,3.6849499200000002]
["2022-03-10","2022-03-10",3.2136972E-2,"2022-03-10",116.194,3.7341233250000001]
["2022-03-11","2022-03-11",3.0717304000000001E-2,"2022-03-11",117.32250000000001,3.6038308990000001]
["2022-03-12","2022-03-12",3.0369765999999999E-2,"2022-03-12",117.32250000000001,3.5630568720000002]
["2022-03-13","2022-03-13",2.8697331E-2,"2022-03-13",117.533,3.372883404]
["2022-03-14","2022-03-14",2.7253400000000001E-2,"2022-03-14",118.223,3.221978708]
["2022-03-15","2022-03-15",2.8095588000000001E-2,"2022-03-15",118.2925,3.3234973430000001]
["2022-03-16","2022-03-16",2.7597172E-2,"2022-03-16",118.884,3.2808621960000002]
["2022-03-17","2022-03-17",2.7321959E-2,"2022-03-17",118.4875,3.2373106169999999]
["2022-03-18","2022-03-18",2.6780681000000001E-2,"2022-03-18",119.21299999999999,3.1926053240000001]
["2022-03-19","2022-03-19",2.8461989E-2,"2022-03-19",119.21299999999999,3.3930390949999998]
["2022-03-20","2022-03-20",2.7315493999999999E-2,"2022-03-20",119.26300000000001,3.2577277609999999]
["2022-03-21","2022-03-21",2.6116111000000001E-2,"2022-03-21",119.61499999999999,3.1238786169999999]
["2022-03-22","2022-03-22",2.6205427999999999E-2,"2022-03-22",121.378,3.1807624400000001]
["2022-03-23","2022-03-23",2.7525391999999999E-2,"2022-03-23",121.139,3.3343984610000001]
["2022-03-24","2022-03-24",2.6764018000000001E-2,"2022-03-24",122.34699999999999,3.2744973100000001]
["2022-03-25","2022-03-25",2.6730134999999999E-2,"2022-03-25",122.08499999999999,3.2633485310000001]
["2022-03-26","2022-03-26",2.8060674000000001E-2,"2022-03-26",122.095,3.4260679920000001]
["2022-03-27","2022-03-27",2.8573300999999999E-2,"2022-03-27",122.27549999999999,3.493814666]
["2022-03-28","2022-03-28",2.9541468000000001E-2,"2022-03-28",123.67400000000001,3.6535115130000002]
["2022-03-29","2022-03-29",2.9901207999999999E-2,"2022-03-29",123.133,3.6818254449999999]
["2022-03-30","2022-03-30",3.0732899000000001E-2,"2022-03-30",122.0655,3.751426683]
["2022-03-31","2022-03-31",3.0244839999999999E-2,"2022-03-31",121.7595,3.6825965959999998]
["2022-04-01","2022-04-01",2.8146804000000001E-2,"2022-04-01",122.50700000000001,3.448180518]
["2022-04-02","2022-04-02",3.0978223999999999E-2,"2022-04-02",122.50700000000001,3.795049288]
["2022-04-03","2022-04-03",2.9584057E-2,"2022-04-03",122.5955,3.6268722599999998]
["2022-04-04","2022-04-04",2.936395E-2,"2022-04-04",122.81100000000001,3.6062160630000002]
["2022-04-05","2022-04-05",2.8771195999999999E-2,"2022-04-05",123.673,3.5582201229999999]
["2022-04-06","2022-04-06",2.8163342000000001E-2,"2022-04-06",123.7495,3.4851994909999999]
["2022-04-07","2022-04-07",2.7049595999999999E-2,"2022-04-07",124.127,3.3575852030000002]
["2022-04-08","2022-04-08",2.6971407999999999E-2,"2022-04-08",124.3,3.3525460140000001]
["2022-04-09","2022-04-09",2.6447737999999998E-2,"2022-04-09",124.3,3.2874538329999998]
["2022-04-10","2022-04-10",2.6646019E-2,"2022-04-10",124.39700000000001,3.3146848260000001]
["2022-04-11","2022-04-11",2.6589799000000001E-2,"2022-04-11",125.4695,3.3362087859999998]
["2022-04-12","2022-04-12",2.6468614000000001E-2,"2022-04-12",125.413,3.3195082880000002]
["2022-04-13","2022-04-13",2.8465722999999998E-2,"2022-04-13",125.378,3.568975418]
["2022-04-14","2022-04-14",2.8217375999999999E-2,"2022-04-14",126.1765,3.5603697429999999]
["2022-04-15","2022-04-15",2.7459879999999999E-2,"2022-04-15",126.4355,3.471903658]
["2022-04-16","2022-04-16",2.7106394999999998E-2,"2022-04-16",126.4355,3.427210605]
["2022-04-17","2022-04-17",2.7021336E-2,"2022-04-17",126.6225,3.4215091179999999]
["2022-04-18","2022-04-18",2.6600516000000001E-2,"2022-04-18",127.108,3.3811383880000001]
["2022-04-19","2022-04-19",2.6458769E-2,"2022-04-19",129.30500000000001,3.421251126]
["2022-04-20","2022-04-20",2.6967609999999999E-2,"2022-04-20",128.01650000000001,3.4522990459999998]
["2022-04-21","2022-04-21",2.6735391000000001E-2,"2022-04-21",128.41550000000001,3.4332386029999999]
["2022-04-22","2022-04-22",2.5794589999999999E-2,"2022-04-22",128.471,3.3138567719999998]
["2022-04-23","2022-04-23",2.5917342999999999E-2,"2022-04-23",128.471,3.3296269729999999]
["2022-04-24","2022-04-24",2.5996946999999999E-2,"2022-04-24",128.6155,3.3436103369999999]
["2022-04-25","2022-04-25",2.3999987E-2,"2022-04-25",127.776,3.0666223389999998]
["2022-04-26","2022-04-26",2.170774E-2,"2022-04-26",127.26949999999999,2.762733216]
["2022-04-27","2022-04-27",2.0763094999999999E-2,"2022-04-27",128.41499999999999,2.666292844]
["2022-04-28","2022-04-28",2.0837283000000002E-2,"2022-04-28",130.81450000000001,2.7258187569999999]
["2022-04-29","2022-04-29",2.9242068E-2,"2022-04-29",129.786,3.7952110370000001]
["2022-04-30","2022-04-30",2.1682213999999998E-2,"2022-04-30",129.786,2.8140478259999999]
["2022-05-01","2022-05-01",1.7770955000000001E-2,"2022-05-01",130.0145,2.310481829]
["2022-05-02","2022-05-02",1.6336222000000001E-2,"2022-05-02",130.137,2.1259469219999998]
["2022-05-03","2022-05-03",1.6883871000000002E-2,"2022-05-03",130.12100000000001,2.1969461780000001]
["2022-05-04","2022-05-04",1.6882781999999999E-2,"2022-05-04",129.22749999999999,2.181719711]
["2022-05-05","2022-05-05",1.6069422E-2,"2022-05-05",130.2825,2.0935644720000002]
["2022-05-06","2022-05-06",1.5626946999999999E-2,"2022-05-06",130.56800000000001,2.0403792159999998]
["2022-05-07","2022-05-07",1.4252890000000001E-2,"2022-05-07",130.56800000000001,1.860971342]
["2022-05-08","2022-05-08",1.3726749E-2,"2022-05-08",130.77950000000001,1.7951773710000001]
["2022-05-09","2022-05-09",1.2650365E-2,"2022-05-09",130.41499999999999,1.6497973509999999]
["2022-05-10","2022-05-10",1.2867124000000001E-2,"2022-05-10",130.32650000000001,1.676927236]
["2022-05-11","2022-05-11",1.446183E-2,"2022-05-11",129.8535,1.8779192419999999]
["2022-05-12","2022-05-12",1.3202966999999999E-2,"2022-05-12",128.595,1.6978355409999999]
["2022-05-13","2022-05-13",1.2780835000000001E-2,"2022-05-13",129.26499999999999,1.6521146360000001]
["2022-05-14","2022-05-14",1.3238597E-2,"2022-05-14",129.26499999999999,1.711287241]
["2022-05-15","2022-05-15",1.1964466E-2,"2022-05-15",129.4325,1.5485907459999999]
["2022-05-16","2022-05-16",1.2067862E-2,"2022-05-16",128.92500000000001,1.5558491080000001]
["2022-05-17","2022-05-17",1.1843449000000001E-2,"2022-05-17",129.45750000000001,1.5332232990000001]
["2022-05-18","2022-05-18",1.213563E-2,"2022-05-18",127.917,1.552353383]
["2022-05-19","2022-05-19",1.1914061E-2,"2022-05-19",127.833,1.5230101599999999]
["2022-05-20","2022-05-20",1.1105739E-2,"2022-05-20",127.935,1.4208127189999999]
["2022-05-21","2022-05-21",1.0551738E-2,"2022-05-21",127.935,1.349936601]
["2022-05-22","2022-05-22",1.0965046000000001E-2,"2022-05-22",127.90649999999999,1.402500656]
["2022-05-23","2022-05-23",1.2261358999999999E-2,"2022-05-23",127.8475,1.567584095]
["2022-05-24","2022-05-24",1.5063316E-2,"2022-05-24",126.77249999999999,1.9096142279999999]
["2022-05-25","2022-05-25",1.6226948000000001E-2,"2022-05-25",127.1555,2.0633456859999999]
["2022-05-26","2022-05-26",1.7267652000000001E-2,"2022-05-26",127.04649999999999,2.1937947499999999]
["2022-05-27","2022-05-27",1.8026462E-2,"2022-05-27",127.095,2.2910731879999999]
["2022-05-28","2022-05-28",1.9097146999999998E-2,"2022-05-28",127.095,2.427151898]
["2022-05-29","2022-05-29",1.8941124E-2,"2022-05-29",127.2885,2.4109872619999999]
["2022-05-30","2022-05-30",1.771841E-2,"2022-05-30",127.78749999999999,2.264191318]
["2022-05-31","2022-05-31",1.8816005E-2,"2022-05-31",128.73750000000001,2.4223254440000002]
["2022-06-01","2022-06-01",1.8966950999999999E-2,"2022-06-01",130.125,2.4680744990000001]
["2022-06-02","2022-06-02",1.8760123E-2,"2022-06-02",129.9075,2.4370806790000001]
["2022-06-03","2022-06-03",1.7969571E-2,"2022-06-03",130.827,2.3509050650000001]
["2022-06-04","2022-06-04",1.8880905999999999E-2,"2022-06-04",130.845,2.4704721460000001]
["2022-06-05","2022-06-05",1.8720852E-2,"2022-06-05",130.7595,2.4479292469999998]
["2022-06-06","2022-06-06",1.8337068000000002E-2,"2022-06-06",132.17750000000001,2.4237478060000002]
["2022-06-07","2022-06-07",1.8298972E-2,"2022-06-07",132.8175,2.4304237139999998]
["2022-06-08","2022-06-08",1.8257584E-2,"2022-06-08",134.43350000000001,2.454430919]
["2022-06-09","2022-06-09",1.7959772999999998E-2,"2022-06-09",134.41149999999999,2.4140000289999999]
["2022-06-10","2022-06-10",1.7619598E-2,"2022-06-10",134.399,2.368056352]
["2022-06-11","2022-06-11",1.7995642999999999E-2,"2022-06-11",134.41499999999999,2.4188843539999998]
["2022-06-12","2022-06-12",1.7089479000000001E-2,"2022-06-12",134.82249999999999,2.3040462819999998]
["2022-06-13","2022-06-13",1.6053682E-2,"2022-06-13",134.251,2.155222862]
["2022-06-14","2022-06-14",1.5638651E-2,"2022-06-14",135.29900000000001,2.1158938420000002]
["2022-06-15","2022-06-15",1.5182674E-2,"2022-06-15",134.12,2.0363002369999998]
["2022-06-16","2022-06-16",1.5879504999999999E-2,"2022-06-16",132.42599999999999,2.1028593290000002]
["2022-06-17","2022-06-17",1.6408580999999998E-2,"2022-06-17",134.95750000000001,2.21446107]
["2022-06-18","2022-06-18",1.6029213E-2,"2022-06-18",134.99250000000001,2.1638235360000002]
["2022-06-19","2022-06-19",1.5160078E-2,"2022-06-19",135.27950000000001,2.050847772]
["2022-06-20","2022-06-20",1.5350129000000001E-2,"2022-06-20",135.09049999999999,2.0736566019999998]
["2022-06-21","2022-06-21",1.5101157E-2,"2022-06-21",136.2955,2.0582197440000001]
["2022-06-22","2022-06-22",1.5124621E-2,"2022-06-22",136.02199999999999,2.0572811980000001]
["2022-06-23","2022-06-23",1.4914190000000001E-2,"2022-06-23",134.84350000000001,2.0110815789999998]
["2022-06-24","2022-06-24",1.4401354E-2,"2022-06-24",135.21,1.947207074]
["2022-06-25","2022-06-25",1.4566713E-2,"2022-06-25",135.21,1.969565265]
["2022-06-26","2022-06-26",1.4387799999999999E-2,"2022-06-26",135.06549999999999,1.9432954010000001]
["2022-06-27","2022-06-27",1.4215871999999999E-2,"2022-06-27",135.441,1.9254119199999999]
["2022-06-28","2022-06-28",1.3919077E-2,"2022-06-28",136.04949999999999,1.8936834659999999]
["2022-06-29","2022-06-29",1.4401878E-2,"2022-06-29",136.59,1.9671525160000001]
["2022-06-30","2022-06-30",1.4314792999999999E-2,"2022-06-30",135.7895,1.9437985840000001]
["2022-07-01","2022-07-01",1.4222813000000001E-2,"2022-07-01",135.22499999999999,1.9232798879999999]
["2022-07-02","2022-07-02",1.4131489000000001E-2,"2022-07-02",135.22499999999999,1.9109305999999999]
["2022-07-03","2022-07-03",1.3727751999999999E-2,"2022-07-03",135.04650000000001,1.85388486]
["2022-07-04","2022-07-04",1.3802172E-2,"2022-07-04",135.869,1.875287307]
["2022-07-05","2022-07-05",1.405587E-2,"2022-07-05",135.523,1.9048936700000001]
["2022-07-06","2022-07-06",1.3049896E-2,"2022-07-06",135.96850000000001,1.7743747839999999]
["2022-07-07","2022-07-07",1.3370531E-2,"2022-07-07",135.93450000000001,1.817516446]
["2022-07-08","2022-07-08",1.3268123E-2,"2022-07-08",136.11500000000001,1.8059905620000001]
["2022-07-09","2022-07-09",1.3167962E-2,"2022-07-09",136.09,1.792027949]
["2022-07-10","2022-07-10",1.3094524999999999E-2,"2022-07-10",136.30549999999999,1.784855777]
["2022-07-11","2022-07-11",1.2902510000000001E-2,"2022-07-11",137.393,1.7727145559999999]
["2022-07-12","2022-07-12",1.2364391000000001E-2,"2022-07-12",136.73150000000001,1.6906017280000001]
["2022-07-13","2022-07-13",1.1472668E-2,"2022-07-13",137.62899999999999,1.5789718239999999]
["2022-07-14","2022-07-14",1.2767580000000001E-2,"2022-07-14",138.9785,1.7744191170000001]
["2022-07-15","2022-07-15",1.2632986000000001E-2,"2022-07-15",138.53149999999999,1.7500665]
["2022-07-16","2022-07-16",1.254596731E-2,"2022-07-16",138.53149999999999,1.738011671]
["2022-07-17","2022-07-17",1.2666705170000001E-2,"2022-07-17",138.32749999999999,1.752153659]
["2022-07-18","2022-07-18",1.2499515399999999E-2,"2022-07-18",138.22999999999999,1.7278080140000001]
["2022-07-19","2022-07-19",1.344322748E-2,"2022-07-19",138.19450000000001,1.8577801009999999]
["2022-07-20","2022-07-20",1.388478995E-2,"2022-07-20",138.39850000000001,1.9216341020000001]
["2022-07-21","2022-07-21",1.3188287720000001E-2,"2022-07-21",137.13149999999999,1.808529678]
["2022-07-22","2022-07-22",1.167564447E-2,"2022-07-22",136.268,1.5910167200000001]
["2022-07-23","2022-07-23",1.202385108E-2,"2022-07-23",136.178,1.637383992]
["2022-07-24","2022-07-24",1.210352651E-2,"2022-07-24",136.31549999999999,1.649898267]
["2022-07-25","2022-07-25",1.194155188E-2,"2022-07-25",136.42449999999999,1.6291202440000001]
["2022-07-26","2022-07-26",1.087590349E-2,"2022-07-26",136.97,1.4896725019999999]
["2022-07-27","2022-07-27",1.1439772900000001E-2,"2022-07-27",136.11949999999999,1.5571761669999999]
["2022-07-28","2022-07-28",1.217912835E-2,"2022-07-28",134.42949999999999,1.6372341349999999]
["2022-07-29","2022-07-29",1.2220936030000001E-2,"2022-07-29",133.245,1.628378621]
["2022-07-30","2022-07-30",1.224412131E-2,"2022-07-30",133.245,1.6314679430000001]
["2022-07-31","2022-07-31",1.2277878109999999E-2,"2022-07-31",133.41149999999999,1.6380101359999999]
["2022-08-01","2022-08-01",1.2007419530000001E-2,"2022-08-01",131.56899999999999,1.57980418]
["2022-08-02","2022-08-02",1.2204508479999999E-2,"2022-08-02",133.38050000000001,1.6278434429999999]
["2022-08-03","2022-08-03",1.22213345E-2,"2022-08-03",134.0035,1.637701598]
["2022-08-04","2022-08-04",1.188861607E-2,"2022-08-04",132.6335,1.5768287599999999]
["2022-08-05","2022-08-05",1.2114164110000001E-2,"2022-08-05",134.92250000000001,1.6344733069999999]
["2022-08-06","2022-08-06",1.2023633509999999E-2,"2022-08-06",134.99,1.6230702880000001]
["2022-08-07","2022-08-07",1.196566128E-2,"2022-08-07",135.04650000000001,1.615920676]
["2022-08-08","2022-08-08",1.2054791820000001E-2,"2022-08-08",134.84299999999999,1.6255042930000001]
["2022-08-09","2022-08-09",1.1622123680000001E-2,"2022-08-09",135.1885,1.571177467]
["2022-08-10","2022-08-10",1.1815155500000001E-2,"2022-08-10",132.83750000000001,1.5694957190000001]
["2022-08-11","2022-08-11",1.172353831E-2,"2022-08-11",132.97550000000001,1.5589433690000001]
["2022-08-12","2022-08-12",1.161602615E-2,"2022-08-12",133.4365,1.550001873]
["2022-08-13","2022-08-13",1.169877735E-2,"2022-08-13",133.4365,1.5610439039999999]
["2022-08-14","2022-08-14",1.1478062299999999E-2,"2022-08-14",133.29650000000001,1.5299855309999999]
["2022-08-15","2022-08-15",1.121372399E-2,"2022-08-15",133.154,1.493152204]
["2022-08-16","2022-08-16",1.1094361630000001E-2,"2022-08-16",134.27099999999999,1.4896510300000001]
["2022-08-17","2022-08-17",1.082335094E-2,"2022-08-17",134.94900000000001,1.4606003860000001]
["2022-08-18","2022-08-18",1.0706318209999999E-2,"2022-08-18",135.773,1.4536289419999999]
["2022-08-19","2022-08-19",1.022127091E-2,"2022-08-19",136.8605,1.3988882469999999]
["2022-08-20","2022-08-20",9.7433349760000006E-3,"2022-08-20",136.90049999999999,1.33386743]
["2022-08-21","2022-08-21",9.0788422350000005E-3,"2022-08-21",137.0445,1.244205395]
["2022-08-22","2022-08-22",9.2913279980000006E-3,"2022-08-22",137.55099999999999,1.278031457]
["2022-08-23","2022-08-23",9.2763142279999999E-3,"2022-08-23",136.7345,1.268392188]
["2022-08-24","2022-08-24",9.0342210429999997E-3,"2022-08-24",137.07249999999999,1.2383432640000001]
["2022-08-25","2022-08-25",8.4934409409999998E-3,"2022-08-25",136.56800000000001,1.159932242]
["2022-08-26","2022-08-26",7.5887399100000004E-3,"2022-08-26",137.6645,1.0447000849999999]
["2022-08-27","2022-08-27",6.5817162569999999E-3,"2022-08-27",137.565,0.90541379690000001]
["2022-08-28","2022-08-28",6.0874301890000001E-3,"2022-08-28",138.16050000000001,0.84104239859999996]
["2022-08-29","2022-08-29",6.2212688480000004E-3,"2022-08-29",138.595,0.86223675600000005]
["2022-08-30","2022-08-30",6.0123190849999996E-3,"2022-08-30",138.7355,0.83412209439999996]
["2022-08-31","2022-08-31",5.6839058499999996E-3,"2022-08-31",139.345,0.79202386069999997]
["2022-09-01","2022-09-01",5.0893380660000003E-3,"2022-09-01",140.1,0.71301626299999998]
["2022-09-02","2022-09-02",5.4319359640000002E-3,"2022-09-02",140.21100000000001,0.76161717340000001]
["2022-09-03","2022-09-03",6.22507783E-3,"2022-09-03",140.21100000000001,0.87282438760000003]
["2022-09-04","2022-09-04",6.3906175639999998E-3,"2022-09-04",140.4905,0.89782105690000003]
["2022-09-05","2022-09-05",6.2249734470000003E-3,"2022-09-05",140.44149999999999,0.87424460839999996]
["2022-09-06","2022-09-06",6.0885197289999998E-3,"2022-09-06",143.154,0.87159595329999995]
["2022-09-07","2022-09-07",5.5730310419999998E-3,"2022-09-07",144.126,0.80321867199999997]
["2022-09-08","2022-09-08",6.2869510660000004E-3,"2022-09-08",143.85749999999999,0.90442506300000003]
["2022-09-09","2022-09-09",6.4717688160000003E-3,"2022-09-09",142.505,0.92225941509999998]
["2022-09-10","2022-09-10",6.3281748610000002E-3,"2022-09-10",142.505,0.90179655859999996]
["2022-09-11","2022-09-11",6.5762257400000003E-3,"2022-09-11",142.60400000000001,0.93779609539999997]
["2022-09-12","2022-09-12",6.724535502E-3,"2022-09-12",142.58850000000001,0.95884143040000003]
["2022-09-13","2022-09-13",6.6943625609999996E-3,"2022-09-13",144.411,0.96673959180000002]
["2022-09-14","2022-09-14",6.5188892359999999E-3,"2022-09-14",142.92449999999999,0.93170898459999996]
["2022-09-15","2022-09-15",6.3297963679999998E-3,"2022-09-15",143.36799999999999,0.90749024570000003]
["2022-09-16","2022-09-16",6.3301603590000003E-3,"2022-09-16",142.9265,0.90474766449999999]
["2022-09-17","2022-09-17",6.2426223189999998E-3,"2022-09-17",142.95650000000001,0.89242343749999997]
["2022-09-18","2022-09-18",5.7721540379999997E-3,"2022-09-18",142.76849999999999,0.82408177380000003]
["2022-09-19","2022-09-19",5.3318297660000001E-3,"2022-09-19",143.23050000000001,0.76368064319999995]
["2022-09-20","2022-09-20",5.3115838939999998E-3,"2022-09-20",143.6035,0.76276203779999996]
["2022-09-21","2022-09-21",5.3194629629999997E-3,"2022-09-21",144.30850000000001,0.76764372110000001]
["2022-09-22","2022-09-22",5.4008282250000003E-3,"2022-09-22",142.29499999999999,0.76851085230000005]
["2022-09-23","2022-09-23",5.354592872E-3,"2022-09-23",143.3415,0.76753537419999995]
["2022-09-24","2022-09-24",5.3177323910000001E-3,"2022-09-24",143.37649999999999,0.76243785819999998]
["2022-09-25","2022-09-25",5.2653298389999997E-3,"2022-09-25",143.5145,0.75565117920000002]
["2022-09-26","2022-09-26",5.0822559039999998E-3,"2022-09-26",144.50450000000001,0.73440884829999997]
["2022-09-27","2022-09-27",5.2653329049999996E-3,"2022-09-27",144.703,0.76190946739999998]
["2022-09-28","2022-09-28",5.1156589260000001E-3,"2022-09-28",144.39949999999999,0.73869859120000003]
["2022-09-29","2022-09-29",5.7218276099999998E-3,"2022-09-29",144.43450000000001,0.82642930989999996]
["2022-09-30","2022-09-30",6.0724489530000004E-3,"2022-09-30",144.739,0.87892018900000002]
["2022-10-01","2022-10-01",5.9547554710000002E-3,"2022-10-01",144.739,0.86188535200000005]
["2022-10-02","2022-10-02",5.9547554710000002E-3,"2022-10-02",144.83799999999999,0.86247487280000001]
["2022-10-03","2022-10-03",5.9547554710000002E-3,"2022-10-03",144.50399999999999,0.86048598450000002]
["2022-10-04","2022-10-04",5.9547554710000002E-3,"2022-10-04",143.7885,0.85622535700000002]
["2022-10-05","2022-10-05",5.9547554710000002E-3,"2022-10-05",144.46600000000001,0.86025970380000005]
["2022-10-06","2022-10-06",5.9547554710000002E-3,"2022-10-06",145.042,0.86368964299999995]
["2022-10-07","2022-10-07",5.9547554710000002E-3,"2022-10-07",145.39500000000001,0.86579167160000003]
["2022-10-08","2022-10-08",5.9547554710000002E-3,"2022-10-08",145.36500000000001,0.86561302900000003]
["2022-10-09","2022-10-09",5.9547554710000002E-3,"2022-10-09",145.48099999999999,0.86630378060000002]
["2022-10-10","2022-10-10",5.9547554710000002E-3,"2022-10-10",145.6755,0.86746198050000001]
["2022-10-11","2022-10-11",5.9547554710000002E-3,"2022-10-11",145.8715,0.86862911259999998]
["2022-10-12","2022-10-12",5.5982145600000002E-3,"2022-10-12",146.73849999999999,0.82147360729999996]
["2022-10-13","2022-10-13",5.6015162150000004E-3,"2022-10-13",147.3065,0.82513974830000003]
["2022-10-14","2022-10-14",5.6940944440000002E-3,"2022-10-14",148.785,0.84719584179999996]
["2022-10-15","2022-10-15",5.681322406E-3,"2022-10-15",148.785,0.84529555410000001]
["2022-10-16","2022-10-16",5.4336103150000002E-3,"2022-10-16",148.637,0.80763553639999996]
["2022-10-17","2022-10-17",5.63817468E-3,"2022-10-17",148.9725,0.83993297749999996]
["2022-10-18","2022-10-18",5.4336455219999996E-3,"2022-10-18",149.22149999999999,0.81081673529999998]
["2022-10-19","2022-10-19",5.411557004E-3,"2022-10-19",149.8125,0.8107188837]
["2022-10-20","2022-10-20",5.2860878669999996E-3,"2022-10-20",150.18799999999999,0.79390696449999998]
["2022-10-21","2022-10-21",5.2808572079999999E-3,"2022-10-21",147.67500000000001,0.77985058809999996]
["2022-10-22","2022-10-22",5.3288020629999999E-3,"2022-10-22",147.69499999999999,0.78703742070000005]
["2022-10-24","2022-10-24",5.2858921839999996E-3,"2022-10-23",147.91300000000001,0.7818521705]
["2022-10-24","2022-10-24",5.1614997729999999E-3,"2022-10-24",148.892,0.76850602420000003]
["2022-10-25","2022-10-25",5.2450917149999996E-3,"2022-10-25",147.9965,0.77625521590000002]
["2022-10-26","2022-10-26",5.3548185589999998E-3,"2022-10-26",146.136,0.78253176489999998]
["2022-10-27","2022-10-27",5.3570705450000002E-3,"2022-10-27",146.303,0.78375549200000005]
["2022-10-28","2022-10-28",5.3800654E-3,"2022-10-28",147.45500000000001,0.79331754359999995]
["2022-10-29","2022-10-29",5.3394629540000002E-3,"2022-10-29",147.45500000000001,0.78733050979999997]
["2022-10-30","2022-10-30",5.2697480549999997E-3,"2022-10-30",147.77000000000001,0.77871067009999995]
["2022-10-31","2022-10-31",5.2277153360000004E-3,"2022-10-31",148.72399999999999,0.77748673560000003]
["2022-11-01","2022-11-01",5.1556680220000003E-3,"2022-11-01",147.9,0.76252330040000005]
["2022-11-02","2022-11-02",5.1147733499999999E-3,"2022-11-02",147.88300000000001,0.75638802729999999]
["2022-11-03","2022-11-03",5.1670285609999997E-3,"2022-11-03",148.37950000000001,0.76668111439999997]
["2022-11-05","2022-11-05",5.273691114E-3,"2022-11-04",146.60499999999999,0.77314948569999997]
["2022-11-06","2022-11-06",5.3954777439999997E-3,"2022-11-05",146.62,0.79108494679999997]
["2022-11-06","2022-11-06",5.454024666E-3,"2022-11-06",146.815,0.80073263139999995]
["2022-11-07","2022-11-07",5.3407495280000002E-3,"2022-11-07",146.6455,0.78319688489999995]
["2022-11-08","2022-11-08",5.3701089499999998E-3,"2022-11-08",145.3425,0.78050505999999997]
["2022-11-09","2022-11-09",5.1156770330000002E-3,"2022-11-09",146.197,0.74789663520000005]
["2022-11-10","2022-11-10",5.2631384050000002E-3,"2022-11-10",141.63749999999999,0.74545776580000001]
["2022-11-11","2022-11-11",5.0899586689999998E-3,"2022-11-11",138.80000000000001,0.70648626329999997]
["2022-11-12","2022-11-12",4.8702288570000004E-3,"2022-11-12",138.815,0.67606081880000002]
["2022-11-13","2022-11-13",4.7530864999999999E-3,"2022-11-13",139.57749999999999,0.66342393099999997]
["2022-11-14","2022-11-14",4.9194004269999996E-3,"2022-11-14",140.1275,0.68934328330000005]
["2022-11-15","2022-11-15",4.7680183569999996E-3,"2022-11-15",138.86750000000001,0.66212278920000001]
["2022-11-16","2022-11-16",4.6852290090000004E-3,"2022-11-16",139.3125,0.65271096630000003]
["2022-11-17","2022-11-17",4.6109073920000002E-3,"2022-11-17",140.37450000000001,0.64725381969999995]
["2022-11-18","2022-11-18",4.7419643879999997E-3,"2022-11-18",140.345,0.66551099209999998]
["2022-11-19","2022-11-19",4.8284923739999996E-3,"2022-11-19",140.345,0.67765476219999998]
["2022-11-20","2022-11-20",4.7176901429999999E-3,"2022-11-20",140.279,0.66179285560000001]
["2022-11-21","2022-11-21",4.5035039070000001E-3,"2022-11-21",142.14349999999999,0.6401438076]
["2022-11-22","2022-11-22",4.3292794950000003E-3,"2022-11-22",141.16249999999999,0.6111319167]
["2022-11-23","2022-11-23",4.3447056850000002E-3,"2022-11-23",139.33199999999999,0.6053565326]
["2022-11-25","2022-11-25",4.1037553380000001E-3,"2022-11-24",138.59800000000001,0.56877228229999999]
["2022-11-25","2022-11-25",4.0257578499999997E-3,"2022-11-25",139.125,0.5600835609]
["2022-11-26","2022-11-26",3.9998434140000004E-3,"2022-11-26",139.125,0.55647821500000005]
["2022-11-27","2022-11-27",3.9079454099999996E-3,"2022-11-27",139.364,0.54462690420000004]
["2022-11-28","2022-11-28",3.8427847440000002E-3,"2022-11-28",138.7525,0.53319599019999997]
["2022-11-29","2022-11-29",3.7507301290000002E-3,"2022-11-29",138.74549999999999,0.52039692709999996]
["2022-12-01","2022-12-01",3.709832137E-3,"2022-11-30",137.4255,0.50982553639999995]
["2022-12-01","2022-12-01",3.686081422E-3,"2022-12-01",135.16900000000001,0.49824393970000003]
["2022-12-02","2022-12-02",3.526008923E-3,"2022-12-02",134.315,0.47359588850000001]
["2022-12-03","2022-12-03",3.7852685390000001E-3,"2022-12-03",134.315,0.50841834389999996]
["2022-12-04","2022-12-04",3.6939703729999998E-3,"2022-12-04",134.48650000000001,0.4967891465]
["2022-12-05","2022-12-05",3.6332538939999998E-3,"2022-12-05",136.6635,0.49653319350000003]
["2022-12-06","2022-12-06",3.632571708E-3,"2022-12-06",136.91749999999999,0.49736263689999999]
["2022-12-07","2022-12-07",3.5806446779999999E-3,"2022-12-07",136.3845,0.4883444341]
["2022-12-08","2022-12-08",3.6260245349999999E-3,"2022-12-08",136.61750000000001,0.49537840690000001]
["2022-12-09","2022-12-09",3.5769668839999999E-3,"2022-12-09",136.565,0.48848848249999999]
["2022-12-10","2022-12-10",3.5434578870000002E-3,"2022-12-10",136.58000000000001,0.48396547820000002]
["2022-12-11","2022-12-11",3.5868425600000002E-3,"2022-12-11",136.7165,0.49038056089999998]
["2022-12-12","2022-12-12",3.5972895959999998E-3,"2022-12-12",137.50649999999999,0.49465070179999998]
["2022-12-13","2022-12-13",3.6454738549999998E-3,"2022-12-13",135.58850000000001,0.49428433179999998]
["2022-12-14","2022-12-14",3.6172206679999999E-3,"2022-12-14",135.36099999999999,0.48963060689999999]
["2022-12-15","2022-12-15",3.294161295E-3,"2022-12-15",137.7525,0.4537789538]
["2022-12-16","2022-12-16",3.023190822E-3,"2022-12-16",136.70500000000001,0.41328530130000002]
["2022-12-17","2022-12-17",2.993811518E-3,"2022-12-17",136.715,0.40929894169999997]
["2022-12-18","2022-12-18",2.8251641370000001E-3,"2022-12-18",136.5575,0.38579735170000001]
["2022-12-19","2022-12-19",2.8067127930000001E-3,"2022-12-19",136.982,0.38446913179999997]
["2022-12-20","2022-12-20",2.6523789849999999E-3,"2022-12-20",131.89699999999999,0.34984083090000001]
["2022-12-22","2022-12-22",2.9156757060000002E-3,"2022-12-21",132.375,0.38596257150000002]
["2022-12-23","2022-12-23",2.7824488639999999E-3,"2022-12-22",132.36000000000001,0.36828493159999998]
["2022-12-23","2022-12-23",2.6989012879999998E-3,"2022-12-23",132.76499999999999,0.35831962950000001]
["2022-12-24","2022-12-24",2.708836021E-3,"2022-12-24",132.76499999999999,0.35963861429999999]
["2022-12-25","2022-12-25",2.6924197269999998E-3,"2022-12-25",132.82499999999999,0.35762065030000001]
["2022-12-26","2022-12-26",2.6416284190000001E-3,"2022-12-26",132.76400000000001,0.35071315549999998]
["2022-12-27","2022-12-27",2.6137748680000001E-3,"2022-12-27",133.489,0.3489101933]
["2022-12-28","2022-12-28",2.5888101920000001E-3,"2022-12-28",134.05500000000001,0.34704295019999998]
["2022-12-29","2022-12-29",2.5555172079999998E-3,"2022-12-29",132.94499999999999,0.3397432353]
["2022-12-30","2022-12-30",2.5312567989999998E-3,"2022-12-30",131.11500000000001,0.33188573529999998]